{"text_format":"1","workbook":"xlsx","n_sheets":78,"sheets":["Navigation","Templates","Lookups","Menu","0-Project Summary","E1-Measurements","E2-Normal Year Values","ECharts-Normal Year","E3-Normal Year","E4-Baseline Measurements","ECharts-Baseline","Data - Baseline Chart","E5-Baseline Model","E6-Operating Measurements","ECharts-Operating","E7-Operating Model","Data - Operating Chart","E8-Reporting Period Values","E9-Interactive Savings","ECharts-Savings","E10-MAES","E11-NYES","E12-Accuracy","E13-Decay","E14-Energy Savings (MAES)","E15-Energy Savings (NYES)","16-Counted Savings","17-GHG savings","EWorkarea-Normal Year","EWorkarea-Baseline","EWorkarea-Operating","EWorkarea-Reporting Year","G1-Measurements","G2-Normal Year Values","GCharts-Normal Year","G3-Normal Year","G4-Baseline Measurements","GCharts-Baseline","G5-Baseline Model","G6-Operating Measurements","GCharts-Operating","G7-Operating Model","G8-Reporting Period Values","G9-Interactive Savings","GCharts-Savings","G10-MAES","G11-NYES","G12-Accuracy","G13-Decay","G14-Energy Savings (MAES)","G15-Energy Savings (NYES)","GWorkarea-Normal Year","GWorkarea-Baseline","GWorkarea-Operating","GWorkarea-Reporting Year","N1-Measurements","N2-Normal Year Values","NCharts-Normal Year","N3-Normal Year","N4-Baseline Measurements","NCharts-Baseline","N5-Baseline Model","N6-Operating Measurements","NCharts-Operating","N7-Operating Model","N8-Reporting Period Values","N9-Interactive Savings","N10-MAES","N11-NYES","NCharts-Savings","N12-Accuracy","N13-Decay","N14-Energy Savings (MAES)","N15-Energy Savings (NYES)","NWorkarea-Normal Year","NWorkarea-Baseline","NWorkarea-Operating","NWorkarea-Reporting Year"],"not_rendered":{"charts":39,"images":3,"macros":1,"external_links":0,"defined_names":590,"comments":7,"pivot_tables":0},"unopened":[],"bounds":{"document_bytes":16777216,"sheet_cells":100000,"rows_first":2000,"rows_last":500,"rows_between":2000,"halvings":0,"cell_chars":16384,"cell_head_chars":4096},"cells_cut":0,"cells_raw":0,"read":"whole","date_system":"1900"}

{"sheet":"Navigation","index":0,"n_rows":33,"n_cols":27,"rows_kept":33,"cut":false,"hidden":true,"merged":[]}
[null,"Sheet Name","Is there a Sheet for each energy source?","Code Name (not energy source dependent)","E Code Name","G Code Name","R Code Name","Visible when no calculation method chosen?","Visible when calculation method MAES chosen?","Visible when calculation method NYES chosen?","Menu_ButtonName (not energy source dependent)","E_Menu_Button_name","G_Menu_Button_name","R_Menu_Button_name","Menu_row","MAES Previous","Is Energy Source Sheet","MAES Next","Is Energy Source Sheet","NYES Previous","Is Energy Source Sheet","NYES Next","Is Energy Source Sheet","CM_NONE Previous","Is Energy Source Sheet","CM_NONE Next","Is Energy Source Sheet"]
[null,"Navigation",0,"Sheet_NAV",null,null,null,0,0,0]
[null,"Lookups",0,"Sheet_LU",null,null,null,0,0,0]
[null,"Menu",0,"SheetMN",null,null,null,1,1,1,null,null,null,null,null,"Menu",null,"0-Project Summary",null,"Menu",null,"0-Project Summary",null,"Menu",null,"0-Project Summary"]
[null,"0-Project Summary",0,"Sheet0PS",null,null,null,1,1,1,"Button 17",null,null,null,null,"Menu",null,"1-Measurements",1,"Menu",null,"1-Measurements",1,"Menu",null,"Menu"]
[null,"1-Measurements",1,null,"SheetE1","SheetG1","SheetN1",0,1,1,null,"Button E1","Button G1","Button N1",{"$f":"ROW(MenuButtonHeadersRow)+2","v":25},"0-Project Summary",null,"4-Baseline Measurements",1,"0-Project Summary",null,"2-Normal Year Values",1]
[null,"2-Normal Year Values",1,null,"SheetE2","SheetG2","SheetN2",0,0,1,null,"Button E2","Button G2","Button N2",{"$f":"O6+1","v":26},null,null,null,null,"1-Measurements",1,"3-Normal Year",1]
[null,"3-Normal Year",1,null,"SheetE3","SheetG3","SheetN3",0,0,1,null,"Button E3","Button G3","Button N3",27,null,null,null,null,"2-Normal Year Values",1,"4-Baseline Measurements",1]
[null,"4-Baseline Measurements",1,null,"SheetE4","SheetG4","SheetN4",0,1,1,null,"Button E4","Button G4","Button N4",28,"1-Measurements",1,"5-Baseline Model",1,"3-Normal Year",1,"5-Baseline Model",1]
[null,"5-Baseline Model",1,null,"SheetE5","SheetG5","SheetN5",0,1,1,null,"Button E5","Button G5","Button N5",29,"4-Baseline Measurements",1,"8-Reporting Period Values",1,"4-Baseline Measurements",1,"6-Operating Measurements",1]
[null,"6-Operating Measurements",1,null,"SheetE6","SheetG6","SheetN6",0,0,1,null,"Button E6","Button G6","Button N6",30,null,null,null,null,"5-Baseline Model",1,"7-Operating Model",1]
[null,"7-Operating Model",1,null,"SheetE7","SheetG7","SheetN7",0,0,1,null,"Button E7","Button G7","Button N7",31,null,null,null,null,"6-Operating Measurements",1,"9-Interactive Savings",1]
[null,"8-Reporting Period Values",1,null,"SheetE8","SheetG8","SheetN8",0,1,0,null,"Button E8","Button G8","Button N8",32,"5-Baseline Model",1,"9-Interactive Savings",1]
[null,"9-Interactive Savings",1,null,"SheetE9","SheetG9","SheetN9",0,1,1,null,"Button E9","Button G9","Button N9",33,"8-Reporting Period Values",1,"10-MAES",1,"7-Operating Model",1,"11-NYES",1]
[null,"10-MAES",1,null,"SheetE10","SheetG10","SheetN10",0,1,0,null,"Button E10","Button G10","Button N10",34,"9-Interactive Savings",1,"12-Accuracy",1]
[null,"11-NYES",1,null,"SheetE11","SheetG11","SheetN11",0,0,1,null,"Button E11","Button G11","Button N11",35,null,null,null,null,"9-Interactive Savings",1,"12-Accuracy",1]
[null,"12-Accuracy",1,null,"SheetE12","SheetG12","SheetN12",0,1,1,null,"Button E12","Button G12","Button N12",36,"10-MAES",1,"14-Energy Savings (MAES)",1,"11-NYES",1,"13-Decay",1]
[null,"13-Decay",1,null,"SheetE13","SheetG13","SheetN13",0,0,1,null,"Button E13","Button G13","Button N13",37,null,null,null,null,"12-Accuracy",1,"15-Energy Savings (NYES)",1]
[null,"14-Energy Savings (MAES)",1,null,"SheetE14","SheetG14","SheetN14",0,1,0,null,"Button E14","Button G14","Button N14",38,"12-Accuracy",1,"16-Counted Savings"]
[null,"15-Energy Savings (NYES)",1,null,"SheetE15","SheetG15","SheetN15",0,0,1,null,"Button E15","Button G15","Button N15",39,null,null,null,null,"13-Decay",1,"16-Counted Savings"]
[null,"16-Counted Savings",0,"Sheet16CS",null,null,null,0,1,1,"Button 107",null,null,null,{"$f":"ROW(MenuButtonSavingsRow)+2","v":44},"14-Energy Savings (MAES)",1,"17-GHG savings",null,"15-Energy Savings (NYES)",1,"17-GHG savings"]
[null,"17-GHG savings",0,"Sheet17GHG",null,null,null,0,1,1,"Button 108",null,null,null,{"$f":"O21+1","v":45},"16-Counted Savings",null,"Menu",null,"16-Counted Savings",null,"Menu"]
[null,"Charts-Baseline",1,null,"SheetECB","SheetGCB","SheetNCB",0,0,0]
[null,"Charts-Normal Year",1,null,"SheetECN","SheetGCN","SheetNCN",0,0,0]
[null,"Charts-Operating",1,null,"SheetECO","SheetGCO","SheetNCO",0,0,0]
[null,"Charts-Savings",1,null,"SheetECS","SheetGCS","SheetNCS",0,0,0]
[null,"Workarea-Normal Year",1,null,"SheetEWN","SheetGWN","SheetNWN",0,0,1,null,"Button 34",null,null,{"$f":"ROW(MenuButtonWorkAreaRow)+2","v":50}]
[null,"Workarea-Baseline",1,null,"SheetEWB","SheetGWB","SheetNWB",0,1,1,null,"Button 35",null,null,{"$f":"O27+1","v":51}]
[null,"Workarea-Operating",1,null,"SheetEWO","SheetGWO","SheetNWO",0,0,1,null,"Button 36",null,null,{"$f":"O28+1","v":52}]
[null,"Workarea-Reporting Year",1,null,"SheetEWR","SheetGWR","SheetNWR",0,1,0,null,"Button 154",null,null,{"$f":"O29+1","v":53}]
[null,"Data - Baseline Chart",0,"SheetX_deprecated",null,null,null,0,0,0]
[null,"Data - Operating Chart",0,"SheetXX_deprecated",null,null,null,0,0,0]
[null,"Templates",0,"Sheet_TMPL",null,null,null,0,0,0]

{"sheet":"Templates","index":1,"n_rows":22,"n_cols":12,"rows_kept":22,"cut":false,"hidden":true,"merged":[[1,0,2,0],[21,0,22,0],[21,11,22,11],[17,8,18,8],[17,9,18,9],[17,10,18,10],[21,7,22,7],[21,8,22,8],[21,9,22,9],[21,10,22,10],[17,1,18,1],[17,6,18,6],[17,7,18,7],[21,1,22,1],[21,5,22,5],[21,6,22,6],[17,2,18,2],[21,4,22,4],[17,5,18,5],[9,1,10,1],[9,5,10,5],[9,6,10,6],[13,1,14,1],[13,5,14,5],[13,6,14,6],[9,2,10,2],[13,2,14,2],[5,6,6,6],[1,1,2,1],[1,4,2,4],[1,5,2,5],[5,1,6,1],[5,5,6,5],[5,2,6,2]]}
[null,"2 Normal Year Values"]
[null,"Normal Year Date / Time","Independent Variables","Site Constants","Exclude non-normal measurement? (Mark with 'Y')","Reason for exclusion"]
[]
[]
[null,"4 Baseline Measurements"]
[null,"Date / Time","Energy","Independent Variables","Site Constants","Exclude non-normal measurement? (Mark with 'Y')","Reason for exclusion"]
[]
[]
[null,"6 Operating Measurements"]
[null,"Date / Time","Energy","Independent Variables","Site Constants","Exclude non-normal measurement? (Mark with 'Y')","Reason for exclusion"]
[]
[]
[null,"8 Reporting Period Values"]
[null,"Date / Time","Energy","Independent Variables","Site Constants","Exclude non-normal measurement? (Mark with 'Y')","Reason for exclusion"]
[]
[]
[null,"10 MAES"]
[null,"Date / Time",{"$f":"\"Reported energy consumption\"","v":"Reported energy consumption"},"Independent Variables","Site Constants","Time interval data excluded?","Site constants all at normal values?","Within baseline model effective range?","Baseline energy consumption","Exclude time interval?","Energy savings"]
[]
[]
[null,"11 NYES"]
["blank","Date / Time","Independent Variables","Site Constants","Time interval data excluded","Site constants all at normal values?","Within baseline model effective range?","Baseline energy consumption","Within Operating model effective range?","Operating energy consumption","Eligible time interval?","Energy savings"]

{"sheet":"Lookups","index":2,"n_rows":719,"n_cols":81,"rows_kept":719,"cut":false,"hidden":true,"merged":[]}
["Settings",null,null,"YesNo List",null,"Energy Model Method",null,"Energy Savings Calculation Method","Savings Name",null,"Exclude flag",null,"Measurement Accuracy",null,"Frequency",null,null,null,null,null,"(days)",null,"Accuracy Factor","(Estimate of the Mean)","(Regression Model)",null,"DecayFactor","Source: VEET M&V Methods and Variables",null,"Disclaimer",null,null,null,null,null,null,"VEETActivityList",null,null,null,"VEETPostcodeList",null,null,null,null,"RegionalFactorTable","Reference: Equation 1 in VEET M&V Methods and Variables",null,"EnergySourceLookup",null,null,null,"ElectricityTypeList","tCO2-e/MWh",null,"GasTypeList","tCO2-e/GJ",null,"Biofuels",null,"Reference in NGA Factors (August 2015)","Note: Units - GJ/t for solid, GJ/m3 for gas, GJ/kL for liquid","Emission factor kg CO2-e/GJ ",null,null,"tCO2-e/GJ",null,"BiofuelList",null,null,"PersistenceModelList",null,"ErrorMessageTable"]
["SettingItem","SettingValue",null,"ItemName",null,"ItemName",null,"ItemName","ItemName",null,"ItemName",null,"ItemName",null,"Frequency","DataPoints","AddType","AddInterval","RemoveType","RemoveInterval","LengthOfTimeInterval",null,"Relative error of energy savings estimate","Accuracy Factor for an average energy model","Accuracy Factor for all other energy models"," ","Year","Decay Factor",null,"Disclaimer",null,null,null,null,null,null,"VEETActivity","VEETRegulationID",null,"Item ","Postcode ","Regional/Metropolitan ","Reticulated Gas?","Climatic Region ",null,"Regional/Metropolitan ","Regional factor",null,"Abbreviation","Name","Unit of measurement",null,"Electricity Type","Emissions factor",null,"Gas Type","Emissions factor",null,"Biofuel","Type","Data source","Energy content factor","CO2 ","CH4 ","N2O ","Total emissions factor",null,"Biofuel","Total emissions factor",null,"Persistence Model",null,"Sheet","Is there a sheet for each energy source?","Calculation method","Error name","Error type","Error message","Fix message","Methods & variables reference","Notes"]
["Version","Beta 0.2.6",null,"Yes",null,"Regression Analysis",null,"Forward creation method (NYES)","Normal Year Savings",null,"Y",null,"Relative Error (%)",null,"15 Minutes",{"$f":"365*(24*4)","v":35040},"n",15,"n",0,{"$f":"1/24/4","v":1.0416666666666666E-2},null,0.25,0.9,1,null,1,1,null,"I Agree",null,null,null,null,null,null,"1 Electric to gas or boosted solar hot water",1,null,"1",3000,"Metropolitan","Yes","Metropolitan",null,"Metropolitan",0.98,null,"E","Electricity","MWh",null,"(not included)",0,null,"(not included)",0,null,"Dry wood ","Solid","Table 1",16.2,0,0.1,1.2,{"$f":"SUM(BK3:BM3)/1000","v":1.2999999999999999E-3},null,"(not included)",0,null,"Default values",null,13,"Y","NYES","PMChoice","Error","Under the forward creation calculation method, the decay factor for a year is determined using Table 2 or by applying a persistence model.",null,"17(a)"]
["DataIndVars","Independent variables","deprecated","No",null,"Estimate of the Mean",null,"Annual creation or top up method (MAES)","Measured Annual Energy Savings",null,"y",null,"Absolute Error",null,"30 Minutes",{"$f":"365*(24*2)","v":17520},"n",30,"n",0,{"$f":"1/24/2","v":2.0833333333333332E-2},null,0.5,0.8,0.9,null,2,0.8,null,"I Disagree",null,null,null,null,null,null,"2 Solar retrofit on electric hot water",2,null,"2",3001,"Metropolitan","Yes","Metropolitan",null,"Regional",1.04,null,"G","Gas","GJ",null,"Grid electricity",1.095,null,"Natural Gas",5.5230000000000001E-2,null,"Green and air dried wood ","Solid","Table 1",10.4,0,0.1,1.2,{"$f":"SUM(BK4:BM4)/1000","v":1.2999999999999999E-3},null,"Wood",1.2999999999999999E-3,null,"User-defined",null,1,"Y",null,null,null,"Each project must have one or more site constants. ",null,"8(a)"]
["DataSiteCons","Site constants","deprecated",null,null,null,null,null,null,null,"Yes",null,null,null,"Hourly",{"$f":"365*24","v":8760},"h",1,"h",0,{"$f":"1/24","v":4.1666666666666664E-2},null,0.75,0.7,0.8,null,3,0.64,null,null,null,null,null,null,null,null,"3 Gas to gas boosted solar hot water",3,null,"3",3002,"Metropolitan","Yes","Metropolitan",null,null,null,null,"N","Renewables","GJ",null,null,null,null,"Liquefied Petroleum Gas (LPG)",6.4199999999999993E-2,null,"Sulphite lyes  ","Solid","Table 1",12.4,0,7.0000000000000007E-2,0.6,6.6999999999999991E-4,null,"Sulphite lyes  ",6.6999999999999991E-4,null,null,null,1,"Y",null,null,null,"For each site constant a standard value must be defined, which is the value the site constant is expected to have under normal operating conditions. ",null,"8(c)"]
["DataNYDateTime","Normal Year Timestamp/datestamp","deprecated",null,null,null,null,null,null,null,"yes",null,null,null,"Daily",365,"d",1,"d",0,1,null,1,0.5,0.6,null,4,0.51,null,null,null,null,null,null,null,null,"4 Solar pre-heater on gas water heater",4,null,"4",3003,"Metropolitan","Yes","Metropolitan",null,null,null,null,null,null,null,null,null,null,null,null,null,null,"Bagasse ","Solid","Table 1",9.6,0,0.2,1.2,1.4E-3,null,"Bagasse ",1.4E-3,null,null,null,5,"Y",null,null,null,"The baseline energy model must be based on measurements during the baseline period where site constants are at their normal values.",null,"12(a)(i) & 12(a)(ii)","Need to count how many time intervals where site constants are not at their normal values but haven't been excluded."]
["DataNYTopLeftCell","A10","deprecated",null,null,null,null,null,null,null,null,null,null,null,"Weekly",52,"ww",1,"d",-1,7,null,1.5,0.3,0.4,null,5,0.41,null,null,null,null,null,null,null,null,"5 Ducted gas to HE ducted gas heater",5,null,"4A",3004,"Metropolitan","Yes","Metropolitan",null,null,null,null,null,null,null,null,null,null,null,null,null,null,"Biomass municipal and industrial materials, if recycled and combusted to produce heat or electricity","Solid","Table 1",12.2,0,0.7,1.1000000000000001,1.8E-3,null,"Charcoal ",5.9000000000000007E-3,null,null,null,5,"Y",null,null,null,"The baseline energy model must be based on at least 80% of the total number of time intervals in the baseline period.",null,"12(a)(i) & 12(a)(ii)"]
["DataBaselineDateTime","Date and Time","deprecated",null,null,null,null,null,null,null,null,null,null,null,"Monthly",12,"m",1,"d",-1,{"$f":"365/12","v":30.416666666666668},null,2,0.1,0.2,null,6,0.33,null,null,null,null,null,null,null,null,"6 Central electric to HE ducted gas heater",6,null,"5",3005,"Metropolitan","Yes","Metropolitan",null,null,null,null,null,null,null,null,null,null,null,null,null,null,"Charcoal ","Solid","Table 1",31.1,0,4.8,1.1000000000000001,5.9000000000000007E-3,null,"Other solid biomass",1.8E-3,null,null,null,5,"Y",null,null,null,"The baseline energy model, established by regression analysis, must have at least six times as many independent observations of the independent variables as the number of independent variables in the energy model.",null,"12(a)(iii)"]
["DataBaselineEnergy","Energy (MWh)","deprecated",null,null,null,null,null,null,null,null,null,null,null,"(user defined)",null,null,null,null,null,null,null,null,null,null,null,7,0.26,null,null,null,null,null,null,null,null,"7 Ducted heat pump to HE ducted heat pump",7,null,"6",3006,"Metropolitan","Yes","Metropolitan",null,null,null,null,null,null,null,null,null,null,null,null,null,null,"Primary solid biomass fuels other than those mentioned in the items above ","Solid","Table 1",12.2,0,0.7,1.1000000000000001,1.8E-3,null,"Biodiesel, ethanol and other biofuels",2.7E-4,null,null,null,5,"Y",null,null,null,"The baseline energy model, established by estimate of the mean, must have measured energy consumption values over the baseline period with a coefficient of variation less than 15%.",null,"12(a)(ii)"]
["DataBaselineExclude","Exclude non-normal measurement? (Mark with 'Y')","deprecated",null,null,null,null,null,null,null,null,null,null,null,null,null,null,null,null,null,null,null,null,null,null,null,8,0.21,null,null,null,null,null,null,null,null,"8 Central electric to HE ducted heat pump",8,null,"7",3008,"Metropolitan","Yes","Metropolitan",null,null,null,null,null,null,null,null,null,null,null,null,null,null,"Landfill biogas that is captured for combustion (methane only) ","Gas","Table 2","37.7 × 10-3 ",0,4.8,0.03,4.8300000000000001E-3,null,"Biogas",4.8300000000000001E-3,null,null,null,5,"Y",null,null,null,"The baseline period must not end more than 24 months before the day work for the purposes of the project has commenced at the premises.\n",null,"12(b)(i)"]
["DataBaselineExcludeComment","Reason for exclusion","deprecated",null,null,null,null,null,null,null,null,null,null,null,null,null,null,null,null,null,null,null,null,null,null,null,9,0.17,null,null,null,null,null,null,null,null,"9 Gas flued space heater",9,null,"8",3010,"Metropolitan","Yes","Metropolitan",null,null,null,null,null,null,null,null,null,null,null,null,null,null,"Sludge biogas that is captured for combustion (methane only) ","Gas","Table 2","37.7 × 10-3 ",0,4.8,0.03,4.8300000000000001E-3,null,null,null,null,null,null,5,"Y",null,null,null,"The baseline period must end before the day and time that work for the purposes of the project has commenced at the premises, unless the project can be temporarily suspended so that conditions prior to the project being undertaken can be measured.",null,"12(b)(ii)"]
["DataBaselineMeasuredBaselineEnergy","Measured Baseline Energy","deprecated",null,null,null,null,null,null,null,null,null,null,null,null,null,null,null,null,null,null,null,null,null,null,null,10,0.13,null,null,null,null,null,null,null,null,"10 Space heat pump",10,null,"9",3011,"Metropolitan","Yes","Metropolitan",null,null,null,null,null,null,null,null,null,null,null,null,null,null,"A biogas that is captured for combustion, other than those mentioned in the items above  ","Gas","Table 2","37.7 × 10-3 ",0,4.8,0.03,4.8300000000000001E-3,null,null,null,null,null,null,7,"Y",null,null,null,"The operating energy model must be based on measurements during the operating period where site constants are at their normal values.",null,"12(a)(i) & 12(a)(ii)","Need to count how many time intervals where site constants are not at their normal values but haven't been excluded."]
["DataBaselineModelledBaselineEnergy","Modelled Baseline Energy","deprecated",null,null,null,null,null,null,null,null,null,null,null,null,null,null,null,null,null,null,null,null,null,null,null,null,null,null,null,null,null,null,null,null,null,"11 Ceiling insulation",11,null,"10",3012,"Metropolitan","Yes","Metropolitan",null,null,null,null,null,null,null,null,null,null,null,null,null,null,"Biodiesel  ","Liquid","Table 3",34.6,0,7.0000000000000007E-2,0.2,2.7E-4,null,null,null,null,null,null,7,"Y",null,null,null,"The operating energy model must be based on at least 80% of the total number of time intervals in the operating period.",null,"12(a)(i) & 12(a)(ii)"]
["DataOperatingDateTime","Date and Time","deprecated",null,null,null,null,null,null,null,null,null,null,null,null,null,null,null,null,null,null,null,null,null,null,null,null,null,null,null,null,null,null,null,null,null,"12 Underfloor insulation",12,null,"11",3013,"Metropolitan","Yes","Metropolitan",null,null,null,null,null,null,null,null,null,null,null,null,null,null,"Ethanol for use as a fuel in an internal combustion engine ","Liquid","Table 3",23.4,0,7.0000000000000007E-2,0.2,2.7E-4,null,null,null,null,null,null,7,"Y",null,null,null,"The operating energy model, established by regression analysis, must have at least six times as many independent observations of the independent variables as the number of independent variables in the energy model.",null,"12(a)(iii)"]
["DataOperatingEnergy","Energy (MWh)","deprecated",null,null,null,null,null,null,null,null,null,null,null,null,null,null,null,null,null,null,null,null,null,null,null,null,null,null,null,null,null,null,null,null,null,"13 Window replacement",13,null,"12",3015,"Metropolitan","Yes","Metropolitan",null,null,null,null,null,null,null,null,null,null,null,null,null,null,"Biofuels other than those mentioned in the items above ","Liquid","Table 3",23.4,0,7.0000000000000007E-2,0.2,2.7E-4,null,null,null,null,null,null,7,"Y",null,null,null,"The operating energy model, established by estimate of the mean, must have measured energy consumption values over the operating period with a coefficient of variation less than 15%.",null,"12(a)(ii)"]
["DataOperatingExclude","Exclude non-normal measurement? (Mark with 'Y')","deprecated",null,null,null,null,null,null,null,null,null,null,null,null,null,null,null,null,null,null,null,null,null,null,null,null,null,null,null,null,null,null,null,null,null,"14 Window retrofit",14,null,"13",3016,"Metropolitan","Yes","Metropolitan",null,null,null,null,null,null,null,null,null,null,null,null,null,null,null,null,null,null,null,null,null,null,null,null,null,null,null,null,7,"Y",null,null,null,"The operating period must not start before the implementation start time and must end no later than two years after the implementation start time.",null,"12(d)"]
["DataOperatingExcludeComment","Reason for exclusion","deprecated",null,null,null,null,null,null,null,null,null,null,null,null,null,null,null,null,null,null,null,null,null,null,null,null,null,null,null,null,null,null,null,null,null,"15 Weather sealing",15,null,"14",3018,"Metropolitan","Yes","Metropolitan",null,null,null,null,null,null,null,null,null,null,null,null,null,null,null,null,null,null,null,null,null,null,null,null,null,null,null,null,17,"N",null,null,null,"The total interactive energy savings are limited to a maximum of 10% of the difference between the energy consumption calculated using the baseline energy model and the energy consumption calculated using the operating energy model for eligible time intervals in the normal year, for all energy sources.\n",null,"16(b)(i)"]
["DataOperatingMeasuredOperatingEnergy","Measured Operating Energy","deprecated",null,null,null,null,null,null,null,null,null,null,null,null,null,null,null,null,null,null,null,null,null,null,null,null,null,null,null,null,null,null,null,null,null,"17 Low efficiency rose to HE rose",17,null,"15",3019,"Metropolitan","Yes","Metropolitan",null,null,null,null,null,null,null,null,null,null,null,null,null,null,null,null,null,null,null,null,null,null,null,null,null,null,null,null,17,"N",null,null,null,"The total interactive energy savings are limited to a maximum of 10% of the difference between the energy consumption calculated using the baseline energy model and the measured energy consumption for eligible time intervals in the reporting period, for all energy sources.",null,"16(b)(ii)"]
["DataOperatingModelledOperatingEnergy","Modelled Operating Energy","deprecated",null,null,null,null,null,null,null,null,null,null,null,null,null,null,null,null,null,null,null,null,null,null,null,null,null,null,null,null,null,null,null,null,null,"19 Destroy pre-1996 fridge/freezer",19,null,"16",3020,"Metropolitan","Yes","Metropolitan"]
["IESDefaultMultiplier",1.3,"deprecated",null,null,null,null,null,null,null,null,null,null,null,null,null,null,null,null,null,null,null,null,null,null,null,null,null,null,null,null,null,null,null,null,null,"20 HE ducted gas in premises without heating or cooling product installed",20,null,"17",3021,"Metropolitan","Yes","Metropolitan"]
["IESMaxMultiplier",1.1000000000000001,"deprecated",null,null,null,null,null,null,null,null,null,null,null,null,null,null,null,null,null,null,null,null,null,null,null,null,null,null,null,null,null,null,null,null,null,"21 Low efficiency lighting to HE lighting",21,null,"18",3022,"Metropolitan","Yes","Metropolitan"]
["RegressionIntercept","Intercept","deprecated",null,null,null,null,null,null,null,null,null,null,null,null,null,null,null,null,null,null,null,null,null,null,null,null,null,null,null,null,null,null,null,null,null,"22 Purchase HE fridge/freezer",22,null,"19",3023,"Metropolitan","Yes","Metropolitan"]
["BEMFormulaName","E(baseline)","deprecated",null,null,null,null,null,null,null,null,null,null,null,null,null,null,null,null,null,null,null,null,null,null,null,null,null,null,null,null,null,null,null,null,null,"23 Air con to ducted evaporative cooler",23,null,"20",3024,"Metropolitan","Yes","Metropolitan"]
["OMFormulaName","E(operating)","deprecated",null,null,null,null,null,null,null,null,null,null,null,null,null,null,null,null,null,null,null,null,null,null,null,null,null,null,null,null,null,null,null,null,null,"24 HE television",24,null,"21",3025,"Metropolitan","Yes","Metropolitan"]
["DataModelledEnergyFormulaColumn","A","deprecated - use a named range instead",null,null,null,null,null,null,null,null,null,null,null,null,null,null,null,null,null,null,null,null,null,null,null,null,null,null,null,null,null,null,null,null,null,"25 HE clothes dryer",25,null,"22",3026,"Metropolitan","Yes","Metropolitan"]
["NYDataPointCount",365,"deprecated",null,null,null,null,null,null,null,null,null,null,null,null,null,null,null,null,null,null,null,null,null,null,null,null,null,null,null,null,null,null,null,null,null,"26 HE pool pump",26,null,"23",3027,"Metropolitan","Yes","Metropolitan"]
["MaxDataPointsExcludedPerc",0.2,null,null,null,null,null,null,null,null,null,null,null,null,null,null,null,null,null,null,null,null,null,null,null,null,null,null,null,null,null,null,null,null,null,null,"28 Gas ductwork replacement",28,null,"24",3028,"Metropolitan","Yes","Metropolitan"]
["CorrelationCheckHeader","Check",null,null,null,null,null,null,null,null,null,null,null,null,null,null,null,null,null,null,null,null,null,null,null,null,null,null,null,null,null,null,null,null,null,null,"29 Standby power controllers (SPCs)",29,null,"25",3029,"Metropolitan","Yes","Metropolitan"]
["CorrelationCheckValue",0.5,null,null,null,null,null,null,null,null,null,null,null,null,null,null,null,null,null,null,null,null,null,null,null,null,null,null,null,null,null,null,null,null,null,null,"30 In-home displays (IHDs)",30,null,"26",3030,"Metropolitan","Yes","Metropolitan"]
["NYESDataRowHeight",15,"deprecated - use a cell style instead",null,null,null,null,null,null,null,null,null,null,null,null,null,null,null,null,null,null,null,null,null,null,null,null,null,null,null,null,null,null,null,null,null,"31 High efficiency motor installation",31,null,"27",3031,"Metropolitan","Yes","Metropolitan"]
["NYESBaselinePredictedEnergy","Baseline","(deprecated)",null,null,null,null,null,null,null,null,null,null,null,null,null,null,null,null,null,null,null,null,null,null,null,null,null,null,null,null,null,null,null,null,null,"32 High efficiency refrigerated display cabinet installation",32,null,"28",3032,"Metropolitan","Yes","Metropolitan"]
["NYESOperatingPredictedEnergy","Operating ","(deprecated)",null,null,null,null,null,null,null,null,null,null,null,null,null,null,null,null,null,null,null,null,null,null,null,null,null,null,null,null,null,null,null,null,null,"33 High efficiency refrigeration fan motor installation ",33,null,"29",3033,"Metropolitan","Yes","Metropolitan"]
["NYESSavingsPredictedEnergy","Savings","(deprecated)",null,null,null,null,null,null,null,null,null,null,null,null,null,null,null,null,null,null,null,null,null,null,null,null,null,null,null,null,null,null,null,null,null,"34 Undertaking a lighting upgrade ",34,null,"30",3034,"Metropolitan","Yes","Metropolitan"]
["NYESMinMultiplier",0.95,"this value is used for reporting year range as wel",null,null,null,null,null,null,null,null,null,null,null,null,null,null,null,null,null,null,null,null,null,null,null,null,null,null,null,null,null,null,null,null,null,"35 Efficient low flow trigger nozzle replacing decommissioned inefficient trigger nozzle",35,null,"31",3036,"Metropolitan","Yes","Metropolitan"]
["NYESMaxMultiplier",1.05,"this value is used for reporting year range as wel",null,null,null,null,null,null,null,null,null,null,null,null,null,null,null,null,null,null,null,null,null,null,null,null,null,null,null,null,null,null,null,null,null,"36 Water efficient prerinse spray valve installation; water efficient prerinse spray valve replacing decommissioned inefficient prerinse spray valve",36,null,"32",3037,"Metropolitan","Yes","Metropolitan"]
["DecayMaintBox","Reactive","(deprecated)",null,null,null,null,null,null,null,null,null,null,null,null,null,null,null,null,null,null,null,null,null,null,null,null,null,null,null,null,null,null,null,null,null,null,null,null,"33",3038,"Metropolitan","Yes","Metropolitan"]
["ConversionFactor",1.06,"(deprecated)",null,null,null,null,null,null,null,null,null,null,null,null,null,null,null,null,null,null,null,null,null,null,null,null,null,null,null,null,null,null,null,null,null,null,null,null,"34",3039,"Metropolitan","Yes","Metropolitan"]
["DecayDefaultModelText",{"$f":"#REF!","v":{"$error":"#REF!"}},"(deprecated)",null,null,null,null,null,null,null,null,null,null,null,null,null,null,null,null,null,null,null,null,null,null,null,null,null,null,null,null,null,null,null,null,null,null,null,null,"35",3040,"Metropolitan","Yes","Metropolitan"]
["TableNormalYearEnergySavings2BaseColumn","B","deprecated - use a named range instead",null,null,null,null,null,null,null,null,null,null,null,null,null,null,null,null,null,null,null,null,null,null,null,null,null,null,null,null,null,null,null,null,null,null,null,null,"36",3041,"Metropolitan","Yes","Metropolitan"]
["TableNormalYearEnergySavings2BaseRow",25,"deprecated - use a named range instead",null,null,null,null,null,null,null,null,null,null,null,null,null,null,null,null,null,null,null,null,null,null,null,null,null,null,null,null,null,null,null,null,null,null,null,null,"37",3042,"Metropolitan","Yes","Metropolitan"]
["MaxLifetimeEnergySavingsMWh",50000,"Need to change…",null,null,null,null,null,null,null,null,null,null,null,null,null,null,null,null,null,null,null,null,null,null,null,null,null,null,null,null,null,null,null,null,null,null,null,null,"38",3043,"Metropolitan","Yes","Metropolitan"]
["IESAirConSpaceMaxPerc",0.1,"(deprecated)",null,null,null,null,null,null,null,null,null,null,null,null,null,null,null,null,null,null,null,null,null,null,null,null,null,null,null,null,null,null,null,null,null,null,null,null,"39",3044,"Metropolitan","Yes","Metropolitan"]
["DataFormulaColumnOffset",26,null,null,null,null,null,null,null,null,null,null,null,null,null,null,null,null,null,null,null,null,null,null,null,null,null,null,null,null,null,null,null,null,null,null,null,null,null,"40",3045,"Metropolitan","Yes","Metropolitan"]
["DataFormulaSuffixName","Chart",null,null,null,null,null,null,null,null,null,null,null,null,null,null,null,null,null,null,null,null,null,null,null,null,null,null,null,null,null,null,null,null,null,null,null,null,null,"41",3046,"Metropolitan","Yes","Metropolitan"]
["DisclaimerAgreement",{"$f":"AD3","v":"I Agree"},null,null,null,null,null,null,null,null,null,null,null,null,null,null,null,null,null,null,null,null,null,null,null,null,null,null,null,null,null,null,null,null,null,null,null,null,null,"42",3047,"Metropolitan","Yes","Metropolitan"]
["IndependentVariablesDataPointMultiplier",6,null,null,null,null,null,null,null,null,null,null,null,null,null,null,null,null,null,null,null,null,null,null,null,null,null,null,null,null,null,null,null,null,null,null,null,null,null,"43",3048,"Metropolitan","Yes","Metropolitan"]
["tValueConfidenceMultiplier",0.1,null,null,null,null,null,null,null,null,null,null,null,null,null,null,null,null,null,null,null,null,null,null,null,null,null,null,null,null,null,null,null,null,null,null,null,null,null,"44",3049,"Metropolitan","Yes","Metropolitan"]
["MWhToGJMultiplier",3.6,null,null,null,null,null,null,null,null,null,null,null,null,null,null,null,null,null,null,null,null,null,null,null,null,null,null,null,null,null,null,null,null,null,null,null,null,null,"45",3050,"Metropolitan","Yes","Metropolitan"]
["GJToMWhMultiplier",{"$f":"1/B48","v":0.27777777777777779},null,null,null,null,null,null,null,null,null,null,null,null,null,null,null,null,null,null,null,null,null,null,null,null,null,null,null,null,null,null,null,null,null,null,null,null,null,"46",3051,"Metropolitan","Yes","Metropolitan"]
["EnergyUseGas",{"$f":"#REF!","v":{"$error":"#REF!"}},"deprecated",null,null,null,null,null,null,null,null,null,null,null,null,null,null,null,null,null,null,null,null,null,null,null,null,null,null,null,null,null,null,null,null,null,null,null,null,"47",3052,"Metropolitan","Yes","Metropolitan"]
["ToolUseDecayOnly",{"$f":"#REF!","v":{"$error":"#REF!"}},"(deprecated)",null,null,null,null,null,null,null,null,null,null,null,null,null,null,null,null,null,null,null,null,null,null,null,null,null,null,null,null,null,null,null,null,null,null,null,null,"48",3053,"Metropolitan","Yes","Metropolitan"]
["EffectiveRangeColumnOffset",12,null,null,null,null,null,null,null,null,null,null,null,null,null,null,null,null,null,null,null,null,null,null,null,null,null,null,null,null,null,null,null,null,null,null,null,null,null,"49",3054,"Metropolitan","Yes","Metropolitan"]
["ReleaseDate","2018-04-30",null,null,null,null,null,null,null,null,null,null,null,null,null,null,null,null,null,null,null,null,null,null,null,null,null,null,null,null,null,null,null,null,null,null,null,null,null,"50",3055,"Metropolitan","Yes","Metropolitan"]
["Weblink",null,"(deprecated)",null,null,null,null,null,null,null,null,null,null,null,null,null,null,null,null,null,null,null,null,null,null,null,null,null,null,null,null,null,null,null,null,null,null,null,null,"51",3056,"Metropolitan","Yes","Metropolitan"]
["IsBEMRegressionMethod",true,"(deprecated)",null,null,null,null,null,null,null,null,null,null,null,null,null,null,null,null,null,null,null,null,null,null,null,null,null,null,null,null,null,null,null,null,null,null,null,null,"52",3057,"Metropolitan","Yes","Metropolitan"]
["IsOEMRegressionMethod",true,"(deprecated)",null,null,null,null,null,null,null,null,null,null,null,null,null,null,null,null,null,null,null,null,null,null,null,null,null,null,null,null,null,null,null,null,null,null,null,null,"53",3058,"Metropolitan","Yes","Metropolitan"]
["ElectricityFuelSwitchingFactor",0.96,"(deprecated)",null,null,null,null,null,null,null,null,null,null,null,null,null,null,null,null,null,null,null,null,null,null,null,null,null,null,null,null,null,null,null,null,null,null,null,null,"54",3059,"Metropolitan","Yes","Metropolitan"]
["SupportEmail","energy.upgrades@delwp.vic.gov.au",null,null,null,null,null,null,null,null,null,null,null,null,null,null,null,null,null,null,null,null,null,null,null,null,null,null,null,null,null,null,null,null,null,null,null,null,null,"55",3060,"Metropolitan","Yes","Metropolitan"]
["NYESHeaderHeightRow1",70,"deprecated - use a cell style instead",null,null,null,null,null,null,null,null,null,null,null,null,null,null,null,null,null,null,null,null,null,null,null,null,null,null,null,null,null,null,null,null,null,null,null,null,"56",3061,"Metropolitan","Yes","Metropolitan"]
["NYESHeaderHeightRow2",135,"deprecated - use a cell style instead",null,null,null,null,null,null,null,null,null,null,null,null,null,null,null,null,null,null,null,null,null,null,null,null,null,null,null,null,null,null,null,null,null,null,null,null,"57",3062,"Metropolitan","Yes","Metropolitan"]
[null,null,null,null,null,null,null,null,null,null,null,null,null,null,null,null,null,null,null,null,null,null,null,null,null,null,null,null,null,null,null,null,null,null,null,null,null,null,null,"58",3063,"Metropolitan","Yes","Metropolitan"]
[null,null,null,null,null,null,null,null,null,null,null,null,null,null,null,null,null,null,null,null,null,null,null,null,null,null,null,null,null,null,null,null,null,null,null,null,null,null,null,"59",3064,"Metropolitan","Yes","Metropolitan"]
[null,null,null,null,null,null,null,null,null,null,null,null,null,null,null,null,null,null,null,null,null,null,null,null,null,null,null,null,null,null,null,null,null,null,null,null,null,null,null,"60",3065,"Metropolitan","Yes","Metropolitan"]
[null,null,null,null,null,null,null,null,null,null,null,null,null,null,null,null,null,null,null,null,null,null,null,null,null,null,null,null,null,null,null,null,null,null,null,null,null,null,null,"61",3066,"Metropolitan","Yes","Metropolitan"]
[null,null,null,null,null,null,null,null,null,null,null,null,null,null,null,null,null,null,null,null,null,null,null,null,null,null,null,null,null,null,null,null,null,null,null,null,null,null,null,"62",3067,"Metropolitan","Yes","Metropolitan"]
[null,null,null,null,null,null,null,null,null,null,null,null,null,null,null,null,null,null,null,null,null,null,null,null,null,null,null,null,null,null,null,null,null,null,null,null,null,null,null,"63",3068,"Metropolitan","Yes","Metropolitan"]
[null,null,null,null,null,null,null,null,null,null,null,null,null,null,null,null,null,null,null,null,null,null,null,null,null,null,null,null,null,null,null,null,null,null,null,null,null,null,null,"64",3070,"Metropolitan","Yes","Metropolitan"]
[null,null,null,null,null,null,null,null,null,null,null,null,null,null,null,null,null,null,null,null,null,null,null,null,null,null,null,null,null,null,null,null,null,null,null,null,null,null,null,"65",3071,"Metropolitan","Yes","Metropolitan"]
[null,null,null,null,null,null,null,null,null,null,null,null,null,null,null,null,null,null,null,null,null,null,null,null,null,null,null,null,null,null,null,null,null,null,null,null,null,null,null,"66",3072,"Metropolitan","Yes","Metropolitan"]
[null,null,null,null,null,null,null,null,null,null,null,null,null,null,null,null,null,null,null,null,null,null,null,null,null,null,null,null,null,null,null,null,null,null,null,null,null,null,null,"67",3073,"Metropolitan","Yes","Metropolitan"]
[null,null,null,null,null,null,null,null,null,null,null,null,null,null,null,null,null,null,null,null,null,null,null,null,null,null,null,null,null,null,null,null,null,null,null,null,null,null,null,"68",3074,"Metropolitan","Yes","Metropolitan"]
[null,null,null,null,null,null,null,null,null,null,null,null,null,null,null,null,null,null,null,null,null,null,null,null,null,null,null,null,null,null,null,null,null,null,null,null,null,null,null,"69",3075,"Metropolitan","Yes","Metropolitan"]
[null,null,null,null,null,null,null,null,null,null,null,null,null,null,null,null,null,null,null,null,null,null,null,null,null,null,null,null,null,null,null,null,null,null,null,null,null,null,null,"70",3076,"Metropolitan","Yes","Metropolitan"]
[null,null,null,null,null,null,null,null,null,null,null,null,null,null,null,null,null,null,null,null,null,null,null,null,null,null,null,null,null,null,null,null,null,null,null,null,null,null,null,"71",3078,"Metropolitan","Yes","Metropolitan"]
[null,null,null,null,null,null,null,null,null,null,null,null,null,null,null,null,null,null,null,null,null,null,null,null,null,null,null,null,null,null,null,null,null,null,null,null,null,null,null,"72",3079,"Metropolitan","Yes","Metropolitan"]
[null,null,null,null,null,null,null,null,null,null,null,null,null,null,null,null,null,null,null,null,null,null,null,null,null,null,null,null,null,null,null,null,null,null,null,null,null,null,null,"73",3081,"Metropolitan","Yes","Metropolitan"]
[null,null,null,null,null,null,null,null,null,null,null,null,null,null,null,null,null,null,null,null,null,null,null,null,null,null,null,null,null,null,null,null,null,null,null,null,null,null,null,"74",3082,"Metropolitan","Yes","Metropolitan"]
[null,null,null,null,null,null,null,null,null,null,null,null,null,null,null,null,null,null,null,null,null,null,null,null,null,null,null,null,null,null,null,null,null,null,null,null,null,null,null,"75",3083,"Metropolitan","Yes","Metropolitan"]
[null,null,null,null,null,null,null,null,null,null,null,null,null,null,null,null,null,null,null,null,null,null,null,null,null,null,null,null,null,null,null,null,null,null,null,null,null,null,null,"76",3084,"Metropolitan","Yes","Metropolitan"]
[null,null,null,null,null,null,null,null,null,null,null,null,null,null,null,null,null,null,null,null,null,null,null,null,null,null,null,null,null,null,null,null,null,null,null,null,null,null,null,"77",3085,"Metropolitan","Yes","Metropolitan"]
[null,null,null,null,null,null,null,null,null,null,null,null,null,null,null,null,null,null,null,null,null,null,null,null,null,null,null,null,null,null,null,null,null,null,null,null,null,null,null,"78",3086,"Metropolitan","Yes","Metropolitan"]
[null,null,null,null,null,null,null,null,null,null,null,null,null,null,null,null,null,null,null,null,null,null,null,null,null,null,null,null,null,null,null,null,null,null,null,null,null,null,null,"79",3087,"Metropolitan","Yes","Metropolitan"]
[null,null,null,null,null,null,null,null,null,null,null,null,null,null,null,null,null,null,null,null,null,null,null,null,null,null,null,null,null,null,null,null,null,null,null,null,null,null,null,"80",3088,"Metropolitan","Yes","Metropolitan"]
[null,null,null,null,null,null,null,null,null,null,null,null,null,null,null,null,null,null,null,null,null,null,null,null,null,null,null,null,null,null,null,null,null,null,null,null,null,null,null,"81",3089,"Metropolitan","Yes","Metropolitan"]
[null,null,null,null,null,null,null,null,null,null,null,null,null,null,null,null,null,null,null,null,null,null,null,null,null,null,null,null,null,null,null,null,null,null,null,null,null,null,null,"82",3090,"Metropolitan","Yes","Metropolitan"]
[null,null,null,null,null,null,null,null,null,null,null,null,null,null,null,null,null,null,null,null,null,null,null,null,null,null,null,null,null,null,null,null,null,null,null,null,null,null,null,"83",3091,"Metropolitan","Yes","Metropolitan"]
[null,null,null,null,null,null,null,null,null,null,null,null,null,null,null,null,null,null,null,null,null,null,null,null,null,null,null,null,null,null,null,null,null,null,null,null,null,null,null,"84",3093,"Metropolitan","Yes","Metropolitan"]
[null,null,null,null,null,null,null,null,null,null,null,null,null,null,null,null,null,null,null,null,null,null,null,null,null,null,null,null,null,null,null,null,null,null,null,null,null,null,null,"85",3094,"Metropolitan","Yes","Metropolitan"]
[null,null,null,null,null,null,null,null,null,null,null,null,null,null,null,null,null,null,null,null,null,null,null,null,null,null,null,null,null,null,null,null,null,null,null,null,null,null,null,"86",3095,"Metropolitan","Yes","Metropolitan"]
[null,null,null,null,null,null,null,null,null,null,null,null,null,null,null,null,null,null,null,null,null,null,null,null,null,null,null,null,null,null,null,null,null,null,null,null,null,null,null,"87",3096,"Metropolitan","Yes","Metropolitan"]
[null,null,null,null,null,null,null,null,null,null,null,null,null,null,null,null,null,null,null,null,null,null,null,null,null,null,null,null,null,null,null,null,null,null,null,null,null,null,null,"88",3097,"Metropolitan","Yes","Metropolitan"]
[null,null,null,null,null,null,null,null,null,null,null,null,null,null,null,null,null,null,null,null,null,null,null,null,null,null,null,null,null,null,null,null,null,null,null,null,null,null,null,"89",3099,"Metropolitan","Yes","Metropolitan"]
[null,null,null,null,null,null,null,null,null,null,null,null,null,null,null,null,null,null,null,null,null,null,null,null,null,null,null,null,null,null,null,null,null,null,null,null,null,null,null,"90",3101,"Metropolitan","Yes","Metropolitan"]
[null,null,null,null,null,null,null,null,null,null,null,null,null,null,null,null,null,null,null,null,null,null,null,null,null,null,null,null,null,null,null,null,null,null,null,null,null,null,null,"91",3102,"Metropolitan","Yes","Metropolitan"]
[null,null,null,null,null,null,null,null,null,null,null,null,null,null,null,null,null,null,null,null,null,null,null,null,null,null,null,null,null,null,null,null,null,null,null,null,null,null,null,"92",3103,"Metropolitan","Yes","Metropolitan"]
[null,null,null,null,null,null,null,null,null,null,null,null,null,null,null,null,null,null,null,null,null,null,null,null,null,null,null,null,null,null,null,null,null,null,null,null,null,null,null,"93",3104,"Metropolitan","Yes","Metropolitan"]
[null,null,null,null,null,null,null,null,null,null,null,null,null,null,null,null,null,null,null,null,null,null,null,null,null,null,null,null,null,null,null,null,null,null,null,null,null,null,null,"94",3105,"Metropolitan","Yes","Metropolitan"]
[null,null,null,null,null,null,null,null,null,null,null,null,null,null,null,null,null,null,null,null,null,null,null,null,null,null,null,null,null,null,null,null,null,null,null,null,null,null,null,"95",3106,"Metropolitan","Yes","Metropolitan"]
[null,null,null,null,null,null,null,null,null,null,null,null,null,null,null,null,null,null,null,null,null,null,null,null,null,null,null,null,null,null,null,null,null,null,null,null,null,null,null,"96",3107,"Metropolitan","Yes","Metropolitan"]
[null,null,null,null,null,null,null,null,null,null,null,null,null,null,null,null,null,null,null,null,null,null,null,null,null,null,null,null,null,null,null,null,null,null,null,null,null,null,null,"97",3108,"Metropolitan","Yes","Metropolitan"]
[null,null,null,null,null,null,null,null,null,null,null,null,null,null,null,null,null,null,null,null,null,null,null,null,null,null,null,null,null,null,null,null,null,null,null,null,null,null,null,"98",3109,"Metropolitan","Yes","Metropolitan"]
[null,null,null,null,null,null,null,null,null,null,null,null,null,null,null,null,null,null,null,null,null,null,null,null,null,null,null,null,null,null,null,null,null,null,null,null,null,null,null,"99",3110,"Metropolitan","Yes","Metropolitan"]
[null,null,null,null,null,null,null,null,null,null,null,null,null,null,null,null,null,null,null,null,null,null,null,null,null,null,null,null,null,null,null,null,null,null,null,null,null,null,null,"100",3111,"Metropolitan","Yes","Metropolitan"]
[null,null,null,null,null,null,null,null,null,null,null,null,null,null,null,null,null,null,null,null,null,null,null,null,null,null,null,null,null,null,null,null,null,null,null,null,null,null,null,"101",3113,"Metropolitan","Yes","Metropolitan"]
[null,null,null,null,null,null,null,null,null,null,null,null,null,null,null,null,null,null,null,null,null,null,null,null,null,null,null,null,null,null,null,null,null,null,null,null,null,null,null,"102",3114,"Metropolitan","Yes","Metropolitan"]
[null,null,null,null,null,null,null,null,null,null,null,null,null,null,null,null,null,null,null,null,null,null,null,null,null,null,null,null,null,null,null,null,null,null,null,null,null,null,null,"103",3115,"Metropolitan","Yes","Metropolitan"]
[null,null,null,null,null,null,null,null,null,null,null,null,null,null,null,null,null,null,null,null,null,null,null,null,null,null,null,null,null,null,null,null,null,null,null,null,null,null,null,"104",3116,"Metropolitan","Yes","Metropolitan"]
[null,null,null,null,null,null,null,null,null,null,null,null,null,null,null,null,null,null,null,null,null,null,null,null,null,null,null,null,null,null,null,null,null,null,null,null,null,null,null,"105",3121,"Metropolitan","Yes","Metropolitan"]
[null,null,null,null,null,null,null,null,null,null,null,null,null,null,null,null,null,null,null,null,null,null,null,null,null,null,null,null,null,null,null,null,null,null,null,null,null,null,null,"106",3122,"Metropolitan","Yes","Metropolitan"]
[null,null,null,null,null,null,null,null,null,null,null,null,null,null,null,null,null,null,null,null,null,null,null,null,null,null,null,null,null,null,null,null,null,null,null,null,null,null,null,"107",3123,"Metropolitan","Yes","Metropolitan"]
[null,null,null,null,null,null,null,null,null,null,null,null,null,null,null,null,null,null,null,null,null,null,null,null,null,null,null,null,null,null,null,null,null,null,null,null,null,null,null,"108",3124,"Metropolitan","Yes","Metropolitan"]
[null,null,null,null,null,null,null,null,null,null,null,null,null,null,null,null,null,null,null,null,null,null,null,null,null,null,null,null,null,null,null,null,null,null,null,null,null,null,null,"109",3125,"Metropolitan","Yes","Metropolitan"]
[null,null,null,null,null,null,null,null,null,null,null,null,null,null,null,null,null,null,null,null,null,null,null,null,null,null,null,null,null,null,null,null,null,null,null,null,null,null,null,"110",3126,"Metropolitan","Yes","Metropolitan"]
[null,null,null,null,null,null,null,null,null,null,null,null,null,null,null,null,null,null,null,null,null,null,null,null,null,null,null,null,null,null,null,null,null,null,null,null,null,null,null,"111",3127,"Metropolitan","Yes","Metropolitan"]
[null,null,null,null,null,null,null,null,null,null,null,null,null,null,null,null,null,null,null,null,null,null,null,null,null,null,null,null,null,null,null,null,null,null,null,null,null,null,null,"112",3128,"Metropolitan","Yes","Metropolitan"]
[null,null,null,null,null,null,null,null,null,null,null,null,null,null,null,null,null,null,null,null,null,null,null,null,null,null,null,null,null,null,null,null,null,null,null,null,null,null,null,"113",3129,"Metropolitan","Yes","Metropolitan"]
[null,null,null,null,null,null,null,null,null,null,null,null,null,null,null,null,null,null,null,null,null,null,null,null,null,null,null,null,null,null,null,null,null,null,null,null,null,null,null,"114",3130,"Metropolitan","Yes","Metropolitan"]
[null,null,null,null,null,null,null,null,null,null,null,null,null,null,null,null,null,null,null,null,null,null,null,null,null,null,null,null,null,null,null,null,null,null,null,null,null,null,null,"115",3131,"Metropolitan","Yes","Metropolitan"]
[null,null,null,null,null,null,null,null,null,null,null,null,null,null,null,null,null,null,null,null,null,null,null,null,null,null,null,null,null,null,null,null,null,null,null,null,null,null,null,"116",3132,"Metropolitan","Yes","Metropolitan"]
[null,null,null,null,null,null,null,null,null,null,null,null,null,null,null,null,null,null,null,null,null,null,null,null,null,null,null,null,null,null,null,null,null,null,null,null,null,null,null,"117",3133,"Metropolitan","Yes","Metropolitan"]
[null,null,null,null,null,null,null,null,null,null,null,null,null,null,null,null,null,null,null,null,null,null,null,null,null,null,null,null,null,null,null,null,null,null,null,null,null,null,null,"118",3134,"Metropolitan","Yes","Metropolitan"]
[null,null,null,null,null,null,null,null,null,null,null,null,null,null,null,null,null,null,null,null,null,null,null,null,null,null,null,null,null,null,null,null,null,null,null,null,null,null,null,"119",3135,"Metropolitan","Yes","Metropolitan"]
[null,null,null,null,null,null,null,null,null,null,null,null,null,null,null,null,null,null,null,null,null,null,null,null,null,null,null,null,null,null,null,null,null,null,null,null,null,null,null,"120",3136,"Metropolitan","Yes","Metropolitan"]
[null,null,null,null,null,null,null,null,null,null,null,null,null,null,null,null,null,null,null,null,null,null,null,null,null,null,null,null,null,null,null,null,null,null,null,null,null,null,null,"121",3137,"Metropolitan","Yes","Metropolitan"]
[null,null,null,null,null,null,null,null,null,null,null,null,null,null,null,null,null,null,null,null,null,null,null,null,null,null,null,null,null,null,null,null,null,null,null,null,null,null,null,"122",3138,"Metropolitan","Yes","Metropolitan"]
[null,null,null,null,null,null,null,null,null,null,null,null,null,null,null,null,null,null,null,null,null,null,null,null,null,null,null,null,null,null,null,null,null,null,null,null,null,null,null,"123",3139,"Metropolitan","Yes","Metropolitan"]
[null,null,null,null,null,null,null,null,null,null,null,null,null,null,null,null,null,null,null,null,null,null,null,null,null,null,null,null,null,null,null,null,null,null,null,null,null,null,null,"124",3140,"Metropolitan","Yes","Metropolitan"]
[null,null,null,null,null,null,null,null,null,null,null,null,null,null,null,null,null,null,null,null,null,null,null,null,null,null,null,null,null,null,null,null,null,null,null,null,null,null,null,"125",3141,"Metropolitan","Yes","Metropolitan"]
[null,null,null,null,null,null,null,null,null,null,null,null,null,null,null,null,null,null,null,null,null,null,null,null,null,null,null,null,null,null,null,null,null,null,null,null,null,null,null,"126",3142,"Metropolitan","Yes","Metropolitan"]
[null,null,null,null,null,null,null,null,null,null,null,null,null,null,null,null,null,null,null,null,null,null,null,null,null,null,null,null,null,null,null,null,null,null,null,null,null,null,null,"127",3143,"Metropolitan","Yes","Metropolitan"]
[null,null,null,null,null,null,null,null,null,null,null,null,null,null,null,null,null,null,null,null,null,null,null,null,null,null,null,null,null,null,null,null,null,null,null,null,null,null,null,"128",3144,"Metropolitan","Yes","Metropolitan"]
[null,null,null,null,null,null,null,null,null,null,null,null,null,null,null,null,null,null,null,null,null,null,null,null,null,null,null,null,null,null,null,null,null,null,null,null,null,null,null,"129",3145,"Metropolitan","Yes","Metropolitan"]
[null,null,null,null,null,null,null,null,null,null,null,null,null,null,null,null,null,null,null,null,null,null,null,null,null,null,null,null,null,null,null,null,null,null,null,null,null,null,null,"130",3146,"Metropolitan","Yes","Metropolitan"]
[null,null,null,null,null,null,null,null,null,null,null,null,null,null,null,null,null,null,null,null,null,null,null,null,null,null,null,null,null,null,null,null,null,null,null,null,null,null,null,"131",3147,"Metropolitan","Yes","Metropolitan"]
[null,null,null,null,null,null,null,null,null,null,null,null,null,null,null,null,null,null,null,null,null,null,null,null,null,null,null,null,null,null,null,null,null,null,null,null,null,null,null,"132",3148,"Metropolitan","Yes","Metropolitan"]
[null,null,null,null,null,null,null,null,null,null,null,null,null,null,null,null,null,null,null,null,null,null,null,null,null,null,null,null,null,null,null,null,null,null,null,null,null,null,null,"133",3149,"Metropolitan","Yes","Metropolitan"]
[null,null,null,null,null,null,null,null,null,null,null,null,null,null,null,null,null,null,null,null,null,null,null,null,null,null,null,null,null,null,null,null,null,null,null,null,null,null,null,"134",3150,"Metropolitan","Yes","Metropolitan"]
[null,null,null,null,null,null,null,null,null,null,null,null,null,null,null,null,null,null,null,null,null,null,null,null,null,null,null,null,null,null,null,null,null,null,null,null,null,null,null,"135",3151,"Metropolitan","Yes","Metropolitan"]
[null,null,null,null,null,null,null,null,null,null,null,null,null,null,null,null,null,null,null,null,null,null,null,null,null,null,null,null,null,null,null,null,null,null,null,null,null,null,null,"136",3152,"Metropolitan","Yes","Metropolitan"]
[null,null,null,null,null,null,null,null,null,null,null,null,null,null,null,null,null,null,null,null,null,null,null,null,null,null,null,null,null,null,null,null,null,null,null,null,null,null,null,"137",3153,"Metropolitan","Yes","Metropolitan"]
[null,null,null,null,null,null,null,null,null,null,null,null,null,null,null,null,null,null,null,null,null,null,null,null,null,null,null,null,null,null,null,null,null,null,null,null,null,null,null,"138",3154,"Metropolitan","Yes","Metropolitan"]
[null,null,null,null,null,null,null,null,null,null,null,null,null,null,null,null,null,null,null,null,null,null,null,null,null,null,null,null,null,null,null,null,null,null,null,null,null,null,null,"139",3155,"Metropolitan","Yes","Metropolitan"]
[null,null,null,null,null,null,null,null,null,null,null,null,null,null,null,null,null,null,null,null,null,null,null,null,null,null,null,null,null,null,null,null,null,null,null,null,null,null,null,"140",3156,"Metropolitan","Yes","Metropolitan"]
[null,null,null,null,null,null,null,null,null,null,null,null,null,null,null,null,null,null,null,null,null,null,null,null,null,null,null,null,null,null,null,null,null,null,null,null,null,null,null,"141",3158,"Metropolitan","Yes","Metropolitan"]
[null,null,null,null,null,null,null,null,null,null,null,null,null,null,null,null,null,null,null,null,null,null,null,null,null,null,null,null,null,null,null,null,null,null,null,null,null,null,null,"142",3159,"Metropolitan","Yes","Metropolitan"]
[null,null,null,null,null,null,null,null,null,null,null,null,null,null,null,null,null,null,null,null,null,null,null,null,null,null,null,null,null,null,null,null,null,null,null,null,null,null,null,"143",3160,"Metropolitan","Yes","Metropolitan"]
[null,null,null,null,null,null,null,null,null,null,null,null,null,null,null,null,null,null,null,null,null,null,null,null,null,null,null,null,null,null,null,null,null,null,null,null,null,null,null,"144",3161,"Metropolitan","Yes","Metropolitan"]
[null,null,null,null,null,null,null,null,null,null,null,null,null,null,null,null,null,null,null,null,null,null,null,null,null,null,null,null,null,null,null,null,null,null,null,null,null,null,null,"145",3162,"Metropolitan","Yes","Metropolitan"]
[null,null,null,null,null,null,null,null,null,null,null,null,null,null,null,null,null,null,null,null,null,null,null,null,null,null,null,null,null,null,null,null,null,null,null,null,null,null,null,"146",3163,"Metropolitan","Yes","Metropolitan"]
[null,null,null,null,null,null,null,null,null,null,null,null,null,null,null,null,null,null,null,null,null,null,null,null,null,null,null,null,null,null,null,null,null,null,null,null,null,null,null,"147",3164,"Metropolitan","Yes","Metropolitan"]
[null,null,null,null,null,null,null,null,null,null,null,null,null,null,null,null,null,null,null,null,null,null,null,null,null,null,null,null,null,null,null,null,null,null,null,null,null,null,null,"148",3165,"Metropolitan","Yes","Metropolitan"]
[null,null,null,null,null,null,null,null,null,null,null,null,null,null,null,null,null,null,null,null,null,null,null,null,null,null,null,null,null,null,null,null,null,null,null,null,null,null,null,"149",3166,"Metropolitan","Yes","Metropolitan"]
[null,null,null,null,null,null,null,null,null,null,null,null,null,null,null,null,null,null,null,null,null,null,null,null,null,null,null,null,null,null,null,null,null,null,null,null,null,null,null,"150",3167,"Metropolitan","Yes","Metropolitan"]
[null,null,null,null,null,null,null,null,null,null,null,null,null,null,null,null,null,null,null,null,null,null,null,null,null,null,null,null,null,null,null,null,null,null,null,null,null,null,null,"151",3168,"Metropolitan","Yes","Metropolitan"]
[null,null,null,null,null,null,null,null,null,null,null,null,null,null,null,null,null,null,null,null,null,null,null,null,null,null,null,null,null,null,null,null,null,null,null,null,null,null,null,"152",3169,"Metropolitan","Yes","Metropolitan"]
[null,null,null,null,null,null,null,null,null,null,null,null,null,null,null,null,null,null,null,null,null,null,null,null,null,null,null,null,null,null,null,null,null,null,null,null,null,null,null,"153",3170,"Metropolitan","Yes","Metropolitan"]
[null,null,null,null,null,null,null,null,null,null,null,null,null,null,null,null,null,null,null,null,null,null,null,null,null,null,null,null,null,null,null,null,null,null,null,null,null,null,null,"154",3171,"Metropolitan","Yes","Metropolitan"]
[null,null,null,null,null,null,null,null,null,null,null,null,null,null,null,null,null,null,null,null,null,null,null,null,null,null,null,null,null,null,null,null,null,null,null,null,null,null,null,"155",3172,"Metropolitan","Yes","Metropolitan"]
[null,null,null,null,null,null,null,null,null,null,null,null,null,null,null,null,null,null,null,null,null,null,null,null,null,null,null,null,null,null,null,null,null,null,null,null,null,null,null,"156",3173,"Metropolitan","Yes","Metropolitan"]
[null,null,null,null,null,null,null,null,null,null,null,null,null,null,null,null,null,null,null,null,null,null,null,null,null,null,null,null,null,null,null,null,null,null,null,null,null,null,null,"157",3174,"Metropolitan","Yes","Metropolitan"]
[null,null,null,null,null,null,null,null,null,null,null,null,null,null,null,null,null,null,null,null,null,null,null,null,null,null,null,null,null,null,null,null,null,null,null,null,null,null,null,"158",3175,"Metropolitan","Yes","Metropolitan"]
[null,null,null,null,null,null,null,null,null,null,null,null,null,null,null,null,null,null,null,null,null,null,null,null,null,null,null,null,null,null,null,null,null,null,null,null,null,null,null,"159",3176,"Metropolitan","Yes","Metropolitan"]
[null,null,null,null,null,null,null,null,null,null,null,null,null,null,null,null,null,null,null,null,null,null,null,null,null,null,null,null,null,null,null,null,null,null,null,null,null,null,null,"160",3177,"Metropolitan","Yes","Metropolitan"]
[null,null,null,null,null,null,null,null,null,null,null,null,null,null,null,null,null,null,null,null,null,null,null,null,null,null,null,null,null,null,null,null,null,null,null,null,null,null,null,"161",3178,"Metropolitan","Yes","Metropolitan"]
[null,null,null,null,null,null,null,null,null,null,null,null,null,null,null,null,null,null,null,null,null,null,null,null,null,null,null,null,null,null,null,null,null,null,null,null,null,null,null,"162",3179,"Metropolitan","Yes","Metropolitan"]
[null,null,null,null,null,null,null,null,null,null,null,null,null,null,null,null,null,null,null,null,null,null,null,null,null,null,null,null,null,null,null,null,null,null,null,null,null,null,null,"163",3180,"Metropolitan","Yes","Metropolitan"]
[null,null,null,null,null,null,null,null,null,null,null,null,null,null,null,null,null,null,null,null,null,null,null,null,null,null,null,null,null,null,null,null,null,null,null,null,null,null,null,"164",3181,"Metropolitan","Yes","Metropolitan"]
[null,null,null,null,null,null,null,null,null,null,null,null,null,null,null,null,null,null,null,null,null,null,null,null,null,null,null,null,null,null,null,null,null,null,null,null,null,null,null,"165",3182,"Metropolitan","Yes","Metropolitan"]
[null,null,null,null,null,null,null,null,null,null,null,null,null,null,null,null,null,null,null,null,null,null,null,null,null,null,null,null,null,null,null,null,null,null,null,null,null,null,null,"166",3183,"Metropolitan","Yes","Metropolitan"]
[null,null,null,null,null,null,null,null,null,null,null,null,null,null,null,null,null,null,null,null,null,null,null,null,null,null,null,null,null,null,null,null,null,null,null,null,null,null,null,"167",3184,"Metropolitan","Yes","Metropolitan"]
[null,null,null,null,null,null,null,null,null,null,null,null,null,null,null,null,null,null,null,null,null,null,null,null,null,null,null,null,null,null,null,null,null,null,null,null,null,null,null,"168",3185,"Metropolitan","Yes","Metropolitan"]
[null,null,null,null,null,null,null,null,null,null,null,null,null,null,null,null,null,null,null,null,null,null,null,null,null,null,null,null,null,null,null,null,null,null,null,null,null,null,null,"169",3186,"Metropolitan","Yes","Metropolitan"]
[null,null,null,null,null,null,null,null,null,null,null,null,null,null,null,null,null,null,null,null,null,null,null,null,null,null,null,null,null,null,null,null,null,null,null,null,null,null,null,"170",3187,"Metropolitan","Yes","Metropolitan"]
[null,null,null,null,null,null,null,null,null,null,null,null,null,null,null,null,null,null,null,null,null,null,null,null,null,null,null,null,null,null,null,null,null,null,null,null,null,null,null,"171",3188,"Metropolitan","Yes","Metropolitan"]
[null,null,null,null,null,null,null,null,null,null,null,null,null,null,null,null,null,null,null,null,null,null,null,null,null,null,null,null,null,null,null,null,null,null,null,null,null,null,null,"172",3189,"Metropolitan","Yes","Metropolitan"]
[null,null,null,null,null,null,null,null,null,null,null,null,null,null,null,null,null,null,null,null,null,null,null,null,null,null,null,null,null,null,null,null,null,null,null,null,null,null,null,"173",3190,"Metropolitan","Yes","Metropolitan"]
[null,null,null,null,null,null,null,null,null,null,null,null,null,null,null,null,null,null,null,null,null,null,null,null,null,null,null,null,null,null,null,null,null,null,null,null,null,null,null,"174",3191,"Metropolitan","Yes","Metropolitan"]
[null,null,null,null,null,null,null,null,null,null,null,null,null,null,null,null,null,null,null,null,null,null,null,null,null,null,null,null,null,null,null,null,null,null,null,null,null,null,null,"175",3192,"Metropolitan","Yes","Metropolitan"]
[null,null,null,null,null,null,null,null,null,null,null,null,null,null,null,null,null,null,null,null,null,null,null,null,null,null,null,null,null,null,null,null,null,null,null,null,null,null,null,"176",3193,"Metropolitan","Yes","Metropolitan"]
[null,null,null,null,null,null,null,null,null,null,null,null,null,null,null,null,null,null,null,null,null,null,null,null,null,null,null,null,null,null,null,null,null,null,null,null,null,null,null,"177",3194,"Metropolitan","Yes","Metropolitan"]
[null,null,null,null,null,null,null,null,null,null,null,null,null,null,null,null,null,null,null,null,null,null,null,null,null,null,null,null,null,null,null,null,null,null,null,null,null,null,null,"178",3195,"Metropolitan","Yes","Metropolitan"]
[null,null,null,null,null,null,null,null,null,null,null,null,null,null,null,null,null,null,null,null,null,null,null,null,null,null,null,null,null,null,null,null,null,null,null,null,null,null,null,"179",3196,"Metropolitan","Yes","Metropolitan"]
[null,null,null,null,null,null,null,null,null,null,null,null,null,null,null,null,null,null,null,null,null,null,null,null,null,null,null,null,null,null,null,null,null,null,null,null,null,null,null,"180",3197,"Metropolitan","Yes","Metropolitan"]
[null,null,null,null,null,null,null,null,null,null,null,null,null,null,null,null,null,null,null,null,null,null,null,null,null,null,null,null,null,null,null,null,null,null,null,null,null,null,null,"181",3198,"Metropolitan","Yes","Metropolitan"]
[null,null,null,null,null,null,null,null,null,null,null,null,null,null,null,null,null,null,null,null,null,null,null,null,null,null,null,null,null,null,null,null,null,null,null,null,null,null,null,"182",3199,"Metropolitan","Yes","Metropolitan"]
[null,null,null,null,null,null,null,null,null,null,null,null,null,null,null,null,null,null,null,null,null,null,null,null,null,null,null,null,null,null,null,null,null,null,null,null,null,null,null,"183",3200,"Metropolitan","Yes","Metropolitan"]
[null,null,null,null,null,null,null,null,null,null,null,null,null,null,null,null,null,null,null,null,null,null,null,null,null,null,null,null,null,null,null,null,null,null,null,null,null,null,null,"184",3201,"Metropolitan","Yes","Metropolitan"]
[null,null,null,null,null,null,null,null,null,null,null,null,null,null,null,null,null,null,null,null,null,null,null,null,null,null,null,null,null,null,null,null,null,null,null,null,null,null,null,"185",3202,"Metropolitan","Yes","Metropolitan"]
[null,null,null,null,null,null,null,null,null,null,null,null,null,null,null,null,null,null,null,null,null,null,null,null,null,null,null,null,null,null,null,null,null,null,null,null,null,null,null,"186",3204,"Metropolitan","Yes","Metropolitan"]
[null,null,null,null,null,null,null,null,null,null,null,null,null,null,null,null,null,null,null,null,null,null,null,null,null,null,null,null,null,null,null,null,null,null,null,null,null,null,null,"187",3205,"Metropolitan","Yes","Metropolitan"]
[null,null,null,null,null,null,null,null,null,null,null,null,null,null,null,null,null,null,null,null,null,null,null,null,null,null,null,null,null,null,null,null,null,null,null,null,null,null,null,"188",3206,"Metropolitan","Yes","Metropolitan"]
[null,null,null,null,null,null,null,null,null,null,null,null,null,null,null,null,null,null,null,null,null,null,null,null,null,null,null,null,null,null,null,null,null,null,null,null,null,null,null,"189",3207,"Metropolitan","Yes","Metropolitan"]
[null,null,null,null,null,null,null,null,null,null,null,null,null,null,null,null,null,null,null,null,null,null,null,null,null,null,null,null,null,null,null,null,null,null,null,null,null,null,null,"190",3211,"Regional","Yes","Mild"]
[null,null,null,null,null,null,null,null,null,null,null,null,null,null,null,null,null,null,null,null,null,null,null,null,null,null,null,null,null,null,null,null,null,null,null,null,null,null,null,"191",3212,"Regional","Yes","Mild"]
[null,null,null,null,null,null,null,null,null,null,null,null,null,null,null,null,null,null,null,null,null,null,null,null,null,null,null,null,null,null,null,null,null,null,null,null,null,null,null,"192",3214,"Regional","Yes","Mild"]
[null,null,null,null,null,null,null,null,null,null,null,null,null,null,null,null,null,null,null,null,null,null,null,null,null,null,null,null,null,null,null,null,null,null,null,null,null,null,null,"193",3215,"Regional","Yes","Mild"]
[null,null,null,null,null,null,null,null,null,null,null,null,null,null,null,null,null,null,null,null,null,null,null,null,null,null,null,null,null,null,null,null,null,null,null,null,null,null,null,"194",3216,"Regional","Yes","Mild"]
[null,null,null,null,null,null,null,null,null,null,null,null,null,null,null,null,null,null,null,null,null,null,null,null,null,null,null,null,null,null,null,null,null,null,null,null,null,null,null,"195",3217,"Regional","Yes","Mild"]
[null,null,null,null,null,null,null,null,null,null,null,null,null,null,null,null,null,null,null,null,null,null,null,null,null,null,null,null,null,null,null,null,null,null,null,null,null,null,null,"196",3218,"Regional","Yes","Mild"]
[null,null,null,null,null,null,null,null,null,null,null,null,null,null,null,null,null,null,null,null,null,null,null,null,null,null,null,null,null,null,null,null,null,null,null,null,null,null,null,"197",3219,"Regional","Yes","Mild"]
[null,null,null,null,null,null,null,null,null,null,null,null,null,null,null,null,null,null,null,null,null,null,null,null,null,null,null,null,null,null,null,null,null,null,null,null,null,null,null,"198",3220,"Regional","Yes","Mild"]
[null,null,null,null,null,null,null,null,null,null,null,null,null,null,null,null,null,null,null,null,null,null,null,null,null,null,null,null,null,null,null,null,null,null,null,null,null,null,null,"199",3221,"Regional","Yes","Mild"]
[null,null,null,null,null,null,null,null,null,null,null,null,null,null,null,null,null,null,null,null,null,null,null,null,null,null,null,null,null,null,null,null,null,null,null,null,null,null,null,"201",3222,"Regional","Yes","Mild"]
[null,null,null,null,null,null,null,null,null,null,null,null,null,null,null,null,null,null,null,null,null,null,null,null,null,null,null,null,null,null,null,null,null,null,null,null,null,null,null,"202",3223,"Regional","Yes","Mild"]
[null,null,null,null,null,null,null,null,null,null,null,null,null,null,null,null,null,null,null,null,null,null,null,null,null,null,null,null,null,null,null,null,null,null,null,null,null,null,null,"203",3224,"Regional","Yes","Mild"]
[null,null,null,null,null,null,null,null,null,null,null,null,null,null,null,null,null,null,null,null,null,null,null,null,null,null,null,null,null,null,null,null,null,null,null,null,null,null,null,"204",3225,"Regional","Yes","Mild"]
[null,null,null,null,null,null,null,null,null,null,null,null,null,null,null,null,null,null,null,null,null,null,null,null,null,null,null,null,null,null,null,null,null,null,null,null,null,null,null,"205",3226,"Regional","Yes","Mild"]
[null,null,null,null,null,null,null,null,null,null,null,null,null,null,null,null,null,null,null,null,null,null,null,null,null,null,null,null,null,null,null,null,null,null,null,null,null,null,null,"206",3227,"Regional","Yes","Mild"]
[null,null,null,null,null,null,null,null,null,null,null,null,null,null,null,null,null,null,null,null,null,null,null,null,null,null,null,null,null,null,null,null,null,null,null,null,null,null,null,"207",3228,"Regional","Yes","Mild"]
[null,null,null,null,null,null,null,null,null,null,null,null,null,null,null,null,null,null,null,null,null,null,null,null,null,null,null,null,null,null,null,null,null,null,null,null,null,null,null,"208",3230,"Regional","Yes","Mild"]
[null,null,null,null,null,null,null,null,null,null,null,null,null,null,null,null,null,null,null,null,null,null,null,null,null,null,null,null,null,null,null,null,null,null,null,null,null,null,null,"209",3231,"Regional","Yes","Mild"]
[null,null,null,null,null,null,null,null,null,null,null,null,null,null,null,null,null,null,null,null,null,null,null,null,null,null,null,null,null,null,null,null,null,null,null,null,null,null,null,"210",3232,"Regional","No","Mild"]
[null,null,null,null,null,null,null,null,null,null,null,null,null,null,null,null,null,null,null,null,null,null,null,null,null,null,null,null,null,null,null,null,null,null,null,null,null,null,null,"211",3233,"Regional","No","Mild"]
[null,null,null,null,null,null,null,null,null,null,null,null,null,null,null,null,null,null,null,null,null,null,null,null,null,null,null,null,null,null,null,null,null,null,null,null,null,null,null,"212",3235,"Regional","No","Mild"]
[null,null,null,null,null,null,null,null,null,null,null,null,null,null,null,null,null,null,null,null,null,null,null,null,null,null,null,null,null,null,null,null,null,null,null,null,null,null,null,"213",3236,"Regional","No","Mild"]
[null,null,null,null,null,null,null,null,null,null,null,null,null,null,null,null,null,null,null,null,null,null,null,null,null,null,null,null,null,null,null,null,null,null,null,null,null,null,null,"214",3237,"Regional","No","Mild"]
[null,null,null,null,null,null,null,null,null,null,null,null,null,null,null,null,null,null,null,null,null,null,null,null,null,null,null,null,null,null,null,null,null,null,null,null,null,null,null,"215",3238,"Regional","No","Mild"]
[null,null,null,null,null,null,null,null,null,null,null,null,null,null,null,null,null,null,null,null,null,null,null,null,null,null,null,null,null,null,null,null,null,null,null,null,null,null,null,"216",3239,"Regional","No","Mild"]
[null,null,null,null,null,null,null,null,null,null,null,null,null,null,null,null,null,null,null,null,null,null,null,null,null,null,null,null,null,null,null,null,null,null,null,null,null,null,null,"217",3240,"Regional","No","Mild"]
[null,null,null,null,null,null,null,null,null,null,null,null,null,null,null,null,null,null,null,null,null,null,null,null,null,null,null,null,null,null,null,null,null,null,null,null,null,null,null,"218",3241,"Regional","No","Mild"]
[null,null,null,null,null,null,null,null,null,null,null,null,null,null,null,null,null,null,null,null,null,null,null,null,null,null,null,null,null,null,null,null,null,null,null,null,null,null,null,"219",3242,"Regional","No","Mild"]
[null,null,null,null,null,null,null,null,null,null,null,null,null,null,null,null,null,null,null,null,null,null,null,null,null,null,null,null,null,null,null,null,null,null,null,null,null,null,null,"220",3243,"Regional","No","Mild"]
[null,null,null,null,null,null,null,null,null,null,null,null,null,null,null,null,null,null,null,null,null,null,null,null,null,null,null,null,null,null,null,null,null,null,null,null,null,null,null,"221",3249,"Regional","Yes","Mild"]
[null,null,null,null,null,null,null,null,null,null,null,null,null,null,null,null,null,null,null,null,null,null,null,null,null,null,null,null,null,null,null,null,null,null,null,null,null,null,null,"222",3250,"Regional","Yes","Mild"]
[null,null,null,null,null,null,null,null,null,null,null,null,null,null,null,null,null,null,null,null,null,null,null,null,null,null,null,null,null,null,null,null,null,null,null,null,null,null,null,"223",3251,"Regional","Yes","Mild"]
[null,null,null,null,null,null,null,null,null,null,null,null,null,null,null,null,null,null,null,null,null,null,null,null,null,null,null,null,null,null,null,null,null,null,null,null,null,null,null,"224",3254,"Regional","No","Mild"]
[null,null,null,null,null,null,null,null,null,null,null,null,null,null,null,null,null,null,null,null,null,null,null,null,null,null,null,null,null,null,null,null,null,null,null,null,null,null,null,"225",3260,"Regional","Yes","Mild"]
[null,null,null,null,null,null,null,null,null,null,null,null,null,null,null,null,null,null,null,null,null,null,null,null,null,null,null,null,null,null,null,null,null,null,null,null,null,null,null,"226",3264,"Regional","No","Mild"]
[null,null,null,null,null,null,null,null,null,null,null,null,null,null,null,null,null,null,null,null,null,null,null,null,null,null,null,null,null,null,null,null,null,null,null,null,null,null,null,"227",3265,"Regional","Yes","Mild"]
[null,null,null,null,null,null,null,null,null,null,null,null,null,null,null,null,null,null,null,null,null,null,null,null,null,null,null,null,null,null,null,null,null,null,null,null,null,null,null,"228",3266,"Regional","Yes","Mild"]
[null,null,null,null,null,null,null,null,null,null,null,null,null,null,null,null,null,null,null,null,null,null,null,null,null,null,null,null,null,null,null,null,null,null,null,null,null,null,null,"229",3267,"Regional","No","Mild"]
[null,null,null,null,null,null,null,null,null,null,null,null,null,null,null,null,null,null,null,null,null,null,null,null,null,null,null,null,null,null,null,null,null,null,null,null,null,null,null,"230",3268,"Regional","No","Mild"]
[null,null,null,null,null,null,null,null,null,null,null,null,null,null,null,null,null,null,null,null,null,null,null,null,null,null,null,null,null,null,null,null,null,null,null,null,null,null,null,"231",3269,"Regional","No","Mild"]
[null,null,null,null,null,null,null,null,null,null,null,null,null,null,null,null,null,null,null,null,null,null,null,null,null,null,null,null,null,null,null,null,null,null,null,null,null,null,null,"232",3270,"Regional","No","Mild"]
[null,null,null,null,null,null,null,null,null,null,null,null,null,null,null,null,null,null,null,null,null,null,null,null,null,null,null,null,null,null,null,null,null,null,null,null,null,null,null,"233",3271,"Regional","No","Mild"]
[null,null,null,null,null,null,null,null,null,null,null,null,null,null,null,null,null,null,null,null,null,null,null,null,null,null,null,null,null,null,null,null,null,null,null,null,null,null,null,"234",3272,"Regional","No","Mild"]
[null,null,null,null,null,null,null,null,null,null,null,null,null,null,null,null,null,null,null,null,null,null,null,null,null,null,null,null,null,null,null,null,null,null,null,null,null,null,null,"235",3273,"Regional","No","Mild"]
[null,null,null,null,null,null,null,null,null,null,null,null,null,null,null,null,null,null,null,null,null,null,null,null,null,null,null,null,null,null,null,null,null,null,null,null,null,null,null,"236",3274,"Regional","No","Mild"]
[null,null,null,null,null,null,null,null,null,null,null,null,null,null,null,null,null,null,null,null,null,null,null,null,null,null,null,null,null,null,null,null,null,null,null,null,null,null,null,"237",3275,"Regional","No","Mild"]
[null,null,null,null,null,null,null,null,null,null,null,null,null,null,null,null,null,null,null,null,null,null,null,null,null,null,null,null,null,null,null,null,null,null,null,null,null,null,null,"238",3276,"Regional","No","Mild"]
[null,null,null,null,null,null,null,null,null,null,null,null,null,null,null,null,null,null,null,null,null,null,null,null,null,null,null,null,null,null,null,null,null,null,null,null,null,null,null,"239",3277,"Regional","Yes","Mild"]
[null,null,null,null,null,null,null,null,null,null,null,null,null,null,null,null,null,null,null,null,null,null,null,null,null,null,null,null,null,null,null,null,null,null,null,null,null,null,null,"240",3278,"Regional","No","Mild"]
[null,null,null,null,null,null,null,null,null,null,null,null,null,null,null,null,null,null,null,null,null,null,null,null,null,null,null,null,null,null,null,null,null,null,null,null,null,null,null,"241",3279,"Regional","No","Mild"]
[null,null,null,null,null,null,null,null,null,null,null,null,null,null,null,null,null,null,null,null,null,null,null,null,null,null,null,null,null,null,null,null,null,null,null,null,null,null,null,"242",3280,"Regional","Yes","Mild"]
[null,null,null,null,null,null,null,null,null,null,null,null,null,null,null,null,null,null,null,null,null,null,null,null,null,null,null,null,null,null,null,null,null,null,null,null,null,null,null,"243",3281,"Regional","No","Mild"]
[null,null,null,null,null,null,null,null,null,null,null,null,null,null,null,null,null,null,null,null,null,null,null,null,null,null,null,null,null,null,null,null,null,null,null,null,null,null,null,"244",3282,"Regional","Yes","Mild"]
[null,null,null,null,null,null,null,null,null,null,null,null,null,null,null,null,null,null,null,null,null,null,null,null,null,null,null,null,null,null,null,null,null,null,null,null,null,null,null,"245",3283,"Regional","No","Mild"]
[null,null,null,null,null,null,null,null,null,null,null,null,null,null,null,null,null,null,null,null,null,null,null,null,null,null,null,null,null,null,null,null,null,null,null,null,null,null,null,"246",3284,"Regional","Yes","Mild"]
[null,null,null,null,null,null,null,null,null,null,null,null,null,null,null,null,null,null,null,null,null,null,null,null,null,null,null,null,null,null,null,null,null,null,null,null,null,null,null,"247",3285,"Regional","No","Mild"]
[null,null,null,null,null,null,null,null,null,null,null,null,null,null,null,null,null,null,null,null,null,null,null,null,null,null,null,null,null,null,null,null,null,null,null,null,null,null,null,"248",3286,"Regional","No","Mild"]
[null,null,null,null,null,null,null,null,null,null,null,null,null,null,null,null,null,null,null,null,null,null,null,null,null,null,null,null,null,null,null,null,null,null,null,null,null,null,null,"249",3287,"Regional","No","Mild"]
[null,null,null,null,null,null,null,null,null,null,null,null,null,null,null,null,null,null,null,null,null,null,null,null,null,null,null,null,null,null,null,null,null,null,null,null,null,null,null,"250",3289,"Regional","No","Cold"]
[null,null,null,null,null,null,null,null,null,null,null,null,null,null,null,null,null,null,null,null,null,null,null,null,null,null,null,null,null,null,null,null,null,null,null,null,null,null,null,"251",3292,"Regional","No","Mild"]
[null,null,null,null,null,null,null,null,null,null,null,null,null,null,null,null,null,null,null,null,null,null,null,null,null,null,null,null,null,null,null,null,null,null,null,null,null,null,null,"252",3293,"Regional","No","Cold"]
[null,null,null,null,null,null,null,null,null,null,null,null,null,null,null,null,null,null,null,null,null,null,null,null,null,null,null,null,null,null,null,null,null,null,null,null,null,null,null,"253",3294,"Regional","No","Cold"]
[null,null,null,null,null,null,null,null,null,null,null,null,null,null,null,null,null,null,null,null,null,null,null,null,null,null,null,null,null,null,null,null,null,null,null,null,null,null,null,"254",3300,"Regional","Yes","Cold"]
[null,null,null,null,null,null,null,null,null,null,null,null,null,null,null,null,null,null,null,null,null,null,null,null,null,null,null,null,null,null,null,null,null,null,null,null,null,null,null,"255",3301,"Regional","No","Mild"]
[null,null,null,null,null,null,null,null,null,null,null,null,null,null,null,null,null,null,null,null,null,null,null,null,null,null,null,null,null,null,null,null,null,null,null,null,null,null,null,"256",3302,"Regional","No","Mild"]
[null,null,null,null,null,null,null,null,null,null,null,null,null,null,null,null,null,null,null,null,null,null,null,null,null,null,null,null,null,null,null,null,null,null,null,null,null,null,null,"257",3303,"Regional","No","Mild"]
[null,null,null,null,null,null,null,null,null,null,null,null,null,null,null,null,null,null,null,null,null,null,null,null,null,null,null,null,null,null,null,null,null,null,null,null,null,null,null,"258",3304,"Regional","No","Mild"]
[null,null,null,null,null,null,null,null,null,null,null,null,null,null,null,null,null,null,null,null,null,null,null,null,null,null,null,null,null,null,null,null,null,null,null,null,null,null,null,"259",3305,"Regional","Yes","Mild"]
[null,null,null,null,null,null,null,null,null,null,null,null,null,null,null,null,null,null,null,null,null,null,null,null,null,null,null,null,null,null,null,null,null,null,null,null,null,null,null,"260",3309,"Regional","No","Mild"]
[null,null,null,null,null,null,null,null,null,null,null,null,null,null,null,null,null,null,null,null,null,null,null,null,null,null,null,null,null,null,null,null,null,null,null,null,null,null,null,"261",3310,"Regional","No","Cold"]
[null,null,null,null,null,null,null,null,null,null,null,null,null,null,null,null,null,null,null,null,null,null,null,null,null,null,null,null,null,null,null,null,null,null,null,null,null,null,null,"262",3311,"Regional","No","Cold"]
[null,null,null,null,null,null,null,null,null,null,null,null,null,null,null,null,null,null,null,null,null,null,null,null,null,null,null,null,null,null,null,null,null,null,null,null,null,null,null,"263",3312,"Regional","No","Cold"]
[null,null,null,null,null,null,null,null,null,null,null,null,null,null,null,null,null,null,null,null,null,null,null,null,null,null,null,null,null,null,null,null,null,null,null,null,null,null,null,"264",3314,"Regional","No","Cold"]
[null,null,null,null,null,null,null,null,null,null,null,null,null,null,null,null,null,null,null,null,null,null,null,null,null,null,null,null,null,null,null,null,null,null,null,null,null,null,null,"265",3315,"Regional","No","Cold"]
[null,null,null,null,null,null,null,null,null,null,null,null,null,null,null,null,null,null,null,null,null,null,null,null,null,null,null,null,null,null,null,null,null,null,null,null,null,null,null,"266",3317,"Regional","No","Cold"]
[null,null,null,null,null,null,null,null,null,null,null,null,null,null,null,null,null,null,null,null,null,null,null,null,null,null,null,null,null,null,null,null,null,null,null,null,null,null,null,"267",3318,"Regional","No","Cold"]
[null,null,null,null,null,null,null,null,null,null,null,null,null,null,null,null,null,null,null,null,null,null,null,null,null,null,null,null,null,null,null,null,null,null,null,null,null,null,null,"268",3319,"Regional","No","Cold"]
[null,null,null,null,null,null,null,null,null,null,null,null,null,null,null,null,null,null,null,null,null,null,null,null,null,null,null,null,null,null,null,null,null,null,null,null,null,null,null,"269",3321,"Regional","No","Mild"]
[null,null,null,null,null,null,null,null,null,null,null,null,null,null,null,null,null,null,null,null,null,null,null,null,null,null,null,null,null,null,null,null,null,null,null,null,null,null,null,"270",3322,"Regional","No","Mild"]
[null,null,null,null,null,null,null,null,null,null,null,null,null,null,null,null,null,null,null,null,null,null,null,null,null,null,null,null,null,null,null,null,null,null,null,null,null,null,null,"271",3323,"Regional","No","Cold"]
[null,null,null,null,null,null,null,null,null,null,null,null,null,null,null,null,null,null,null,null,null,null,null,null,null,null,null,null,null,null,null,null,null,null,null,null,null,null,null,"272",3324,"Regional","No","Cold"]
[null,null,null,null,null,null,null,null,null,null,null,null,null,null,null,null,null,null,null,null,null,null,null,null,null,null,null,null,null,null,null,null,null,null,null,null,null,null,null,"273",3325,"Regional","No","Mild"]
[null,null,null,null,null,null,null,null,null,null,null,null,null,null,null,null,null,null,null,null,null,null,null,null,null,null,null,null,null,null,null,null,null,null,null,null,null,null,null,"274",3328,"Regional","No","Mild"]
[null,null,null,null,null,null,null,null,null,null,null,null,null,null,null,null,null,null,null,null,null,null,null,null,null,null,null,null,null,null,null,null,null,null,null,null,null,null,null,"275",3329,"Regional","No","Mild"]
[null,null,null,null,null,null,null,null,null,null,null,null,null,null,null,null,null,null,null,null,null,null,null,null,null,null,null,null,null,null,null,null,null,null,null,null,null,null,null,"276",3330,"Regional","No","Cold"]
[null,null,null,null,null,null,null,null,null,null,null,null,null,null,null,null,null,null,null,null,null,null,null,null,null,null,null,null,null,null,null,null,null,null,null,null,null,null,null,"277",3331,"Regional","No","Mild"]
[null,null,null,null,null,null,null,null,null,null,null,null,null,null,null,null,null,null,null,null,null,null,null,null,null,null,null,null,null,null,null,null,null,null,null,null,null,null,null,"278",3332,"Regional","No","Mild"]
[null,null,null,null,null,null,null,null,null,null,null,null,null,null,null,null,null,null,null,null,null,null,null,null,null,null,null,null,null,null,null,null,null,null,null,null,null,null,null,"279",3333,"Regional","No","Mild"]
[null,null,null,null,null,null,null,null,null,null,null,null,null,null,null,null,null,null,null,null,null,null,null,null,null,null,null,null,null,null,null,null,null,null,null,null,null,null,null,"280",3334,"Regional","No","Cold"]
[null,null,null,null,null,null,null,null,null,null,null,null,null,null,null,null,null,null,null,null,null,null,null,null,null,null,null,null,null,null,null,null,null,null,null,null,null,null,null,"281",3335,"Metropolitan","Yes","Metropolitan"]
[null,null,null,null,null,null,null,null,null,null,null,null,null,null,null,null,null,null,null,null,null,null,null,null,null,null,null,null,null,null,null,null,null,null,null,null,null,null,null,"282",3337,"Metropolitan","Yes","Metropolitan"]
[null,null,null,null,null,null,null,null,null,null,null,null,null,null,null,null,null,null,null,null,null,null,null,null,null,null,null,null,null,null,null,null,null,null,null,null,null,null,null,"283",3338,"Metropolitan","Yes","Metropolitan"]
[null,null,null,null,null,null,null,null,null,null,null,null,null,null,null,null,null,null,null,null,null,null,null,null,null,null,null,null,null,null,null,null,null,null,null,null,null,null,null,"284",3340,"Regional","Yes","Mild"]
[null,null,null,null,null,null,null,null,null,null,null,null,null,null,null,null,null,null,null,null,null,null,null,null,null,null,null,null,null,null,null,null,null,null,null,null,null,null,null,"285",3341,"Regional","No","Cold"]
[null,null,null,null,null,null,null,null,null,null,null,null,null,null,null,null,null,null,null,null,null,null,null,null,null,null,null,null,null,null,null,null,null,null,null,null,null,null,null,"286",3342,"Regional","Yes","Cold"]
[null,null,null,null,null,null,null,null,null,null,null,null,null,null,null,null,null,null,null,null,null,null,null,null,null,null,null,null,null,null,null,null,null,null,null,null,null,null,null,"287",3345,"Regional","No","Cold"]
[null,null,null,null,null,null,null,null,null,null,null,null,null,null,null,null,null,null,null,null,null,null,null,null,null,null,null,null,null,null,null,null,null,null,null,null,null,null,null,"288",3350,"Regional","Yes","Cold"]
[null,null,null,null,null,null,null,null,null,null,null,null,null,null,null,null,null,null,null,null,null,null,null,null,null,null,null,null,null,null,null,null,null,null,null,null,null,null,null,"289",3351,"Regional","No","Cold"]
[null,null,null,null,null,null,null,null,null,null,null,null,null,null,null,null,null,null,null,null,null,null,null,null,null,null,null,null,null,null,null,null,null,null,null,null,null,null,null,"290",3352,"Regional","Yes","Cold"]
[null,null,null,null,null,null,null,null,null,null,null,null,null,null,null,null,null,null,null,null,null,null,null,null,null,null,null,null,null,null,null,null,null,null,null,null,null,null,null,"291",3353,"Regional","No","Cold"]
[null,null,null,null,null,null,null,null,null,null,null,null,null,null,null,null,null,null,null,null,null,null,null,null,null,null,null,null,null,null,null,null,null,null,null,null,null,null,null,"292",3354,"Regional","No","Cold"]
[null,null,null,null,null,null,null,null,null,null,null,null,null,null,null,null,null,null,null,null,null,null,null,null,null,null,null,null,null,null,null,null,null,null,null,null,null,null,null,"293",3355,"Regional","Yes","Cold"]
[null,null,null,null,null,null,null,null,null,null,null,null,null,null,null,null,null,null,null,null,null,null,null,null,null,null,null,null,null,null,null,null,null,null,null,null,null,null,null,"294",3356,"Regional","Yes","Cold"]
[null,null,null,null,null,null,null,null,null,null,null,null,null,null,null,null,null,null,null,null,null,null,null,null,null,null,null,null,null,null,null,null,null,null,null,null,null,null,null,"295",3357,"Regional","Yes","Cold"]
[null,null,null,null,null,null,null,null,null,null,null,null,null,null,null,null,null,null,null,null,null,null,null,null,null,null,null,null,null,null,null,null,null,null,null,null,null,null,null,"296",3360,"Regional","No","Cold"]
[null,null,null,null,null,null,null,null,null,null,null,null,null,null,null,null,null,null,null,null,null,null,null,null,null,null,null,null,null,null,null,null,null,null,null,null,null,null,null,"297",3361,"Regional","No","Cold"]
[null,null,null,null,null,null,null,null,null,null,null,null,null,null,null,null,null,null,null,null,null,null,null,null,null,null,null,null,null,null,null,null,null,null,null,null,null,null,null,"298",3363,"Regional","Yes","Cold"]
[null,null,null,null,null,null,null,null,null,null,null,null,null,null,null,null,null,null,null,null,null,null,null,null,null,null,null,null,null,null,null,null,null,null,null,null,null,null,null,"299",3364,"Regional","Yes","Cold"]
[null,null,null,null,null,null,null,null,null,null,null,null,null,null,null,null,null,null,null,null,null,null,null,null,null,null,null,null,null,null,null,null,null,null,null,null,null,null,null,"300",3370,"Regional","No","Cold"]
[null,null,null,null,null,null,null,null,null,null,null,null,null,null,null,null,null,null,null,null,null,null,null,null,null,null,null,null,null,null,null,null,null,null,null,null,null,null,null,"301",3371,"Regional","No","Cold"]
[null,null,null,null,null,null,null,null,null,null,null,null,null,null,null,null,null,null,null,null,null,null,null,null,null,null,null,null,null,null,null,null,null,null,null,null,null,null,null,"302",3373,"Regional","No","Cold"]
[null,null,null,null,null,null,null,null,null,null,null,null,null,null,null,null,null,null,null,null,null,null,null,null,null,null,null,null,null,null,null,null,null,null,null,null,null,null,null,"302A",3374,"Regional","No","Cold"]
[null,null,null,null,null,null,null,null,null,null,null,null,null,null,null,null,null,null,null,null,null,null,null,null,null,null,null,null,null,null,null,null,null,null,null,null,null,null,null,"303",3375,"Regional","No","Cold"]
[null,null,null,null,null,null,null,null,null,null,null,null,null,null,null,null,null,null,null,null,null,null,null,null,null,null,null,null,null,null,null,null,null,null,null,null,null,null,null,"304",3377,"Regional","Yes","Cold"]
[null,null,null,null,null,null,null,null,null,null,null,null,null,null,null,null,null,null,null,null,null,null,null,null,null,null,null,null,null,null,null,null,null,null,null,null,null,null,null,"305",3378,"Regional","No","Cold"]
[null,null,null,null,null,null,null,null,null,null,null,null,null,null,null,null,null,null,null,null,null,null,null,null,null,null,null,null,null,null,null,null,null,null,null,null,null,null,null,"306",3379,"Regional","No","Cold"]
[null,null,null,null,null,null,null,null,null,null,null,null,null,null,null,null,null,null,null,null,null,null,null,null,null,null,null,null,null,null,null,null,null,null,null,null,null,null,null,"307",3380,"Regional","Yes","Cold"]
[null,null,null,null,null,null,null,null,null,null,null,null,null,null,null,null,null,null,null,null,null,null,null,null,null,null,null,null,null,null,null,null,null,null,null,null,null,null,null,"308",3381,"Regional","No","Cold"]
[null,null,null,null,null,null,null,null,null,null,null,null,null,null,null,null,null,null,null,null,null,null,null,null,null,null,null,null,null,null,null,null,null,null,null,null,null,null,null,"309",3384,"Regional","No","Cold"]
[null,null,null,null,null,null,null,null,null,null,null,null,null,null,null,null,null,null,null,null,null,null,null,null,null,null,null,null,null,null,null,null,null,null,null,null,null,null,null,"310",3385,"Regional","No","Cold"]
[null,null,null,null,null,null,null,null,null,null,null,null,null,null,null,null,null,null,null,null,null,null,null,null,null,null,null,null,null,null,null,null,null,null,null,null,null,null,null,"311",3387,"Regional","No","Cold"]
[null,null,null,null,null,null,null,null,null,null,null,null,null,null,null,null,null,null,null,null,null,null,null,null,null,null,null,null,null,null,null,null,null,null,null,null,null,null,null,"312",3388,"Regional","No","Cold"]
[null,null,null,null,null,null,null,null,null,null,null,null,null,null,null,null,null,null,null,null,null,null,null,null,null,null,null,null,null,null,null,null,null,null,null,null,null,null,null,"313",3390,"Regional","No","Cold"]
[null,null,null,null,null,null,null,null,null,null,null,null,null,null,null,null,null,null,null,null,null,null,null,null,null,null,null,null,null,null,null,null,null,null,null,null,null,null,null,"314",3391,"Regional","No","Cold"]
[null,null,null,null,null,null,null,null,null,null,null,null,null,null,null,null,null,null,null,null,null,null,null,null,null,null,null,null,null,null,null,null,null,null,null,null,null,null,null,"315",3392,"Regional","No","Cold"]
[null,null,null,null,null,null,null,null,null,null,null,null,null,null,null,null,null,null,null,null,null,null,null,null,null,null,null,null,null,null,null,null,null,null,null,null,null,null,null,"316",3393,"Regional","No","Cold"]
[null,null,null,null,null,null,null,null,null,null,null,null,null,null,null,null,null,null,null,null,null,null,null,null,null,null,null,null,null,null,null,null,null,null,null,null,null,null,null,"317",3395,"Regional","No","Cold"]
[null,null,null,null,null,null,null,null,null,null,null,null,null,null,null,null,null,null,null,null,null,null,null,null,null,null,null,null,null,null,null,null,null,null,null,null,null,null,null,"318",3396,"Regional","No","Cold"]
[null,null,null,null,null,null,null,null,null,null,null,null,null,null,null,null,null,null,null,null,null,null,null,null,null,null,null,null,null,null,null,null,null,null,null,null,null,null,null,"319",3400,"Regional","Yes","Cold"]
[null,null,null,null,null,null,null,null,null,null,null,null,null,null,null,null,null,null,null,null,null,null,null,null,null,null,null,null,null,null,null,null,null,null,null,null,null,null,null,"320",3401,"Regional","Yes","Cold"]
[null,null,null,null,null,null,null,null,null,null,null,null,null,null,null,null,null,null,null,null,null,null,null,null,null,null,null,null,null,null,null,null,null,null,null,null,null,null,null,"321",3402,"Regional","Yes","Cold"]
[null,null,null,null,null,null,null,null,null,null,null,null,null,null,null,null,null,null,null,null,null,null,null,null,null,null,null,null,null,null,null,null,null,null,null,null,null,null,null,"322",3407,"Regional","No","Cold"]
[null,null,null,null,null,null,null,null,null,null,null,null,null,null,null,null,null,null,null,null,null,null,null,null,null,null,null,null,null,null,null,null,null,null,null,null,null,null,null,"323",3409,"Regional","No","Cold"]
[null,null,null,null,null,null,null,null,null,null,null,null,null,null,null,null,null,null,null,null,null,null,null,null,null,null,null,null,null,null,null,null,null,null,null,null,null,null,null,"324",3412,"Regional","No","Cold"]
[null,null,null,null,null,null,null,null,null,null,null,null,null,null,null,null,null,null,null,null,null,null,null,null,null,null,null,null,null,null,null,null,null,null,null,null,null,null,null,"325",3413,"Regional","No","Cold"]
[null,null,null,null,null,null,null,null,null,null,null,null,null,null,null,null,null,null,null,null,null,null,null,null,null,null,null,null,null,null,null,null,null,null,null,null,null,null,null,"326",3414,"Regional","No","Cold"]
[null,null,null,null,null,null,null,null,null,null,null,null,null,null,null,null,null,null,null,null,null,null,null,null,null,null,null,null,null,null,null,null,null,null,null,null,null,null,null,"327",3415,"Regional","No","Cold"]
[null,null,null,null,null,null,null,null,null,null,null,null,null,null,null,null,null,null,null,null,null,null,null,null,null,null,null,null,null,null,null,null,null,null,null,null,null,null,null,"328",3418,"Regional","No","Cold"]
[null,null,null,null,null,null,null,null,null,null,null,null,null,null,null,null,null,null,null,null,null,null,null,null,null,null,null,null,null,null,null,null,null,null,null,null,null,null,null,"329",3419,"Regional","No","Cold"]
[null,null,null,null,null,null,null,null,null,null,null,null,null,null,null,null,null,null,null,null,null,null,null,null,null,null,null,null,null,null,null,null,null,null,null,null,null,null,null,"330",3420,"Regional","No","Cold"]
[null,null,null,null,null,null,null,null,null,null,null,null,null,null,null,null,null,null,null,null,null,null,null,null,null,null,null,null,null,null,null,null,null,null,null,null,null,null,null,"331",3423,"Regional","No","Cold"]
[null,null,null,null,null,null,null,null,null,null,null,null,null,null,null,null,null,null,null,null,null,null,null,null,null,null,null,null,null,null,null,null,null,null,null,null,null,null,null,"332",3424,"Regional","No","Cold"]
[null,null,null,null,null,null,null,null,null,null,null,null,null,null,null,null,null,null,null,null,null,null,null,null,null,null,null,null,null,null,null,null,null,null,null,null,null,null,null,"333",3427,"Metropolitan","Yes","Metropolitan"]
[null,null,null,null,null,null,null,null,null,null,null,null,null,null,null,null,null,null,null,null,null,null,null,null,null,null,null,null,null,null,null,null,null,null,null,null,null,null,null,"334",3428,"Metropolitan","Yes","Metropolitan"]
[null,null,null,null,null,null,null,null,null,null,null,null,null,null,null,null,null,null,null,null,null,null,null,null,null,null,null,null,null,null,null,null,null,null,null,null,null,null,null,"335",3429,"Metropolitan","Yes","Metropolitan"]
[null,null,null,null,null,null,null,null,null,null,null,null,null,null,null,null,null,null,null,null,null,null,null,null,null,null,null,null,null,null,null,null,null,null,null,null,null,null,null,"336",3430,"Regional","No","Mild"]
[null,null,null,null,null,null,null,null,null,null,null,null,null,null,null,null,null,null,null,null,null,null,null,null,null,null,null,null,null,null,null,null,null,null,null,null,null,null,null,"337",3431,"Regional","Yes","Cold"]
[null,null,null,null,null,null,null,null,null,null,null,null,null,null,null,null,null,null,null,null,null,null,null,null,null,null,null,null,null,null,null,null,null,null,null,null,null,null,null,"338",3432,"Regional","No","Cold"]
[null,null,null,null,null,null,null,null,null,null,null,null,null,null,null,null,null,null,null,null,null,null,null,null,null,null,null,null,null,null,null,null,null,null,null,null,null,null,null,"338A",3433,"Regional","No","Cold"]
[null,null,null,null,null,null,null,null,null,null,null,null,null,null,null,null,null,null,null,null,null,null,null,null,null,null,null,null,null,null,null,null,null,null,null,null,null,null,null,"339",3434,"Regional","Yes","Cold"]
[null,null,null,null,null,null,null,null,null,null,null,null,null,null,null,null,null,null,null,null,null,null,null,null,null,null,null,null,null,null,null,null,null,null,null,null,null,null,null,"340",3435,"Regional","Yes","Cold"]
[null,null,null,null,null,null,null,null,null,null,null,null,null,null,null,null,null,null,null,null,null,null,null,null,null,null,null,null,null,null,null,null,null,null,null,null,null,null,null,"341",3437,"Regional","Yes","Cold"]
[null,null,null,null,null,null,null,null,null,null,null,null,null,null,null,null,null,null,null,null,null,null,null,null,null,null,null,null,null,null,null,null,null,null,null,null,null,null,null,"342",3438,"Regional","Yes","Cold"]
[null,null,null,null,null,null,null,null,null,null,null,null,null,null,null,null,null,null,null,null,null,null,null,null,null,null,null,null,null,null,null,null,null,null,null,null,null,null,null,"343",3440,"Regional","Yes","Cold"]
[null,null,null,null,null,null,null,null,null,null,null,null,null,null,null,null,null,null,null,null,null,null,null,null,null,null,null,null,null,null,null,null,null,null,null,null,null,null,null,"344",3441,"Regional","Yes","Cold"]
[null,null,null,null,null,null,null,null,null,null,null,null,null,null,null,null,null,null,null,null,null,null,null,null,null,null,null,null,null,null,null,null,null,null,null,null,null,null,null,"345",3442,"Regional","Yes","Cold"]
[null,null,null,null,null,null,null,null,null,null,null,null,null,null,null,null,null,null,null,null,null,null,null,null,null,null,null,null,null,null,null,null,null,null,null,null,null,null,null,"346",3444,"Regional","Yes","Cold"]
[null,null,null,null,null,null,null,null,null,null,null,null,null,null,null,null,null,null,null,null,null,null,null,null,null,null,null,null,null,null,null,null,null,null,null,null,null,null,null,"347",3446,"Regional","No","Cold"]
[null,null,null,null,null,null,null,null,null,null,null,null,null,null,null,null,null,null,null,null,null,null,null,null,null,null,null,null,null,null,null,null,null,null,null,null,null,null,null,"348",3447,"Regional","No","Cold"]
[null,null,null,null,null,null,null,null,null,null,null,null,null,null,null,null,null,null,null,null,null,null,null,null,null,null,null,null,null,null,null,null,null,null,null,null,null,null,null,"349",3448,"Regional","No","Cold"]
[null,null,null,null,null,null,null,null,null,null,null,null,null,null,null,null,null,null,null,null,null,null,null,null,null,null,null,null,null,null,null,null,null,null,null,null,null,null,null,"350",3450,"Regional","Yes","Cold"]
[null,null,null,null,null,null,null,null,null,null,null,null,null,null,null,null,null,null,null,null,null,null,null,null,null,null,null,null,null,null,null,null,null,null,null,null,null,null,null,"351",3451,"Regional","Yes","Cold"]
[null,null,null,null,null,null,null,null,null,null,null,null,null,null,null,null,null,null,null,null,null,null,null,null,null,null,null,null,null,null,null,null,null,null,null,null,null,null,null,"352",3453,"Regional","No","Cold"]
[null,null,null,null,null,null,null,null,null,null,null,null,null,null,null,null,null,null,null,null,null,null,null,null,null,null,null,null,null,null,null,null,null,null,null,null,null,null,null,"353",3458,"Regional","No","Cold"]
[null,null,null,null,null,null,null,null,null,null,null,null,null,null,null,null,null,null,null,null,null,null,null,null,null,null,null,null,null,null,null,null,null,null,null,null,null,null,null,"354",3460,"Regional","Yes","Cold"]
[null,null,null,null,null,null,null,null,null,null,null,null,null,null,null,null,null,null,null,null,null,null,null,null,null,null,null,null,null,null,null,null,null,null,null,null,null,null,null,"355",3461,"Regional","Yes","Cold"]
[null,null,null,null,null,null,null,null,null,null,null,null,null,null,null,null,null,null,null,null,null,null,null,null,null,null,null,null,null,null,null,null,null,null,null,null,null,null,null,"356",3462,"Regional","No","Cold"]
[null,null,null,null,null,null,null,null,null,null,null,null,null,null,null,null,null,null,null,null,null,null,null,null,null,null,null,null,null,null,null,null,null,null,null,null,null,null,null,"357",3463,"Regional","No","Cold"]
[null,null,null,null,null,null,null,null,null,null,null,null,null,null,null,null,null,null,null,null,null,null,null,null,null,null,null,null,null,null,null,null,null,null,null,null,null,null,null,"358",3464,"Regional","Yes","Cold"]
[null,null,null,null,null,null,null,null,null,null,null,null,null,null,null,null,null,null,null,null,null,null,null,null,null,null,null,null,null,null,null,null,null,null,null,null,null,null,null,"359",3465,"Regional","Yes","Cold"]
[null,null,null,null,null,null,null,null,null,null,null,null,null,null,null,null,null,null,null,null,null,null,null,null,null,null,null,null,null,null,null,null,null,null,null,null,null,null,null,"360",3467,"Regional","No","Cold"]
[null,null,null,null,null,null,null,null,null,null,null,null,null,null,null,null,null,null,null,null,null,null,null,null,null,null,null,null,null,null,null,null,null,null,null,null,null,null,null,"361",3468,"Regional","No","Cold"]
[null,null,null,null,null,null,null,null,null,null,null,null,null,null,null,null,null,null,null,null,null,null,null,null,null,null,null,null,null,null,null,null,null,null,null,null,null,null,null,"362",3469,"Regional","No","Cold"]
[null,null,null,null,null,null,null,null,null,null,null,null,null,null,null,null,null,null,null,null,null,null,null,null,null,null,null,null,null,null,null,null,null,null,null,null,null,null,null,"363",3472,"Regional","No","Cold"]
[null,null,null,null,null,null,null,null,null,null,null,null,null,null,null,null,null,null,null,null,null,null,null,null,null,null,null,null,null,null,null,null,null,null,null,null,null,null,null,"364",3475,"Regional","No","Cold"]
[null,null,null,null,null,null,null,null,null,null,null,null,null,null,null,null,null,null,null,null,null,null,null,null,null,null,null,null,null,null,null,null,null,null,null,null,null,null,null,"364A",3477,"Regional","No","Cold"]
[null,null,null,null,null,null,null,null,null,null,null,null,null,null,null,null,null,null,null,null,null,null,null,null,null,null,null,null,null,null,null,null,null,null,null,null,null,null,null,"365",3478,"Regional","No","Cold"]
[null,null,null,null,null,null,null,null,null,null,null,null,null,null,null,null,null,null,null,null,null,null,null,null,null,null,null,null,null,null,null,null,null,null,null,null,null,null,null,"366",3480,"Regional","No","Cold"]
[null,null,null,null,null,null,null,null,null,null,null,null,null,null,null,null,null,null,null,null,null,null,null,null,null,null,null,null,null,null,null,null,null,null,null,null,null,null,null,"367",3482,"Regional","No","Cold"]
[null,null,null,null,null,null,null,null,null,null,null,null,null,null,null,null,null,null,null,null,null,null,null,null,null,null,null,null,null,null,null,null,null,null,null,null,null,null,null,"368",3483,"Regional","No","Cold"]
[null,null,null,null,null,null,null,null,null,null,null,null,null,null,null,null,null,null,null,null,null,null,null,null,null,null,null,null,null,null,null,null,null,null,null,null,null,null,null,"369",3485,"Regional","No","Cold"]
[null,null,null,null,null,null,null,null,null,null,null,null,null,null,null,null,null,null,null,null,null,null,null,null,null,null,null,null,null,null,null,null,null,null,null,null,null,null,null,"370",3487,"Regional","No","Hot"]
[null,null,null,null,null,null,null,null,null,null,null,null,null,null,null,null,null,null,null,null,null,null,null,null,null,null,null,null,null,null,null,null,null,null,null,null,null,null,null,"371",3488,"Regional","No","Hot"]
[null,null,null,null,null,null,null,null,null,null,null,null,null,null,null,null,null,null,null,null,null,null,null,null,null,null,null,null,null,null,null,null,null,null,null,null,null,null,null,"372",3489,"Regional","No","Hot"]
[null,null,null,null,null,null,null,null,null,null,null,null,null,null,null,null,null,null,null,null,null,null,null,null,null,null,null,null,null,null,null,null,null,null,null,null,null,null,null,"373",3490,"Regional","No","Hot"]
[null,null,null,null,null,null,null,null,null,null,null,null,null,null,null,null,null,null,null,null,null,null,null,null,null,null,null,null,null,null,null,null,null,null,null,null,null,null,null,"374",3491,"Regional","No","Hot"]
[null,null,null,null,null,null,null,null,null,null,null,null,null,null,null,null,null,null,null,null,null,null,null,null,null,null,null,null,null,null,null,null,null,null,null,null,null,null,null,"375",3494,"Regional","Yes","Hot"]
[null,null,null,null,null,null,null,null,null,null,null,null,null,null,null,null,null,null,null,null,null,null,null,null,null,null,null,null,null,null,null,null,null,null,null,null,null,null,null,"376",3496,"Regional","Yes","Hot"]
[null,null,null,null,null,null,null,null,null,null,null,null,null,null,null,null,null,null,null,null,null,null,null,null,null,null,null,null,null,null,null,null,null,null,null,null,null,null,null,"377",3498,"Regional","Yes","Hot"]
[null,null,null,null,null,null,null,null,null,null,null,null,null,null,null,null,null,null,null,null,null,null,null,null,null,null,null,null,null,null,null,null,null,null,null,null,null,null,null,"378",3500,"Regional","Yes","Hot"]
[null,null,null,null,null,null,null,null,null,null,null,null,null,null,null,null,null,null,null,null,null,null,null,null,null,null,null,null,null,null,null,null,null,null,null,null,null,null,null,"379",3501,"Regional","Yes","Hot"]
[null,null,null,null,null,null,null,null,null,null,null,null,null,null,null,null,null,null,null,null,null,null,null,null,null,null,null,null,null,null,null,null,null,null,null,null,null,null,null,"380",3502,"Regional","Yes","Hot"]
[null,null,null,null,null,null,null,null,null,null,null,null,null,null,null,null,null,null,null,null,null,null,null,null,null,null,null,null,null,null,null,null,null,null,null,null,null,null,null,"381",3505,"Regional","Yes","Hot"]
[null,null,null,null,null,null,null,null,null,null,null,null,null,null,null,null,null,null,null,null,null,null,null,null,null,null,null,null,null,null,null,null,null,null,null,null,null,null,null,"382",3506,"Regional","No","Hot"]
[null,null,null,null,null,null,null,null,null,null,null,null,null,null,null,null,null,null,null,null,null,null,null,null,null,null,null,null,null,null,null,null,null,null,null,null,null,null,null,"383",3507,"Regional","No","Hot"]
[null,null,null,null,null,null,null,null,null,null,null,null,null,null,null,null,null,null,null,null,null,null,null,null,null,null,null,null,null,null,null,null,null,null,null,null,null,null,null,"384",3509,"Regional","No","Hot"]
[null,null,null,null,null,null,null,null,null,null,null,null,null,null,null,null,null,null,null,null,null,null,null,null,null,null,null,null,null,null,null,null,null,null,null,null,null,null,null,"385",3512,"Regional","No","Hot"]
[null,null,null,null,null,null,null,null,null,null,null,null,null,null,null,null,null,null,null,null,null,null,null,null,null,null,null,null,null,null,null,null,null,null,null,null,null,null,null,"386",3515,"Regional","No","Cold"]
[null,null,null,null,null,null,null,null,null,null,null,null,null,null,null,null,null,null,null,null,null,null,null,null,null,null,null,null,null,null,null,null,null,null,null,null,null,null,null,"387",3516,"Regional","No","Cold"]
[null,null,null,null,null,null,null,null,null,null,null,null,null,null,null,null,null,null,null,null,null,null,null,null,null,null,null,null,null,null,null,null,null,null,null,null,null,null,null,"388",3517,"Regional","No","Cold"]
[null,null,null,null,null,null,null,null,null,null,null,null,null,null,null,null,null,null,null,null,null,null,null,null,null,null,null,null,null,null,null,null,null,null,null,null,null,null,null,"389",3518,"Regional","No","Cold"]
[null,null,null,null,null,null,null,null,null,null,null,null,null,null,null,null,null,null,null,null,null,null,null,null,null,null,null,null,null,null,null,null,null,null,null,null,null,null,null,"390",3520,"Regional","No","Cold"]
[null,null,null,null,null,null,null,null,null,null,null,null,null,null,null,null,null,null,null,null,null,null,null,null,null,null,null,null,null,null,null,null,null,null,null,null,null,null,null,"391",3521,"Regional","No","Cold"]
[null,null,null,null,null,null,null,null,null,null,null,null,null,null,null,null,null,null,null,null,null,null,null,null,null,null,null,null,null,null,null,null,null,null,null,null,null,null,null,"392",3522,"Regional","No","Cold"]
[null,null,null,null,null,null,null,null,null,null,null,null,null,null,null,null,null,null,null,null,null,null,null,null,null,null,null,null,null,null,null,null,null,null,null,null,null,null,null,"393",3523,"Regional","No","Cold"]
[null,null,null,null,null,null,null,null,null,null,null,null,null,null,null,null,null,null,null,null,null,null,null,null,null,null,null,null,null,null,null,null,null,null,null,null,null,null,null,"394",3525,"Regional","No","Cold"]
[null,null,null,null,null,null,null,null,null,null,null,null,null,null,null,null,null,null,null,null,null,null,null,null,null,null,null,null,null,null,null,null,null,null,null,null,null,null,null,"395",3527,"Regional","No","Cold"]
[null,null,null,null,null,null,null,null,null,null,null,null,null,null,null,null,null,null,null,null,null,null,null,null,null,null,null,null,null,null,null,null,null,null,null,null,null,null,null,"396",3529,"Regional","No","Hot"]
[null,null,null,null,null,null,null,null,null,null,null,null,null,null,null,null,null,null,null,null,null,null,null,null,null,null,null,null,null,null,null,null,null,null,null,null,null,null,null,"397",3530,"Regional","No","Hot"]
[null,null,null,null,null,null,null,null,null,null,null,null,null,null,null,null,null,null,null,null,null,null,null,null,null,null,null,null,null,null,null,null,null,null,null,null,null,null,null,"398",3531,"Regional","No","Hot"]
[null,null,null,null,null,null,null,null,null,null,null,null,null,null,null,null,null,null,null,null,null,null,null,null,null,null,null,null,null,null,null,null,null,null,null,null,null,null,null,"399",3533,"Regional","No","Hot"]
[null,null,null,null,null,null,null,null,null,null,null,null,null,null,null,null,null,null,null,null,null,null,null,null,null,null,null,null,null,null,null,null,null,null,null,null,null,null,null,"400",3537,"Regional","No","Hot"]
[null,null,null,null,null,null,null,null,null,null,null,null,null,null,null,null,null,null,null,null,null,null,null,null,null,null,null,null,null,null,null,null,null,null,null,null,null,null,null,"401",3540,"Regional","No","Hot"]
[null,null,null,null,null,null,null,null,null,null,null,null,null,null,null,null,null,null,null,null,null,null,null,null,null,null,null,null,null,null,null,null,null,null,null,null,null,null,null,"402",3542,"Regional","No","Hot"]
[null,null,null,null,null,null,null,null,null,null,null,null,null,null,null,null,null,null,null,null,null,null,null,null,null,null,null,null,null,null,null,null,null,null,null,null,null,null,null,"403",3544,"Regional","No","Hot"]
[null,null,null,null,null,null,null,null,null,null,null,null,null,null,null,null,null,null,null,null,null,null,null,null,null,null,null,null,null,null,null,null,null,null,null,null,null,null,null,"404",3546,"Regional","No","Hot"]
[null,null,null,null,null,null,null,null,null,null,null,null,null,null,null,null,null,null,null,null,null,null,null,null,null,null,null,null,null,null,null,null,null,null,null,null,null,null,null,"405",3549,"Regional","No","Hot"]
[null,null,null,null,null,null,null,null,null,null,null,null,null,null,null,null,null,null,null,null,null,null,null,null,null,null,null,null,null,null,null,null,null,null,null,null,null,null,null,"406",3550,"Regional","Yes","Cold"]
[null,null,null,null,null,null,null,null,null,null,null,null,null,null,null,null,null,null,null,null,null,null,null,null,null,null,null,null,null,null,null,null,null,null,null,null,null,null,null,"407",3551,"Regional","Yes","Cold"]
[null,null,null,null,null,null,null,null,null,null,null,null,null,null,null,null,null,null,null,null,null,null,null,null,null,null,null,null,null,null,null,null,null,null,null,null,null,null,null,"408",3552,"Regional","No","Cold"]
[null,null,null,null,null,null,null,null,null,null,null,null,null,null,null,null,null,null,null,null,null,null,null,null,null,null,null,null,null,null,null,null,null,null,null,null,null,null,null,"409",3554,"Regional","No","Cold"]
[null,null,null,null,null,null,null,null,null,null,null,null,null,null,null,null,null,null,null,null,null,null,null,null,null,null,null,null,null,null,null,null,null,null,null,null,null,null,null,"410",3555,"Regional","Yes","Cold"]
[null,null,null,null,null,null,null,null,null,null,null,null,null,null,null,null,null,null,null,null,null,null,null,null,null,null,null,null,null,null,null,null,null,null,null,null,null,null,null,"411",3556,"Regional","Yes","Cold"]
[null,null,null,null,null,null,null,null,null,null,null,null,null,null,null,null,null,null,null,null,null,null,null,null,null,null,null,null,null,null,null,null,null,null,null,null,null,null,null,"412",3557,"Regional","No","Cold"]
[null,null,null,null,null,null,null,null,null,null,null,null,null,null,null,null,null,null,null,null,null,null,null,null,null,null,null,null,null,null,null,null,null,null,null,null,null,null,null,"413",3558,"Regional","No","Cold"]
[null,null,null,null,null,null,null,null,null,null,null,null,null,null,null,null,null,null,null,null,null,null,null,null,null,null,null,null,null,null,null,null,null,null,null,null,null,null,null,"414",3559,"Regional","No","Cold"]
[null,null,null,null,null,null,null,null,null,null,null,null,null,null,null,null,null,null,null,null,null,null,null,null,null,null,null,null,null,null,null,null,null,null,null,null,null,null,null,"415",3561,"Regional","Yes","Cold"]
[null,null,null,null,null,null,null,null,null,null,null,null,null,null,null,null,null,null,null,null,null,null,null,null,null,null,null,null,null,null,null,null,null,null,null,null,null,null,null,"416",3562,"Regional","No","Cold"]
[null,null,null,null,null,null,null,null,null,null,null,null,null,null,null,null,null,null,null,null,null,null,null,null,null,null,null,null,null,null,null,null,null,null,null,null,null,null,null,"417",3563,"Regional","Yes","Cold"]
[null,null,null,null,null,null,null,null,null,null,null,null,null,null,null,null,null,null,null,null,null,null,null,null,null,null,null,null,null,null,null,null,null,null,null,null,null,null,null,"418",3564,"Regional","Yes","Cold"]
[null,null,null,null,null,null,null,null,null,null,null,null,null,null,null,null,null,null,null,null,null,null,null,null,null,null,null,null,null,null,null,null,null,null,null,null,null,null,null,"419",3565,"Regional","No","Cold"]
[null,null,null,null,null,null,null,null,null,null,null,null,null,null,null,null,null,null,null,null,null,null,null,null,null,null,null,null,null,null,null,null,null,null,null,null,null,null,null,"420",3566,"Regional","Yes","Hot"]
[null,null,null,null,null,null,null,null,null,null,null,null,null,null,null,null,null,null,null,null,null,null,null,null,null,null,null,null,null,null,null,null,null,null,null,null,null,null,null,"421",3567,"Regional","No","Hot"]
[null,null,null,null,null,null,null,null,null,null,null,null,null,null,null,null,null,null,null,null,null,null,null,null,null,null,null,null,null,null,null,null,null,null,null,null,null,null,null,"422",3568,"Regional","No","Hot"]
[null,null,null,null,null,null,null,null,null,null,null,null,null,null,null,null,null,null,null,null,null,null,null,null,null,null,null,null,null,null,null,null,null,null,null,null,null,null,null,"423",3570,"Regional","No","Cold"]
[null,null,null,null,null,null,null,null,null,null,null,null,null,null,null,null,null,null,null,null,null,null,null,null,null,null,null,null,null,null,null,null,null,null,null,null,null,null,null,"424",3571,"Regional","No","Cold"]
[null,null,null,null,null,null,null,null,null,null,null,null,null,null,null,null,null,null,null,null,null,null,null,null,null,null,null,null,null,null,null,null,null,null,null,null,null,null,null,"425",3572,"Regional","No","Cold"]
[null,null,null,null,null,null,null,null,null,null,null,null,null,null,null,null,null,null,null,null,null,null,null,null,null,null,null,null,null,null,null,null,null,null,null,null,null,null,null,"426",3573,"Regional","No","Cold"]
[null,null,null,null,null,null,null,null,null,null,null,null,null,null,null,null,null,null,null,null,null,null,null,null,null,null,null,null,null,null,null,null,null,null,null,null,null,null,null,"427",3575,"Regional","No","Hot"]
[null,null,null,null,null,null,null,null,null,null,null,null,null,null,null,null,null,null,null,null,null,null,null,null,null,null,null,null,null,null,null,null,null,null,null,null,null,null,null,"428",3576,"Regional","No","Hot"]
[null,null,null,null,null,null,null,null,null,null,null,null,null,null,null,null,null,null,null,null,null,null,null,null,null,null,null,null,null,null,null,null,null,null,null,null,null,null,null,"429",3579,"Regional","No","Hot"]
[null,null,null,null,null,null,null,null,null,null,null,null,null,null,null,null,null,null,null,null,null,null,null,null,null,null,null,null,null,null,null,null,null,null,null,null,null,null,null,"430",3580,"Regional","No","Hot"]
[null,null,null,null,null,null,null,null,null,null,null,null,null,null,null,null,null,null,null,null,null,null,null,null,null,null,null,null,null,null,null,null,null,null,null,null,null,null,null,"431",3581,"Regional","No","Hot"]
[null,null,null,null,null,null,null,null,null,null,null,null,null,null,null,null,null,null,null,null,null,null,null,null,null,null,null,null,null,null,null,null,null,null,null,null,null,null,null,"432",3583,"Regional","No","Hot"]
[null,null,null,null,null,null,null,null,null,null,null,null,null,null,null,null,null,null,null,null,null,null,null,null,null,null,null,null,null,null,null,null,null,null,null,null,null,null,null,"433",3584,"Regional","No","Hot"]
[null,null,null,null,null,null,null,null,null,null,null,null,null,null,null,null,null,null,null,null,null,null,null,null,null,null,null,null,null,null,null,null,null,null,null,null,null,null,null,"434",3585,"Regional","No","Hot"]
[null,null,null,null,null,null,null,null,null,null,null,null,null,null,null,null,null,null,null,null,null,null,null,null,null,null,null,null,null,null,null,null,null,null,null,null,null,null,null,"434A",3586,"Regional","No","Hot"]
[null,null,null,null,null,null,null,null,null,null,null,null,null,null,null,null,null,null,null,null,null,null,null,null,null,null,null,null,null,null,null,null,null,null,null,null,null,null,null,"435",3588,"Regional","No","Hot"]
[null,null,null,null,null,null,null,null,null,null,null,null,null,null,null,null,null,null,null,null,null,null,null,null,null,null,null,null,null,null,null,null,null,null,null,null,null,null,null,"436",3589,"Regional","No","Hot"]
[null,null,null,null,null,null,null,null,null,null,null,null,null,null,null,null,null,null,null,null,null,null,null,null,null,null,null,null,null,null,null,null,null,null,null,null,null,null,null,"437",3590,"Regional","No","Hot"]
[null,null,null,null,null,null,null,null,null,null,null,null,null,null,null,null,null,null,null,null,null,null,null,null,null,null,null,null,null,null,null,null,null,null,null,null,null,null,null,"438",3591,"Regional","No","Hot"]
[null,null,null,null,null,null,null,null,null,null,null,null,null,null,null,null,null,null,null,null,null,null,null,null,null,null,null,null,null,null,null,null,null,null,null,null,null,null,null,"439",3594,"Regional","No","Hot"]
[null,null,null,null,null,null,null,null,null,null,null,null,null,null,null,null,null,null,null,null,null,null,null,null,null,null,null,null,null,null,null,null,null,null,null,null,null,null,null,"440",3595,"Regional","No","Hot"]
[null,null,null,null,null,null,null,null,null,null,null,null,null,null,null,null,null,null,null,null,null,null,null,null,null,null,null,null,null,null,null,null,null,null,null,null,null,null,null,"441",3596,"Regional","No","Hot"]
[null,null,null,null,null,null,null,null,null,null,null,null,null,null,null,null,null,null,null,null,null,null,null,null,null,null,null,null,null,null,null,null,null,null,null,null,null,null,null,"442",3597,"Regional","No","Hot"]
[null,null,null,null,null,null,null,null,null,null,null,null,null,null,null,null,null,null,null,null,null,null,null,null,null,null,null,null,null,null,null,null,null,null,null,null,null,null,null,"443",3599,"Regional","No","Hot"]
[null,null,null,null,null,null,null,null,null,null,null,null,null,null,null,null,null,null,null,null,null,null,null,null,null,null,null,null,null,null,null,null,null,null,null,null,null,null,null,"444",3607,"Regional","No","Cold"]
[null,null,null,null,null,null,null,null,null,null,null,null,null,null,null,null,null,null,null,null,null,null,null,null,null,null,null,null,null,null,null,null,null,null,null,null,null,null,null,"445",3608,"Regional","No","Cold"]
[null,null,null,null,null,null,null,null,null,null,null,null,null,null,null,null,null,null,null,null,null,null,null,null,null,null,null,null,null,null,null,null,null,null,null,null,null,null,null,"446",3610,"Regional","Yes","Cold"]
[null,null,null,null,null,null,null,null,null,null,null,null,null,null,null,null,null,null,null,null,null,null,null,null,null,null,null,null,null,null,null,null,null,null,null,null,null,null,null,"447",3612,"Regional","No","Cold"]
[null,null,null,null,null,null,null,null,null,null,null,null,null,null,null,null,null,null,null,null,null,null,null,null,null,null,null,null,null,null,null,null,null,null,null,null,null,null,null,"448",3614,"Regional","No","Cold"]
[null,null,null,null,null,null,null,null,null,null,null,null,null,null,null,null,null,null,null,null,null,null,null,null,null,null,null,null,null,null,null,null,null,null,null,null,null,null,null,"449",3616,"Regional","Yes","Cold"]
[null,null,null,null,null,null,null,null,null,null,null,null,null,null,null,null,null,null,null,null,null,null,null,null,null,null,null,null,null,null,null,null,null,null,null,null,null,null,null,"450",3617,"Regional","No","Cold"]
[null,null,null,null,null,null,null,null,null,null,null,null,null,null,null,null,null,null,null,null,null,null,null,null,null,null,null,null,null,null,null,null,null,null,null,null,null,null,null,"451",3618,"Regional","Yes","Cold"]
[null,null,null,null,null,null,null,null,null,null,null,null,null,null,null,null,null,null,null,null,null,null,null,null,null,null,null,null,null,null,null,null,null,null,null,null,null,null,null,"452",3619,"Regional","No","Cold"]
[null,null,null,null,null,null,null,null,null,null,null,null,null,null,null,null,null,null,null,null,null,null,null,null,null,null,null,null,null,null,null,null,null,null,null,null,null,null,null,"453",3620,"Regional","Yes","Cold"]
[null,null,null,null,null,null,null,null,null,null,null,null,null,null,null,null,null,null,null,null,null,null,null,null,null,null,null,null,null,null,null,null,null,null,null,null,null,null,null,"454",3621,"Regional","Yes","Cold"]
[null,null,null,null,null,null,null,null,null,null,null,null,null,null,null,null,null,null,null,null,null,null,null,null,null,null,null,null,null,null,null,null,null,null,null,null,null,null,null,"455",3622,"Regional","No","Cold"]
[null,null,null,null,null,null,null,null,null,null,null,null,null,null,null,null,null,null,null,null,null,null,null,null,null,null,null,null,null,null,null,null,null,null,null,null,null,null,null,"456",3623,"Regional","Yes","Cold"]
[null,null,null,null,null,null,null,null,null,null,null,null,null,null,null,null,null,null,null,null,null,null,null,null,null,null,null,null,null,null,null,null,null,null,null,null,null,null,null,"457",3624,"Regional","Yes","Cold"]
[null,null,null,null,null,null,null,null,null,null,null,null,null,null,null,null,null,null,null,null,null,null,null,null,null,null,null,null,null,null,null,null,null,null,null,null,null,null,null,"458",3629,"Regional","Yes","Cold"]
[null,null,null,null,null,null,null,null,null,null,null,null,null,null,null,null,null,null,null,null,null,null,null,null,null,null,null,null,null,null,null,null,null,null,null,null,null,null,null,"459",3630,"Regional","Yes","Cold"]
[null,null,null,null,null,null,null,null,null,null,null,null,null,null,null,null,null,null,null,null,null,null,null,null,null,null,null,null,null,null,null,null,null,null,null,null,null,null,null,"460",3631,"Regional","Yes","Cold"]
[null,null,null,null,null,null,null,null,null,null,null,null,null,null,null,null,null,null,null,null,null,null,null,null,null,null,null,null,null,null,null,null,null,null,null,null,null,null,null,"461",3632,"Regional","No","Cold"]
[null,null,null,null,null,null,null,null,null,null,null,null,null,null,null,null,null,null,null,null,null,null,null,null,null,null,null,null,null,null,null,null,null,null,null,null,null,null,null,"462",3633,"Regional","No","Cold"]
[null,null,null,null,null,null,null,null,null,null,null,null,null,null,null,null,null,null,null,null,null,null,null,null,null,null,null,null,null,null,null,null,null,null,null,null,null,null,null,"463",3634,"Regional","No","Cold"]
[null,null,null,null,null,null,null,null,null,null,null,null,null,null,null,null,null,null,null,null,null,null,null,null,null,null,null,null,null,null,null,null,null,null,null,null,null,null,null,"464",3635,"Regional","No","Cold"]
[null,null,null,null,null,null,null,null,null,null,null,null,null,null,null,null,null,null,null,null,null,null,null,null,null,null,null,null,null,null,null,null,null,null,null,null,null,null,null,"465",3636,"Regional","Yes","Cold"]
[null,null,null,null,null,null,null,null,null,null,null,null,null,null,null,null,null,null,null,null,null,null,null,null,null,null,null,null,null,null,null,null,null,null,null,null,null,null,null,"466",3637,"Regional","No","Cold"]
[null,null,null,null,null,null,null,null,null,null,null,null,null,null,null,null,null,null,null,null,null,null,null,null,null,null,null,null,null,null,null,null,null,null,null,null,null,null,null,"467",3638,"Regional","No","Cold"]
[null,null,null,null,null,null,null,null,null,null,null,null,null,null,null,null,null,null,null,null,null,null,null,null,null,null,null,null,null,null,null,null,null,null,null,null,null,null,null,"468",3639,"Regional","No","Cold"]
[null,null,null,null,null,null,null,null,null,null,null,null,null,null,null,null,null,null,null,null,null,null,null,null,null,null,null,null,null,null,null,null,null,null,null,null,null,null,null,"469",3640,"Regional","Yes","Cold"]
[null,null,null,null,null,null,null,null,null,null,null,null,null,null,null,null,null,null,null,null,null,null,null,null,null,null,null,null,null,null,null,null,null,null,null,null,null,null,null,"470",3641,"Regional","Yes","Cold"]
[null,null,null,null,null,null,null,null,null,null,null,null,null,null,null,null,null,null,null,null,null,null,null,null,null,null,null,null,null,null,null,null,null,null,null,null,null,null,null,"471",3643,"Regional","Yes","Cold"]
[null,null,null,null,null,null,null,null,null,null,null,null,null,null,null,null,null,null,null,null,null,null,null,null,null,null,null,null,null,null,null,null,null,null,null,null,null,null,null,"472",3644,"Regional","Yes","Cold"]
[null,null,null,null,null,null,null,null,null,null,null,null,null,null,null,null,null,null,null,null,null,null,null,null,null,null,null,null,null,null,null,null,null,null,null,null,null,null,null,"473",3646,"Regional","No","Cold"]
[null,null,null,null,null,null,null,null,null,null,null,null,null,null,null,null,null,null,null,null,null,null,null,null,null,null,null,null,null,null,null,null,null,null,null,null,null,null,null,"474",3647,"Regional","No","Cold"]
[null,null,null,null,null,null,null,null,null,null,null,null,null,null,null,null,null,null,null,null,null,null,null,null,null,null,null,null,null,null,null,null,null,null,null,null,null,null,null,"475",3649,"Regional","No","Cold"]
[null,null,null,null,null,null,null,null,null,null,null,null,null,null,null,null,null,null,null,null,null,null,null,null,null,null,null,null,null,null,null,null,null,null,null,null,null,null,null,"476",3658,"Regional","Yes","Cold"]
[null,null,null,null,null,null,null,null,null,null,null,null,null,null,null,null,null,null,null,null,null,null,null,null,null,null,null,null,null,null,null,null,null,null,null,null,null,null,null,"477",3659,"Regional","Yes","Cold"]
[null,null,null,null,null,null,null,null,null,null,null,null,null,null,null,null,null,null,null,null,null,null,null,null,null,null,null,null,null,null,null,null,null,null,null,null,null,null,null,"478",3660,"Regional","Yes","Cold"]
[null,null,null,null,null,null,null,null,null,null,null,null,null,null,null,null,null,null,null,null,null,null,null,null,null,null,null,null,null,null,null,null,null,null,null,null,null,null,null,"479",3661,"Regional","No","Cold"]
[null,null,null,null,null,null,null,null,null,null,null,null,null,null,null,null,null,null,null,null,null,null,null,null,null,null,null,null,null,null,null,null,null,null,null,null,null,null,null,"480",3662,"Regional","No","Cold"]
[null,null,null,null,null,null,null,null,null,null,null,null,null,null,null,null,null,null,null,null,null,null,null,null,null,null,null,null,null,null,null,null,null,null,null,null,null,null,null,"481",3663,"Regional","No","Cold"]
[null,null,null,null,null,null,null,null,null,null,null,null,null,null,null,null,null,null,null,null,null,null,null,null,null,null,null,null,null,null,null,null,null,null,null,null,null,null,null,"482",3664,"Regional","No","Cold"]
[null,null,null,null,null,null,null,null,null,null,null,null,null,null,null,null,null,null,null,null,null,null,null,null,null,null,null,null,null,null,null,null,null,null,null,null,null,null,null,"483",3665,"Regional","No","Cold"]
[null,null,null,null,null,null,null,null,null,null,null,null,null,null,null,null,null,null,null,null,null,null,null,null,null,null,null,null,null,null,null,null,null,null,null,null,null,null,null,"484",3666,"Regional","Yes","Cold"]
[null,null,null,null,null,null,null,null,null,null,null,null,null,null,null,null,null,null,null,null,null,null,null,null,null,null,null,null,null,null,null,null,null,null,null,null,null,null,null,"485",3669,"Regional","No","Cold"]
[null,null,null,null,null,null,null,null,null,null,null,null,null,null,null,null,null,null,null,null,null,null,null,null,null,null,null,null,null,null,null,null,null,null,null,null,null,null,null,"486",3670,"Regional","No","Cold"]
[null,null,null,null,null,null,null,null,null,null,null,null,null,null,null,null,null,null,null,null,null,null,null,null,null,null,null,null,null,null,null,null,null,null,null,null,null,null,null,"487",3671,"Regional","No","Cold"]
[null,null,null,null,null,null,null,null,null,null,null,null,null,null,null,null,null,null,null,null,null,null,null,null,null,null,null,null,null,null,null,null,null,null,null,null,null,null,null,"488",3672,"Regional","Yes","Cold"]
[null,null,null,null,null,null,null,null,null,null,null,null,null,null,null,null,null,null,null,null,null,null,null,null,null,null,null,null,null,null,null,null,null,null,null,null,null,null,null,"489",3673,"Regional","No","Cold"]
[null,null,null,null,null,null,null,null,null,null,null,null,null,null,null,null,null,null,null,null,null,null,null,null,null,null,null,null,null,null,null,null,null,null,null,null,null,null,null,"490",3675,"Regional","No","Cold"]
[null,null,null,null,null,null,null,null,null,null,null,null,null,null,null,null,null,null,null,null,null,null,null,null,null,null,null,null,null,null,null,null,null,null,null,null,null,null,null,"491",3676,"Regional","No","Cold"]
[null,null,null,null,null,null,null,null,null,null,null,null,null,null,null,null,null,null,null,null,null,null,null,null,null,null,null,null,null,null,null,null,null,null,null,null,null,null,null,"492",3677,"Regional","Yes","Cold"]
[null,null,null,null,null,null,null,null,null,null,null,null,null,null,null,null,null,null,null,null,null,null,null,null,null,null,null,null,null,null,null,null,null,null,null,null,null,null,null,"493",3678,"Regional","Yes","Cold"]
[null,null,null,null,null,null,null,null,null,null,null,null,null,null,null,null,null,null,null,null,null,null,null,null,null,null,null,null,null,null,null,null,null,null,null,null,null,null,null,"494",3682,"Regional","No","Cold"]
[null,null,null,null,null,null,null,null,null,null,null,null,null,null,null,null,null,null,null,null,null,null,null,null,null,null,null,null,null,null,null,null,null,null,null,null,null,null,null,"495",3683,"Regional","Yes","Cold"]
[null,null,null,null,null,null,null,null,null,null,null,null,null,null,null,null,null,null,null,null,null,null,null,null,null,null,null,null,null,null,null,null,null,null,null,null,null,null,null,"496",3685,"Regional","Yes","Cold"]
[null,null,null,null,null,null,null,null,null,null,null,null,null,null,null,null,null,null,null,null,null,null,null,null,null,null,null,null,null,null,null,null,null,null,null,null,null,null,null,"497",3687,"Regional","Yes","Cold"]
[null,null,null,null,null,null,null,null,null,null,null,null,null,null,null,null,null,null,null,null,null,null,null,null,null,null,null,null,null,null,null,null,null,null,null,null,null,null,null,"498",3688,"Regional","No","Cold"]
[null,null,null,null,null,null,null,null,null,null,null,null,null,null,null,null,null,null,null,null,null,null,null,null,null,null,null,null,null,null,null,null,null,null,null,null,null,null,null,"499",3689,"Regional","No","Cold"]
[null,null,null,null,null,null,null,null,null,null,null,null,null,null,null,null,null,null,null,null,null,null,null,null,null,null,null,null,null,null,null,null,null,null,null,null,null,null,null,"500",3690,"Regional","Yes","Cold"]
[null,null,null,null,null,null,null,null,null,null,null,null,null,null,null,null,null,null,null,null,null,null,null,null,null,null,null,null,null,null,null,null,null,null,null,null,null,null,null,"501",3691,"Regional","Yes","Cold"]
[null,null,null,null,null,null,null,null,null,null,null,null,null,null,null,null,null,null,null,null,null,null,null,null,null,null,null,null,null,null,null,null,null,null,null,null,null,null,null,"502",3694,"Regional","Yes","Cold"]
[null,null,null,null,null,null,null,null,null,null,null,null,null,null,null,null,null,null,null,null,null,null,null,null,null,null,null,null,null,null,null,null,null,null,null,null,null,null,null,"503",3695,"Regional","No","Cold"]
[null,null,null,null,null,null,null,null,null,null,null,null,null,null,null,null,null,null,null,null,null,null,null,null,null,null,null,null,null,null,null,null,null,null,null,null,null,null,null,"504",3697,"Regional","No","Cold"]
[null,null,null,null,null,null,null,null,null,null,null,null,null,null,null,null,null,null,null,null,null,null,null,null,null,null,null,null,null,null,null,null,null,null,null,null,null,null,null,"505",3698,"Regional","No","Cold"]
[null,null,null,null,null,null,null,null,null,null,null,null,null,null,null,null,null,null,null,null,null,null,null,null,null,null,null,null,null,null,null,null,null,null,null,null,null,null,null,"506",3699,"Regional","No","Cold"]
[null,null,null,null,null,null,null,null,null,null,null,null,null,null,null,null,null,null,null,null,null,null,null,null,null,null,null,null,null,null,null,null,null,null,null,null,null,null,null,"507",3700,"Regional","No","Cold"]
[null,null,null,null,null,null,null,null,null,null,null,null,null,null,null,null,null,null,null,null,null,null,null,null,null,null,null,null,null,null,null,null,null,null,null,null,null,null,null,"508",3701,"Regional","No","Cold"]
[null,null,null,null,null,null,null,null,null,null,null,null,null,null,null,null,null,null,null,null,null,null,null,null,null,null,null,null,null,null,null,null,null,null,null,null,null,null,null,"509",3704,"Regional","No","Cold"]
[null,null,null,null,null,null,null,null,null,null,null,null,null,null,null,null,null,null,null,null,null,null,null,null,null,null,null,null,null,null,null,null,null,null,null,null,null,null,null,"510",3705,"Regional","No","Cold"]
[null,null,null,null,null,null,null,null,null,null,null,null,null,null,null,null,null,null,null,null,null,null,null,null,null,null,null,null,null,null,null,null,null,null,null,null,null,null,null,"511",3707,"Regional","No","Cold"]
[null,null,null,null,null,null,null,null,null,null,null,null,null,null,null,null,null,null,null,null,null,null,null,null,null,null,null,null,null,null,null,null,null,null,null,null,null,null,null,"512",3708,"Regional","No","Cold"]
[null,null,null,null,null,null,null,null,null,null,null,null,null,null,null,null,null,null,null,null,null,null,null,null,null,null,null,null,null,null,null,null,null,null,null,null,null,null,null,"513",3709,"Regional","No","Cold"]
[null,null,null,null,null,null,null,null,null,null,null,null,null,null,null,null,null,null,null,null,null,null,null,null,null,null,null,null,null,null,null,null,null,null,null,null,null,null,null,"514",3711,"Regional","No","Cold"]
[null,null,null,null,null,null,null,null,null,null,null,null,null,null,null,null,null,null,null,null,null,null,null,null,null,null,null,null,null,null,null,null,null,null,null,null,null,null,null,"515",3712,"Regional","No","Cold"]
[null,null,null,null,null,null,null,null,null,null,null,null,null,null,null,null,null,null,null,null,null,null,null,null,null,null,null,null,null,null,null,null,null,null,null,null,null,null,null,"516",3713,"Regional","No","Cold"]
[null,null,null,null,null,null,null,null,null,null,null,null,null,null,null,null,null,null,null,null,null,null,null,null,null,null,null,null,null,null,null,null,null,null,null,null,null,null,null,"517",3714,"Regional","No","Cold"]
[null,null,null,null,null,null,null,null,null,null,null,null,null,null,null,null,null,null,null,null,null,null,null,null,null,null,null,null,null,null,null,null,null,null,null,null,null,null,null,"518",3715,"Regional","No","Cold"]
[null,null,null,null,null,null,null,null,null,null,null,null,null,null,null,null,null,null,null,null,null,null,null,null,null,null,null,null,null,null,null,null,null,null,null,null,null,null,null,"519",3717,"Regional","No","Cold"]
[null,null,null,null,null,null,null,null,null,null,null,null,null,null,null,null,null,null,null,null,null,null,null,null,null,null,null,null,null,null,null,null,null,null,null,null,null,null,null,"520",3718,"Regional","No","Cold"]
[null,null,null,null,null,null,null,null,null,null,null,null,null,null,null,null,null,null,null,null,null,null,null,null,null,null,null,null,null,null,null,null,null,null,null,null,null,null,null,"521",3719,"Regional","No","Cold"]
[null,null,null,null,null,null,null,null,null,null,null,null,null,null,null,null,null,null,null,null,null,null,null,null,null,null,null,null,null,null,null,null,null,null,null,null,null,null,null,"522",3720,"Regional","No","Cold"]
[null,null,null,null,null,null,null,null,null,null,null,null,null,null,null,null,null,null,null,null,null,null,null,null,null,null,null,null,null,null,null,null,null,null,null,null,null,null,null,"523",3722,"Regional","No","Cold"]
[null,null,null,null,null,null,null,null,null,null,null,null,null,null,null,null,null,null,null,null,null,null,null,null,null,null,null,null,null,null,null,null,null,null,null,null,null,null,null,"524",3723,"Regional","No","Cold"]
[null,null,null,null,null,null,null,null,null,null,null,null,null,null,null,null,null,null,null,null,null,null,null,null,null,null,null,null,null,null,null,null,null,null,null,null,null,null,null,"525",3724,"Regional","No","Cold"]
[null,null,null,null,null,null,null,null,null,null,null,null,null,null,null,null,null,null,null,null,null,null,null,null,null,null,null,null,null,null,null,null,null,null,null,null,null,null,null,"526",3725,"Regional","No","Cold"]
[null,null,null,null,null,null,null,null,null,null,null,null,null,null,null,null,null,null,null,null,null,null,null,null,null,null,null,null,null,null,null,null,null,null,null,null,null,null,null,"527",3726,"Regional","No","Cold"]
[null,null,null,null,null,null,null,null,null,null,null,null,null,null,null,null,null,null,null,null,null,null,null,null,null,null,null,null,null,null,null,null,null,null,null,null,null,null,null,"528",3727,"Regional","No","Cold"]
[null,null,null,null,null,null,null,null,null,null,null,null,null,null,null,null,null,null,null,null,null,null,null,null,null,null,null,null,null,null,null,null,null,null,null,null,null,null,null,"529",3728,"Regional","No","Cold"]
[null,null,null,null,null,null,null,null,null,null,null,null,null,null,null,null,null,null,null,null,null,null,null,null,null,null,null,null,null,null,null,null,null,null,null,null,null,null,null,"530",3730,"Regional","Yes","Cold"]
[null,null,null,null,null,null,null,null,null,null,null,null,null,null,null,null,null,null,null,null,null,null,null,null,null,null,null,null,null,null,null,null,null,null,null,null,null,null,null,"531",3732,"Regional","No","Cold"]
[null,null,null,null,null,null,null,null,null,null,null,null,null,null,null,null,null,null,null,null,null,null,null,null,null,null,null,null,null,null,null,null,null,null,null,null,null,null,null,"532",3733,"Regional","No","Cold"]
[null,null,null,null,null,null,null,null,null,null,null,null,null,null,null,null,null,null,null,null,null,null,null,null,null,null,null,null,null,null,null,null,null,null,null,null,null,null,null,"533",3735,"Regional","No","Cold"]
[null,null,null,null,null,null,null,null,null,null,null,null,null,null,null,null,null,null,null,null,null,null,null,null,null,null,null,null,null,null,null,null,null,null,null,null,null,null,null,"534",3736,"Regional","No","Cold"]
[null,null,null,null,null,null,null,null,null,null,null,null,null,null,null,null,null,null,null,null,null,null,null,null,null,null,null,null,null,null,null,null,null,null,null,null,null,null,null,"535",3737,"Regional","No","Cold"]
[null,null,null,null,null,null,null,null,null,null,null,null,null,null,null,null,null,null,null,null,null,null,null,null,null,null,null,null,null,null,null,null,null,null,null,null,null,null,null,"536",3738,"Regional","No","Cold"]
[null,null,null,null,null,null,null,null,null,null,null,null,null,null,null,null,null,null,null,null,null,null,null,null,null,null,null,null,null,null,null,null,null,null,null,null,null,null,null,"537",3739,"Regional","No","Cold"]
[null,null,null,null,null,null,null,null,null,null,null,null,null,null,null,null,null,null,null,null,null,null,null,null,null,null,null,null,null,null,null,null,null,null,null,null,null,null,null,"538",3740,"Regional","No","Cold"]
[null,null,null,null,null,null,null,null,null,null,null,null,null,null,null,null,null,null,null,null,null,null,null,null,null,null,null,null,null,null,null,null,null,null,null,null,null,null,null,"539",3741,"Regional","No","Cold"]
[null,null,null,null,null,null,null,null,null,null,null,null,null,null,null,null,null,null,null,null,null,null,null,null,null,null,null,null,null,null,null,null,null,null,null,null,null,null,null,"540",3744,"Regional","No","Cold"]
[null,null,null,null,null,null,null,null,null,null,null,null,null,null,null,null,null,null,null,null,null,null,null,null,null,null,null,null,null,null,null,null,null,null,null,null,null,null,null,"541",3746,"Regional","No","Cold"]
[null,null,null,null,null,null,null,null,null,null,null,null,null,null,null,null,null,null,null,null,null,null,null,null,null,null,null,null,null,null,null,null,null,null,null,null,null,null,null,"542",3747,"Regional","No","Cold"]
[null,null,null,null,null,null,null,null,null,null,null,null,null,null,null,null,null,null,null,null,null,null,null,null,null,null,null,null,null,null,null,null,null,null,null,null,null,null,null,"543",3749,"Regional","No","Cold"]
[null,null,null,null,null,null,null,null,null,null,null,null,null,null,null,null,null,null,null,null,null,null,null,null,null,null,null,null,null,null,null,null,null,null,null,null,null,null,null,"544",3750,"Regional","Yes","Mild"]
[null,null,null,null,null,null,null,null,null,null,null,null,null,null,null,null,null,null,null,null,null,null,null,null,null,null,null,null,null,null,null,null,null,null,null,null,null,null,null,"545",3751,"Regional","Yes","Mild"]
[null,null,null,null,null,null,null,null,null,null,null,null,null,null,null,null,null,null,null,null,null,null,null,null,null,null,null,null,null,null,null,null,null,null,null,null,null,null,null,"546",3752,"Regional","Yes","Mild"]
[null,null,null,null,null,null,null,null,null,null,null,null,null,null,null,null,null,null,null,null,null,null,null,null,null,null,null,null,null,null,null,null,null,null,null,null,null,null,null,"547",3753,"Regional","Yes","Mild"]
[null,null,null,null,null,null,null,null,null,null,null,null,null,null,null,null,null,null,null,null,null,null,null,null,null,null,null,null,null,null,null,null,null,null,null,null,null,null,null,"548",3754,"Regional","Yes","Mild"]
[null,null,null,null,null,null,null,null,null,null,null,null,null,null,null,null,null,null,null,null,null,null,null,null,null,null,null,null,null,null,null,null,null,null,null,null,null,null,null,"549",3755,"Regional","Yes","Mild"]
[null,null,null,null,null,null,null,null,null,null,null,null,null,null,null,null,null,null,null,null,null,null,null,null,null,null,null,null,null,null,null,null,null,null,null,null,null,null,null,"550",3756,"Regional","Yes","Mild"]
[null,null,null,null,null,null,null,null,null,null,null,null,null,null,null,null,null,null,null,null,null,null,null,null,null,null,null,null,null,null,null,null,null,null,null,null,null,null,null,"551",3757,"Regional","Yes","Mild"]
[null,null,null,null,null,null,null,null,null,null,null,null,null,null,null,null,null,null,null,null,null,null,null,null,null,null,null,null,null,null,null,null,null,null,null,null,null,null,null,"552",3758,"Regional","No","Mild"]
[null,null,null,null,null,null,null,null,null,null,null,null,null,null,null,null,null,null,null,null,null,null,null,null,null,null,null,null,null,null,null,null,null,null,null,null,null,null,null,"553",3759,"Regional","Yes","Mild"]
[null,null,null,null,null,null,null,null,null,null,null,null,null,null,null,null,null,null,null,null,null,null,null,null,null,null,null,null,null,null,null,null,null,null,null,null,null,null,null,"554",3760,"Regional","Yes","Mild"]
[null,null,null,null,null,null,null,null,null,null,null,null,null,null,null,null,null,null,null,null,null,null,null,null,null,null,null,null,null,null,null,null,null,null,null,null,null,null,null,"555",3761,"Regional","Yes","Mild"]
[null,null,null,null,null,null,null,null,null,null,null,null,null,null,null,null,null,null,null,null,null,null,null,null,null,null,null,null,null,null,null,null,null,null,null,null,null,null,null,"556",3762,"Regional","No","Cold"]
[null,null,null,null,null,null,null,null,null,null,null,null,null,null,null,null,null,null,null,null,null,null,null,null,null,null,null,null,null,null,null,null,null,null,null,null,null,null,null,"557",3763,"Regional","Yes","Cold"]
[null,null,null,null,null,null,null,null,null,null,null,null,null,null,null,null,null,null,null,null,null,null,null,null,null,null,null,null,null,null,null,null,null,null,null,null,null,null,null,"558",3764,"Regional","Yes","Cold"]
[null,null,null,null,null,null,null,null,null,null,null,null,null,null,null,null,null,null,null,null,null,null,null,null,null,null,null,null,null,null,null,null,null,null,null,null,null,null,null,"559",3765,"Metropolitan","Yes","Metropolitan"]
[null,null,null,null,null,null,null,null,null,null,null,null,null,null,null,null,null,null,null,null,null,null,null,null,null,null,null,null,null,null,null,null,null,null,null,null,null,null,null,"560",3766,"Regional","Yes","Cold"]
[null,null,null,null,null,null,null,null,null,null,null,null,null,null,null,null,null,null,null,null,null,null,null,null,null,null,null,null,null,null,null,null,null,null,null,null,null,null,null,"561",3767,"Regional","Yes","Cold"]
[null,null,null,null,null,null,null,null,null,null,null,null,null,null,null,null,null,null,null,null,null,null,null,null,null,null,null,null,null,null,null,null,null,null,null,null,null,null,null,"562",3770,"Regional","Yes","Cold"]
[null,null,null,null,null,null,null,null,null,null,null,null,null,null,null,null,null,null,null,null,null,null,null,null,null,null,null,null,null,null,null,null,null,null,null,null,null,null,null,"563",3775,"Regional","Yes","Cold"]
[null,null,null,null,null,null,null,null,null,null,null,null,null,null,null,null,null,null,null,null,null,null,null,null,null,null,null,null,null,null,null,null,null,null,null,null,null,null,null,"564",3777,"Regional","Yes","Cold"]
[null,null,null,null,null,null,null,null,null,null,null,null,null,null,null,null,null,null,null,null,null,null,null,null,null,null,null,null,null,null,null,null,null,null,null,null,null,null,null,"565",3778,"Regional","No","Cold"]
[null,null,null,null,null,null,null,null,null,null,null,null,null,null,null,null,null,null,null,null,null,null,null,null,null,null,null,null,null,null,null,null,null,null,null,null,null,null,null,"566",3779,"Regional","No","Cold"]
[null,null,null,null,null,null,null,null,null,null,null,null,null,null,null,null,null,null,null,null,null,null,null,null,null,null,null,null,null,null,null,null,null,null,null,null,null,null,null,"567",3781,"Metropolitan","Yes","Metropolitan"]
[null,null,null,null,null,null,null,null,null,null,null,null,null,null,null,null,null,null,null,null,null,null,null,null,null,null,null,null,null,null,null,null,null,null,null,null,null,null,null,"568",3782,"Metropolitan","Yes","Metropolitan"]
[null,null,null,null,null,null,null,null,null,null,null,null,null,null,null,null,null,null,null,null,null,null,null,null,null,null,null,null,null,null,null,null,null,null,null,null,null,null,null,"569",3783,"Metropolitan","Yes","Metropolitan"]
[null,null,null,null,null,null,null,null,null,null,null,null,null,null,null,null,null,null,null,null,null,null,null,null,null,null,null,null,null,null,null,null,null,null,null,null,null,null,null,"569A",3785,"Regional","Yes","Cold"]
[null,null,null,null,null,null,null,null,null,null,null,null,null,null,null,null,null,null,null,null,null,null,null,null,null,null,null,null,null,null,null,null,null,null,null,null,null,null,null,"570",3786,"Regional","Yes","Cold"]
[null,null,null,null,null,null,null,null,null,null,null,null,null,null,null,null,null,null,null,null,null,null,null,null,null,null,null,null,null,null,null,null,null,null,null,null,null,null,null,"571",3787,"Regional","Yes","Cold"]
[null,null,null,null,null,null,null,null,null,null,null,null,null,null,null,null,null,null,null,null,null,null,null,null,null,null,null,null,null,null,null,null,null,null,null,null,null,null,null,"572",3788,"Regional","Yes","Cold"]
[null,null,null,null,null,null,null,null,null,null,null,null,null,null,null,null,null,null,null,null,null,null,null,null,null,null,null,null,null,null,null,null,null,null,null,null,null,null,null,"573",3789,"Regional","Yes","Cold"]
[null,null,null,null,null,null,null,null,null,null,null,null,null,null,null,null,null,null,null,null,null,null,null,null,null,null,null,null,null,null,null,null,null,null,null,null,null,null,null,"574",3791,"Metropolitan","Yes","Metropolitan"]
[null,null,null,null,null,null,null,null,null,null,null,null,null,null,null,null,null,null,null,null,null,null,null,null,null,null,null,null,null,null,null,null,null,null,null,null,null,null,null,"575",3792,"Regional","Yes","Cold"]
[null,null,null,null,null,null,null,null,null,null,null,null,null,null,null,null,null,null,null,null,null,null,null,null,null,null,null,null,null,null,null,null,null,null,null,null,null,null,null,"576",3793,"Regional","Yes","Cold"]
[null,null,null,null,null,null,null,null,null,null,null,null,null,null,null,null,null,null,null,null,null,null,null,null,null,null,null,null,null,null,null,null,null,null,null,null,null,null,null,"577",3795,"Regional","Yes","Cold"]
[null,null,null,null,null,null,null,null,null,null,null,null,null,null,null,null,null,null,null,null,null,null,null,null,null,null,null,null,null,null,null,null,null,null,null,null,null,null,null,"578",3796,"Regional","Yes","Cold"]
[null,null,null,null,null,null,null,null,null,null,null,null,null,null,null,null,null,null,null,null,null,null,null,null,null,null,null,null,null,null,null,null,null,null,null,null,null,null,null,"579",3797,"Regional","Yes","Mild"]
[null,null,null,null,null,null,null,null,null,null,null,null,null,null,null,null,null,null,null,null,null,null,null,null,null,null,null,null,null,null,null,null,null,null,null,null,null,null,null,"580",3799,"Regional","Yes","Cold"]
[null,null,null,null,null,null,null,null,null,null,null,null,null,null,null,null,null,null,null,null,null,null,null,null,null,null,null,null,null,null,null,null,null,null,null,null,null,null,null,"581",3800,"Regional","Yes","Mild"]
[null,null,null,null,null,null,null,null,null,null,null,null,null,null,null,null,null,null,null,null,null,null,null,null,null,null,null,null,null,null,null,null,null,null,null,null,null,null,null,"582",3802,"Metropolitan","Yes","Metropolitan"]
[null,null,null,null,null,null,null,null,null,null,null,null,null,null,null,null,null,null,null,null,null,null,null,null,null,null,null,null,null,null,null,null,null,null,null,null,null,null,null,"583",3803,"Metropolitan","Yes","Metropolitan"]
[null,null,null,null,null,null,null,null,null,null,null,null,null,null,null,null,null,null,null,null,null,null,null,null,null,null,null,null,null,null,null,null,null,null,null,null,null,null,null,"584",3804,"Metropolitan","Yes","Metropolitan"]
[null,null,null,null,null,null,null,null,null,null,null,null,null,null,null,null,null,null,null,null,null,null,null,null,null,null,null,null,null,null,null,null,null,null,null,null,null,null,null,"585",3805,"Metropolitan","Yes","Metropolitan"]
[null,null,null,null,null,null,null,null,null,null,null,null,null,null,null,null,null,null,null,null,null,null,null,null,null,null,null,null,null,null,null,null,null,null,null,null,null,null,null,"586",3806,"Metropolitan","Yes","Metropolitan"]
[null,null,null,null,null,null,null,null,null,null,null,null,null,null,null,null,null,null,null,null,null,null,null,null,null,null,null,null,null,null,null,null,null,null,null,null,null,null,null,"587",3807,"Metropolitan","Yes","Metropolitan"]
[null,null,null,null,null,null,null,null,null,null,null,null,null,null,null,null,null,null,null,null,null,null,null,null,null,null,null,null,null,null,null,null,null,null,null,null,null,null,null,"588",3808,"Metropolitan","Yes","Metropolitan"]
[null,null,null,null,null,null,null,null,null,null,null,null,null,null,null,null,null,null,null,null,null,null,null,null,null,null,null,null,null,null,null,null,null,null,null,null,null,null,null,"589",3809,"Metropolitan","Yes","Metropolitan"]
[null,null,null,null,null,null,null,null,null,null,null,null,null,null,null,null,null,null,null,null,null,null,null,null,null,null,null,null,null,null,null,null,null,null,null,null,null,null,null,"590",3810,"Metropolitan","Yes","Metropolitan"]
[null,null,null,null,null,null,null,null,null,null,null,null,null,null,null,null,null,null,null,null,null,null,null,null,null,null,null,null,null,null,null,null,null,null,null,null,null,null,null,"591",3812,"Regional","Yes","Mild"]
[null,null,null,null,null,null,null,null,null,null,null,null,null,null,null,null,null,null,null,null,null,null,null,null,null,null,null,null,null,null,null,null,null,null,null,null,null,null,null,"592",3813,"Regional","Yes","Mild"]
[null,null,null,null,null,null,null,null,null,null,null,null,null,null,null,null,null,null,null,null,null,null,null,null,null,null,null,null,null,null,null,null,null,null,null,null,null,null,null,"593",3814,"Regional","Yes","Mild"]
[null,null,null,null,null,null,null,null,null,null,null,null,null,null,null,null,null,null,null,null,null,null,null,null,null,null,null,null,null,null,null,null,null,null,null,null,null,null,null,"594",3815,"Regional","Yes","Mild"]
[null,null,null,null,null,null,null,null,null,null,null,null,null,null,null,null,null,null,null,null,null,null,null,null,null,null,null,null,null,null,null,null,null,null,null,null,null,null,null,"595",3816,"Regional","Yes","Mild"]
[null,null,null,null,null,null,null,null,null,null,null,null,null,null,null,null,null,null,null,null,null,null,null,null,null,null,null,null,null,null,null,null,null,null,null,null,null,null,null,"596",3818,"Regional","Yes","Mild"]
[null,null,null,null,null,null,null,null,null,null,null,null,null,null,null,null,null,null,null,null,null,null,null,null,null,null,null,null,null,null,null,null,null,null,null,null,null,null,null,"597",3820,"Regional","Yes","Mild"]
[null,null,null,null,null,null,null,null,null,null,null,null,null,null,null,null,null,null,null,null,null,null,null,null,null,null,null,null,null,null,null,null,null,null,null,null,null,null,null,"598",3821,"Regional","No","Mild"]
[null,null,null,null,null,null,null,null,null,null,null,null,null,null,null,null,null,null,null,null,null,null,null,null,null,null,null,null,null,null,null,null,null,null,null,null,null,null,null,"599",3822,"Regional","Yes","Mild"]
[null,null,null,null,null,null,null,null,null,null,null,null,null,null,null,null,null,null,null,null,null,null,null,null,null,null,null,null,null,null,null,null,null,null,null,null,null,null,null,"600",3823,"Regional","Yes","Mild"]
[null,null,null,null,null,null,null,null,null,null,null,null,null,null,null,null,null,null,null,null,null,null,null,null,null,null,null,null,null,null,null,null,null,null,null,null,null,null,null,"601",3824,"Regional","Yes","Mild"]
[null,null,null,null,null,null,null,null,null,null,null,null,null,null,null,null,null,null,null,null,null,null,null,null,null,null,null,null,null,null,null,null,null,null,null,null,null,null,null,"602",3825,"Regional","Yes","Mild"]
[null,null,null,null,null,null,null,null,null,null,null,null,null,null,null,null,null,null,null,null,null,null,null,null,null,null,null,null,null,null,null,null,null,null,null,null,null,null,null,"603",3831,"Regional","No","Mild"]
[null,null,null,null,null,null,null,null,null,null,null,null,null,null,null,null,null,null,null,null,null,null,null,null,null,null,null,null,null,null,null,null,null,null,null,null,null,null,null,"604",3832,"Regional","No","Mild"]
[null,null,null,null,null,null,null,null,null,null,null,null,null,null,null,null,null,null,null,null,null,null,null,null,null,null,null,null,null,null,null,null,null,null,null,null,null,null,null,"605",3833,"Regional","No","Cold"]
[null,null,null,null,null,null,null,null,null,null,null,null,null,null,null,null,null,null,null,null,null,null,null,null,null,null,null,null,null,null,null,null,null,null,null,null,null,null,null,"606",3835,"Regional","No","Mild"]
[null,null,null,null,null,null,null,null,null,null,null,null,null,null,null,null,null,null,null,null,null,null,null,null,null,null,null,null,null,null,null,null,null,null,null,null,null,null,null,"607",3840,"Regional","Yes","Mild"]
[null,null,null,null,null,null,null,null,null,null,null,null,null,null,null,null,null,null,null,null,null,null,null,null,null,null,null,null,null,null,null,null,null,null,null,null,null,null,null,"608",3841,"Regional","No","Mild"]
[null,null,null,null,null,null,null,null,null,null,null,null,null,null,null,null,null,null,null,null,null,null,null,null,null,null,null,null,null,null,null,null,null,null,null,null,null,null,null,"609",3842,"Regional","Yes","Mild"]
[null,null,null,null,null,null,null,null,null,null,null,null,null,null,null,null,null,null,null,null,null,null,null,null,null,null,null,null,null,null,null,null,null,null,null,null,null,null,null,"610",3844,"Regional","Yes","Mild"]
[null,null,null,null,null,null,null,null,null,null,null,null,null,null,null,null,null,null,null,null,null,null,null,null,null,null,null,null,null,null,null,null,null,null,null,null,null,null,null,"611",3847,"Regional","Yes","Mild"]
[null,null,null,null,null,null,null,null,null,null,null,null,null,null,null,null,null,null,null,null,null,null,null,null,null,null,null,null,null,null,null,null,null,null,null,null,null,null,null,"612",3850,"Regional","Yes","Mild"]
[null,null,null,null,null,null,null,null,null,null,null,null,null,null,null,null,null,null,null,null,null,null,null,null,null,null,null,null,null,null,null,null,null,null,null,null,null,null,null,"613",3851,"Regional","Yes","Mild"]
[null,null,null,null,null,null,null,null,null,null,null,null,null,null,null,null,null,null,null,null,null,null,null,null,null,null,null,null,null,null,null,null,null,null,null,null,null,null,null,"614",3852,"Regional","Yes","Mild"]
[null,null,null,null,null,null,null,null,null,null,null,null,null,null,null,null,null,null,null,null,null,null,null,null,null,null,null,null,null,null,null,null,null,null,null,null,null,null,null,"615",3853,"Regional","Yes","Mild"]
[null,null,null,null,null,null,null,null,null,null,null,null,null,null,null,null,null,null,null,null,null,null,null,null,null,null,null,null,null,null,null,null,null,null,null,null,null,null,null,"616",3854,"Regional","No","Mild"]
[null,null,null,null,null,null,null,null,null,null,null,null,null,null,null,null,null,null,null,null,null,null,null,null,null,null,null,null,null,null,null,null,null,null,null,null,null,null,null,"617",3856,"Regional","No","Mild"]
[null,null,null,null,null,null,null,null,null,null,null,null,null,null,null,null,null,null,null,null,null,null,null,null,null,null,null,null,null,null,null,null,null,null,null,null,null,null,null,"618",3857,"Regional","No","Mild"]
[null,null,null,null,null,null,null,null,null,null,null,null,null,null,null,null,null,null,null,null,null,null,null,null,null,null,null,null,null,null,null,null,null,null,null,null,null,null,null,"619",3858,"Regional","No","Mild"]
[null,null,null,null,null,null,null,null,null,null,null,null,null,null,null,null,null,null,null,null,null,null,null,null,null,null,null,null,null,null,null,null,null,null,null,null,null,null,null,"620",3859,"Regional","No","Mild"]
[null,null,null,null,null,null,null,null,null,null,null,null,null,null,null,null,null,null,null,null,null,null,null,null,null,null,null,null,null,null,null,null,null,null,null,null,null,null,null,"621",3860,"Regional","Yes","Cold"]
[null,null,null,null,null,null,null,null,null,null,null,null,null,null,null,null,null,null,null,null,null,null,null,null,null,null,null,null,null,null,null,null,null,null,null,null,null,null,null,"622",3862,"Regional","No","Cold"]
[null,null,null,null,null,null,null,null,null,null,null,null,null,null,null,null,null,null,null,null,null,null,null,null,null,null,null,null,null,null,null,null,null,null,null,null,null,null,null,"623",3864,"Regional","No","Cold"]
[null,null,null,null,null,null,null,null,null,null,null,null,null,null,null,null,null,null,null,null,null,null,null,null,null,null,null,null,null,null,null,null,null,null,null,null,null,null,null,"624",3865,"Regional","No","Mild"]
[null,null,null,null,null,null,null,null,null,null,null,null,null,null,null,null,null,null,null,null,null,null,null,null,null,null,null,null,null,null,null,null,null,null,null,null,null,null,null,"625",3869,"Regional","No","Mild"]
[null,null,null,null,null,null,null,null,null,null,null,null,null,null,null,null,null,null,null,null,null,null,null,null,null,null,null,null,null,null,null,null,null,null,null,null,null,null,null,"626",3870,"Regional","No","Mild"]
[null,null,null,null,null,null,null,null,null,null,null,null,null,null,null,null,null,null,null,null,null,null,null,null,null,null,null,null,null,null,null,null,null,null,null,null,null,null,null,"627",3871,"Regional","No","Mild"]
[null,null,null,null,null,null,null,null,null,null,null,null,null,null,null,null,null,null,null,null,null,null,null,null,null,null,null,null,null,null,null,null,null,null,null,null,null,null,null,"628",3873,"Regional","No","Mild"]
[null,null,null,null,null,null,null,null,null,null,null,null,null,null,null,null,null,null,null,null,null,null,null,null,null,null,null,null,null,null,null,null,null,null,null,null,null,null,null,"629",3874,"Regional","No","Mild"]
[null,null,null,null,null,null,null,null,null,null,null,null,null,null,null,null,null,null,null,null,null,null,null,null,null,null,null,null,null,null,null,null,null,null,null,null,null,null,null,"630",3875,"Regional","Yes","Mild"]
[null,null,null,null,null,null,null,null,null,null,null,null,null,null,null,null,null,null,null,null,null,null,null,null,null,null,null,null,null,null,null,null,null,null,null,null,null,null,null,"631",3878,"Regional","Yes","Mild"]
[null,null,null,null,null,null,null,null,null,null,null,null,null,null,null,null,null,null,null,null,null,null,null,null,null,null,null,null,null,null,null,null,null,null,null,null,null,null,null,"632",3880,"Regional","Yes","Mild"]
[null,null,null,null,null,null,null,null,null,null,null,null,null,null,null,null,null,null,null,null,null,null,null,null,null,null,null,null,null,null,null,null,null,null,null,null,null,null,null,"633",3882,"Regional","No","Mild"]
[null,null,null,null,null,null,null,null,null,null,null,null,null,null,null,null,null,null,null,null,null,null,null,null,null,null,null,null,null,null,null,null,null,null,null,null,null,null,null,"634",3885,"Regional","No","Mild"]
[null,null,null,null,null,null,null,null,null,null,null,null,null,null,null,null,null,null,null,null,null,null,null,null,null,null,null,null,null,null,null,null,null,null,null,null,null,null,null,"635",3886,"Regional","No","Mild"]
[null,null,null,null,null,null,null,null,null,null,null,null,null,null,null,null,null,null,null,null,null,null,null,null,null,null,null,null,null,null,null,null,null,null,null,null,null,null,null,"636",3887,"Regional","No","Mild"]
[null,null,null,null,null,null,null,null,null,null,null,null,null,null,null,null,null,null,null,null,null,null,null,null,null,null,null,null,null,null,null,null,null,null,null,null,null,null,null,"637",3888,"Regional","No","Mild"]
[null,null,null,null,null,null,null,null,null,null,null,null,null,null,null,null,null,null,null,null,null,null,null,null,null,null,null,null,null,null,null,null,null,null,null,null,null,null,null,"638",3889,"Regional","No","Cold"]
[null,null,null,null,null,null,null,null,null,null,null,null,null,null,null,null,null,null,null,null,null,null,null,null,null,null,null,null,null,null,null,null,null,null,null,null,null,null,null,"639",3890,"Regional","No","Mild"]
[null,null,null,null,null,null,null,null,null,null,null,null,null,null,null,null,null,null,null,null,null,null,null,null,null,null,null,null,null,null,null,null,null,null,null,null,null,null,null,"640",3891,"Regional","No","Mild"]
[null,null,null,null,null,null,null,null,null,null,null,null,null,null,null,null,null,null,null,null,null,null,null,null,null,null,null,null,null,null,null,null,null,null,null,null,null,null,null,"641",3892,"Regional","No","Mild"]
[null,null,null,null,null,null,null,null,null,null,null,null,null,null,null,null,null,null,null,null,null,null,null,null,null,null,null,null,null,null,null,null,null,null,null,null,null,null,null,"642",3893,"Regional","No","Cold"]
[null,null,null,null,null,null,null,null,null,null,null,null,null,null,null,null,null,null,null,null,null,null,null,null,null,null,null,null,null,null,null,null,null,null,null,null,null,null,null,"643",3895,"Regional","No","Cold"]
[null,null,null,null,null,null,null,null,null,null,null,null,null,null,null,null,null,null,null,null,null,null,null,null,null,null,null,null,null,null,null,null,null,null,null,null,null,null,null,"644",3896,"Regional","No","Cold"]
[null,null,null,null,null,null,null,null,null,null,null,null,null,null,null,null,null,null,null,null,null,null,null,null,null,null,null,null,null,null,null,null,null,null,null,null,null,null,null,"645",3898,"Regional","No","Cold"]
[null,null,null,null,null,null,null,null,null,null,null,null,null,null,null,null,null,null,null,null,null,null,null,null,null,null,null,null,null,null,null,null,null,null,null,null,null,null,null,"646",3900,"Regional","No","Cold"]
[null,null,null,null,null,null,null,null,null,null,null,null,null,null,null,null,null,null,null,null,null,null,null,null,null,null,null,null,null,null,null,null,null,null,null,null,null,null,null,"647",3902,"Regional","No","Mild"]
[null,null,null,null,null,null,null,null,null,null,null,null,null,null,null,null,null,null,null,null,null,null,null,null,null,null,null,null,null,null,null,null,null,null,null,null,null,null,null,"648",3903,"Regional","No","Mild"]
[null,null,null,null,null,null,null,null,null,null,null,null,null,null,null,null,null,null,null,null,null,null,null,null,null,null,null,null,null,null,null,null,null,null,null,null,null,null,null,"649",3904,"Regional","No","Mild"]
[null,null,null,null,null,null,null,null,null,null,null,null,null,null,null,null,null,null,null,null,null,null,null,null,null,null,null,null,null,null,null,null,null,null,null,null,null,null,null,"650",3909,"Regional","No","Mild"]
[null,null,null,null,null,null,null,null,null,null,null,null,null,null,null,null,null,null,null,null,null,null,null,null,null,null,null,null,null,null,null,null,null,null,null,null,null,null,null,"651",3910,"Metropolitan","Yes","Metropolitan"]
[null,null,null,null,null,null,null,null,null,null,null,null,null,null,null,null,null,null,null,null,null,null,null,null,null,null,null,null,null,null,null,null,null,null,null,null,null,null,null,"652",3911,"Metropolitan","Yes","Metropolitan"]
[null,null,null,null,null,null,null,null,null,null,null,null,null,null,null,null,null,null,null,null,null,null,null,null,null,null,null,null,null,null,null,null,null,null,null,null,null,null,null,"653",3912,"Metropolitan","Yes","Metropolitan"]
[null,null,null,null,null,null,null,null,null,null,null,null,null,null,null,null,null,null,null,null,null,null,null,null,null,null,null,null,null,null,null,null,null,null,null,null,null,null,null,"654",3913,"Metropolitan","Yes","Metropolitan"]
[null,null,null,null,null,null,null,null,null,null,null,null,null,null,null,null,null,null,null,null,null,null,null,null,null,null,null,null,null,null,null,null,null,null,null,null,null,null,null,"655",3915,"Metropolitan","Yes","Metropolitan"]
[null,null,null,null,null,null,null,null,null,null,null,null,null,null,null,null,null,null,null,null,null,null,null,null,null,null,null,null,null,null,null,null,null,null,null,null,null,null,null,"656",3916,"Metropolitan","Yes","Metropolitan"]
[null,null,null,null,null,null,null,null,null,null,null,null,null,null,null,null,null,null,null,null,null,null,null,null,null,null,null,null,null,null,null,null,null,null,null,null,null,null,null,"657",3918,"Metropolitan","Yes","Metropolitan"]
[null,null,null,null,null,null,null,null,null,null,null,null,null,null,null,null,null,null,null,null,null,null,null,null,null,null,null,null,null,null,null,null,null,null,null,null,null,null,null,"658",3919,"Metropolitan","Yes","Metropolitan"]
[null,null,null,null,null,null,null,null,null,null,null,null,null,null,null,null,null,null,null,null,null,null,null,null,null,null,null,null,null,null,null,null,null,null,null,null,null,null,null,"659",3920,"Metropolitan","Yes","Metropolitan"]
[null,null,null,null,null,null,null,null,null,null,null,null,null,null,null,null,null,null,null,null,null,null,null,null,null,null,null,null,null,null,null,null,null,null,null,null,null,null,null,"660",3921,"Regional","Yes","Mild"]
[null,null,null,null,null,null,null,null,null,null,null,null,null,null,null,null,null,null,null,null,null,null,null,null,null,null,null,null,null,null,null,null,null,null,null,null,null,null,null,"661",3922,"Regional","No","Mild"]
[null,null,null,null,null,null,null,null,null,null,null,null,null,null,null,null,null,null,null,null,null,null,null,null,null,null,null,null,null,null,null,null,null,null,null,null,null,null,null,"662",3923,"Regional","No","Mild"]
[null,null,null,null,null,null,null,null,null,null,null,null,null,null,null,null,null,null,null,null,null,null,null,null,null,null,null,null,null,null,null,null,null,null,null,null,null,null,null,"663",3925,"Regional","No","Mild"]
[null,null,null,null,null,null,null,null,null,null,null,null,null,null,null,null,null,null,null,null,null,null,null,null,null,null,null,null,null,null,null,null,null,null,null,null,null,null,null,"664",3926,"Regional","Yes","Mild"]
[null,null,null,null,null,null,null,null,null,null,null,null,null,null,null,null,null,null,null,null,null,null,null,null,null,null,null,null,null,null,null,null,null,null,null,null,null,null,null,"665",3927,"Regional","Yes","Mild"]
[null,null,null,null,null,null,null,null,null,null,null,null,null,null,null,null,null,null,null,null,null,null,null,null,null,null,null,null,null,null,null,null,null,null,null,null,null,null,null,"666",3928,"Regional","Yes","Mild"]
[null,null,null,null,null,null,null,null,null,null,null,null,null,null,null,null,null,null,null,null,null,null,null,null,null,null,null,null,null,null,null,null,null,null,null,null,null,null,null,"667",3929,"Regional","Yes","Mild"]
[null,null,null,null,null,null,null,null,null,null,null,null,null,null,null,null,null,null,null,null,null,null,null,null,null,null,null,null,null,null,null,null,null,null,null,null,null,null,null,"668",3930,"Regional","Yes","Mild"]
[null,null,null,null,null,null,null,null,null,null,null,null,null,null,null,null,null,null,null,null,null,null,null,null,null,null,null,null,null,null,null,null,null,null,null,null,null,null,null,"669",3931,"Regional","Yes","Mild"]
[null,null,null,null,null,null,null,null,null,null,null,null,null,null,null,null,null,null,null,null,null,null,null,null,null,null,null,null,null,null,null,null,null,null,null,null,null,null,null,"670",3933,"Regional","Yes","Mild"]
[null,null,null,null,null,null,null,null,null,null,null,null,null,null,null,null,null,null,null,null,null,null,null,null,null,null,null,null,null,null,null,null,null,null,null,null,null,null,null,"671",3934,"Regional","Yes","Mild"]
[null,null,null,null,null,null,null,null,null,null,null,null,null,null,null,null,null,null,null,null,null,null,null,null,null,null,null,null,null,null,null,null,null,null,null,null,null,null,null,"672",3936,"Regional","Yes","Mild"]
[null,null,null,null,null,null,null,null,null,null,null,null,null,null,null,null,null,null,null,null,null,null,null,null,null,null,null,null,null,null,null,null,null,null,null,null,null,null,null,"673",3937,"Regional","Yes","Mild"]
[null,null,null,null,null,null,null,null,null,null,null,null,null,null,null,null,null,null,null,null,null,null,null,null,null,null,null,null,null,null,null,null,null,null,null,null,null,null,null,"674",3938,"Regional","Yes","Mild"]
[null,null,null,null,null,null,null,null,null,null,null,null,null,null,null,null,null,null,null,null,null,null,null,null,null,null,null,null,null,null,null,null,null,null,null,null,null,null,null,"675",3939,"Regional","Yes","Mild"]
[null,null,null,null,null,null,null,null,null,null,null,null,null,null,null,null,null,null,null,null,null,null,null,null,null,null,null,null,null,null,null,null,null,null,null,null,null,null,null,"676",3940,"Regional","Yes","Mild"]
[null,null,null,null,null,null,null,null,null,null,null,null,null,null,null,null,null,null,null,null,null,null,null,null,null,null,null,null,null,null,null,null,null,null,null,null,null,null,null,"677",3941,"Regional","Yes","Mild"]
[null,null,null,null,null,null,null,null,null,null,null,null,null,null,null,null,null,null,null,null,null,null,null,null,null,null,null,null,null,null,null,null,null,null,null,null,null,null,null,"678",3942,"Regional","Yes","Mild"]
[null,null,null,null,null,null,null,null,null,null,null,null,null,null,null,null,null,null,null,null,null,null,null,null,null,null,null,null,null,null,null,null,null,null,null,null,null,null,null,"679",3943,"Regional","Yes","Mild"]
[null,null,null,null,null,null,null,null,null,null,null,null,null,null,null,null,null,null,null,null,null,null,null,null,null,null,null,null,null,null,null,null,null,null,null,null,null,null,null,"680",3944,"Regional","Yes","Mild"]
[null,null,null,null,null,null,null,null,null,null,null,null,null,null,null,null,null,null,null,null,null,null,null,null,null,null,null,null,null,null,null,null,null,null,null,null,null,null,null,"681",3945,"Regional","No","Mild"]
[null,null,null,null,null,null,null,null,null,null,null,null,null,null,null,null,null,null,null,null,null,null,null,null,null,null,null,null,null,null,null,null,null,null,null,null,null,null,null,"682",3946,"Regional","No","Cold"]
[null,null,null,null,null,null,null,null,null,null,null,null,null,null,null,null,null,null,null,null,null,null,null,null,null,null,null,null,null,null,null,null,null,null,null,null,null,null,null,"683",3950,"Regional","Yes","Mild"]
[null,null,null,null,null,null,null,null,null,null,null,null,null,null,null,null,null,null,null,null,null,null,null,null,null,null,null,null,null,null,null,null,null,null,null,null,null,null,null,"684",3951,"Regional","No","Mild"]
[null,null,null,null,null,null,null,null,null,null,null,null,null,null,null,null,null,null,null,null,null,null,null,null,null,null,null,null,null,null,null,null,null,null,null,null,null,null,null,"685",3953,"Regional","Yes","Mild"]
[null,null,null,null,null,null,null,null,null,null,null,null,null,null,null,null,null,null,null,null,null,null,null,null,null,null,null,null,null,null,null,null,null,null,null,null,null,null,null,"686",3954,"Regional","No","Mild"]
[null,null,null,null,null,null,null,null,null,null,null,null,null,null,null,null,null,null,null,null,null,null,null,null,null,null,null,null,null,null,null,null,null,null,null,null,null,null,null,"687",3956,"Regional","No","Mild"]
[null,null,null,null,null,null,null,null,null,null,null,null,null,null,null,null,null,null,null,null,null,null,null,null,null,null,null,null,null,null,null,null,null,null,null,null,null,null,null,"688",3957,"Regional","No","Mild"]
[null,null,null,null,null,null,null,null,null,null,null,null,null,null,null,null,null,null,null,null,null,null,null,null,null,null,null,null,null,null,null,null,null,null,null,null,null,null,null,"689",3958,"Regional","No","Cold"]
[null,null,null,null,null,null,null,null,null,null,null,null,null,null,null,null,null,null,null,null,null,null,null,null,null,null,null,null,null,null,null,null,null,null,null,null,null,null,null,"690",3959,"Regional","No","Mild"]
[null,null,null,null,null,null,null,null,null,null,null,null,null,null,null,null,null,null,null,null,null,null,null,null,null,null,null,null,null,null,null,null,null,null,null,null,null,null,null,"691",3960,"Regional","No","Mild"]
[null,null,null,null,null,null,null,null,null,null,null,null,null,null,null,null,null,null,null,null,null,null,null,null,null,null,null,null,null,null,null,null,null,null,null,null,null,null,null,"692",3962,"Regional","No","Mild"]
[null,null,null,null,null,null,null,null,null,null,null,null,null,null,null,null,null,null,null,null,null,null,null,null,null,null,null,null,null,null,null,null,null,null,null,null,null,null,null,"693",3964,"Regional","No","Cold"]
[null,null,null,null,null,null,null,null,null,null,null,null,null,null,null,null,null,null,null,null,null,null,null,null,null,null,null,null,null,null,null,null,null,null,null,null,null,null,null,"694",3965,"Regional","No","Mild"]
[null,null,null,null,null,null,null,null,null,null,null,null,null,null,null,null,null,null,null,null,null,null,null,null,null,null,null,null,null,null,null,null,null,null,null,null,null,null,null,"695",3966,"Regional","No","Cold"]
[null,null,null,null,null,null,null,null,null,null,null,null,null,null,null,null,null,null,null,null,null,null,null,null,null,null,null,null,null,null,null,null,null,null,null,null,null,null,null,"696",3967,"Regional","No","Cold"]
[null,null,null,null,null,null,null,null,null,null,null,null,null,null,null,null,null,null,null,null,null,null,null,null,null,null,null,null,null,null,null,null,null,null,null,null,null,null,null,"697",3971,"Regional","No","Cold"]
[null,null,null,null,null,null,null,null,null,null,null,null,null,null,null,null,null,null,null,null,null,null,null,null,null,null,null,null,null,null,null,null,null,null,null,null,null,null,null,"698",3975,"Metropolitan","Yes","Metropolitan"]
[null,null,null,null,null,null,null,null,null,null,null,null,null,null,null,null,null,null,null,null,null,null,null,null,null,null,null,null,null,null,null,null,null,null,null,null,null,null,null,"699",3976,"Metropolitan","Yes","Metropolitan"]
[null,null,null,null,null,null,null,null,null,null,null,null,null,null,null,null,null,null,null,null,null,null,null,null,null,null,null,null,null,null,null,null,null,null,null,null,null,null,null,"700",3977,"Metropolitan","Yes","Metropolitan"]
[null,null,null,null,null,null,null,null,null,null,null,null,null,null,null,null,null,null,null,null,null,null,null,null,null,null,null,null,null,null,null,null,null,null,null,null,null,null,null,"701",3978,"Regional","Yes","Mild"]
[null,null,null,null,null,null,null,null,null,null,null,null,null,null,null,null,null,null,null,null,null,null,null,null,null,null,null,null,null,null,null,null,null,null,null,null,null,null,null,"702",3979,"Regional","No","Mild"]
[null,null,null,null,null,null,null,null,null,null,null,null,null,null,null,null,null,null,null,null,null,null,null,null,null,null,null,null,null,null,null,null,null,null,null,null,null,null,null,"703",3980,"Regional","Yes","Cold"]
[null,null,null,null,null,null,null,null,null,null,null,null,null,null,null,null,null,null,null,null,null,null,null,null,null,null,null,null,null,null,null,null,null,null,null,null,null,null,null,"704",3981,"Regional","Yes","Cold"]
[null,null,null,null,null,null,null,null,null,null,null,null,null,null,null,null,null,null,null,null,null,null,null,null,null,null,null,null,null,null,null,null,null,null,null,null,null,null,null,"705",3984,"Regional","Yes","Mild"]
[null,null,null,null,null,null,null,null,null,null,null,null,null,null,null,null,null,null,null,null,null,null,null,null,null,null,null,null,null,null,null,null,null,null,null,null,null,null,null,"706",3987,"Regional","Yes","Mild"]
[null,null,null,null,null,null,null,null,null,null,null,null,null,null,null,null,null,null,null,null,null,null,null,null,null,null,null,null,null,null,null,null,null,null,null,null,null,null,null,"707",3988,"Regional","No","Cold"]
[null,null,null,null,null,null,null,null,null,null,null,null,null,null,null,null,null,null,null,null,null,null,null,null,null,null,null,null,null,null,null,null,null,null,null,null,null,null,null,"708",3990,"Regional","No","Mild"]
[null,null,null,null,null,null,null,null,null,null,null,null,null,null,null,null,null,null,null,null,null,null,null,null,null,null,null,null,null,null,null,null,null,null,null,null,null,null,null,"709",3991,"Regional","No","Mild"]
[null,null,null,null,null,null,null,null,null,null,null,null,null,null,null,null,null,null,null,null,null,null,null,null,null,null,null,null,null,null,null,null,null,null,null,null,null,null,null,"710",3992,"Regional","No","Mild"]
[null,null,null,null,null,null,null,null,null,null,null,null,null,null,null,null,null,null,null,null,null,null,null,null,null,null,null,null,null,null,null,null,null,null,null,null,null,null,null,"711",3995,"Regional","Yes","Mild"]
[null,null,null,null,null,null,null,null,null,null,null,null,null,null,null,null,null,null,null,null,null,null,null,null,null,null,null,null,null,null,null,null,null,null,null,null,null,null,null,"712",3996,"Regional","Yes","Mild"]

{"sheet":"Menu","index":3,"n_rows":64,"n_cols":11,"rows_kept":64,"cut":false,"hidden":false,"merged":[[60,1,60,12],[20,1,20,12],[41,1,41,12],[47,1,47,12],[22,1,22,3],[22,10,22,12],[22,5,22,8],[17,7,17,12],[0,1,0,12],[8,1,8,7],[8,8,8,9],[10,1,10,12],[5,5,5,9],[15,1,15,7],[11,1,11,12],[12,1,12,12]]}
[null,"Victorian Energy Upgrades \nMeasurement & Verification Workbook (Beta)"]
[]
[]
[null,"This workbook calculates greenhouse gas savings for Victorian Energy Upgrades projects, using measurement and verification."]
[]
[null,{"$f":"\"Version: \" & getsetting(\"Version\") & \" (\" & \"Release Date: \" & TEXT(getsetting(\"ReleaseDate\"),\"d-mmm-yyyy\") & \")\"","v":"Version: Beta 0.2.6 (Release Date: 30-Apr-2018)"}]
[]
[]
[null,"Step 1: Agree to the disclaimer",null,null,null,null,null,null,"I Disagree"]
[]
[null,"Advice to users of this Manual and Workbook (Beta): Disclaimer"]
[]
[null,"The workbook is intended as guidance material only, and is in no way a substitute for the regulatory and compliance systems of the Victorian Energy Upgrades program as administered by the Essential Services Commission. It is provided on the basis that you undertake responsibility for assessing the relevance and accuracy of the information to your particular circumstances. \n\nThis workbook is published as a beta version, making it suitable for user testing and to complement the reading of the Measurement and Verification Manual. However, this workbook is provided as information only. No warranty is made in respect of the material, including (but not limited to) in relation to the accuracy or currency of the material at any time, or its suitability for any purpose. The Victorian Government and this agency (Department of Environment, Land, Water and Planning) do not accept any liability to any person for the material, or for the information or advice provided by this workbook or incorporated into it by reference (or for the use of such material, information or advice). No responsibility is taken for any information or services that may appear on any linked websites. "]
[]
[]
[null,"Step 2: Complete Project Summary"]
[]
[]
[]
[]
[null,"Step 3: Add Measurement and verification data for each energy source"]
[]
[null,"Electricity (E)",null,null,null,"Gas (G)",null,null,null,null,"Renewables (N)"]
[]
[]
[]
[]
[]
[]
[]
[]
[]
[]
[]
[]
[]
[]
[]
[]
[]
[]
[null,"Step 4: Calculate Greenhouse Gas Savings"]
[]
[]
[]
[]
[]
[null,"User working areas"]
[]
[]
[]
[]
[]
[]
[]
[]
[]
[]
[]
[]
[]
[null,"Contact Us"]
[]
[null,{"$f":"\"For technical support, please email \" & getsetting(\"SupportEmail\")","v":"For technical support, please email energy.upgrades@delwp.vic.gov.au"}]

{"sheet":"0-Project Summary","index":4,"n_rows":59,"n_cols":9,"rows_kept":59,"cut":false,"hidden":true,"merged":[[26,1,26,6],[28,1,28,3],[28,4,28,6],[24,1,24,12],[2,1,2,12],[5,4,5,6],[7,4,7,6],[7,1,7,3],[12,1,12,6],[3,1,3,12],[4,1,4,12],[9,1,9,12],[10,1,10,12],[15,1,15,6],[5,1,5,3],[11,1,11,6],[25,1,25,12],[14,1,14,3],[17,1,17,6],[19,1,19,3],[19,4,19,6],[21,1,21,3],[21,4,21,6],[30,1,30,3],[30,4,30,6],[32,1,32,3],[32,4,32,6],[34,1,34,12],[35,1,35,12],[50,1,50,2],[49,3,49,4],[44,4,44,6],[37,1,37,6],[44,1,44,3],[48,1,48,2],[49,1,49,2],[36,1,36,6],[39,1,39,6],[57,5,57,6],[52,3,52,4],[53,3,53,4],[46,1,46,3],[46,4,46,6],[57,1,57,2],[51,1,51,2],[54,3,54,4],[55,3,55,4],[56,3,56,4],[52,1,52,2],[53,1,53,2],[54,1,54,2],[55,1,55,2],[56,1,56,2],[51,3,51,4],[58,5,58,6],[42,1,42,12],[57,3,57,4],[58,3,58,4],[48,5,48,6],[49,5,49,6],[50,5,50,6],[51,5,51,6],[52,5,52,6],[53,5,53,6],[54,5,54,6],[55,5,55,6],[58,1,58,2],[48,3,48,4],[56,5,56,6],[50,3,50,4]]}
[null,null,"0 - Project Summary"]
[]
[]
[null,"Accredited Person (AP)"]
[]
[null,"AP Name:"]
[]
[null,"AP Number: "]
[]
[null,"Project details"]
[]
[null,"Project Name:"]
[]
[]
[null,"Project description:"]
[null,"Note: A project description could include:\n(i) the energy consuming products to be installed or removed or modified;\n(ii) modifications to the way an existing energy consuming product is used;\n(iii) products to be installed or removed that affect the energy consumption of an energy consuming product;\n(iv) the service or services affected."]
[]
[]
[]
[null,"Postcode of premises:"]
[]
[null,"Regional / Metropolitan:",null,null,{"$f":"IFERROR(VLOOKUP(PostCode,VEETPostcodeLookup,2,FALSE),\"\")","v":""}]
[]
[]
[null,"Energy sources"]
[]
[null,"Note: Renewable energy sources with zero emissions factors (solar PV, wind) should not have energy models built. Any electricity from local solar PV or wind must be excluded from electricity measurements. On-grid solar and wind is accounted for already in the electricity emissions factor."]
[]
[null,"Electricity:"]
[]
[null,"Gas:"]
[]
[null,"Renewables (biofuel):"]
[]
[null,"Calculation method"]
[]
[null,"Calculation method for energy savings:"]
[null,"Note:\n1. Forward creation method - uses Normal Year Energy Savings (NYES) to calculate GHG savings for each energy source\n2. Annual creation or top-up method - uses Measured Annual Energy Savings (MAES) to calculated GHG savings for each energy source",null,null,null,null,null,null,"t"]
[]
[]
[]
[]
[null,"Implementation start time and reporting periods"]
[]
[null,"Implementation start time:"]
[]
[null,"Reporting period (Year):"]
[]
[null,"Reporting Period (Year)",null,"From",null,"To"]
[null,1,null,{"$f":"IF(ISNUMBER(ImplementationStartTime), ImplementationStartTime, \"\")","v":""},{"$f":"DATE(YEAR(D50)+1,MONTH(D50),DAY(D50))","v":{"$error":"#VALUE!"}},{"$f":"IFERROR(DATE(YEAR($D50)+1,MONTH($D50),DAY($D50)),\"\")","v":""}]
[null,2,null,{"$f":"$F50","v":""},{"$error":"#VALUE!"},""]
[null,3,null,"",{"$error":"#VALUE!"},""]
[null,4,null,"",{"$error":"#VALUE!"},""]
[null,5,null,"",{"$error":"#VALUE!"},""]
[null,6,null,"",{"$error":"#VALUE!"},""]
[null,7,null,"",{"$error":"#VALUE!"},""]
[null,8,null,"",{"$error":"#VALUE!"},""]
[null,9,null,"",{"$error":"#VALUE!"},""]
[null,10,null,"",{"$error":"#VALUE!"},""]

{"sheet":"E1-Measurements","index":5,"n_rows":83,"n_cols":78,"rows_kept":83,"cut":false,"hidden":true,"merged":[[53,3,53,4],[53,5,53,6],[53,7,53,8],[53,9,53,10],[74,1,74,12],[70,1,70,12],[72,1,72,12],[68,1,68,12],[65,1,65,12],[67,1,67,12],[55,1,55,12],[62,2,62,3],[57,1,57,12],[58,1,58,10],[60,1,60,12],[62,8,62,9],[62,6,62,7],[62,4,62,5],[82,1,82,12],[75,1,75,12],[77,1,77,3],[77,4,77,10],[63,2,63,3],[63,4,63,5],[63,6,63,7],[63,8,63,9],[78,1,78,3],[78,4,78,10],[39,1,39,12],[41,1,42,1],[41,2,42,2],[36,1,36,12],[32,1,32,12],[41,3,42,4],[41,5,42,6],[41,9,41,10],[41,7,42,8],[25,1,25,12],[26,1,26,12],[38,1,38,12],[30,3,30,4],[30,5,30,6],[30,7,30,8],[28,9,28,10],[34,1,34,12],[28,1,29,1],[28,2,29,2],[28,3,29,4],[28,7,29,8],[28,5,29,6],[3,1,3,12],[11,1,11,12],[23,1,23,12],[13,1,13,12],[15,1,15,12],[17,5,17,7],[9,1,9,12],[17,1,17,4],[19,1,19,4],[19,5,19,7],[21,5,21,7],[7,1,7,12],[21,1,21,4],[5,1,5,12],[43,3,43,4],[43,5,43,6],[43,7,43,8],[84,1,84,12],[80,1,80,12],[51,2,52,2],[51,3,52,4],[51,1,52,1],[47,1,47,12],[50,1,50,13],[49,1,49,12],[51,5,52,6],[51,7,52,8],[51,9,52,10],[51,11,51,12],[81,1,81,12]]}
[null,null,"E1 - Measurements"]
[]
[{"$f":"LEFT(C1,1)","v":"E"},{"$f":"VLOOKUP(A3,EnergySourceLookup,2,FALSE)","v":"Electricity"}]
[null,"Measurement Boundary"]
[]
[null,"Define Measurement Boundary - identify all meters and devices that will measure consumption of Electricity"]
[]
[null,"Note: The meters and measuring devices must include:\n(i) all energy consuming products installed or removed in implementing the project; and\n(ii) all energy consuming products for which energy consumption is affected by the project, unless it is able to be excluded (see below); and\n(iii) all energy generating products installed or removed in implementing the project.\n\nBecause each energy source uses different meters, each will have a different measurement boundary.\n\nAn energy consuming product or a component of an energy consuming product may be EXCLUDED from the measurement boundary if:\n(i) it is impractical or disproportionately costly to measure changes in the energy consumed by the product that result from implementation of the project and the change in the energy consumed is minor or trivial; or\n(ii) changes in the energy consumed by the product is accounted for in the interactive energy savings."]
[]
[null,null,null,null,null,null,null,null,null,null,null,null,null,null,null,null,null,null,null,null,null,null,null,null,null,null,null,null,null,null,null,null,null,null,null,null,null,null,null,null,null,null,null,null,null,null,null,null,null,null,null,null,null,null,null,null,null,null,null,null,null,null,null,null,null,null,null,null,null,null,null,null,null,null,null,null,null,"The baseline energy model, established by estimate of the mean, must have measured energy consumption over the baseline period with a coefficient of variation less than 15%."]
[]
[null,"Measurement Frequency for Energy Model"]
[]
[null,"Note: This is the measurement frequency for the ENERGY MODEL, not the energy meter. Meter readings may be aggregated to create measurements for use with the model. All variables in an energy model must have the same frequency of data. However, different energy models (for different energy sources) do not have to have the same measurement frequency."]
[]
[null,"Note: Click the 'Update Tool' button in the navigation bar above after changing the measurement frequency."]
[]
[null,"Measurement frequency:"]
[]
[null,"Time interval length (days):",null,null,null,{"$f":"IFERROR(VLOOKUP(E1ModelFrequency,FrequencyLookup,7,FALSE),\"\")","v":""}]
[]
[null,"Number of time intervals per year:",null,null,null,{"$f":"IFERROR(IF(F20>0,ROUND(365/F20,0),\"\"),\"\")","v":""}]
[]
[null,"Energy Meters"]
[]
[null,"Identify and define how Energy Consumption will be calculated based on meter data:"]
[null,"Note: Please indicate in the \"How Measured / Calculated\" column if the measurements were based on sampling.\n\nSampling can only be used to determine measured energy consumption of an activity, if the project includes undertaking multiple similar activities at the same premises, and:\n(i) the measured energy consumption of each activity can be reasonably described by the same energy model; and \n(ii) the sampling methods used produce a random sample; and\n(iii) the calculation of the relative precision used to determine the accuracy factor includes quantification of the impact of the sampling."]
[]
[null,"Meter Identifier/ Name","Units","Description",null,"How Measured / Calculated",null,"Conversion to Model Frequency",null,"Measurement Accuracy"]
[null,null,null,null,null,null,null,null,null,"Accuracy\nType","Margin of Error"]
[null,null,{"$f":"getESUnits(StringToEnergySource($A$3))","v":"MWh"}]
[]
[null,"How will the energy meter readings be aggregated to provide a single value for energy consumption in each time interval?"]
[]
[]
[]
[null,"Independent Variables"]
[]
[null,"Identify and define p Independent Variables (not relevant if you use Estimate of the Mean), which vary over time under normal operating conditions, and must be measured during measurement periods:"]
[null,"Note: If both the baseline energy model and operating energy model (if NYES is chosen) use \"Estimate of the Mean\" to establish the energy model, then no independent variables are necessary."]
[]
[null,"Independent Variable Name","Units","Description",null,"How Measured / Calculated",null,"Conversion to Model Frequency",null,"Measurement Accuracy"]
[null,null,null,null,null,null,null,null,null,"Accuracy\nType","Margin of Error"]
[]
[]
[]
[]
[null,"Note: Click the 'Update Tool' button in the navigation bar above after adding an Independent Variable to the table."]
[]
[null,"Normal operating conditions"]
[null,"Identify and define at least one Site Constant. These do not vary over time for each site under normal operating conditions, but could change under extraordinary circumstances (such as unscheduled maintenance), and so must also be monitored and measured during measurement periods:"]
[null,"Site Constant Name","Units","Description",null,"How Measured / Calculated",null,"Conversion to Model Frequency",null,"Typical Value",null,"Measurement Accuracy"]
[false,null,null,null,null,null,null,null,null,null,null,"Accuracy\nType","Margin of Error"]
[]
[]
[null,"Note: Click the 'Update Tool' button in the navigation bar above after adding a Site Constant to the table."]
[]
[null,"Excluded variables"]
[null,"Other variables excluded from model:"]
[]
[null,"Note: These are variables for which data is available, but are either dependent on the other variables or don't have a strong influence on energy consumption and so have not been included in the model. Include a reason why they've been excluded from the model. "]
[]
[null,"Name","Description",null,"How Measured / Calculated",null,"Value (if constant and known)",null,"Reason Excluded from Model"]
[]
[]
[null,"Define Normal Year"]
[]
[null,"Describe how the normal year is defined:"]
[null,"Note: A normal year must reasonably represent the expected mean, range and variation of the independent variables used in the baseline energy model and operating energy model in an average year of the maximum time period for forward creation."]
[]
[]
[]
[null,"Data sources"]
[]
[null,"Define the normal year data sources and how the data were manipulated (e.g. data gaps filled), if at all:"]
[null,"Note: These data sources may be the same as the data sources used to determine Independent Variables."]
[]
[null,"Data sources",null,null,"How were the data manipulated?"]
[]
[]
[null,"Method"]
[null,"Describe how the sourced data is used to establish the normal year:"]
[null,"For example:\ni) How do the data sources correspond with the Independent Variables?\nii) If the business cycles captured are less than a year, how is that extended to a full year while maintaining natural variability?\niii) If multiple business cycles of data are available, how are those data sampled to construct a \"typical\" year of operation?"]

{"sheet":"E2-Normal Year Values","index":6,"n_rows":8,"n_cols":4,"rows_kept":8,"cut":false,"hidden":true,"merged":[[7,0,8,0],[9,5,9,6],[3,1,3,12],[5,1,5,12],[7,1,8,1],[7,3,8,3],[7,2,8,2]]}
[null,null,"E2 - Normal Year Values"]
[]
[{"$f":"LEFT(C1,1)","v":"E"},{"$f":"VLOOKUP(A3,EnergySourceLookup,2,FALSE)","v":"Electricity"},{"$f":"VLOOKUP(A3,EnergySourceLookup,3,FALSE)","v":"MWh"}]
[null,"Enter Values for all Independent Variables under a Normal Year of Operating Conditions"]
[]
[null,{"$f":"\"Note: Click the 'Update Tool' button in the navigation bar above after entering the data. \" & IF(E1ModelFrequency<>\"\", \"This table should contain \" & VLOOKUP(E1ModelFrequency, FrequencyLookup,2,FALSE) & \" data points based on the selected \" & E1ModelFrequency & \" Measurement Frequency.\", \"\")","v":"Note: Click the 'Update Tool' button in the navigation bar above after entering the data. "}]
[]
[null,"Normal Year Date / Time","Exclude non-normal measurement? (Mark with 'Y')","Reason for exclusion"]

{"sheet":"ECharts-Normal Year","index":7,"n_rows":366,"n_cols":8,"rows_kept":366,"cut":false,"hidden":true,"merged":[]}
["Time period start","Lower bound","Upper bound","Independent Variable",null,"Minimum IV value","Maximum"]
[{"$f":"'E2-Normal Year Values'!$B$10","v":"00:00:00"},{"$f":"1.05*$F$2-0.05*$F$4","v":{"$error":"#REF!"}},{"$f":"1.05*$F$4-0.05*$F$2","v":{"$error":"#REF!"}},{"$f":"'E2-Normal Year Values'!#REF!","v":{"$error":"#REF!"}},null,{"$f":"MIN(D:D)","v":{"$error":"#REF!"}},{"$f":"MAX($D$2:$D$366)","v":{"$error":"#REF!"}},"(these formulas should adjust to ModelTimeIntervals value)"]
[{"$f":"'E2-Normal Year Values'!$B$11","v":"00:00:00"},{"$error":"#REF!"},{"$error":"#REF!"},{"$f":"'E2-Normal Year Values'!#REF!","v":{"$error":"#REF!"}},null,"Maximum IV value"]
[{"$f":"'E2-Normal Year Values'!$B$12","v":"00:00:00"},{"$error":"#REF!"},{"$error":"#REF!"},{"$f":"'E2-Normal Year Values'!#REF!","v":{"$error":"#REF!"}},null,{"$f":"MAX(D:D)","v":{"$error":"#REF!"}},null,"Actually, the minimum and maximum should come from the baseline and operating model effective ranges… will have to work this out later."]
[{"$f":"'E2-Normal Year Values'!$B$13","v":"00:00:00"},{"$error":"#REF!"},{"$error":"#REF!"},{"$f":"'E2-Normal Year Values'!#REF!","v":{"$error":"#REF!"}}]
[{"$f":"'E2-Normal Year Values'!$B$14","v":"00:00:00"},{"$error":"#REF!"},{"$error":"#REF!"},{"$f":"'E2-Normal Year Values'!#REF!","v":{"$error":"#REF!"}}]
[{"$f":"'E2-Normal Year Values'!$B$15","v":"00:00:00"},{"$error":"#REF!"},{"$error":"#REF!"},{"$f":"'E2-Normal Year Values'!#REF!","v":{"$error":"#REF!"}}]
[{"$f":"'E2-Normal Year Values'!$B$16","v":"00:00:00"},{"$error":"#REF!"},{"$error":"#REF!"},{"$f":"'E2-Normal Year Values'!#REF!","v":{"$error":"#REF!"}}]
[{"$f":"'E2-Normal Year Values'!$B$17","v":"00:00:00"},{"$error":"#REF!"},{"$error":"#REF!"},{"$f":"'E2-Normal Year Values'!#REF!","v":{"$error":"#REF!"}}]
[{"$f":"'E2-Normal Year Values'!$B$18","v":"00:00:00"},{"$error":"#REF!"},{"$error":"#REF!"},{"$f":"'E2-Normal Year Values'!#REF!","v":{"$error":"#REF!"}}]
[{"$f":"'E2-Normal Year Values'!$B$19","v":"00:00:00"},{"$error":"#REF!"},{"$error":"#REF!"},{"$f":"'E2-Normal Year Values'!#REF!","v":{"$error":"#REF!"}}]
[{"$f":"'E2-Normal Year Values'!$B$20","v":"00:00:00"},{"$error":"#REF!"},{"$error":"#REF!"},{"$f":"'E2-Normal Year Values'!#REF!","v":{"$error":"#REF!"}}]
[{"$f":"'E2-Normal Year Values'!$B$21","v":"00:00:00"},{"$error":"#REF!"},{"$error":"#REF!"},{"$f":"'E2-Normal Year Values'!#REF!","v":{"$error":"#REF!"}}]
[{"$f":"'E2-Normal Year Values'!$B$22","v":"00:00:00"},{"$error":"#REF!"},{"$error":"#REF!"},{"$f":"'E2-Normal Year Values'!#REF!","v":{"$error":"#REF!"}}]
[{"$f":"'E2-Normal Year Values'!$B$23","v":"00:00:00"},{"$error":"#REF!"},{"$error":"#REF!"},{"$f":"'E2-Normal Year Values'!#REF!","v":{"$error":"#REF!"}}]
[{"$f":"'E2-Normal Year Values'!$B$24","v":"00:00:00"},{"$error":"#REF!"},{"$error":"#REF!"},{"$f":"'E2-Normal Year Values'!#REF!","v":{"$error":"#REF!"}}]
[{"$f":"'E2-Normal Year Values'!$B$25","v":"00:00:00"},{"$error":"#REF!"},{"$error":"#REF!"},{"$f":"'E2-Normal Year Values'!#REF!","v":{"$error":"#REF!"}}]
[{"$f":"'E2-Normal Year Values'!$B$26","v":"00:00:00"},{"$error":"#REF!"},{"$error":"#REF!"},{"$f":"'E2-Normal Year Values'!#REF!","v":{"$error":"#REF!"}}]
[{"$f":"'E2-Normal Year Values'!$B$27","v":"00:00:00"},{"$error":"#REF!"},{"$error":"#REF!"},{"$f":"'E2-Normal Year Values'!#REF!","v":{"$error":"#REF!"}}]
[{"$f":"'E2-Normal Year Values'!$B$28","v":"00:00:00"},{"$error":"#REF!"},{"$error":"#REF!"},{"$f":"'E2-Normal Year Values'!#REF!","v":{"$error":"#REF!"}}]
[{"$f":"'E2-Normal Year Values'!$B$29","v":"00:00:00"},{"$error":"#REF!"},{"$error":"#REF!"},{"$f":"'E2-Normal Year Values'!#REF!","v":{"$error":"#REF!"}}]
[{"$f":"'E2-Normal Year Values'!$B$30","v":"00:00:00"},{"$error":"#REF!"},{"$error":"#REF!"},{"$f":"'E2-Normal Year Values'!#REF!","v":{"$error":"#REF!"}}]
[{"$f":"'E2-Normal Year Values'!$B$31","v":"00:00:00"},{"$error":"#REF!"},{"$error":"#REF!"},{"$f":"'E2-Normal Year Values'!#REF!","v":{"$error":"#REF!"}}]
[{"$f":"'E2-Normal Year Values'!$B$32","v":"00:00:00"},{"$error":"#REF!"},{"$error":"#REF!"},{"$f":"'E2-Normal Year Values'!#REF!","v":{"$error":"#REF!"}}]
[{"$f":"'E2-Normal Year Values'!$B$33","v":"00:00:00"},{"$error":"#REF!"},{"$error":"#REF!"},{"$f":"'E2-Normal Year Values'!#REF!","v":{"$error":"#REF!"}}]
[{"$f":"'E2-Normal Year Values'!$B$34","v":"00:00:00"},{"$error":"#REF!"},{"$error":"#REF!"},{"$f":"'E2-Normal Year Values'!#REF!","v":{"$error":"#REF!"}}]
[{"$f":"'E2-Normal Year Values'!$B$35","v":"00:00:00"},{"$error":"#REF!"},{"$error":"#REF!"},{"$f":"'E2-Normal Year Values'!#REF!","v":{"$error":"#REF!"}}]
[{"$f":"'E2-Normal Year Values'!$B$36","v":"00:00:00"},{"$error":"#REF!"},{"$error":"#REF!"},{"$f":"'E2-Normal Year Values'!#REF!","v":{"$error":"#REF!"}}]
[{"$f":"'E2-Normal Year Values'!$B$37","v":"00:00:00"},{"$error":"#REF!"},{"$error":"#REF!"},{"$f":"'E2-Normal Year Values'!#REF!","v":{"$error":"#REF!"}}]
[{"$f":"'E2-Normal Year Values'!$B$38","v":"00:00:00"},{"$error":"#REF!"},{"$error":"#REF!"},{"$f":"'E2-Normal Year Values'!#REF!","v":{"$error":"#REF!"}}]
[{"$f":"'E2-Normal Year Values'!$B$39","v":"00:00:00"},{"$error":"#REF!"},{"$error":"#REF!"},{"$f":"'E2-Normal Year Values'!#REF!","v":{"$error":"#REF!"}}]
[{"$f":"'E2-Normal Year Values'!$B$40","v":"00:00:00"},{"$error":"#REF!"},{"$error":"#REF!"},{"$f":"'E2-Normal Year Values'!#REF!","v":{"$error":"#REF!"}}]
[{"$f":"'E2-Normal Year Values'!$B$41","v":"00:00:00"},{"$error":"#REF!"},{"$error":"#REF!"},{"$f":"'E2-Normal Year Values'!#REF!","v":{"$error":"#REF!"}}]
[{"$f":"'E2-Normal Year Values'!$B$42","v":"00:00:00"},{"$error":"#REF!"},{"$error":"#REF!"},{"$f":"'E2-Normal Year Values'!#REF!","v":{"$error":"#REF!"}}]
[{"$f":"'E2-Normal Year Values'!$B$43","v":"00:00:00"},{"$error":"#REF!"},{"$error":"#REF!"},{"$f":"'E2-Normal Year Values'!#REF!","v":{"$error":"#REF!"}}]
[{"$f":"'E2-Normal Year Values'!$B$44","v":"00:00:00"},{"$error":"#REF!"},{"$error":"#REF!"},{"$f":"'E2-Normal Year Values'!#REF!","v":{"$error":"#REF!"}}]
[{"$f":"'E2-Normal Year Values'!$B$45","v":"00:00:00"},{"$error":"#REF!"},{"$error":"#REF!"},{"$f":"'E2-Normal Year Values'!#REF!","v":{"$error":"#REF!"}}]
[{"$f":"'E2-Normal Year Values'!$B$46","v":"00:00:00"},{"$error":"#REF!"},{"$error":"#REF!"},{"$f":"'E2-Normal Year Values'!#REF!","v":{"$error":"#REF!"}}]
[{"$f":"'E2-Normal Year Values'!$B$47","v":"00:00:00"},{"$error":"#REF!"},{"$error":"#REF!"},{"$f":"'E2-Normal Year Values'!#REF!","v":{"$error":"#REF!"}}]
[{"$f":"'E2-Normal Year Values'!$B$48","v":"00:00:00"},{"$error":"#REF!"},{"$error":"#REF!"},{"$f":"'E2-Normal Year Values'!#REF!","v":{"$error":"#REF!"}}]
[{"$f":"'E2-Normal Year Values'!$B$49","v":"00:00:00"},{"$error":"#REF!"},{"$error":"#REF!"},{"$f":"'E2-Normal Year Values'!#REF!","v":{"$error":"#REF!"}}]
[{"$f":"'E2-Normal Year Values'!$B$50","v":"00:00:00"},{"$error":"#REF!"},{"$error":"#REF!"},{"$f":"'E2-Normal Year Values'!#REF!","v":{"$error":"#REF!"}}]
[{"$f":"'E2-Normal Year Values'!$B$51","v":"00:00:00"},{"$error":"#REF!"},{"$error":"#REF!"},{"$f":"'E2-Normal Year Values'!#REF!","v":{"$error":"#REF!"}}]
[{"$f":"'E2-Normal Year Values'!$B$52","v":"00:00:00"},{"$error":"#REF!"},{"$error":"#REF!"},{"$f":"'E2-Normal Year Values'!#REF!","v":{"$error":"#REF!"}}]
[{"$f":"'E2-Normal Year Values'!$B$53","v":"00:00:00"},{"$error":"#REF!"},{"$error":"#REF!"},{"$f":"'E2-Normal Year Values'!#REF!","v":{"$error":"#REF!"}}]
[{"$f":"'E2-Normal Year Values'!$B$54","v":"00:00:00"},{"$error":"#REF!"},{"$error":"#REF!"},{"$f":"'E2-Normal Year Values'!#REF!","v":{"$error":"#REF!"}}]
[{"$f":"'E2-Normal Year Values'!$B$55","v":"00:00:00"},{"$error":"#REF!"},{"$error":"#REF!"},{"$f":"'E2-Normal Year Values'!#REF!","v":{"$error":"#REF!"}}]
[{"$f":"'E2-Normal Year Values'!$B$56","v":"00:00:00"},{"$error":"#REF!"},{"$error":"#REF!"},{"$f":"'E2-Normal Year Values'!#REF!","v":{"$error":"#REF!"}}]
[{"$f":"'E2-Normal Year Values'!$B$57","v":"00:00:00"},{"$error":"#REF!"},{"$error":"#REF!"},{"$f":"'E2-Normal Year Values'!#REF!","v":{"$error":"#REF!"}}]
[{"$f":"'E2-Normal Year Values'!$B$58","v":"00:00:00"},{"$error":"#REF!"},{"$error":"#REF!"},{"$f":"'E2-Normal Year Values'!#REF!","v":{"$error":"#REF!"}}]
[{"$f":"'E2-Normal Year Values'!$B$59","v":"00:00:00"},{"$error":"#REF!"},{"$error":"#REF!"},{"$f":"'E2-Normal Year Values'!#REF!","v":{"$error":"#REF!"}}]
[{"$f":"'E2-Normal Year Values'!$B$60","v":"00:00:00"},{"$error":"#REF!"},{"$error":"#REF!"},{"$f":"'E2-Normal Year Values'!#REF!","v":{"$error":"#REF!"}}]
[{"$f":"'E2-Normal Year Values'!$B$61","v":"00:00:00"},{"$error":"#REF!"},{"$error":"#REF!"},{"$f":"'E2-Normal Year Values'!#REF!","v":{"$error":"#REF!"}}]
[{"$f":"'E2-Normal Year Values'!$B$62","v":"00:00:00"},{"$error":"#REF!"},{"$error":"#REF!"},{"$f":"'E2-Normal Year Values'!#REF!","v":{"$error":"#REF!"}}]
[{"$f":"'E2-Normal Year Values'!$B$63","v":"00:00:00"},{"$error":"#REF!"},{"$error":"#REF!"},{"$f":"'E2-Normal Year Values'!#REF!","v":{"$error":"#REF!"}}]
[{"$f":"'E2-Normal Year Values'!$B$64","v":"00:00:00"},{"$error":"#REF!"},{"$error":"#REF!"},{"$f":"'E2-Normal Year Values'!#REF!","v":{"$error":"#REF!"}}]
[{"$f":"'E2-Normal Year Values'!$B$65","v":"00:00:00"},{"$error":"#REF!"},{"$error":"#REF!"},{"$f":"'E2-Normal Year Values'!#REF!","v":{"$error":"#REF!"}}]
[{"$f":"'E2-Normal Year Values'!$B$66","v":"00:00:00"},{"$error":"#REF!"},{"$error":"#REF!"},{"$f":"'E2-Normal Year Values'!#REF!","v":{"$error":"#REF!"}}]
[{"$f":"'E2-Normal Year Values'!$B$67","v":"00:00:00"},{"$error":"#REF!"},{"$error":"#REF!"},{"$f":"'E2-Normal Year Values'!#REF!","v":{"$error":"#REF!"}}]
[{"$f":"'E2-Normal Year Values'!$B$68","v":"00:00:00"},{"$error":"#REF!"},{"$error":"#REF!"},{"$f":"'E2-Normal Year Values'!#REF!","v":{"$error":"#REF!"}}]
[{"$f":"'E2-Normal Year Values'!$B$69","v":"00:00:00"},{"$error":"#REF!"},{"$error":"#REF!"},{"$f":"'E2-Normal Year Values'!#REF!","v":{"$error":"#REF!"}}]
[{"$f":"'E2-Normal Year Values'!$B$70","v":"00:00:00"},{"$error":"#REF!"},{"$error":"#REF!"},{"$f":"'E2-Normal Year Values'!#REF!","v":{"$error":"#REF!"}}]
[{"$f":"'E2-Normal Year Values'!$B$71","v":"00:00:00"},{"$error":"#REF!"},{"$error":"#REF!"},{"$f":"'E2-Normal Year Values'!#REF!","v":{"$error":"#REF!"}}]
[{"$f":"'E2-Normal Year Values'!$B$72","v":"00:00:00"},{"$error":"#REF!"},{"$error":"#REF!"},{"$f":"'E2-Normal Year Values'!#REF!","v":{"$error":"#REF!"}}]
[{"$f":"'E2-Normal Year Values'!$B$73","v":"00:00:00"},{"$error":"#REF!"},{"$error":"#REF!"},{"$f":"'E2-Normal Year Values'!#REF!","v":{"$error":"#REF!"}}]
[{"$f":"'E2-Normal Year Values'!$B$74","v":"00:00:00"},{"$f":"1.05*$F$2-0.05*$F$4","v":{"$error":"#REF!"}},{"$f":"1.05*$F$4-0.05*$F$2","v":{"$error":"#REF!"}},{"$f":"'E2-Normal Year Values'!#REF!","v":{"$error":"#REF!"}}]
[{"$f":"'E2-Normal Year Values'!$B$75","v":"00:00:00"},{"$error":"#REF!"},{"$error":"#REF!"},{"$f":"'E2-Normal Year Values'!#REF!","v":{"$error":"#REF!"}}]
[{"$f":"'E2-Normal Year Values'!$B$76","v":"00:00:00"},{"$error":"#REF!"},{"$error":"#REF!"},{"$f":"'E2-Normal Year Values'!#REF!","v":{"$error":"#REF!"}}]
[{"$f":"'E2-Normal Year Values'!$B$77","v":"00:00:00"},{"$error":"#REF!"},{"$error":"#REF!"},{"$f":"'E2-Normal Year Values'!#REF!","v":{"$error":"#REF!"}}]
[{"$f":"'E2-Normal Year Values'!$B$78","v":"00:00:00"},{"$error":"#REF!"},{"$error":"#REF!"},{"$f":"'E2-Normal Year Values'!#REF!","v":{"$error":"#REF!"}}]
[{"$f":"'E2-Normal Year Values'!$B$79","v":"00:00:00"},{"$error":"#REF!"},{"$error":"#REF!"},{"$f":"'E2-Normal Year Values'!#REF!","v":{"$error":"#REF!"}}]
[{"$f":"'E2-Normal Year Values'!$B$80","v":"00:00:00"},{"$error":"#REF!"},{"$error":"#REF!"},{"$f":"'E2-Normal Year Values'!#REF!","v":{"$error":"#REF!"}}]
[{"$f":"'E2-Normal Year Values'!$B$81","v":"00:00:00"},{"$error":"#REF!"},{"$error":"#REF!"},{"$f":"'E2-Normal Year Values'!#REF!","v":{"$error":"#REF!"}}]
[{"$f":"'E2-Normal Year Values'!$B$82","v":"00:00:00"},{"$error":"#REF!"},{"$error":"#REF!"},{"$f":"'E2-Normal Year Values'!#REF!","v":{"$error":"#REF!"}}]
[{"$f":"'E2-Normal Year Values'!$B$83","v":"00:00:00"},{"$error":"#REF!"},{"$error":"#REF!"},{"$f":"'E2-Normal Year Values'!#REF!","v":{"$error":"#REF!"}}]
[{"$f":"'E2-Normal Year Values'!$B$84","v":"00:00:00"},{"$error":"#REF!"},{"$error":"#REF!"},{"$f":"'E2-Normal Year Values'!#REF!","v":{"$error":"#REF!"}}]
[{"$f":"'E2-Normal Year Values'!$B$85","v":"00:00:00"},{"$error":"#REF!"},{"$error":"#REF!"},{"$f":"'E2-Normal Year Values'!#REF!","v":{"$error":"#REF!"}}]
[{"$f":"'E2-Normal Year Values'!$B$86","v":"00:00:00"},{"$error":"#REF!"},{"$error":"#REF!"},{"$f":"'E2-Normal Year Values'!#REF!","v":{"$error":"#REF!"}}]
[{"$f":"'E2-Normal Year Values'!$B$87","v":"00:00:00"},{"$error":"#REF!"},{"$error":"#REF!"},{"$f":"'E2-Normal Year Values'!#REF!","v":{"$error":"#REF!"}}]
[{"$f":"'E2-Normal Year Values'!$B$88","v":"00:00:00"},{"$error":"#REF!"},{"$error":"#REF!"},{"$f":"'E2-Normal Year Values'!#REF!","v":{"$error":"#REF!"}}]
[{"$f":"'E2-Normal Year Values'!$B$89","v":"00:00:00"},{"$error":"#REF!"},{"$error":"#REF!"},{"$f":"'E2-Normal Year Values'!#REF!","v":{"$error":"#REF!"}}]
[{"$f":"'E2-Normal Year Values'!$B$90","v":"00:00:00"},{"$error":"#REF!"},{"$error":"#REF!"},{"$f":"'E2-Normal Year Values'!#REF!","v":{"$error":"#REF!"}}]
[{"$f":"'E2-Normal Year Values'!$B$91","v":"00:00:00"},{"$error":"#REF!"},{"$error":"#REF!"},{"$f":"'E2-Normal Year Values'!#REF!","v":{"$error":"#REF!"}}]
[{"$f":"'E2-Normal Year Values'!$B$92","v":"00:00:00"},{"$error":"#REF!"},{"$error":"#REF!"},{"$f":"'E2-Normal Year Values'!#REF!","v":{"$error":"#REF!"}}]
[{"$f":"'E2-Normal Year Values'!$B$93","v":"00:00:00"},{"$error":"#REF!"},{"$error":"#REF!"},{"$f":"'E2-Normal Year Values'!#REF!","v":{"$error":"#REF!"}}]
[{"$f":"'E2-Normal Year Values'!$B$94","v":"00:00:00"},{"$error":"#REF!"},{"$error":"#REF!"},{"$f":"'E2-Normal Year Values'!#REF!","v":{"$error":"#REF!"}}]
[{"$f":"'E2-Normal Year Values'!$B$95","v":"00:00:00"},{"$error":"#REF!"},{"$error":"#REF!"},{"$f":"'E2-Normal Year Values'!#REF!","v":{"$error":"#REF!"}}]
[{"$f":"'E2-Normal Year Values'!$B$96","v":"00:00:00"},{"$error":"#REF!"},{"$error":"#REF!"},{"$f":"'E2-Normal Year Values'!#REF!","v":{"$error":"#REF!"}}]
[{"$f":"'E2-Normal Year Values'!$B$97","v":"00:00:00"},{"$error":"#REF!"},{"$error":"#REF!"},{"$f":"'E2-Normal Year Values'!#REF!","v":{"$error":"#REF!"}}]
[{"$f":"'E2-Normal Year Values'!$B$98","v":"00:00:00"},{"$error":"#REF!"},{"$error":"#REF!"},{"$f":"'E2-Normal Year Values'!#REF!","v":{"$error":"#REF!"}}]
[{"$f":"'E2-Normal Year Values'!$B$99","v":"00:00:00"},{"$error":"#REF!"},{"$error":"#REF!"},{"$f":"'E2-Normal Year Values'!#REF!","v":{"$error":"#REF!"}}]
[{"$f":"'E2-Normal Year Values'!$B$100","v":"00:00:00"},{"$error":"#REF!"},{"$error":"#REF!"},{"$f":"'E2-Normal Year Values'!#REF!","v":{"$error":"#REF!"}}]
[{"$f":"'E2-Normal Year Values'!$B$101","v":"00:00:00"},{"$error":"#REF!"},{"$error":"#REF!"},{"$f":"'E2-Normal Year Values'!#REF!","v":{"$error":"#REF!"}}]
[{"$f":"'E2-Normal Year Values'!$B$102","v":"00:00:00"},{"$error":"#REF!"},{"$error":"#REF!"},{"$f":"'E2-Normal Year Values'!#REF!","v":{"$error":"#REF!"}}]
[{"$f":"'E2-Normal Year Values'!$B$103","v":"00:00:00"},{"$error":"#REF!"},{"$error":"#REF!"},{"$f":"'E2-Normal Year Values'!#REF!","v":{"$error":"#REF!"}}]
[{"$f":"'E2-Normal Year Values'!$B$104","v":"00:00:00"},{"$error":"#REF!"},{"$error":"#REF!"},{"$f":"'E2-Normal Year Values'!#REF!","v":{"$error":"#REF!"}}]
[{"$f":"'E2-Normal Year Values'!$B$105","v":"00:00:00"},{"$error":"#REF!"},{"$error":"#REF!"},{"$f":"'E2-Normal Year Values'!#REF!","v":{"$error":"#REF!"}}]
[{"$f":"'E2-Normal Year Values'!$B$106","v":"00:00:00"},{"$error":"#REF!"},{"$error":"#REF!"},{"$f":"'E2-Normal Year Values'!#REF!","v":{"$error":"#REF!"}}]
[{"$f":"'E2-Normal Year Values'!$B$107","v":"00:00:00"},{"$error":"#REF!"},{"$error":"#REF!"},{"$f":"'E2-Normal Year Values'!#REF!","v":{"$error":"#REF!"}}]
[{"$f":"'E2-Normal Year Values'!$B$108","v":"00:00:00"},{"$error":"#REF!"},{"$error":"#REF!"},{"$f":"'E2-Normal Year Values'!#REF!","v":{"$error":"#REF!"}}]
[{"$f":"'E2-Normal Year Values'!$B$109","v":"00:00:00"},{"$error":"#REF!"},{"$error":"#REF!"},{"$f":"'E2-Normal Year Values'!#REF!","v":{"$error":"#REF!"}}]
[{"$f":"'E2-Normal Year Values'!$B$110","v":"00:00:00"},{"$error":"#REF!"},{"$error":"#REF!"},{"$f":"'E2-Normal Year Values'!#REF!","v":{"$error":"#REF!"}}]
[{"$f":"'E2-Normal Year Values'!$B$111","v":"00:00:00"},{"$error":"#REF!"},{"$error":"#REF!"},{"$f":"'E2-Normal Year Values'!#REF!","v":{"$error":"#REF!"}}]
[{"$f":"'E2-Normal Year Values'!$B$112","v":"00:00:00"},{"$error":"#REF!"},{"$error":"#REF!"},{"$f":"'E2-Normal Year Values'!#REF!","v":{"$error":"#REF!"}}]
[{"$f":"'E2-Normal Year Values'!$B$113","v":"00:00:00"},{"$error":"#REF!"},{"$error":"#REF!"},{"$f":"'E2-Normal Year Values'!#REF!","v":{"$error":"#REF!"}}]
[{"$f":"'E2-Normal Year Values'!$B$114","v":"00:00:00"},{"$error":"#REF!"},{"$error":"#REF!"},{"$f":"'E2-Normal Year Values'!#REF!","v":{"$error":"#REF!"}}]
[{"$f":"'E2-Normal Year Values'!$B$115","v":"00:00:00"},{"$error":"#REF!"},{"$error":"#REF!"},{"$f":"'E2-Normal Year Values'!#REF!","v":{"$error":"#REF!"}}]
[{"$f":"'E2-Normal Year Values'!$B$116","v":"00:00:00"},{"$error":"#REF!"},{"$error":"#REF!"},{"$f":"'E2-Normal Year Values'!#REF!","v":{"$error":"#REF!"}}]
[{"$f":"'E2-Normal Year Values'!$B$117","v":"00:00:00"},{"$error":"#REF!"},{"$error":"#REF!"},{"$f":"'E2-Normal Year Values'!#REF!","v":{"$error":"#REF!"}}]
[{"$f":"'E2-Normal Year Values'!$B$118","v":"00:00:00"},{"$error":"#REF!"},{"$error":"#REF!"},{"$f":"'E2-Normal Year Values'!#REF!","v":{"$error":"#REF!"}}]
[{"$f":"'E2-Normal Year Values'!$B$119","v":"00:00:00"},{"$error":"#REF!"},{"$error":"#REF!"},{"$f":"'E2-Normal Year Values'!#REF!","v":{"$error":"#REF!"}}]
[{"$f":"'E2-Normal Year Values'!$B$120","v":"00:00:00"},{"$error":"#REF!"},{"$error":"#REF!"},{"$f":"'E2-Normal Year Values'!#REF!","v":{"$error":"#REF!"}}]
[{"$f":"'E2-Normal Year Values'!$B$121","v":"00:00:00"},{"$error":"#REF!"},{"$error":"#REF!"},{"$f":"'E2-Normal Year Values'!#REF!","v":{"$error":"#REF!"}}]
[{"$f":"'E2-Normal Year Values'!$B$122","v":"00:00:00"},{"$error":"#REF!"},{"$error":"#REF!"},{"$f":"'E2-Normal Year Values'!#REF!","v":{"$error":"#REF!"}}]
[{"$f":"'E2-Normal Year Values'!$B$123","v":"00:00:00"},{"$error":"#REF!"},{"$error":"#REF!"},{"$f":"'E2-Normal Year Values'!#REF!","v":{"$error":"#REF!"}}]
[{"$f":"'E2-Normal Year Values'!$B$124","v":"00:00:00"},{"$error":"#REF!"},{"$error":"#REF!"},{"$f":"'E2-Normal Year Values'!#REF!","v":{"$error":"#REF!"}}]
[{"$f":"'E2-Normal Year Values'!$B$125","v":"00:00:00"},{"$error":"#REF!"},{"$error":"#REF!"},{"$f":"'E2-Normal Year Values'!#REF!","v":{"$error":"#REF!"}}]
[{"$f":"'E2-Normal Year Values'!$B$126","v":"00:00:00"},{"$error":"#REF!"},{"$error":"#REF!"},{"$f":"'E2-Normal Year Values'!#REF!","v":{"$error":"#REF!"}}]
[{"$f":"'E2-Normal Year Values'!$B$127","v":"00:00:00"},{"$error":"#REF!"},{"$error":"#REF!"},{"$f":"'E2-Normal Year Values'!#REF!","v":{"$error":"#REF!"}}]
[{"$f":"'E2-Normal Year Values'!$B$128","v":"00:00:00"},{"$error":"#REF!"},{"$error":"#REF!"},{"$f":"'E2-Normal Year Values'!#REF!","v":{"$error":"#REF!"}}]
[{"$f":"'E2-Normal Year Values'!$B$129","v":"00:00:00"},{"$error":"#REF!"},{"$error":"#REF!"},{"$f":"'E2-Normal Year Values'!#REF!","v":{"$error":"#REF!"}}]
[{"$f":"'E2-Normal Year Values'!$B$130","v":"00:00:00"},{"$error":"#REF!"},{"$error":"#REF!"},{"$f":"'E2-Normal Year Values'!#REF!","v":{"$error":"#REF!"}}]
[{"$f":"'E2-Normal Year Values'!$B$131","v":"00:00:00"},{"$error":"#REF!"},{"$error":"#REF!"},{"$f":"'E2-Normal Year Values'!#REF!","v":{"$error":"#REF!"}}]
[{"$f":"'E2-Normal Year Values'!$B$132","v":"00:00:00"},{"$error":"#REF!"},{"$error":"#REF!"},{"$f":"'E2-Normal Year Values'!#REF!","v":{"$error":"#REF!"}}]
[{"$f":"'E2-Normal Year Values'!$B$133","v":"00:00:00"},{"$error":"#REF!"},{"$error":"#REF!"},{"$f":"'E2-Normal Year Values'!#REF!","v":{"$error":"#REF!"}}]
[{"$f":"'E2-Normal Year Values'!$B$134","v":"00:00:00"},{"$error":"#REF!"},{"$error":"#REF!"},{"$f":"'E2-Normal Year Values'!#REF!","v":{"$error":"#REF!"}}]
[{"$f":"'E2-Normal Year Values'!$B$135","v":"00:00:00"},{"$error":"#REF!"},{"$error":"#REF!"},{"$f":"'E2-Normal Year Values'!#REF!","v":{"$error":"#REF!"}}]
[{"$f":"'E2-Normal Year Values'!$B$136","v":"00:00:00"},{"$error":"#REF!"},{"$error":"#REF!"},{"$f":"'E2-Normal Year Values'!#REF!","v":{"$error":"#REF!"}}]
[{"$f":"'E2-Normal Year Values'!$B$137","v":"00:00:00"},{"$error":"#REF!"},{"$error":"#REF!"},{"$f":"'E2-Normal Year Values'!#REF!","v":{"$error":"#REF!"}}]
[{"$f":"'E2-Normal Year Values'!$B$138","v":"00:00:00"},{"$f":"1.05*$F$2-0.05*$F$4","v":{"$error":"#REF!"}},{"$f":"1.05*$F$4-0.05*$F$2","v":{"$error":"#REF!"}},{"$f":"'E2-Normal Year Values'!#REF!","v":{"$error":"#REF!"}}]
[{"$f":"'E2-Normal Year Values'!$B$139","v":"00:00:00"},{"$error":"#REF!"},{"$error":"#REF!"},{"$f":"'E2-Normal Year Values'!#REF!","v":{"$error":"#REF!"}}]
[{"$f":"'E2-Normal Year Values'!$B$140","v":"00:00:00"},{"$error":"#REF!"},{"$error":"#REF!"},{"$f":"'E2-Normal Year Values'!#REF!","v":{"$error":"#REF!"}}]
[{"$f":"'E2-Normal Year Values'!$B$141","v":"00:00:00"},{"$error":"#REF!"},{"$error":"#REF!"},{"$f":"'E2-Normal Year Values'!#REF!","v":{"$error":"#REF!"}}]
[{"$f":"'E2-Normal Year Values'!$B$142","v":"00:00:00"},{"$error":"#REF!"},{"$error":"#REF!"},{"$f":"'E2-Normal Year Values'!#REF!","v":{"$error":"#REF!"}}]
[{"$f":"'E2-Normal Year Values'!$B$143","v":"00:00:00"},{"$error":"#REF!"},{"$error":"#REF!"},{"$f":"'E2-Normal Year Values'!#REF!","v":{"$error":"#REF!"}}]
[{"$f":"'E2-Normal Year Values'!$B$144","v":"00:00:00"},{"$error":"#REF!"},{"$error":"#REF!"},{"$f":"'E2-Normal Year Values'!#REF!","v":{"$error":"#REF!"}}]
[{"$f":"'E2-Normal Year Values'!$B$145","v":"00:00:00"},{"$error":"#REF!"},{"$error":"#REF!"},{"$f":"'E2-Normal Year Values'!#REF!","v":{"$error":"#REF!"}}]
[{"$f":"'E2-Normal Year Values'!$B$146","v":"00:00:00"},{"$error":"#REF!"},{"$error":"#REF!"},{"$f":"'E2-Normal Year Values'!#REF!","v":{"$error":"#REF!"}}]
[{"$f":"'E2-Normal Year Values'!$B$147","v":"00:00:00"},{"$error":"#REF!"},{"$error":"#REF!"},{"$f":"'E2-Normal Year Values'!#REF!","v":{"$error":"#REF!"}}]
[{"$f":"'E2-Normal Year Values'!$B$148","v":"00:00:00"},{"$error":"#REF!"},{"$error":"#REF!"},{"$f":"'E2-Normal Year Values'!#REF!","v":{"$error":"#REF!"}}]
[{"$f":"'E2-Normal Year Values'!$B$149","v":"00:00:00"},{"$error":"#REF!"},{"$error":"#REF!"},{"$f":"'E2-Normal Year Values'!#REF!","v":{"$error":"#REF!"}}]
[{"$f":"'E2-Normal Year Values'!$B$150","v":"00:00:00"},{"$error":"#REF!"},{"$error":"#REF!"},{"$f":"'E2-Normal Year Values'!#REF!","v":{"$error":"#REF!"}}]
[{"$f":"'E2-Normal Year Values'!$B$151","v":"00:00:00"},{"$error":"#REF!"},{"$error":"#REF!"},{"$f":"'E2-Normal Year Values'!#REF!","v":{"$error":"#REF!"}}]
[{"$f":"'E2-Normal Year Values'!$B$152","v":"00:00:00"},{"$error":"#REF!"},{"$error":"#REF!"},{"$f":"'E2-Normal Year Values'!#REF!","v":{"$error":"#REF!"}}]
[{"$f":"'E2-Normal Year Values'!$B$153","v":"00:00:00"},{"$error":"#REF!"},{"$error":"#REF!"},{"$f":"'E2-Normal Year Values'!#REF!","v":{"$error":"#REF!"}}]
[{"$f":"'E2-Normal Year Values'!$B$154","v":"00:00:00"},{"$error":"#REF!"},{"$error":"#REF!"},{"$f":"'E2-Normal Year Values'!#REF!","v":{"$error":"#REF!"}}]
[{"$f":"'E2-Normal Year Values'!$B$155","v":"00:00:00"},{"$error":"#REF!"},{"$error":"#REF!"},{"$f":"'E2-Normal Year Values'!#REF!","v":{"$error":"#REF!"}}]
[{"$f":"'E2-Normal Year Values'!$B$156","v":"00:00:00"},{"$error":"#REF!"},{"$error":"#REF!"},{"$f":"'E2-Normal Year Values'!#REF!","v":{"$error":"#REF!"}}]
[{"$f":"'E2-Normal Year Values'!$B$157","v":"00:00:00"},{"$error":"#REF!"},{"$error":"#REF!"},{"$f":"'E2-Normal Year Values'!#REF!","v":{"$error":"#REF!"}}]
[{"$f":"'E2-Normal Year Values'!$B$158","v":"00:00:00"},{"$error":"#REF!"},{"$error":"#REF!"},{"$f":"'E2-Normal Year Values'!#REF!","v":{"$error":"#REF!"}}]
[{"$f":"'E2-Normal Year Values'!$B$159","v":"00:00:00"},{"$error":"#REF!"},{"$error":"#REF!"},{"$f":"'E2-Normal Year Values'!#REF!","v":{"$error":"#REF!"}}]
[{"$f":"'E2-Normal Year Values'!$B$160","v":"00:00:00"},{"$error":"#REF!"},{"$error":"#REF!"},{"$f":"'E2-Normal Year Values'!#REF!","v":{"$error":"#REF!"}}]
[{"$f":"'E2-Normal Year Values'!$B$161","v":"00:00:00"},{"$error":"#REF!"},{"$error":"#REF!"},{"$f":"'E2-Normal Year Values'!#REF!","v":{"$error":"#REF!"}}]
[{"$f":"'E2-Normal Year Values'!$B$162","v":"00:00:00"},{"$error":"#REF!"},{"$error":"#REF!"},{"$f":"'E2-Normal Year Values'!#REF!","v":{"$error":"#REF!"}}]
[{"$f":"'E2-Normal Year Values'!$B$163","v":"00:00:00"},{"$error":"#REF!"},{"$error":"#REF!"},{"$f":"'E2-Normal Year Values'!#REF!","v":{"$error":"#REF!"}}]
[{"$f":"'E2-Normal Year Values'!$B$164","v":"00:00:00"},{"$error":"#REF!"},{"$error":"#REF!"},{"$f":"'E2-Normal Year Values'!#REF!","v":{"$error":"#REF!"}}]
[{"$f":"'E2-Normal Year Values'!$B$165","v":"00:00:00"},{"$error":"#REF!"},{"$error":"#REF!"},{"$f":"'E2-Normal Year Values'!#REF!","v":{"$error":"#REF!"}}]
[{"$f":"'E2-Normal Year Values'!$B$166","v":"00:00:00"},{"$error":"#REF!"},{"$error":"#REF!"},{"$f":"'E2-Normal Year Values'!#REF!","v":{"$error":"#REF!"}}]
[{"$f":"'E2-Normal Year Values'!$B$167","v":"00:00:00"},{"$error":"#REF!"},{"$error":"#REF!"},{"$f":"'E2-Normal Year Values'!#REF!","v":{"$error":"#REF!"}}]
[{"$f":"'E2-Normal Year Values'!$B$168","v":"00:00:00"},{"$error":"#REF!"},{"$error":"#REF!"},{"$f":"'E2-Normal Year Values'!#REF!","v":{"$error":"#REF!"}}]
[{"$f":"'E2-Normal Year Values'!$B$169","v":"00:00:00"},{"$error":"#REF!"},{"$error":"#REF!"},{"$f":"'E2-Normal Year Values'!#REF!","v":{"$error":"#REF!"}}]
[{"$f":"'E2-Normal Year Values'!$B$170","v":"00:00:00"},{"$error":"#REF!"},{"$error":"#REF!"},{"$f":"'E2-Normal Year Values'!#REF!","v":{"$error":"#REF!"}}]
[{"$f":"'E2-Normal Year Values'!$B$171","v":"00:00:00"},{"$error":"#REF!"},{"$error":"#REF!"},{"$f":"'E2-Normal Year Values'!#REF!","v":{"$error":"#REF!"}}]
[{"$f":"'E2-Normal Year Values'!$B$172","v":"00:00:00"},{"$error":"#REF!"},{"$error":"#REF!"},{"$f":"'E2-Normal Year Values'!#REF!","v":{"$error":"#REF!"}}]
[{"$f":"'E2-Normal Year Values'!$B$173","v":"00:00:00"},{"$error":"#REF!"},{"$error":"#REF!"},{"$f":"'E2-Normal Year Values'!#REF!","v":{"$error":"#REF!"}}]
[{"$f":"'E2-Normal Year Values'!$B$174","v":"00:00:00"},{"$error":"#REF!"},{"$error":"#REF!"},{"$f":"'E2-Normal Year Values'!#REF!","v":{"$error":"#REF!"}}]
[{"$f":"'E2-Normal Year Values'!$B$175","v":"00:00:00"},{"$error":"#REF!"},{"$error":"#REF!"},{"$f":"'E2-Normal Year Values'!#REF!","v":{"$error":"#REF!"}}]
[{"$f":"'E2-Normal Year Values'!$B$176","v":"00:00:00"},{"$error":"#REF!"},{"$error":"#REF!"},{"$f":"'E2-Normal Year Values'!#REF!","v":{"$error":"#REF!"}}]
[{"$f":"'E2-Normal Year Values'!$B$177","v":"00:00:00"},{"$error":"#REF!"},{"$error":"#REF!"},{"$f":"'E2-Normal Year Values'!#REF!","v":{"$error":"#REF!"}}]
[{"$f":"'E2-Normal Year Values'!$B$178","v":"00:00:00"},{"$error":"#REF!"},{"$error":"#REF!"},{"$f":"'E2-Normal Year Values'!#REF!","v":{"$error":"#REF!"}}]
[{"$f":"'E2-Normal Year Values'!$B$179","v":"00:00:00"},{"$error":"#REF!"},{"$error":"#REF!"},{"$f":"'E2-Normal Year Values'!#REF!","v":{"$error":"#REF!"}}]
[{"$f":"'E2-Normal Year Values'!$B$180","v":"00:00:00"},{"$error":"#REF!"},{"$error":"#REF!"},{"$f":"'E2-Normal Year Values'!#REF!","v":{"$error":"#REF!"}}]
[{"$f":"'E2-Normal Year Values'!$B$181","v":"00:00:00"},{"$error":"#REF!"},{"$error":"#REF!"},{"$f":"'E2-Normal Year Values'!#REF!","v":{"$error":"#REF!"}}]
[{"$f":"'E2-Normal Year Values'!$B$182","v":"00:00:00"},{"$error":"#REF!"},{"$error":"#REF!"},{"$f":"'E2-Normal Year Values'!#REF!","v":{"$error":"#REF!"}}]
[{"$f":"'E2-Normal Year Values'!$B$183","v":"00:00:00"},{"$error":"#REF!"},{"$error":"#REF!"},{"$f":"'E2-Normal Year Values'!#REF!","v":{"$error":"#REF!"}}]
[{"$f":"'E2-Normal Year Values'!$B$184","v":"00:00:00"},{"$error":"#REF!"},{"$error":"#REF!"},{"$f":"'E2-Normal Year Values'!#REF!","v":{"$error":"#REF!"}}]
[{"$f":"'E2-Normal Year Values'!$B$185","v":"00:00:00"},{"$error":"#REF!"},{"$error":"#REF!"},{"$f":"'E2-Normal Year Values'!#REF!","v":{"$error":"#REF!"}}]
[{"$f":"'E2-Normal Year Values'!$B$186","v":"00:00:00"},{"$error":"#REF!"},{"$error":"#REF!"},{"$f":"'E2-Normal Year Values'!#REF!","v":{"$error":"#REF!"}}]
[{"$f":"'E2-Normal Year Values'!$B$187","v":"00:00:00"},{"$error":"#REF!"},{"$error":"#REF!"},{"$f":"'E2-Normal Year Values'!#REF!","v":{"$error":"#REF!"}}]
[{"$f":"'E2-Normal Year Values'!$B$188","v":"00:00:00"},{"$error":"#REF!"},{"$error":"#REF!"},{"$f":"'E2-Normal Year Values'!#REF!","v":{"$error":"#REF!"}}]
[{"$f":"'E2-Normal Year Values'!$B$189","v":"00:00:00"},{"$error":"#REF!"},{"$error":"#REF!"},{"$f":"'E2-Normal Year Values'!#REF!","v":{"$error":"#REF!"}}]
[{"$f":"'E2-Normal Year Values'!$B$190","v":"00:00:00"},{"$error":"#REF!"},{"$error":"#REF!"},{"$f":"'E2-Normal Year Values'!#REF!","v":{"$error":"#REF!"}}]
[{"$f":"'E2-Normal Year Values'!$B$191","v":"00:00:00"},{"$error":"#REF!"},{"$error":"#REF!"},{"$f":"'E2-Normal Year Values'!#REF!","v":{"$error":"#REF!"}}]
[{"$f":"'E2-Normal Year Values'!$B$192","v":"00:00:00"},{"$error":"#REF!"},{"$error":"#REF!"},{"$f":"'E2-Normal Year Values'!#REF!","v":{"$error":"#REF!"}}]
[{"$f":"'E2-Normal Year Values'!$B$193","v":"00:00:00"},{"$error":"#REF!"},{"$error":"#REF!"},{"$f":"'E2-Normal Year Values'!#REF!","v":{"$error":"#REF!"}}]
[{"$f":"'E2-Normal Year Values'!$B$194","v":"00:00:00"},{"$error":"#REF!"},{"$error":"#REF!"},{"$f":"'E2-Normal Year Values'!#REF!","v":{"$error":"#REF!"}}]
[{"$f":"'E2-Normal Year Values'!$B$195","v":"00:00:00"},{"$error":"#REF!"},{"$error":"#REF!"},{"$f":"'E2-Normal Year Values'!#REF!","v":{"$error":"#REF!"}}]
[{"$f":"'E2-Normal Year Values'!$B$196","v":"00:00:00"},{"$error":"#REF!"},{"$error":"#REF!"},{"$f":"'E2-Normal Year Values'!#REF!","v":{"$error":"#REF!"}}]
[{"$f":"'E2-Normal Year Values'!$B$197","v":"00:00:00"},{"$error":"#REF!"},{"$error":"#REF!"},{"$f":"'E2-Normal Year Values'!#REF!","v":{"$error":"#REF!"}}]
[{"$f":"'E2-Normal Year Values'!$B$198","v":"00:00:00"},{"$error":"#REF!"},{"$error":"#REF!"},{"$f":"'E2-Normal Year Values'!#REF!","v":{"$error":"#REF!"}}]
[{"$f":"'E2-Normal Year Values'!$B$199","v":"00:00:00"},{"$error":"#REF!"},{"$error":"#REF!"},{"$f":"'E2-Normal Year Values'!#REF!","v":{"$error":"#REF!"}}]
[{"$f":"'E2-Normal Year Values'!$B$200","v":"00:00:00"},{"$error":"#REF!"},{"$error":"#REF!"},{"$f":"'E2-Normal Year Values'!#REF!","v":{"$error":"#REF!"}}]
[{"$f":"'E2-Normal Year Values'!$B$201","v":"00:00:00"},{"$error":"#REF!"},{"$error":"#REF!"},{"$f":"'E2-Normal Year Values'!#REF!","v":{"$error":"#REF!"}}]
[{"$f":"'E2-Normal Year Values'!$B$202","v":"00:00:00"},{"$f":"1.05*$F$2-0.05*$F$4","v":{"$error":"#REF!"}},{"$f":"1.05*$F$4-0.05*$F$2","v":{"$error":"#REF!"}},{"$f":"'E2-Normal Year Values'!#REF!","v":{"$error":"#REF!"}}]
[{"$f":"'E2-Normal Year Values'!$B$203","v":"00:00:00"},{"$error":"#REF!"},{"$error":"#REF!"},{"$f":"'E2-Normal Year Values'!#REF!","v":{"$error":"#REF!"}}]
[{"$f":"'E2-Normal Year Values'!$B$204","v":"00:00:00"},{"$error":"#REF!"},{"$error":"#REF!"},{"$f":"'E2-Normal Year Values'!#REF!","v":{"$error":"#REF!"}}]
[{"$f":"'E2-Normal Year Values'!$B$205","v":"00:00:00"},{"$error":"#REF!"},{"$error":"#REF!"},{"$f":"'E2-Normal Year Values'!#REF!","v":{"$error":"#REF!"}}]
[{"$f":"'E2-Normal Year Values'!$B$206","v":"00:00:00"},{"$error":"#REF!"},{"$error":"#REF!"},{"$f":"'E2-Normal Year Values'!#REF!","v":{"$error":"#REF!"}}]
[{"$f":"'E2-Normal Year Values'!$B$207","v":"00:00:00"},{"$error":"#REF!"},{"$error":"#REF!"},{"$f":"'E2-Normal Year Values'!#REF!","v":{"$error":"#REF!"}}]
[{"$f":"'E2-Normal Year Values'!$B$208","v":"00:00:00"},{"$error":"#REF!"},{"$error":"#REF!"},{"$f":"'E2-Normal Year Values'!#REF!","v":{"$error":"#REF!"}}]
[{"$f":"'E2-Normal Year Values'!$B$209","v":"00:00:00"},{"$error":"#REF!"},{"$error":"#REF!"},{"$f":"'E2-Normal Year Values'!#REF!","v":{"$error":"#REF!"}}]
[{"$f":"'E2-Normal Year Values'!$B$210","v":"00:00:00"},{"$error":"#REF!"},{"$error":"#REF!"},{"$f":"'E2-Normal Year Values'!#REF!","v":{"$error":"#REF!"}}]
[{"$f":"'E2-Normal Year Values'!$B$211","v":"00:00:00"},{"$error":"#REF!"},{"$error":"#REF!"},{"$f":"'E2-Normal Year Values'!#REF!","v":{"$error":"#REF!"}}]
[{"$f":"'E2-Normal Year Values'!$B$212","v":"00:00:00"},{"$error":"#REF!"},{"$error":"#REF!"},{"$f":"'E2-Normal Year Values'!#REF!","v":{"$error":"#REF!"}}]
[{"$f":"'E2-Normal Year Values'!$B$213","v":"00:00:00"},{"$error":"#REF!"},{"$error":"#REF!"},{"$f":"'E2-Normal Year Values'!#REF!","v":{"$error":"#REF!"}}]
[{"$f":"'E2-Normal Year Values'!$B$214","v":"00:00:00"},{"$error":"#REF!"},{"$error":"#REF!"},{"$f":"'E2-Normal Year Values'!#REF!","v":{"$error":"#REF!"}}]
[{"$f":"'E2-Normal Year Values'!$B$215","v":"00:00:00"},{"$error":"#REF!"},{"$error":"#REF!"},{"$f":"'E2-Normal Year Values'!#REF!","v":{"$error":"#REF!"}}]
[{"$f":"'E2-Normal Year Values'!$B$216","v":"00:00:00"},{"$error":"#REF!"},{"$error":"#REF!"},{"$f":"'E2-Normal Year Values'!#REF!","v":{"$error":"#REF!"}}]
[{"$f":"'E2-Normal Year Values'!$B$217","v":"00:00:00"},{"$error":"#REF!"},{"$error":"#REF!"},{"$f":"'E2-Normal Year Values'!#REF!","v":{"$error":"#REF!"}}]
[{"$f":"'E2-Normal Year Values'!$B$218","v":"00:00:00"},{"$error":"#REF!"},{"$error":"#REF!"},{"$f":"'E2-Normal Year Values'!#REF!","v":{"$error":"#REF!"}}]
[{"$f":"'E2-Normal Year Values'!$B$219","v":"00:00:00"},{"$error":"#REF!"},{"$error":"#REF!"},{"$f":"'E2-Normal Year Values'!#REF!","v":{"$error":"#REF!"}}]
[{"$f":"'E2-Normal Year Values'!$B$220","v":"00:00:00"},{"$error":"#REF!"},{"$error":"#REF!"},{"$f":"'E2-Normal Year Values'!#REF!","v":{"$error":"#REF!"}}]
[{"$f":"'E2-Normal Year Values'!$B$221","v":"00:00:00"},{"$error":"#REF!"},{"$error":"#REF!"},{"$f":"'E2-Normal Year Values'!#REF!","v":{"$error":"#REF!"}}]
[{"$f":"'E2-Normal Year Values'!$B$222","v":"00:00:00"},{"$error":"#REF!"},{"$error":"#REF!"},{"$f":"'E2-Normal Year Values'!#REF!","v":{"$error":"#REF!"}}]
[{"$f":"'E2-Normal Year Values'!$B$223","v":"00:00:00"},{"$error":"#REF!"},{"$error":"#REF!"},{"$f":"'E2-Normal Year Values'!#REF!","v":{"$error":"#REF!"}}]
[{"$f":"'E2-Normal Year Values'!$B$224","v":"00:00:00"},{"$error":"#REF!"},{"$error":"#REF!"},{"$f":"'E2-Normal Year Values'!#REF!","v":{"$error":"#REF!"}}]
[{"$f":"'E2-Normal Year Values'!$B$225","v":"00:00:00"},{"$error":"#REF!"},{"$error":"#REF!"},{"$f":"'E2-Normal Year Values'!#REF!","v":{"$error":"#REF!"}}]
[{"$f":"'E2-Normal Year Values'!$B$226","v":"00:00:00"},{"$error":"#REF!"},{"$error":"#REF!"},{"$f":"'E2-Normal Year Values'!#REF!","v":{"$error":"#REF!"}}]
[{"$f":"'E2-Normal Year Values'!$B$227","v":"00:00:00"},{"$error":"#REF!"},{"$error":"#REF!"},{"$f":"'E2-Normal Year Values'!#REF!","v":{"$error":"#REF!"}}]
[{"$f":"'E2-Normal Year Values'!$B$228","v":"00:00:00"},{"$error":"#REF!"},{"$error":"#REF!"},{"$f":"'E2-Normal Year Values'!#REF!","v":{"$error":"#REF!"}}]
[{"$f":"'E2-Normal Year Values'!$B$229","v":"00:00:00"},{"$error":"#REF!"},{"$error":"#REF!"},{"$f":"'E2-Normal Year Values'!#REF!","v":{"$error":"#REF!"}}]
[{"$f":"'E2-Normal Year Values'!$B$230","v":"00:00:00"},{"$error":"#REF!"},{"$error":"#REF!"},{"$f":"'E2-Normal Year Values'!#REF!","v":{"$error":"#REF!"}}]
[{"$f":"'E2-Normal Year Values'!$B$231","v":"00:00:00"},{"$error":"#REF!"},{"$error":"#REF!"},{"$f":"'E2-Normal Year Values'!#REF!","v":{"$error":"#REF!"}}]
[{"$f":"'E2-Normal Year Values'!$B$232","v":"00:00:00"},{"$error":"#REF!"},{"$error":"#REF!"},{"$f":"'E2-Normal Year Values'!#REF!","v":{"$error":"#REF!"}}]
[{"$f":"'E2-Normal Year Values'!$B$233","v":"00:00:00"},{"$error":"#REF!"},{"$error":"#REF!"},{"$f":"'E2-Normal Year Values'!#REF!","v":{"$error":"#REF!"}}]
[{"$f":"'E2-Normal Year Values'!$B$234","v":"00:00:00"},{"$error":"#REF!"},{"$error":"#REF!"},{"$f":"'E2-Normal Year Values'!#REF!","v":{"$error":"#REF!"}}]
[{"$f":"'E2-Normal Year Values'!$B$235","v":"00:00:00"},{"$error":"#REF!"},{"$error":"#REF!"},{"$f":"'E2-Normal Year Values'!#REF!","v":{"$error":"#REF!"}}]
[{"$f":"'E2-Normal Year Values'!$B$236","v":"00:00:00"},{"$error":"#REF!"},{"$error":"#REF!"},{"$f":"'E2-Normal Year Values'!#REF!","v":{"$error":"#REF!"}}]
[{"$f":"'E2-Normal Year Values'!$B$237","v":"00:00:00"},{"$error":"#REF!"},{"$error":"#REF!"},{"$f":"'E2-Normal Year Values'!#REF!","v":{"$error":"#REF!"}}]
[{"$f":"'E2-Normal Year Values'!$B$238","v":"00:00:00"},{"$error":"#REF!"},{"$error":"#REF!"},{"$f":"'E2-Normal Year Values'!#REF!","v":{"$error":"#REF!"}}]
[{"$f":"'E2-Normal Year Values'!$B$239","v":"00:00:00"},{"$error":"#REF!"},{"$error":"#REF!"},{"$f":"'E2-Normal Year Values'!#REF!","v":{"$error":"#REF!"}}]
[{"$f":"'E2-Normal Year Values'!$B$240","v":"00:00:00"},{"$error":"#REF!"},{"$error":"#REF!"},{"$f":"'E2-Normal Year Values'!#REF!","v":{"$error":"#REF!"}}]
[{"$f":"'E2-Normal Year Values'!$B$241","v":"00:00:00"},{"$error":"#REF!"},{"$error":"#REF!"},{"$f":"'E2-Normal Year Values'!#REF!","v":{"$error":"#REF!"}}]
[{"$f":"'E2-Normal Year Values'!$B$242","v":"00:00:00"},{"$error":"#REF!"},{"$error":"#REF!"},{"$f":"'E2-Normal Year Values'!#REF!","v":{"$error":"#REF!"}}]
[{"$f":"'E2-Normal Year Values'!$B$243","v":"00:00:00"},{"$error":"#REF!"},{"$error":"#REF!"},{"$f":"'E2-Normal Year Values'!#REF!","v":{"$error":"#REF!"}}]
[{"$f":"'E2-Normal Year Values'!$B$244","v":"00:00:00"},{"$error":"#REF!"},{"$error":"#REF!"},{"$f":"'E2-Normal Year Values'!#REF!","v":{"$error":"#REF!"}}]
[{"$f":"'E2-Normal Year Values'!$B$245","v":"00:00:00"},{"$error":"#REF!"},{"$error":"#REF!"},{"$f":"'E2-Normal Year Values'!#REF!","v":{"$error":"#REF!"}}]
[{"$f":"'E2-Normal Year Values'!$B$246","v":"00:00:00"},{"$error":"#REF!"},{"$error":"#REF!"},{"$f":"'E2-Normal Year Values'!#REF!","v":{"$error":"#REF!"}}]
[{"$f":"'E2-Normal Year Values'!$B$247","v":"00:00:00"},{"$error":"#REF!"},{"$error":"#REF!"},{"$f":"'E2-Normal Year Values'!#REF!","v":{"$error":"#REF!"}}]
[{"$f":"'E2-Normal Year Values'!$B$248","v":"00:00:00"},{"$error":"#REF!"},{"$error":"#REF!"},{"$f":"'E2-Normal Year Values'!#REF!","v":{"$error":"#REF!"}}]
[{"$f":"'E2-Normal Year Values'!$B$249","v":"00:00:00"},{"$error":"#REF!"},{"$error":"#REF!"},{"$f":"'E2-Normal Year Values'!#REF!","v":{"$error":"#REF!"}}]
[{"$f":"'E2-Normal Year Values'!$B$250","v":"00:00:00"},{"$error":"#REF!"},{"$error":"#REF!"},{"$f":"'E2-Normal Year Values'!#REF!","v":{"$error":"#REF!"}}]
[{"$f":"'E2-Normal Year Values'!$B$251","v":"00:00:00"},{"$error":"#REF!"},{"$error":"#REF!"},{"$f":"'E2-Normal Year Values'!#REF!","v":{"$error":"#REF!"}}]
[{"$f":"'E2-Normal Year Values'!$B$252","v":"00:00:00"},{"$error":"#REF!"},{"$error":"#REF!"},{"$f":"'E2-Normal Year Values'!#REF!","v":{"$error":"#REF!"}}]
[{"$f":"'E2-Normal Year Values'!$B$253","v":"00:00:00"},{"$error":"#REF!"},{"$error":"#REF!"},{"$f":"'E2-Normal Year Values'!#REF!","v":{"$error":"#REF!"}}]
[{"$f":"'E2-Normal Year Values'!$B$254","v":"00:00:00"},{"$error":"#REF!"},{"$error":"#REF!"},{"$f":"'E2-Normal Year Values'!#REF!","v":{"$error":"#REF!"}}]
[{"$f":"'E2-Normal Year Values'!$B$255","v":"00:00:00"},{"$error":"#REF!"},{"$error":"#REF!"},{"$f":"'E2-Normal Year Values'!#REF!","v":{"$error":"#REF!"}}]
[{"$f":"'E2-Normal Year Values'!$B$256","v":"00:00:00"},{"$error":"#REF!"},{"$error":"#REF!"},{"$f":"'E2-Normal Year Values'!#REF!","v":{"$error":"#REF!"}}]
[{"$f":"'E2-Normal Year Values'!$B$257","v":"00:00:00"},{"$error":"#REF!"},{"$error":"#REF!"},{"$f":"'E2-Normal Year Values'!#REF!","v":{"$error":"#REF!"}}]
[{"$f":"'E2-Normal Year Values'!$B$258","v":"00:00:00"},{"$error":"#REF!"},{"$error":"#REF!"},{"$f":"'E2-Normal Year Values'!#REF!","v":{"$error":"#REF!"}}]
[{"$f":"'E2-Normal Year Values'!$B$259","v":"00:00:00"},{"$error":"#REF!"},{"$error":"#REF!"},{"$f":"'E2-Normal Year Values'!#REF!","v":{"$error":"#REF!"}}]
[{"$f":"'E2-Normal Year Values'!$B$260","v":"00:00:00"},{"$error":"#REF!"},{"$error":"#REF!"},{"$f":"'E2-Normal Year Values'!#REF!","v":{"$error":"#REF!"}}]
[{"$f":"'E2-Normal Year Values'!$B$261","v":"00:00:00"},{"$error":"#REF!"},{"$error":"#REF!"},{"$f":"'E2-Normal Year Values'!#REF!","v":{"$error":"#REF!"}}]
[{"$f":"'E2-Normal Year Values'!$B$262","v":"00:00:00"},{"$error":"#REF!"},{"$error":"#REF!"},{"$f":"'E2-Normal Year Values'!#REF!","v":{"$error":"#REF!"}}]
[{"$f":"'E2-Normal Year Values'!$B$263","v":"00:00:00"},{"$error":"#REF!"},{"$error":"#REF!"},{"$f":"'E2-Normal Year Values'!#REF!","v":{"$error":"#REF!"}}]
[{"$f":"'E2-Normal Year Values'!$B$264","v":"00:00:00"},{"$error":"#REF!"},{"$error":"#REF!"},{"$f":"'E2-Normal Year Values'!#REF!","v":{"$error":"#REF!"}}]
[{"$f":"'E2-Normal Year Values'!$B$265","v":"00:00:00"},{"$error":"#REF!"},{"$error":"#REF!"},{"$f":"'E2-Normal Year Values'!#REF!","v":{"$error":"#REF!"}}]
[{"$f":"'E2-Normal Year Values'!$B$266","v":"00:00:00"},{"$f":"1.05*$F$2-0.05*$F$4","v":{"$error":"#REF!"}},{"$f":"1.05*$F$4-0.05*$F$2","v":{"$error":"#REF!"}},{"$f":"'E2-Normal Year Values'!#REF!","v":{"$error":"#REF!"}}]
[{"$f":"'E2-Normal Year Values'!$B$267","v":"00:00:00"},{"$error":"#REF!"},{"$error":"#REF!"},{"$f":"'E2-Normal Year Values'!#REF!","v":{"$error":"#REF!"}}]
[{"$f":"'E2-Normal Year Values'!$B$268","v":"00:00:00"},{"$error":"#REF!"},{"$error":"#REF!"},{"$f":"'E2-Normal Year Values'!#REF!","v":{"$error":"#REF!"}}]
[{"$f":"'E2-Normal Year Values'!$B$269","v":"00:00:00"},{"$error":"#REF!"},{"$error":"#REF!"},{"$f":"'E2-Normal Year Values'!#REF!","v":{"$error":"#REF!"}}]
[{"$f":"'E2-Normal Year Values'!$B$270","v":"00:00:00"},{"$error":"#REF!"},{"$error":"#REF!"},{"$f":"'E2-Normal Year Values'!#REF!","v":{"$error":"#REF!"}}]
[{"$f":"'E2-Normal Year Values'!$B$271","v":"00:00:00"},{"$error":"#REF!"},{"$error":"#REF!"},{"$f":"'E2-Normal Year Values'!#REF!","v":{"$error":"#REF!"}}]
[{"$f":"'E2-Normal Year Values'!$B$272","v":"00:00:00"},{"$error":"#REF!"},{"$error":"#REF!"},{"$f":"'E2-Normal Year Values'!#REF!","v":{"$error":"#REF!"}}]
[{"$f":"'E2-Normal Year Values'!$B$273","v":"00:00:00"},{"$error":"#REF!"},{"$error":"#REF!"},{"$f":"'E2-Normal Year Values'!#REF!","v":{"$error":"#REF!"}}]
[{"$f":"'E2-Normal Year Values'!$B$274","v":"00:00:00"},{"$error":"#REF!"},{"$error":"#REF!"},{"$f":"'E2-Normal Year Values'!#REF!","v":{"$error":"#REF!"}}]
[{"$f":"'E2-Normal Year Values'!$B$275","v":"00:00:00"},{"$error":"#REF!"},{"$error":"#REF!"},{"$f":"'E2-Normal Year Values'!#REF!","v":{"$error":"#REF!"}}]
[{"$f":"'E2-Normal Year Values'!$B$276","v":"00:00:00"},{"$error":"#REF!"},{"$error":"#REF!"},{"$f":"'E2-Normal Year Values'!#REF!","v":{"$error":"#REF!"}}]
[{"$f":"'E2-Normal Year Values'!$B$277","v":"00:00:00"},{"$error":"#REF!"},{"$error":"#REF!"},{"$f":"'E2-Normal Year Values'!#REF!","v":{"$error":"#REF!"}}]
[{"$f":"'E2-Normal Year Values'!$B$278","v":"00:00:00"},{"$error":"#REF!"},{"$error":"#REF!"},{"$f":"'E2-Normal Year Values'!#REF!","v":{"$error":"#REF!"}}]
[{"$f":"'E2-Normal Year Values'!$B$279","v":"00:00:00"},{"$error":"#REF!"},{"$error":"#REF!"},{"$f":"'E2-Normal Year Values'!#REF!","v":{"$error":"#REF!"}}]
[{"$f":"'E2-Normal Year Values'!$B$280","v":"00:00:00"},{"$error":"#REF!"},{"$error":"#REF!"},{"$f":"'E2-Normal Year Values'!#REF!","v":{"$error":"#REF!"}}]
[{"$f":"'E2-Normal Year Values'!$B$281","v":"00:00:00"},{"$error":"#REF!"},{"$error":"#REF!"},{"$f":"'E2-Normal Year Values'!#REF!","v":{"$error":"#REF!"}}]
[{"$f":"'E2-Normal Year Values'!$B$282","v":"00:00:00"},{"$error":"#REF!"},{"$error":"#REF!"},{"$f":"'E2-Normal Year Values'!#REF!","v":{"$error":"#REF!"}}]
[{"$f":"'E2-Normal Year Values'!$B$283","v":"00:00:00"},{"$error":"#REF!"},{"$error":"#REF!"},{"$f":"'E2-Normal Year Values'!#REF!","v":{"$error":"#REF!"}}]
[{"$f":"'E2-Normal Year Values'!$B$284","v":"00:00:00"},{"$error":"#REF!"},{"$error":"#REF!"},{"$f":"'E2-Normal Year Values'!#REF!","v":{"$error":"#REF!"}}]
[{"$f":"'E2-Normal Year Values'!$B$285","v":"00:00:00"},{"$error":"#REF!"},{"$error":"#REF!"},{"$f":"'E2-Normal Year Values'!#REF!","v":{"$error":"#REF!"}}]
[{"$f":"'E2-Normal Year Values'!$B$286","v":"00:00:00"},{"$error":"#REF!"},{"$error":"#REF!"},{"$f":"'E2-Normal Year Values'!#REF!","v":{"$error":"#REF!"}}]
[{"$f":"'E2-Normal Year Values'!$B$287","v":"00:00:00"},{"$error":"#REF!"},{"$error":"#REF!"},{"$f":"'E2-Normal Year Values'!#REF!","v":{"$error":"#REF!"}}]
[{"$f":"'E2-Normal Year Values'!$B$288","v":"00:00:00"},{"$error":"#REF!"},{"$error":"#REF!"},{"$f":"'E2-Normal Year Values'!#REF!","v":{"$error":"#REF!"}}]
[{"$f":"'E2-Normal Year Values'!$B$289","v":"00:00:00"},{"$error":"#REF!"},{"$error":"#REF!"},{"$f":"'E2-Normal Year Values'!#REF!","v":{"$error":"#REF!"}}]
[{"$f":"'E2-Normal Year Values'!$B$290","v":"00:00:00"},{"$error":"#REF!"},{"$error":"#REF!"},{"$f":"'E2-Normal Year Values'!#REF!","v":{"$error":"#REF!"}}]
[{"$f":"'E2-Normal Year Values'!$B$291","v":"00:00:00"},{"$error":"#REF!"},{"$error":"#REF!"},{"$f":"'E2-Normal Year Values'!#REF!","v":{"$error":"#REF!"}}]
[{"$f":"'E2-Normal Year Values'!$B$292","v":"00:00:00"},{"$error":"#REF!"},{"$error":"#REF!"},{"$f":"'E2-Normal Year Values'!#REF!","v":{"$error":"#REF!"}}]
[{"$f":"'E2-Normal Year Values'!$B$293","v":"00:00:00"},{"$error":"#REF!"},{"$error":"#REF!"},{"$f":"'E2-Normal Year Values'!#REF!","v":{"$error":"#REF!"}}]
[{"$f":"'E2-Normal Year Values'!$B$294","v":"00:00:00"},{"$error":"#REF!"},{"$error":"#REF!"},{"$f":"'E2-Normal Year Values'!#REF!","v":{"$error":"#REF!"}}]
[{"$f":"'E2-Normal Year Values'!$B$295","v":"00:00:00"},{"$error":"#REF!"},{"$error":"#REF!"},{"$f":"'E2-Normal Year Values'!#REF!","v":{"$error":"#REF!"}}]
[{"$f":"'E2-Normal Year Values'!$B$296","v":"00:00:00"},{"$error":"#REF!"},{"$error":"#REF!"},{"$f":"'E2-Normal Year Values'!#REF!","v":{"$error":"#REF!"}}]
[{"$f":"'E2-Normal Year Values'!$B$297","v":"00:00:00"},{"$error":"#REF!"},{"$error":"#REF!"},{"$f":"'E2-Normal Year Values'!#REF!","v":{"$error":"#REF!"}}]
[{"$f":"'E2-Normal Year Values'!$B$298","v":"00:00:00"},{"$error":"#REF!"},{"$error":"#REF!"},{"$f":"'E2-Normal Year Values'!#REF!","v":{"$error":"#REF!"}}]
[{"$f":"'E2-Normal Year Values'!$B$299","v":"00:00:00"},{"$error":"#REF!"},{"$error":"#REF!"},{"$f":"'E2-Normal Year Values'!#REF!","v":{"$error":"#REF!"}}]
[{"$f":"'E2-Normal Year Values'!$B$300","v":"00:00:00"},{"$error":"#REF!"},{"$error":"#REF!"},{"$f":"'E2-Normal Year Values'!#REF!","v":{"$error":"#REF!"}}]
[{"$f":"'E2-Normal Year Values'!$B$301","v":"00:00:00"},{"$error":"#REF!"},{"$error":"#REF!"},{"$f":"'E2-Normal Year Values'!#REF!","v":{"$error":"#REF!"}}]
[{"$f":"'E2-Normal Year Values'!$B$302","v":"00:00:00"},{"$error":"#REF!"},{"$error":"#REF!"},{"$f":"'E2-Normal Year Values'!#REF!","v":{"$error":"#REF!"}}]
[{"$f":"'E2-Normal Year Values'!$B$303","v":"00:00:00"},{"$error":"#REF!"},{"$error":"#REF!"},{"$f":"'E2-Normal Year Values'!#REF!","v":{"$error":"#REF!"}}]
[{"$f":"'E2-Normal Year Values'!$B$304","v":"00:00:00"},{"$error":"#REF!"},{"$error":"#REF!"},{"$f":"'E2-Normal Year Values'!#REF!","v":{"$error":"#REF!"}}]
[{"$f":"'E2-Normal Year Values'!$B$305","v":"00:00:00"},{"$error":"#REF!"},{"$error":"#REF!"},{"$f":"'E2-Normal Year Values'!#REF!","v":{"$error":"#REF!"}}]
[{"$f":"'E2-Normal Year Values'!$B$306","v":"00:00:00"},{"$error":"#REF!"},{"$error":"#REF!"},{"$f":"'E2-Normal Year Values'!#REF!","v":{"$error":"#REF!"}}]
[{"$f":"'E2-Normal Year Values'!$B$307","v":"00:00:00"},{"$error":"#REF!"},{"$error":"#REF!"},{"$f":"'E2-Normal Year Values'!#REF!","v":{"$error":"#REF!"}}]
[{"$f":"'E2-Normal Year Values'!$B$308","v":"00:00:00"},{"$error":"#REF!"},{"$error":"#REF!"},{"$f":"'E2-Normal Year Values'!#REF!","v":{"$error":"#REF!"}}]
[{"$f":"'E2-Normal Year Values'!$B$309","v":"00:00:00"},{"$error":"#REF!"},{"$error":"#REF!"},{"$f":"'E2-Normal Year Values'!#REF!","v":{"$error":"#REF!"}}]
[{"$f":"'E2-Normal Year Values'!$B$310","v":"00:00:00"},{"$error":"#REF!"},{"$error":"#REF!"},{"$f":"'E2-Normal Year Values'!#REF!","v":{"$error":"#REF!"}}]
[{"$f":"'E2-Normal Year Values'!$B$311","v":"00:00:00"},{"$error":"#REF!"},{"$error":"#REF!"},{"$f":"'E2-Normal Year Values'!#REF!","v":{"$error":"#REF!"}}]
[{"$f":"'E2-Normal Year Values'!$B$312","v":"00:00:00"},{"$error":"#REF!"},{"$error":"#REF!"},{"$f":"'E2-Normal Year Values'!#REF!","v":{"$error":"#REF!"}}]
[{"$f":"'E2-Normal Year Values'!$B$313","v":"00:00:00"},{"$error":"#REF!"},{"$error":"#REF!"},{"$f":"'E2-Normal Year Values'!#REF!","v":{"$error":"#REF!"}}]
[{"$f":"'E2-Normal Year Values'!$B$314","v":"00:00:00"},{"$error":"#REF!"},{"$error":"#REF!"},{"$f":"'E2-Normal Year Values'!#REF!","v":{"$error":"#REF!"}}]
[{"$f":"'E2-Normal Year Values'!$B$315","v":"00:00:00"},{"$error":"#REF!"},{"$error":"#REF!"},{"$f":"'E2-Normal Year Values'!#REF!","v":{"$error":"#REF!"}}]
[{"$f":"'E2-Normal Year Values'!$B$316","v":"00:00:00"},{"$error":"#REF!"},{"$error":"#REF!"},{"$f":"'E2-Normal Year Values'!#REF!","v":{"$error":"#REF!"}}]
[{"$f":"'E2-Normal Year Values'!$B$317","v":"00:00:00"},{"$error":"#REF!"},{"$error":"#REF!"},{"$f":"'E2-Normal Year Values'!#REF!","v":{"$error":"#REF!"}}]
[{"$f":"'E2-Normal Year Values'!$B$318","v":"00:00:00"},{"$error":"#REF!"},{"$error":"#REF!"},{"$f":"'E2-Normal Year Values'!#REF!","v":{"$error":"#REF!"}}]
[{"$f":"'E2-Normal Year Values'!$B$319","v":"00:00:00"},{"$error":"#REF!"},{"$error":"#REF!"},{"$f":"'E2-Normal Year Values'!#REF!","v":{"$error":"#REF!"}}]
[{"$f":"'E2-Normal Year Values'!$B$320","v":"00:00:00"},{"$error":"#REF!"},{"$error":"#REF!"},{"$f":"'E2-Normal Year Values'!#REF!","v":{"$error":"#REF!"}}]
[{"$f":"'E2-Normal Year Values'!$B$321","v":"00:00:00"},{"$error":"#REF!"},{"$error":"#REF!"},{"$f":"'E2-Normal Year Values'!#REF!","v":{"$error":"#REF!"}}]
[{"$f":"'E2-Normal Year Values'!$B$322","v":"00:00:00"},{"$error":"#REF!"},{"$error":"#REF!"},{"$f":"'E2-Normal Year Values'!#REF!","v":{"$error":"#REF!"}}]
[{"$f":"'E2-Normal Year Values'!$B$323","v":"00:00:00"},{"$error":"#REF!"},{"$error":"#REF!"},{"$f":"'E2-Normal Year Values'!#REF!","v":{"$error":"#REF!"}}]
[{"$f":"'E2-Normal Year Values'!$B$324","v":"00:00:00"},{"$error":"#REF!"},{"$error":"#REF!"},{"$f":"'E2-Normal Year Values'!#REF!","v":{"$error":"#REF!"}}]
[{"$f":"'E2-Normal Year Values'!$B$325","v":"00:00:00"},{"$error":"#REF!"},{"$error":"#REF!"},{"$f":"'E2-Normal Year Values'!#REF!","v":{"$error":"#REF!"}}]
[{"$f":"'E2-Normal Year Values'!$B$326","v":"00:00:00"},{"$error":"#REF!"},{"$error":"#REF!"},{"$f":"'E2-Normal Year Values'!#REF!","v":{"$error":"#REF!"}}]
[{"$f":"'E2-Normal Year Values'!$B$327","v":"00:00:00"},{"$error":"#REF!"},{"$error":"#REF!"},{"$f":"'E2-Normal Year Values'!#REF!","v":{"$error":"#REF!"}}]
[{"$f":"'E2-Normal Year Values'!$B$328","v":"00:00:00"},{"$error":"#REF!"},{"$error":"#REF!"},{"$f":"'E2-Normal Year Values'!#REF!","v":{"$error":"#REF!"}}]
[{"$f":"'E2-Normal Year Values'!$B$329","v":"00:00:00"},{"$error":"#REF!"},{"$error":"#REF!"},{"$f":"'E2-Normal Year Values'!#REF!","v":{"$error":"#REF!"}}]
[{"$f":"'E2-Normal Year Values'!$B$330","v":"00:00:00"},{"$f":"1.05*$F$2-0.05*$F$4","v":{"$error":"#REF!"}},{"$f":"1.05*$F$4-0.05*$F$2","v":{"$error":"#REF!"}},{"$f":"'E2-Normal Year Values'!#REF!","v":{"$error":"#REF!"}}]
[{"$f":"'E2-Normal Year Values'!$B$331","v":"00:00:00"},{"$error":"#REF!"},{"$error":"#REF!"},{"$f":"'E2-Normal Year Values'!#REF!","v":{"$error":"#REF!"}}]
[{"$f":"'E2-Normal Year Values'!$B$332","v":"00:00:00"},{"$error":"#REF!"},{"$error":"#REF!"},{"$f":"'E2-Normal Year Values'!#REF!","v":{"$error":"#REF!"}}]
[{"$f":"'E2-Normal Year Values'!$B$333","v":"00:00:00"},{"$error":"#REF!"},{"$error":"#REF!"},{"$f":"'E2-Normal Year Values'!#REF!","v":{"$error":"#REF!"}}]
[{"$f":"'E2-Normal Year Values'!$B$334","v":"00:00:00"},{"$error":"#REF!"},{"$error":"#REF!"},{"$f":"'E2-Normal Year Values'!#REF!","v":{"$error":"#REF!"}}]
[{"$f":"'E2-Normal Year Values'!$B$335","v":"00:00:00"},{"$error":"#REF!"},{"$error":"#REF!"},{"$f":"'E2-Normal Year Values'!#REF!","v":{"$error":"#REF!"}}]
[{"$f":"'E2-Normal Year Values'!$B$336","v":"00:00:00"},{"$error":"#REF!"},{"$error":"#REF!"},{"$f":"'E2-Normal Year Values'!#REF!","v":{"$error":"#REF!"}}]
[{"$f":"'E2-Normal Year Values'!$B$337","v":"00:00:00"},{"$error":"#REF!"},{"$error":"#REF!"},{"$f":"'E2-Normal Year Values'!#REF!","v":{"$error":"#REF!"}}]
[{"$f":"'E2-Normal Year Values'!$B$338","v":"00:00:00"},{"$error":"#REF!"},{"$error":"#REF!"},{"$f":"'E2-Normal Year Values'!#REF!","v":{"$error":"#REF!"}}]
[{"$f":"'E2-Normal Year Values'!$B$339","v":"00:00:00"},{"$error":"#REF!"},{"$error":"#REF!"},{"$f":"'E2-Normal Year Values'!#REF!","v":{"$error":"#REF!"}}]
[{"$f":"'E2-Normal Year Values'!$B$340","v":"00:00:00"},{"$error":"#REF!"},{"$error":"#REF!"},{"$f":"'E2-Normal Year Values'!#REF!","v":{"$error":"#REF!"}}]
[{"$f":"'E2-Normal Year Values'!$B$341","v":"00:00:00"},{"$error":"#REF!"},{"$error":"#REF!"},{"$f":"'E2-Normal Year Values'!#REF!","v":{"$error":"#REF!"}}]
[{"$f":"'E2-Normal Year Values'!$B$342","v":"00:00:00"},{"$error":"#REF!"},{"$error":"#REF!"},{"$f":"'E2-Normal Year Values'!#REF!","v":{"$error":"#REF!"}}]
[{"$f":"'E2-Normal Year Values'!$B$343","v":"00:00:00"},{"$error":"#REF!"},{"$error":"#REF!"},{"$f":"'E2-Normal Year Values'!#REF!","v":{"$error":"#REF!"}}]
[{"$f":"'E2-Normal Year Values'!$B$344","v":"00:00:00"},{"$error":"#REF!"},{"$error":"#REF!"},{"$f":"'E2-Normal Year Values'!#REF!","v":{"$error":"#REF!"}}]
[{"$f":"'E2-Normal Year Values'!$B$345","v":"00:00:00"},{"$error":"#REF!"},{"$error":"#REF!"},{"$f":"'E2-Normal Year Values'!#REF!","v":{"$error":"#REF!"}}]
[{"$f":"'E2-Normal Year Values'!$B$346","v":"00:00:00"},{"$error":"#REF!"},{"$error":"#REF!"},{"$f":"'E2-Normal Year Values'!#REF!","v":{"$error":"#REF!"}}]
[{"$f":"'E2-Normal Year Values'!$B$347","v":"00:00:00"},{"$error":"#REF!"},{"$error":"#REF!"},{"$f":"'E2-Normal Year Values'!#REF!","v":{"$error":"#REF!"}}]
[{"$f":"'E2-Normal Year Values'!$B$348","v":"00:00:00"},{"$error":"#REF!"},{"$error":"#REF!"},{"$f":"'E2-Normal Year Values'!#REF!","v":{"$error":"#REF!"}}]
[{"$f":"'E2-Normal Year Values'!$B$349","v":"00:00:00"},{"$error":"#REF!"},{"$error":"#REF!"},{"$f":"'E2-Normal Year Values'!#REF!","v":{"$error":"#REF!"}}]
[{"$f":"'E2-Normal Year Values'!$B$350","v":"00:00:00"},{"$error":"#REF!"},{"$error":"#REF!"},{"$f":"'E2-Normal Year Values'!#REF!","v":{"$error":"#REF!"}}]
[{"$f":"'E2-Normal Year Values'!$B$351","v":"00:00:00"},{"$error":"#REF!"},{"$error":"#REF!"},{"$f":"'E2-Normal Year Values'!#REF!","v":{"$error":"#REF!"}}]
[{"$f":"'E2-Normal Year Values'!$B$352","v":"00:00:00"},{"$error":"#REF!"},{"$error":"#REF!"},{"$f":"'E2-Normal Year Values'!#REF!","v":{"$error":"#REF!"}}]
[{"$f":"'E2-Normal Year Values'!$B$353","v":"00:00:00"},{"$error":"#REF!"},{"$error":"#REF!"},{"$f":"'E2-Normal Year Values'!#REF!","v":{"$error":"#REF!"}}]
[{"$f":"'E2-Normal Year Values'!$B$354","v":"00:00:00"},{"$error":"#REF!"},{"$error":"#REF!"},{"$f":"'E2-Normal Year Values'!#REF!","v":{"$error":"#REF!"}}]
[{"$f":"'E2-Normal Year Values'!$B$355","v":"00:00:00"},{"$error":"#REF!"},{"$error":"#REF!"},{"$f":"'E2-Normal Year Values'!#REF!","v":{"$error":"#REF!"}}]
[{"$f":"'E2-Normal Year Values'!$B$356","v":"00:00:00"},{"$error":"#REF!"},{"$error":"#REF!"},{"$f":"'E2-Normal Year Values'!#REF!","v":{"$error":"#REF!"}}]
[{"$f":"'E2-Normal Year Values'!$B$357","v":"00:00:00"},{"$error":"#REF!"},{"$error":"#REF!"},{"$f":"'E2-Normal Year Values'!#REF!","v":{"$error":"#REF!"}}]
[{"$f":"'E2-Normal Year Values'!$B$358","v":"00:00:00"},{"$error":"#REF!"},{"$error":"#REF!"},{"$f":"'E2-Normal Year Values'!#REF!","v":{"$error":"#REF!"}}]
[{"$f":"'E2-Normal Year Values'!$B$359","v":"00:00:00"},{"$error":"#REF!"},{"$error":"#REF!"},{"$f":"'E2-Normal Year Values'!#REF!","v":{"$error":"#REF!"}}]
[{"$f":"'E2-Normal Year Values'!$B$360","v":"00:00:00"},{"$error":"#REF!"},{"$error":"#REF!"},{"$f":"'E2-Normal Year Values'!#REF!","v":{"$error":"#REF!"}}]
[{"$f":"'E2-Normal Year Values'!$B$361","v":"00:00:00"},{"$error":"#REF!"},{"$error":"#REF!"},{"$f":"'E2-Normal Year Values'!#REF!","v":{"$error":"#REF!"}}]
[{"$f":"'E2-Normal Year Values'!$B$362","v":"00:00:00"},{"$error":"#REF!"},{"$error":"#REF!"},{"$f":"'E2-Normal Year Values'!#REF!","v":{"$error":"#REF!"}}]
[{"$f":"'E2-Normal Year Values'!$B$363","v":"00:00:00"},{"$error":"#REF!"},{"$error":"#REF!"},{"$f":"'E2-Normal Year Values'!#REF!","v":{"$error":"#REF!"}}]
[{"$f":"'E2-Normal Year Values'!$B$364","v":"00:00:00"},{"$error":"#REF!"},{"$error":"#REF!"},{"$f":"'E2-Normal Year Values'!#REF!","v":{"$error":"#REF!"}}]
[{"$f":"'E2-Normal Year Values'!$B$365","v":"00:00:00"},{"$error":"#REF!"},{"$error":"#REF!"},{"$f":"'E2-Normal Year Values'!#REF!","v":{"$error":"#REF!"}}]
[{"$f":"'E2-Normal Year Values'!$B$366","v":"00:00:00"},{"$error":"#REF!"},{"$error":"#REF!"},{"$f":"'E2-Normal Year Values'!#REF!","v":{"$error":"#REF!"}}]
[{"$f":"'E2-Normal Year Values'!$B$367","v":"00:00:00"},{"$error":"#REF!"},{"$error":"#REF!"},{"$f":"'E2-Normal Year Values'!#REF!","v":{"$error":"#REF!"}}]
[{"$f":"'E2-Normal Year Values'!$B$368","v":"00:00:00"},{"$error":"#REF!"},{"$error":"#REF!"},{"$f":"'E2-Normal Year Values'!#REF!","v":{"$error":"#REF!"}}]
[{"$f":"'E2-Normal Year Values'!$B$369","v":"00:00:00"},{"$error":"#REF!"},{"$error":"#REF!"},{"$f":"'E2-Normal Year Values'!#REF!","v":{"$error":"#REF!"}}]
[{"$f":"'E2-Normal Year Values'!$B$370","v":"00:00:00"},{"$error":"#REF!"},{"$error":"#REF!"},{"$f":"'E2-Normal Year Values'!#REF!","v":{"$error":"#REF!"}}]
[{"$f":"'E2-Normal Year Values'!$B$371","v":"00:00:00"},{"$error":"#REF!"},{"$error":"#REF!"},{"$f":"'E2-Normal Year Values'!#REF!","v":{"$error":"#REF!"}}]
[{"$f":"'E2-Normal Year Values'!$B$372","v":"00:00:00"},{"$error":"#REF!"},{"$error":"#REF!"},{"$f":"'E2-Normal Year Values'!#REF!","v":{"$error":"#REF!"}}]
[{"$f":"'E2-Normal Year Values'!$B$373","v":"00:00:00"},{"$error":"#REF!"},{"$error":"#REF!"},{"$f":"'E2-Normal Year Values'!#REF!","v":{"$error":"#REF!"}}]
[{"$f":"'E2-Normal Year Values'!$B$374","v":"00:00:00"},{"$error":"#REF!"},{"$error":"#REF!"},{"$f":"'E2-Normal Year Values'!#REF!","v":{"$error":"#REF!"}}]

{"sheet":"E3-Normal Year","index":8,"n_rows":17,"n_cols":21,"rows_kept":17,"cut":false,"hidden":true,"merged":[[16,1,16,2],[14,1,14,3],[14,4,14,6],[12,1,12,12],[3,1,3,12],[10,5,10,6],[10,3,10,4],[10,1,10,2],[9,1,9,6],[5,1,5,12],[7,1,7,3],[7,4,7,6]]}
[null,null,"E3 - Normal Year"]
[]
[{"$f":"LEFT(C1,1)","v":"E"},{"$f":"VLOOKUP(A3,EnergySourceLookup,2,FALSE)","v":"Electricity"},{"$f":"VLOOKUP(A3,EnergySourceLookup,3,FALSE)","v":"MWh"}]
[null,"Statistical analysis of normal year values"]
[]
[null,{"$f":"\"Warning: The sheet '\" &LEFT($C$1,1) & \"2-Normal Year Values' does not contain the correct number of data points. \" & IF(E1ModelFrequency<>\"\", \"This table should contain \" & VLOOKUP(E1ModelFrequency, FrequencyLookup,2,FALSE) & \" data points based on the selected \" & E1ModelFrequency & \" Measurement Frequency.\", \"\")","v":"Warning: The sheet 'E2-Normal Year Values' does not contain the correct number of data points. "}]
[]
[null,"Number of data points:",null,null,{"$f":"COUNT(INDEX(E2DataTable,0,1))","v":0}]
[]
[null,"Calculated range of normal year operating conditions:",null,null,null,null,null,null,null,null,null,null,null,null,null,null,null,null,null,"Normal Without Excluded Values"]
[null,"Variable",null,"Minimum",null,"Maximum",null,null,null,null,null,null,null,null,null,null,null,null,null,"Min","Max"]
[]
[null,"Chart of normal year for each independent variable"]
[]
[null,"Independent variable:"]
[]
[null,"Chart"]

{"sheet":"E4-Baseline Measurements","index":9,"n_rows":8,"n_cols":5,"rows_kept":8,"cut":false,"hidden":true,"merged":[[3,1,3,12],[7,1,8,1],[7,2,8,2],[7,3,8,3],[7,4,8,4]]}
[null,null,"E4 - Baseline Measurements"]
[]
[{"$f":"LEFT(C1,1)","v":"E"},{"$f":"VLOOKUP(A3,EnergySourceLookup,2,FALSE)","v":"Electricity"},{"$f":"VLOOKUP(A3,EnergySourceLookup,3,FALSE)","v":"MWh"}]
[null,{"$f":"\"Measure and Convert Baseline Period (\" & VLOOKUP(LEFT($C$1,1),EnergySourceLookup,2,FALSE) & \") Measurements\"","v":"Measure and Convert Baseline Period (Electricity) Measurements"}]
[]
[]
[]
[null,"Date / Time","Energy","Exclude non-normal measurement? (Mark with 'Y')","Reason for exclusion"]

{"sheet":"ECharts-Baseline","index":10,"n_rows":366,"n_cols":21,"rows_kept":366,"cut":false,"hidden":true,"merged":[]}
["Time period start","Lower bound","Upper bound","Independent Variable",null,"Minimum IV value",null,"Time interval","Excluded?","Measured baseline energy","Modelled baseline energy","Residual Rank","Residual",null,"Count",{"$f":"COUNT(M:M)","v":0},null,"Cumulative distribution","z-value","Actual residuals","Expect residual value if normal distribution"]
[{"$f":"'E4-Baseline Measurements'!$B$10","v":"00:00:00"},{"$f":"1.05*$F$2-0.05*$F$4","v":{"$error":"#REF!"}},{"$f":"1.05*$F$4-0.05*$F$2","v":{"$error":"#REF!"}},{"$f":"'E4-Baseline Measurements'!#REF!","v":{"$error":"#REF!"}},null,{"$f":"MIN(D:D)","v":{"$error":"#REF!"}},null,null,null,null,null,null,null,null,"Mean",{"$f":"AVERAGE(M:M)","v":{"$error":"#DIV/0!"}}]
[{"$f":"'E4-Baseline Measurements'!$B$11","v":"00:00:00"},{"$error":"#REF!"},{"$error":"#REF!"},{"$f":"'E4-Baseline Measurements'!#REF!","v":{"$error":"#REF!"}},null,"Maximum IV value",null,null,null,null,null,null,null,null,"StDev",{"$f":"_xlfn.STDEV.S(M:M)","v":{"$error":"#DIV/0!"}}]
[{"$f":"'E4-Baseline Measurements'!$B$12","v":"00:00:00"},{"$error":"#REF!"},{"$error":"#REF!"},{"$f":"'E4-Baseline Measurements'!#REF!","v":{"$error":"#REF!"}},null,{"$f":"MAX(D:D)","v":{"$error":"#REF!"}}]
[{"$f":"'E4-Baseline Measurements'!$B$13","v":"00:00:00"},{"$error":"#REF!"},{"$error":"#REF!"},{"$f":"'E4-Baseline Measurements'!#REF!","v":{"$error":"#REF!"}},null,null,null,null,null,null,null,null,null,null,"Measured"]
[{"$f":"'E4-Baseline Measurements'!$B$14","v":"00:00:00"},{"$error":"#REF!"},{"$error":"#REF!"},{"$f":"'E4-Baseline Measurements'!#REF!","v":{"$error":"#REF!"}},null,null,null,null,null,null,null,null,null,null,"Count",{"$f":"COUNT(J:J)","v":0}]
[{"$f":"'E4-Baseline Measurements'!$B$15","v":"00:00:00"},{"$error":"#REF!"},{"$error":"#REF!"},{"$f":"'E4-Baseline Measurements'!#REF!","v":{"$error":"#REF!"}},null,null,null,null,null,null,null,null,null,null,"Mean",{"$f":"AVERAGE(J:J)","v":{"$error":"#DIV/0!"}}]
[{"$f":"'E4-Baseline Measurements'!$B$16","v":"00:00:00"},{"$error":"#REF!"},{"$error":"#REF!"},{"$f":"'E4-Baseline Measurements'!#REF!","v":{"$error":"#REF!"}},null,null,null,null,null,null,null,null,null,null,"StDev",{"$f":"_xlfn.STDEV.S(J:J)","v":{"$error":"#DIV/0!"}}]
[{"$f":"'E4-Baseline Measurements'!$B$17","v":"00:00:00"},{"$error":"#REF!"},{"$error":"#REF!"},{"$f":"'E4-Baseline Measurements'!#REF!","v":{"$error":"#REF!"}},null,null,null,null,null,null,null,null,null,null,"IV count",{"$f":"GetVariableCount(MID(CELL(\"filename\"),FIND(\"]\",CELL(\"filename\"))+1,1),\"IV\")","v":0}]
[{"$f":"'E4-Baseline Measurements'!$B$18","v":"00:00:00"},{"$error":"#REF!"},{"$error":"#REF!"},{"$f":"'E4-Baseline Measurements'!#REF!","v":{"$error":"#REF!"}},null,null,null,null,null,null,null,null,null,null,"COV",{"$f":"IFERROR(P8/P7,\"\")","v":""}]
[{"$f":"'E4-Baseline Measurements'!$B$19","v":"00:00:00"},{"$error":"#REF!"},{"$error":"#REF!"},{"$f":"'E4-Baseline Measurements'!#REF!","v":{"$error":"#REF!"}}]
[{"$f":"'E4-Baseline Measurements'!$B$20","v":"00:00:00"},{"$error":"#REF!"},{"$error":"#REF!"},{"$f":"'E4-Baseline Measurements'!#REF!","v":{"$error":"#REF!"}},null,null,null,null,null,null,null,null,null,null,"Standard Error",{"$f":"IF(P9=0,P8/SQRT(P6),SQRT(SUMSQ(M:M)/(P6-2)))","v":{"$error":"#DIV/0!"}}]
[{"$f":"'E4-Baseline Measurements'!$B$21","v":"00:00:00"},{"$error":"#REF!"},{"$error":"#REF!"},{"$f":"'E4-Baseline Measurements'!#REF!","v":{"$error":"#REF!"}}]
[{"$f":"'E4-Baseline Measurements'!$B$22","v":"00:00:00"},{"$error":"#REF!"},{"$error":"#REF!"},{"$f":"'E4-Baseline Measurements'!#REF!","v":{"$error":"#REF!"}},null,null,null,null,null,null,null,null,null,null,"R2",{"$f":"1-_xlfn.VAR.S(M:M)/_xlfn.VAR.S(J:J)","v":{"$error":"#DIV/0!"}}]
[{"$f":"'E4-Baseline Measurements'!$B$23","v":"00:00:00"},{"$error":"#REF!"},{"$error":"#REF!"},{"$f":"'E4-Baseline Measurements'!#REF!","v":{"$error":"#REF!"}},null,null,null,null,null,null,null,null,null,null,"Adjusted R2",{"$f":"1-(1-P14)*(P6-1)/(P6-P9-1)","v":{"$error":"#DIV/0!"}}]
[{"$f":"'E4-Baseline Measurements'!$B$24","v":"00:00:00"},{"$error":"#REF!"},{"$error":"#REF!"},{"$f":"'E4-Baseline Measurements'!#REF!","v":{"$error":"#REF!"}}]
[{"$f":"'E4-Baseline Measurements'!$B$25","v":"00:00:00"},{"$error":"#REF!"},{"$error":"#REF!"},{"$f":"'E4-Baseline Measurements'!#REF!","v":{"$error":"#REF!"}}]
[{"$f":"'E4-Baseline Measurements'!$B$26","v":"00:00:00"},{"$error":"#REF!"},{"$error":"#REF!"},{"$f":"'E4-Baseline Measurements'!#REF!","v":{"$error":"#REF!"}}]
[{"$f":"'E4-Baseline Measurements'!$B$27","v":"00:00:00"},{"$error":"#REF!"},{"$error":"#REF!"},{"$f":"'E4-Baseline Measurements'!#REF!","v":{"$error":"#REF!"}}]
[{"$f":"'E4-Baseline Measurements'!$B$28","v":"00:00:00"},{"$error":"#REF!"},{"$error":"#REF!"},{"$f":"'E4-Baseline Measurements'!#REF!","v":{"$error":"#REF!"}}]
[{"$f":"'E4-Baseline Measurements'!$B$29","v":"00:00:00"},{"$error":"#REF!"},{"$error":"#REF!"},{"$f":"'E4-Baseline Measurements'!#REF!","v":{"$error":"#REF!"}}]
[{"$f":"'E4-Baseline Measurements'!$B$30","v":"00:00:00"},{"$error":"#REF!"},{"$error":"#REF!"},{"$f":"'E4-Baseline Measurements'!#REF!","v":{"$error":"#REF!"}}]
[{"$f":"'E4-Baseline Measurements'!$B$31","v":"00:00:00"},{"$error":"#REF!"},{"$error":"#REF!"},{"$f":"'E4-Baseline Measurements'!#REF!","v":{"$error":"#REF!"}}]
[{"$f":"'E4-Baseline Measurements'!$B$32","v":"00:00:00"},{"$error":"#REF!"},{"$error":"#REF!"},{"$f":"'E4-Baseline Measurements'!#REF!","v":{"$error":"#REF!"}}]
[{"$f":"'E4-Baseline Measurements'!$B$33","v":"00:00:00"},{"$error":"#REF!"},{"$error":"#REF!"},{"$f":"'E4-Baseline Measurements'!#REF!","v":{"$error":"#REF!"}}]
[{"$f":"'E4-Baseline Measurements'!$B$34","v":"00:00:00"},{"$error":"#REF!"},{"$error":"#REF!"},{"$f":"'E4-Baseline Measurements'!#REF!","v":{"$error":"#REF!"}}]
[{"$f":"'E4-Baseline Measurements'!$B$35","v":"00:00:00"},{"$error":"#REF!"},{"$error":"#REF!"},{"$f":"'E4-Baseline Measurements'!#REF!","v":{"$error":"#REF!"}}]
[{"$f":"'E4-Baseline Measurements'!$B$36","v":"00:00:00"},{"$error":"#REF!"},{"$error":"#REF!"},{"$f":"'E4-Baseline Measurements'!#REF!","v":{"$error":"#REF!"}}]
[{"$f":"'E4-Baseline Measurements'!$B$37","v":"00:00:00"},{"$error":"#REF!"},{"$error":"#REF!"},{"$f":"'E4-Baseline Measurements'!#REF!","v":{"$error":"#REF!"}}]
[{"$f":"'E4-Baseline Measurements'!$B$38","v":"00:00:00"},{"$error":"#REF!"},{"$error":"#REF!"},{"$f":"'E4-Baseline Measurements'!#REF!","v":{"$error":"#REF!"}}]
[{"$f":"'E4-Baseline Measurements'!$B$39","v":"00:00:00"},{"$error":"#REF!"},{"$error":"#REF!"},{"$f":"'E4-Baseline Measurements'!#REF!","v":{"$error":"#REF!"}}]
[{"$f":"'E4-Baseline Measurements'!$B$40","v":"00:00:00"},{"$error":"#REF!"},{"$error":"#REF!"},{"$f":"'E4-Baseline Measurements'!#REF!","v":{"$error":"#REF!"}}]
[{"$f":"'E4-Baseline Measurements'!$B$41","v":"00:00:00"},{"$error":"#REF!"},{"$error":"#REF!"},{"$f":"'E4-Baseline Measurements'!#REF!","v":{"$error":"#REF!"}}]
[{"$f":"'E4-Baseline Measurements'!$B$42","v":"00:00:00"},{"$error":"#REF!"},{"$error":"#REF!"},{"$f":"'E4-Baseline Measurements'!#REF!","v":{"$error":"#REF!"}}]
[{"$f":"'E4-Baseline Measurements'!$B$43","v":"00:00:00"},{"$error":"#REF!"},{"$error":"#REF!"},{"$f":"'E4-Baseline Measurements'!#REF!","v":{"$error":"#REF!"}}]
[{"$f":"'E4-Baseline Measurements'!$B$44","v":"00:00:00"},{"$error":"#REF!"},{"$error":"#REF!"},{"$f":"'E4-Baseline Measurements'!#REF!","v":{"$error":"#REF!"}}]
[{"$f":"'E4-Baseline Measurements'!$B$45","v":"00:00:00"},{"$error":"#REF!"},{"$error":"#REF!"},{"$f":"'E4-Baseline Measurements'!#REF!","v":{"$error":"#REF!"}}]
[{"$f":"'E4-Baseline Measurements'!$B$46","v":"00:00:00"},{"$error":"#REF!"},{"$error":"#REF!"},{"$f":"'E4-Baseline Measurements'!#REF!","v":{"$error":"#REF!"}}]
[{"$f":"'E4-Baseline Measurements'!$B$47","v":"00:00:00"},{"$error":"#REF!"},{"$error":"#REF!"},{"$f":"'E4-Baseline Measurements'!#REF!","v":{"$error":"#REF!"}}]
[{"$f":"'E4-Baseline Measurements'!$B$48","v":"00:00:00"},{"$error":"#REF!"},{"$error":"#REF!"},{"$f":"'E4-Baseline Measurements'!#REF!","v":{"$error":"#REF!"}}]
[{"$f":"'E4-Baseline Measurements'!$B$49","v":"00:00:00"},{"$error":"#REF!"},{"$error":"#REF!"},{"$f":"'E4-Baseline Measurements'!#REF!","v":{"$error":"#REF!"}}]
[{"$f":"'E4-Baseline Measurements'!$B$50","v":"00:00:00"},{"$error":"#REF!"},{"$error":"#REF!"},{"$f":"'E4-Baseline Measurements'!#REF!","v":{"$error":"#REF!"}}]
[{"$f":"'E4-Baseline Measurements'!$B$51","v":"00:00:00"},{"$error":"#REF!"},{"$error":"#REF!"},{"$f":"'E4-Baseline Measurements'!#REF!","v":{"$error":"#REF!"}}]
[{"$f":"'E4-Baseline Measurements'!$B$52","v":"00:00:00"},{"$error":"#REF!"},{"$error":"#REF!"},{"$f":"'E4-Baseline Measurements'!#REF!","v":{"$error":"#REF!"}}]
[{"$f":"'E4-Baseline Measurements'!$B$53","v":"00:00:00"},{"$error":"#REF!"},{"$error":"#REF!"},{"$f":"'E4-Baseline Measurements'!#REF!","v":{"$error":"#REF!"}}]
[{"$f":"'E4-Baseline Measurements'!$B$54","v":"00:00:00"},{"$error":"#REF!"},{"$error":"#REF!"},{"$f":"'E4-Baseline Measurements'!#REF!","v":{"$error":"#REF!"}}]
[{"$f":"'E4-Baseline Measurements'!$B$55","v":"00:00:00"},{"$error":"#REF!"},{"$error":"#REF!"},{"$f":"'E4-Baseline Measurements'!#REF!","v":{"$error":"#REF!"}}]
[{"$f":"'E4-Baseline Measurements'!$B$56","v":"00:00:00"},{"$error":"#REF!"},{"$error":"#REF!"},{"$f":"'E4-Baseline Measurements'!#REF!","v":{"$error":"#REF!"}}]
[{"$f":"'E4-Baseline Measurements'!$B$57","v":"00:00:00"},{"$error":"#REF!"},{"$error":"#REF!"},{"$f":"'E4-Baseline Measurements'!#REF!","v":{"$error":"#REF!"}}]
[{"$f":"'E4-Baseline Measurements'!$B$58","v":"00:00:00"},{"$error":"#REF!"},{"$error":"#REF!"},{"$f":"'E4-Baseline Measurements'!#REF!","v":{"$error":"#REF!"}}]
[{"$f":"'E4-Baseline Measurements'!$B$59","v":"00:00:00"},{"$error":"#REF!"},{"$error":"#REF!"},{"$f":"'E4-Baseline Measurements'!#REF!","v":{"$error":"#REF!"}}]
[{"$f":"'E4-Baseline Measurements'!$B$60","v":"00:00:00"},{"$error":"#REF!"},{"$error":"#REF!"},{"$f":"'E4-Baseline Measurements'!#REF!","v":{"$error":"#REF!"}}]
[{"$f":"'E4-Baseline Measurements'!$B$61","v":"00:00:00"},{"$error":"#REF!"},{"$error":"#REF!"},{"$f":"'E4-Baseline Measurements'!#REF!","v":{"$error":"#REF!"}}]
[{"$f":"'E4-Baseline Measurements'!$B$62","v":"00:00:00"},{"$error":"#REF!"},{"$error":"#REF!"},{"$f":"'E4-Baseline Measurements'!#REF!","v":{"$error":"#REF!"}}]
[{"$f":"'E4-Baseline Measurements'!$B$63","v":"00:00:00"},{"$error":"#REF!"},{"$error":"#REF!"},{"$f":"'E4-Baseline Measurements'!#REF!","v":{"$error":"#REF!"}}]
[{"$f":"'E4-Baseline Measurements'!$B$64","v":"00:00:00"},{"$error":"#REF!"},{"$error":"#REF!"},{"$f":"'E4-Baseline Measurements'!#REF!","v":{"$error":"#REF!"}}]
[{"$f":"'E4-Baseline Measurements'!$B$65","v":"00:00:00"},{"$error":"#REF!"},{"$error":"#REF!"},{"$f":"'E4-Baseline Measurements'!#REF!","v":{"$error":"#REF!"}}]
[{"$f":"'E4-Baseline Measurements'!$B$66","v":"00:00:00"},{"$error":"#REF!"},{"$error":"#REF!"},{"$f":"'E4-Baseline Measurements'!#REF!","v":{"$error":"#REF!"}}]
[{"$f":"'E4-Baseline Measurements'!$B$67","v":"00:00:00"},{"$error":"#REF!"},{"$error":"#REF!"},{"$f":"'E4-Baseline Measurements'!#REF!","v":{"$error":"#REF!"}}]
[{"$f":"'E4-Baseline Measurements'!$B$68","v":"00:00:00"},{"$error":"#REF!"},{"$error":"#REF!"},{"$f":"'E4-Baseline Measurements'!#REF!","v":{"$error":"#REF!"}}]
[{"$f":"'E4-Baseline Measurements'!$B$69","v":"00:00:00"},{"$error":"#REF!"},{"$error":"#REF!"},{"$f":"'E4-Baseline Measurements'!#REF!","v":{"$error":"#REF!"}}]
[{"$f":"'E4-Baseline Measurements'!$B$70","v":"00:00:00"},{"$error":"#REF!"},{"$error":"#REF!"},{"$f":"'E4-Baseline Measurements'!#REF!","v":{"$error":"#REF!"}}]
[{"$f":"'E4-Baseline Measurements'!$B$71","v":"00:00:00"},{"$error":"#REF!"},{"$error":"#REF!"},{"$f":"'E4-Baseline Measurements'!#REF!","v":{"$error":"#REF!"}}]
[{"$f":"'E4-Baseline Measurements'!$B$72","v":"00:00:00"},{"$error":"#REF!"},{"$error":"#REF!"},{"$f":"'E4-Baseline Measurements'!#REF!","v":{"$error":"#REF!"}}]
[{"$f":"'E4-Baseline Measurements'!$B$73","v":"00:00:00"},{"$error":"#REF!"},{"$error":"#REF!"},{"$f":"'E4-Baseline Measurements'!#REF!","v":{"$error":"#REF!"}}]
[{"$f":"'E4-Baseline Measurements'!$B$74","v":"00:00:00"},{"$f":"1.05*$F$2-0.05*$F$4","v":{"$error":"#REF!"}},{"$f":"1.05*$F$4-0.05*$F$2","v":{"$error":"#REF!"}},{"$f":"'E4-Baseline Measurements'!#REF!","v":{"$error":"#REF!"}}]
[{"$f":"'E4-Baseline Measurements'!$B$75","v":"00:00:00"},{"$error":"#REF!"},{"$error":"#REF!"},{"$f":"'E4-Baseline Measurements'!#REF!","v":{"$error":"#REF!"}}]
[{"$f":"'E4-Baseline Measurements'!$B$76","v":"00:00:00"},{"$error":"#REF!"},{"$error":"#REF!"},{"$f":"'E4-Baseline Measurements'!#REF!","v":{"$error":"#REF!"}}]
[{"$f":"'E4-Baseline Measurements'!$B$77","v":"00:00:00"},{"$error":"#REF!"},{"$error":"#REF!"},{"$f":"'E4-Baseline Measurements'!#REF!","v":{"$error":"#REF!"}}]
[{"$f":"'E4-Baseline Measurements'!$B$78","v":"00:00:00"},{"$error":"#REF!"},{"$error":"#REF!"},{"$f":"'E4-Baseline Measurements'!#REF!","v":{"$error":"#REF!"}}]
[{"$f":"'E4-Baseline Measurements'!$B$79","v":"00:00:00"},{"$error":"#REF!"},{"$error":"#REF!"},{"$f":"'E4-Baseline Measurements'!#REF!","v":{"$error":"#REF!"}}]
[{"$f":"'E4-Baseline Measurements'!$B$80","v":"00:00:00"},{"$error":"#REF!"},{"$error":"#REF!"},{"$f":"'E4-Baseline Measurements'!#REF!","v":{"$error":"#REF!"}}]
[{"$f":"'E4-Baseline Measurements'!$B$81","v":"00:00:00"},{"$error":"#REF!"},{"$error":"#REF!"},{"$f":"'E4-Baseline Measurements'!#REF!","v":{"$error":"#REF!"}}]
[{"$f":"'E4-Baseline Measurements'!$B$82","v":"00:00:00"},{"$error":"#REF!"},{"$error":"#REF!"},{"$f":"'E4-Baseline Measurements'!#REF!","v":{"$error":"#REF!"}}]
[{"$f":"'E4-Baseline Measurements'!$B$83","v":"00:00:00"},{"$error":"#REF!"},{"$error":"#REF!"},{"$f":"'E4-Baseline Measurements'!#REF!","v":{"$error":"#REF!"}}]
[{"$f":"'E4-Baseline Measurements'!$B$84","v":"00:00:00"},{"$error":"#REF!"},{"$error":"#REF!"},{"$f":"'E4-Baseline Measurements'!#REF!","v":{"$error":"#REF!"}}]
[{"$f":"'E4-Baseline Measurements'!$B$85","v":"00:00:00"},{"$error":"#REF!"},{"$error":"#REF!"},{"$f":"'E4-Baseline Measurements'!#REF!","v":{"$error":"#REF!"}}]
[{"$f":"'E4-Baseline Measurements'!$B$86","v":"00:00:00"},{"$error":"#REF!"},{"$error":"#REF!"},{"$f":"'E4-Baseline Measurements'!#REF!","v":{"$error":"#REF!"}}]
[{"$f":"'E4-Baseline Measurements'!$B$87","v":"00:00:00"},{"$error":"#REF!"},{"$error":"#REF!"},{"$f":"'E4-Baseline Measurements'!#REF!","v":{"$error":"#REF!"}}]
[{"$f":"'E4-Baseline Measurements'!$B$88","v":"00:00:00"},{"$error":"#REF!"},{"$error":"#REF!"},{"$f":"'E4-Baseline Measurements'!#REF!","v":{"$error":"#REF!"}}]
[{"$f":"'E4-Baseline Measurements'!$B$89","v":"00:00:00"},{"$error":"#REF!"},{"$error":"#REF!"},{"$f":"'E4-Baseline Measurements'!#REF!","v":{"$error":"#REF!"}}]
[{"$f":"'E4-Baseline Measurements'!$B$90","v":"00:00:00"},{"$error":"#REF!"},{"$error":"#REF!"},{"$f":"'E4-Baseline Measurements'!#REF!","v":{"$error":"#REF!"}}]
[{"$f":"'E4-Baseline Measurements'!$B$91","v":"00:00:00"},{"$error":"#REF!"},{"$error":"#REF!"},{"$f":"'E4-Baseline Measurements'!#REF!","v":{"$error":"#REF!"}}]
[{"$f":"'E4-Baseline Measurements'!$B$92","v":"00:00:00"},{"$error":"#REF!"},{"$error":"#REF!"},{"$f":"'E4-Baseline Measurements'!#REF!","v":{"$error":"#REF!"}}]
[{"$f":"'E4-Baseline Measurements'!$B$93","v":"00:00:00"},{"$error":"#REF!"},{"$error":"#REF!"},{"$f":"'E4-Baseline Measurements'!#REF!","v":{"$error":"#REF!"}}]
[{"$f":"'E4-Baseline Measurements'!$B$94","v":"00:00:00"},{"$error":"#REF!"},{"$error":"#REF!"},{"$f":"'E4-Baseline Measurements'!#REF!","v":{"$error":"#REF!"}}]
[{"$f":"'E4-Baseline Measurements'!$B$95","v":"00:00:00"},{"$error":"#REF!"},{"$error":"#REF!"},{"$f":"'E4-Baseline Measurements'!#REF!","v":{"$error":"#REF!"}}]
[{"$f":"'E4-Baseline Measurements'!$B$96","v":"00:00:00"},{"$error":"#REF!"},{"$error":"#REF!"},{"$f":"'E4-Baseline Measurements'!#REF!","v":{"$error":"#REF!"}}]
[{"$f":"'E4-Baseline Measurements'!$B$97","v":"00:00:00"},{"$error":"#REF!"},{"$error":"#REF!"},{"$f":"'E4-Baseline Measurements'!#REF!","v":{"$error":"#REF!"}}]
[{"$f":"'E4-Baseline Measurements'!$B$98","v":"00:00:00"},{"$error":"#REF!"},{"$error":"#REF!"},{"$f":"'E4-Baseline Measurements'!#REF!","v":{"$error":"#REF!"}}]
[{"$f":"'E4-Baseline Measurements'!$B$99","v":"00:00:00"},{"$error":"#REF!"},{"$error":"#REF!"},{"$f":"'E4-Baseline Measurements'!#REF!","v":{"$error":"#REF!"}}]
[{"$f":"'E4-Baseline Measurements'!$B$100","v":"00:00:00"},{"$error":"#REF!"},{"$error":"#REF!"},{"$f":"'E4-Baseline Measurements'!#REF!","v":{"$error":"#REF!"}}]
[{"$f":"'E4-Baseline Measurements'!$B$101","v":"00:00:00"},{"$error":"#REF!"},{"$error":"#REF!"},{"$f":"'E4-Baseline Measurements'!#REF!","v":{"$error":"#REF!"}}]
[{"$f":"'E4-Baseline Measurements'!$B$102","v":"00:00:00"},{"$error":"#REF!"},{"$error":"#REF!"},{"$f":"'E4-Baseline Measurements'!#REF!","v":{"$error":"#REF!"}}]
[{"$f":"'E4-Baseline Measurements'!$B$103","v":"00:00:00"},{"$error":"#REF!"},{"$error":"#REF!"},{"$f":"'E4-Baseline Measurements'!#REF!","v":{"$error":"#REF!"}}]
[{"$f":"'E4-Baseline Measurements'!$B$104","v":"00:00:00"},{"$error":"#REF!"},{"$error":"#REF!"},{"$f":"'E4-Baseline Measurements'!#REF!","v":{"$error":"#REF!"}}]
[{"$f":"'E4-Baseline Measurements'!$B$105","v":"00:00:00"},{"$error":"#REF!"},{"$error":"#REF!"},{"$f":"'E4-Baseline Measurements'!#REF!","v":{"$error":"#REF!"}}]
[{"$f":"'E4-Baseline Measurements'!$B$106","v":"00:00:00"},{"$error":"#REF!"},{"$error":"#REF!"},{"$f":"'E4-Baseline Measurements'!#REF!","v":{"$error":"#REF!"}}]
[{"$f":"'E4-Baseline Measurements'!$B$107","v":"00:00:00"},{"$error":"#REF!"},{"$error":"#REF!"},{"$f":"'E4-Baseline Measurements'!#REF!","v":{"$error":"#REF!"}}]
[{"$f":"'E4-Baseline Measurements'!$B$108","v":"00:00:00"},{"$error":"#REF!"},{"$error":"#REF!"},{"$f":"'E4-Baseline Measurements'!#REF!","v":{"$error":"#REF!"}}]
[{"$f":"'E4-Baseline Measurements'!$B$109","v":"00:00:00"},{"$error":"#REF!"},{"$error":"#REF!"},{"$f":"'E4-Baseline Measurements'!#REF!","v":{"$error":"#REF!"}}]
[{"$f":"'E4-Baseline Measurements'!$B$110","v":"00:00:00"},{"$error":"#REF!"},{"$error":"#REF!"},{"$f":"'E4-Baseline Measurements'!#REF!","v":{"$error":"#REF!"}}]
[{"$f":"'E4-Baseline Measurements'!$B$111","v":"00:00:00"},{"$error":"#REF!"},{"$error":"#REF!"},{"$f":"'E4-Baseline Measurements'!#REF!","v":{"$error":"#REF!"}}]
[{"$f":"'E4-Baseline Measurements'!$B$112","v":"00:00:00"},{"$error":"#REF!"},{"$error":"#REF!"},{"$f":"'E4-Baseline Measurements'!#REF!","v":{"$error":"#REF!"}}]
[{"$f":"'E4-Baseline Measurements'!$B$113","v":"00:00:00"},{"$error":"#REF!"},{"$error":"#REF!"},{"$f":"'E4-Baseline Measurements'!#REF!","v":{"$error":"#REF!"}}]
[{"$f":"'E4-Baseline Measurements'!#REF!","v":{"$error":"#REF!"}},{"$error":"#REF!"},{"$error":"#REF!"},{"$f":"'E4-Baseline Measurements'!#REF!","v":{"$error":"#REF!"}}]
[{"$f":"'E4-Baseline Measurements'!#REF!","v":{"$error":"#REF!"}},{"$error":"#REF!"},{"$error":"#REF!"},{"$f":"'E4-Baseline Measurements'!#REF!","v":{"$error":"#REF!"}}]
[{"$f":"'E4-Baseline Measurements'!#REF!","v":{"$error":"#REF!"}},{"$error":"#REF!"},{"$error":"#REF!"},{"$f":"'E4-Baseline Measurements'!#REF!","v":{"$error":"#REF!"}}]
[{"$f":"'E4-Baseline Measurements'!#REF!","v":{"$error":"#REF!"}},{"$error":"#REF!"},{"$error":"#REF!"},{"$f":"'E4-Baseline Measurements'!#REF!","v":{"$error":"#REF!"}}]
[{"$f":"'E4-Baseline Measurements'!#REF!","v":{"$error":"#REF!"}},{"$error":"#REF!"},{"$error":"#REF!"},{"$f":"'E4-Baseline Measurements'!#REF!","v":{"$error":"#REF!"}}]
[{"$f":"'E4-Baseline Measurements'!#REF!","v":{"$error":"#REF!"}},{"$error":"#REF!"},{"$error":"#REF!"},{"$f":"'E4-Baseline Measurements'!#REF!","v":{"$error":"#REF!"}}]
[{"$f":"'E4-Baseline Measurements'!#REF!","v":{"$error":"#REF!"}},{"$error":"#REF!"},{"$error":"#REF!"},{"$f":"'E4-Baseline Measurements'!#REF!","v":{"$error":"#REF!"}}]
[{"$f":"'E4-Baseline Measurements'!#REF!","v":{"$error":"#REF!"}},{"$error":"#REF!"},{"$error":"#REF!"},{"$f":"'E4-Baseline Measurements'!#REF!","v":{"$error":"#REF!"}}]
[{"$f":"'E4-Baseline Measurements'!#REF!","v":{"$error":"#REF!"}},{"$error":"#REF!"},{"$error":"#REF!"},{"$f":"'E4-Baseline Measurements'!#REF!","v":{"$error":"#REF!"}}]
[{"$f":"'E4-Baseline Measurements'!#REF!","v":{"$error":"#REF!"}},{"$error":"#REF!"},{"$error":"#REF!"},{"$f":"'E4-Baseline Measurements'!#REF!","v":{"$error":"#REF!"}}]
[{"$f":"'E4-Baseline Measurements'!#REF!","v":{"$error":"#REF!"}},{"$error":"#REF!"},{"$error":"#REF!"},{"$f":"'E4-Baseline Measurements'!#REF!","v":{"$error":"#REF!"}}]
[{"$f":"'E4-Baseline Measurements'!#REF!","v":{"$error":"#REF!"}},{"$error":"#REF!"},{"$error":"#REF!"},{"$f":"'E4-Baseline Measurements'!#REF!","v":{"$error":"#REF!"}}]
[{"$f":"'E4-Baseline Measurements'!#REF!","v":{"$error":"#REF!"}},{"$error":"#REF!"},{"$error":"#REF!"},{"$f":"'E4-Baseline Measurements'!#REF!","v":{"$error":"#REF!"}}]
[{"$f":"'E4-Baseline Measurements'!#REF!","v":{"$error":"#REF!"}},{"$error":"#REF!"},{"$error":"#REF!"},{"$f":"'E4-Baseline Measurements'!#REF!","v":{"$error":"#REF!"}}]
[{"$f":"'E4-Baseline Measurements'!#REF!","v":{"$error":"#REF!"}},{"$error":"#REF!"},{"$error":"#REF!"},{"$f":"'E4-Baseline Measurements'!#REF!","v":{"$error":"#REF!"}}]
[{"$f":"'E4-Baseline Measurements'!#REF!","v":{"$error":"#REF!"}},{"$error":"#REF!"},{"$error":"#REF!"},{"$f":"'E4-Baseline Measurements'!#REF!","v":{"$error":"#REF!"}}]
[{"$f":"'E4-Baseline Measurements'!#REF!","v":{"$error":"#REF!"}},{"$error":"#REF!"},{"$error":"#REF!"},{"$f":"'E4-Baseline Measurements'!#REF!","v":{"$error":"#REF!"}}]
[{"$f":"'E4-Baseline Measurements'!#REF!","v":{"$error":"#REF!"}},{"$error":"#REF!"},{"$error":"#REF!"},{"$f":"'E4-Baseline Measurements'!#REF!","v":{"$error":"#REF!"}}]
[{"$f":"'E4-Baseline Measurements'!#REF!","v":{"$error":"#REF!"}},{"$error":"#REF!"},{"$error":"#REF!"},{"$f":"'E4-Baseline Measurements'!#REF!","v":{"$error":"#REF!"}}]
[{"$f":"'E4-Baseline Measurements'!#REF!","v":{"$error":"#REF!"}},{"$error":"#REF!"},{"$error":"#REF!"},{"$f":"'E4-Baseline Measurements'!#REF!","v":{"$error":"#REF!"}}]
[{"$f":"'E4-Baseline Measurements'!#REF!","v":{"$error":"#REF!"}},{"$error":"#REF!"},{"$error":"#REF!"},{"$f":"'E4-Baseline Measurements'!#REF!","v":{"$error":"#REF!"}}]
[{"$f":"'E4-Baseline Measurements'!#REF!","v":{"$error":"#REF!"}},{"$error":"#REF!"},{"$error":"#REF!"},{"$f":"'E4-Baseline Measurements'!#REF!","v":{"$error":"#REF!"}}]
[{"$f":"'E4-Baseline Measurements'!#REF!","v":{"$error":"#REF!"}},{"$error":"#REF!"},{"$error":"#REF!"},{"$f":"'E4-Baseline Measurements'!#REF!","v":{"$error":"#REF!"}}]
[{"$f":"'E4-Baseline Measurements'!#REF!","v":{"$error":"#REF!"}},{"$error":"#REF!"},{"$error":"#REF!"},{"$f":"'E4-Baseline Measurements'!#REF!","v":{"$error":"#REF!"}}]
[{"$f":"'E4-Baseline Measurements'!#REF!","v":{"$error":"#REF!"}},{"$f":"1.05*$F$2-0.05*$F$4","v":{"$error":"#REF!"}},{"$f":"1.05*$F$4-0.05*$F$2","v":{"$error":"#REF!"}},{"$f":"'E4-Baseline Measurements'!#REF!","v":{"$error":"#REF!"}}]
[{"$f":"'E4-Baseline Measurements'!#REF!","v":{"$error":"#REF!"}},{"$error":"#REF!"},{"$error":"#REF!"},{"$f":"'E4-Baseline Measurements'!#REF!","v":{"$error":"#REF!"}}]
[{"$f":"'E4-Baseline Measurements'!#REF!","v":{"$error":"#REF!"}},{"$error":"#REF!"},{"$error":"#REF!"},{"$f":"'E4-Baseline Measurements'!#REF!","v":{"$error":"#REF!"}}]
[{"$f":"'E4-Baseline Measurements'!#REF!","v":{"$error":"#REF!"}},{"$error":"#REF!"},{"$error":"#REF!"},{"$f":"'E4-Baseline Measurements'!#REF!","v":{"$error":"#REF!"}}]
[{"$f":"'E4-Baseline Measurements'!#REF!","v":{"$error":"#REF!"}},{"$error":"#REF!"},{"$error":"#REF!"},{"$f":"'E4-Baseline Measurements'!#REF!","v":{"$error":"#REF!"}}]
[{"$f":"'E4-Baseline Measurements'!#REF!","v":{"$error":"#REF!"}},{"$error":"#REF!"},{"$error":"#REF!"},{"$f":"'E4-Baseline Measurements'!#REF!","v":{"$error":"#REF!"}}]
[{"$f":"'E4-Baseline Measurements'!#REF!","v":{"$error":"#REF!"}},{"$error":"#REF!"},{"$error":"#REF!"},{"$f":"'E4-Baseline Measurements'!#REF!","v":{"$error":"#REF!"}}]
[{"$f":"'E4-Baseline Measurements'!#REF!","v":{"$error":"#REF!"}},{"$error":"#REF!"},{"$error":"#REF!"},{"$f":"'E4-Baseline Measurements'!#REF!","v":{"$error":"#REF!"}}]
[{"$f":"'E4-Baseline Measurements'!#REF!","v":{"$error":"#REF!"}},{"$error":"#REF!"},{"$error":"#REF!"},{"$f":"'E4-Baseline Measurements'!#REF!","v":{"$error":"#REF!"}}]
[{"$f":"'E4-Baseline Measurements'!#REF!","v":{"$error":"#REF!"}},{"$error":"#REF!"},{"$error":"#REF!"},{"$f":"'E4-Baseline Measurements'!#REF!","v":{"$error":"#REF!"}}]
[{"$f":"'E4-Baseline Measurements'!#REF!","v":{"$error":"#REF!"}},{"$error":"#REF!"},{"$error":"#REF!"},{"$f":"'E4-Baseline Measurements'!#REF!","v":{"$error":"#REF!"}}]
[{"$f":"'E4-Baseline Measurements'!#REF!","v":{"$error":"#REF!"}},{"$error":"#REF!"},{"$error":"#REF!"},{"$f":"'E4-Baseline Measurements'!#REF!","v":{"$error":"#REF!"}}]
[{"$f":"'E4-Baseline Measurements'!#REF!","v":{"$error":"#REF!"}},{"$error":"#REF!"},{"$error":"#REF!"},{"$f":"'E4-Baseline Measurements'!#REF!","v":{"$error":"#REF!"}}]
[{"$f":"'E4-Baseline Measurements'!#REF!","v":{"$error":"#REF!"}},{"$error":"#REF!"},{"$error":"#REF!"},{"$f":"'E4-Baseline Measurements'!#REF!","v":{"$error":"#REF!"}}]
[{"$f":"'E4-Baseline Measurements'!#REF!","v":{"$error":"#REF!"}},{"$error":"#REF!"},{"$error":"#REF!"},{"$f":"'E4-Baseline Measurements'!#REF!","v":{"$error":"#REF!"}}]
[{"$f":"'E4-Baseline Measurements'!#REF!","v":{"$error":"#REF!"}},{"$error":"#REF!"},{"$error":"#REF!"},{"$f":"'E4-Baseline Measurements'!#REF!","v":{"$error":"#REF!"}}]
[{"$f":"'E4-Baseline Measurements'!#REF!","v":{"$error":"#REF!"}},{"$error":"#REF!"},{"$error":"#REF!"},{"$f":"'E4-Baseline Measurements'!#REF!","v":{"$error":"#REF!"}}]
[{"$f":"'E4-Baseline Measurements'!#REF!","v":{"$error":"#REF!"}},{"$error":"#REF!"},{"$error":"#REF!"},{"$f":"'E4-Baseline Measurements'!#REF!","v":{"$error":"#REF!"}}]
[{"$f":"'E4-Baseline Measurements'!#REF!","v":{"$error":"#REF!"}},{"$error":"#REF!"},{"$error":"#REF!"},{"$f":"'E4-Baseline Measurements'!#REF!","v":{"$error":"#REF!"}}]
[{"$f":"'E4-Baseline Measurements'!#REF!","v":{"$error":"#REF!"}},{"$error":"#REF!"},{"$error":"#REF!"},{"$f":"'E4-Baseline Measurements'!#REF!","v":{"$error":"#REF!"}}]
[{"$f":"'E4-Baseline Measurements'!#REF!","v":{"$error":"#REF!"}},{"$error":"#REF!"},{"$error":"#REF!"},{"$f":"'E4-Baseline Measurements'!#REF!","v":{"$error":"#REF!"}}]
[{"$f":"'E4-Baseline Measurements'!#REF!","v":{"$error":"#REF!"}},{"$error":"#REF!"},{"$error":"#REF!"},{"$f":"'E4-Baseline Measurements'!#REF!","v":{"$error":"#REF!"}}]
[{"$f":"'E4-Baseline Measurements'!#REF!","v":{"$error":"#REF!"}},{"$error":"#REF!"},{"$error":"#REF!"},{"$f":"'E4-Baseline Measurements'!#REF!","v":{"$error":"#REF!"}}]
[{"$f":"'E4-Baseline Measurements'!#REF!","v":{"$error":"#REF!"}},{"$error":"#REF!"},{"$error":"#REF!"},{"$f":"'E4-Baseline Measurements'!#REF!","v":{"$error":"#REF!"}}]
[{"$f":"'E4-Baseline Measurements'!#REF!","v":{"$error":"#REF!"}},{"$error":"#REF!"},{"$error":"#REF!"},{"$f":"'E4-Baseline Measurements'!#REF!","v":{"$error":"#REF!"}}]
[{"$f":"'E4-Baseline Measurements'!#REF!","v":{"$error":"#REF!"}},{"$error":"#REF!"},{"$error":"#REF!"},{"$f":"'E4-Baseline Measurements'!#REF!","v":{"$error":"#REF!"}}]
[{"$f":"'E4-Baseline Measurements'!#REF!","v":{"$error":"#REF!"}},{"$error":"#REF!"},{"$error":"#REF!"},{"$f":"'E4-Baseline Measurements'!#REF!","v":{"$error":"#REF!"}}]
[{"$f":"'E4-Baseline Measurements'!#REF!","v":{"$error":"#REF!"}},{"$error":"#REF!"},{"$error":"#REF!"},{"$f":"'E4-Baseline Measurements'!#REF!","v":{"$error":"#REF!"}}]
[{"$f":"'E4-Baseline Measurements'!#REF!","v":{"$error":"#REF!"}},{"$error":"#REF!"},{"$error":"#REF!"},{"$f":"'E4-Baseline Measurements'!#REF!","v":{"$error":"#REF!"}}]
[{"$f":"'E4-Baseline Measurements'!#REF!","v":{"$error":"#REF!"}},{"$error":"#REF!"},{"$error":"#REF!"},{"$f":"'E4-Baseline Measurements'!#REF!","v":{"$error":"#REF!"}}]
[{"$f":"'E4-Baseline Measurements'!#REF!","v":{"$error":"#REF!"}},{"$error":"#REF!"},{"$error":"#REF!"},{"$f":"'E4-Baseline Measurements'!#REF!","v":{"$error":"#REF!"}}]
[{"$f":"'E4-Baseline Measurements'!#REF!","v":{"$error":"#REF!"}},{"$error":"#REF!"},{"$error":"#REF!"},{"$f":"'E4-Baseline Measurements'!#REF!","v":{"$error":"#REF!"}}]
[{"$f":"'E4-Baseline Measurements'!#REF!","v":{"$error":"#REF!"}},{"$error":"#REF!"},{"$error":"#REF!"},{"$f":"'E4-Baseline Measurements'!#REF!","v":{"$error":"#REF!"}}]
[{"$f":"'E4-Baseline Measurements'!#REF!","v":{"$error":"#REF!"}},{"$error":"#REF!"},{"$error":"#REF!"},{"$f":"'E4-Baseline Measurements'!#REF!","v":{"$error":"#REF!"}}]
[{"$f":"'E4-Baseline Measurements'!#REF!","v":{"$error":"#REF!"}},{"$error":"#REF!"},{"$error":"#REF!"},{"$f":"'E4-Baseline Measurements'!#REF!","v":{"$error":"#REF!"}}]
[{"$f":"'E4-Baseline Measurements'!#REF!","v":{"$error":"#REF!"}},{"$error":"#REF!"},{"$error":"#REF!"},{"$f":"'E4-Baseline Measurements'!#REF!","v":{"$error":"#REF!"}}]
[{"$f":"'E4-Baseline Measurements'!#REF!","v":{"$error":"#REF!"}},{"$error":"#REF!"},{"$error":"#REF!"},{"$f":"'E4-Baseline Measurements'!#REF!","v":{"$error":"#REF!"}}]
[{"$f":"'E4-Baseline Measurements'!#REF!","v":{"$error":"#REF!"}},{"$error":"#REF!"},{"$error":"#REF!"},{"$f":"'E4-Baseline Measurements'!#REF!","v":{"$error":"#REF!"}}]
[{"$f":"'E4-Baseline Measurements'!#REF!","v":{"$error":"#REF!"}},{"$error":"#REF!"},{"$error":"#REF!"},{"$f":"'E4-Baseline Measurements'!#REF!","v":{"$error":"#REF!"}}]
[{"$f":"'E4-Baseline Measurements'!#REF!","v":{"$error":"#REF!"}},{"$error":"#REF!"},{"$error":"#REF!"},{"$f":"'E4-Baseline Measurements'!#REF!","v":{"$error":"#REF!"}}]
[{"$f":"'E4-Baseline Measurements'!#REF!","v":{"$error":"#REF!"}},{"$error":"#REF!"},{"$error":"#REF!"},{"$f":"'E4-Baseline Measurements'!#REF!","v":{"$error":"#REF!"}}]
[{"$f":"'E4-Baseline Measurements'!#REF!","v":{"$error":"#REF!"}},{"$error":"#REF!"},{"$error":"#REF!"},{"$f":"'E4-Baseline Measurements'!#REF!","v":{"$error":"#REF!"}}]
[{"$f":"'E4-Baseline Measurements'!#REF!","v":{"$error":"#REF!"}},{"$error":"#REF!"},{"$error":"#REF!"},{"$f":"'E4-Baseline Measurements'!#REF!","v":{"$error":"#REF!"}}]
[{"$f":"'E4-Baseline Measurements'!#REF!","v":{"$error":"#REF!"}},{"$error":"#REF!"},{"$error":"#REF!"},{"$f":"'E4-Baseline Measurements'!#REF!","v":{"$error":"#REF!"}}]
[{"$f":"'E4-Baseline Measurements'!#REF!","v":{"$error":"#REF!"}},{"$error":"#REF!"},{"$error":"#REF!"},{"$f":"'E4-Baseline Measurements'!#REF!","v":{"$error":"#REF!"}}]
[{"$f":"'E4-Baseline Measurements'!#REF!","v":{"$error":"#REF!"}},{"$error":"#REF!"},{"$error":"#REF!"},{"$f":"'E4-Baseline Measurements'!#REF!","v":{"$error":"#REF!"}}]
[{"$f":"'E4-Baseline Measurements'!#REF!","v":{"$error":"#REF!"}},{"$error":"#REF!"},{"$error":"#REF!"},{"$f":"'E4-Baseline Measurements'!#REF!","v":{"$error":"#REF!"}}]
[{"$f":"'E4-Baseline Measurements'!#REF!","v":{"$error":"#REF!"}},{"$error":"#REF!"},{"$error":"#REF!"},{"$f":"'E4-Baseline Measurements'!#REF!","v":{"$error":"#REF!"}}]
[{"$f":"'E4-Baseline Measurements'!#REF!","v":{"$error":"#REF!"}},{"$error":"#REF!"},{"$error":"#REF!"},{"$f":"'E4-Baseline Measurements'!#REF!","v":{"$error":"#REF!"}}]
[{"$f":"'E4-Baseline Measurements'!#REF!","v":{"$error":"#REF!"}},{"$error":"#REF!"},{"$error":"#REF!"},{"$f":"'E4-Baseline Measurements'!#REF!","v":{"$error":"#REF!"}}]
[{"$f":"'E4-Baseline Measurements'!#REF!","v":{"$error":"#REF!"}},{"$error":"#REF!"},{"$error":"#REF!"},{"$f":"'E4-Baseline Measurements'!#REF!","v":{"$error":"#REF!"}}]
[{"$f":"'E4-Baseline Measurements'!#REF!","v":{"$error":"#REF!"}},{"$error":"#REF!"},{"$error":"#REF!"},{"$f":"'E4-Baseline Measurements'!#REF!","v":{"$error":"#REF!"}}]
[{"$f":"'E4-Baseline Measurements'!#REF!","v":{"$error":"#REF!"}},{"$error":"#REF!"},{"$error":"#REF!"},{"$f":"'E4-Baseline Measurements'!#REF!","v":{"$error":"#REF!"}}]
[{"$f":"'E4-Baseline Measurements'!#REF!","v":{"$error":"#REF!"}},{"$error":"#REF!"},{"$error":"#REF!"},{"$f":"'E4-Baseline Measurements'!#REF!","v":{"$error":"#REF!"}}]
[{"$f":"'E4-Baseline Measurements'!#REF!","v":{"$error":"#REF!"}},{"$error":"#REF!"},{"$error":"#REF!"},{"$f":"'E4-Baseline Measurements'!#REF!","v":{"$error":"#REF!"}}]
[{"$f":"'E4-Baseline Measurements'!#REF!","v":{"$error":"#REF!"}},{"$error":"#REF!"},{"$error":"#REF!"},{"$f":"'E4-Baseline Measurements'!#REF!","v":{"$error":"#REF!"}}]
[{"$f":"'E4-Baseline Measurements'!#REF!","v":{"$error":"#REF!"}},{"$error":"#REF!"},{"$error":"#REF!"},{"$f":"'E4-Baseline Measurements'!#REF!","v":{"$error":"#REF!"}}]
[{"$f":"'E4-Baseline Measurements'!#REF!","v":{"$error":"#REF!"}},{"$error":"#REF!"},{"$error":"#REF!"},{"$f":"'E4-Baseline Measurements'!#REF!","v":{"$error":"#REF!"}}]
[{"$f":"'E4-Baseline Measurements'!#REF!","v":{"$error":"#REF!"}},{"$error":"#REF!"},{"$error":"#REF!"},{"$f":"'E4-Baseline Measurements'!#REF!","v":{"$error":"#REF!"}}]
[{"$f":"'E4-Baseline Measurements'!#REF!","v":{"$error":"#REF!"}},{"$error":"#REF!"},{"$error":"#REF!"},{"$f":"'E4-Baseline Measurements'!#REF!","v":{"$error":"#REF!"}}]
[{"$f":"'E4-Baseline Measurements'!#REF!","v":{"$error":"#REF!"}},{"$error":"#REF!"},{"$error":"#REF!"},{"$f":"'E4-Baseline Measurements'!#REF!","v":{"$error":"#REF!"}}]
[{"$f":"'E4-Baseline Measurements'!#REF!","v":{"$error":"#REF!"}},{"$error":"#REF!"},{"$error":"#REF!"},{"$f":"'E4-Baseline Measurements'!#REF!","v":{"$error":"#REF!"}}]
[{"$f":"'E4-Baseline Measurements'!#REF!","v":{"$error":"#REF!"}},{"$error":"#REF!"},{"$error":"#REF!"},{"$f":"'E4-Baseline Measurements'!#REF!","v":{"$error":"#REF!"}}]
[{"$f":"'E4-Baseline Measurements'!#REF!","v":{"$error":"#REF!"}},{"$error":"#REF!"},{"$error":"#REF!"},{"$f":"'E4-Baseline Measurements'!#REF!","v":{"$error":"#REF!"}}]
[{"$f":"'E4-Baseline Measurements'!#REF!","v":{"$error":"#REF!"}},{"$f":"1.05*$F$2-0.05*$F$4","v":{"$error":"#REF!"}},{"$f":"1.05*$F$4-0.05*$F$2","v":{"$error":"#REF!"}},{"$f":"'E4-Baseline Measurements'!#REF!","v":{"$error":"#REF!"}}]
[{"$f":"'E4-Baseline Measurements'!#REF!","v":{"$error":"#REF!"}},{"$error":"#REF!"},{"$error":"#REF!"},{"$f":"'E4-Baseline Measurements'!#REF!","v":{"$error":"#REF!"}}]
[{"$f":"'E4-Baseline Measurements'!#REF!","v":{"$error":"#REF!"}},{"$error":"#REF!"},{"$error":"#REF!"},{"$f":"'E4-Baseline Measurements'!#REF!","v":{"$error":"#REF!"}}]
[{"$f":"'E4-Baseline Measurements'!#REF!","v":{"$error":"#REF!"}},{"$error":"#REF!"},{"$error":"#REF!"},{"$f":"'E4-Baseline Measurements'!#REF!","v":{"$error":"#REF!"}}]
[{"$f":"'E4-Baseline Measurements'!#REF!","v":{"$error":"#REF!"}},{"$error":"#REF!"},{"$error":"#REF!"},{"$f":"'E4-Baseline Measurements'!#REF!","v":{"$error":"#REF!"}}]
[{"$f":"'E4-Baseline Measurements'!#REF!","v":{"$error":"#REF!"}},{"$error":"#REF!"},{"$error":"#REF!"},{"$f":"'E4-Baseline Measurements'!#REF!","v":{"$error":"#REF!"}}]
[{"$f":"'E4-Baseline Measurements'!#REF!","v":{"$error":"#REF!"}},{"$error":"#REF!"},{"$error":"#REF!"},{"$f":"'E4-Baseline Measurements'!#REF!","v":{"$error":"#REF!"}}]
[{"$f":"'E4-Baseline Measurements'!#REF!","v":{"$error":"#REF!"}},{"$error":"#REF!"},{"$error":"#REF!"},{"$f":"'E4-Baseline Measurements'!#REF!","v":{"$error":"#REF!"}}]
[{"$f":"'E4-Baseline Measurements'!#REF!","v":{"$error":"#REF!"}},{"$error":"#REF!"},{"$error":"#REF!"},{"$f":"'E4-Baseline Measurements'!#REF!","v":{"$error":"#REF!"}}]
[{"$f":"'E4-Baseline Measurements'!#REF!","v":{"$error":"#REF!"}},{"$error":"#REF!"},{"$error":"#REF!"},{"$f":"'E4-Baseline Measurements'!#REF!","v":{"$error":"#REF!"}}]
[{"$f":"'E4-Baseline Measurements'!#REF!","v":{"$error":"#REF!"}},{"$error":"#REF!"},{"$error":"#REF!"},{"$f":"'E4-Baseline Measurements'!#REF!","v":{"$error":"#REF!"}}]
[{"$f":"'E4-Baseline Measurements'!#REF!","v":{"$error":"#REF!"}},{"$error":"#REF!"},{"$error":"#REF!"},{"$f":"'E4-Baseline Measurements'!#REF!","v":{"$error":"#REF!"}}]
[{"$f":"'E4-Baseline Measurements'!#REF!","v":{"$error":"#REF!"}},{"$error":"#REF!"},{"$error":"#REF!"},{"$f":"'E4-Baseline Measurements'!#REF!","v":{"$error":"#REF!"}}]
[{"$f":"'E4-Baseline Measurements'!#REF!","v":{"$error":"#REF!"}},{"$error":"#REF!"},{"$error":"#REF!"},{"$f":"'E4-Baseline Measurements'!#REF!","v":{"$error":"#REF!"}}]
[{"$f":"'E4-Baseline Measurements'!#REF!","v":{"$error":"#REF!"}},{"$error":"#REF!"},{"$error":"#REF!"},{"$f":"'E4-Baseline Measurements'!#REF!","v":{"$error":"#REF!"}}]
[{"$f":"'E4-Baseline Measurements'!#REF!","v":{"$error":"#REF!"}},{"$error":"#REF!"},{"$error":"#REF!"},{"$f":"'E4-Baseline Measurements'!#REF!","v":{"$error":"#REF!"}}]
[{"$f":"'E4-Baseline Measurements'!#REF!","v":{"$error":"#REF!"}},{"$error":"#REF!"},{"$error":"#REF!"},{"$f":"'E4-Baseline Measurements'!#REF!","v":{"$error":"#REF!"}}]
[{"$f":"'E4-Baseline Measurements'!#REF!","v":{"$error":"#REF!"}},{"$error":"#REF!"},{"$error":"#REF!"},{"$f":"'E4-Baseline Measurements'!#REF!","v":{"$error":"#REF!"}}]
[{"$f":"'E4-Baseline Measurements'!#REF!","v":{"$error":"#REF!"}},{"$error":"#REF!"},{"$error":"#REF!"},{"$f":"'E4-Baseline Measurements'!#REF!","v":{"$error":"#REF!"}}]
[{"$f":"'E4-Baseline Measurements'!#REF!","v":{"$error":"#REF!"}},{"$error":"#REF!"},{"$error":"#REF!"},{"$f":"'E4-Baseline Measurements'!#REF!","v":{"$error":"#REF!"}}]
[{"$f":"'E4-Baseline Measurements'!#REF!","v":{"$error":"#REF!"}},{"$error":"#REF!"},{"$error":"#REF!"},{"$f":"'E4-Baseline Measurements'!#REF!","v":{"$error":"#REF!"}}]
[{"$f":"'E4-Baseline Measurements'!#REF!","v":{"$error":"#REF!"}},{"$error":"#REF!"},{"$error":"#REF!"},{"$f":"'E4-Baseline Measurements'!#REF!","v":{"$error":"#REF!"}}]
[{"$f":"'E4-Baseline Measurements'!#REF!","v":{"$error":"#REF!"}},{"$error":"#REF!"},{"$error":"#REF!"},{"$f":"'E4-Baseline Measurements'!#REF!","v":{"$error":"#REF!"}}]
[{"$f":"'E4-Baseline Measurements'!#REF!","v":{"$error":"#REF!"}},{"$error":"#REF!"},{"$error":"#REF!"},{"$f":"'E4-Baseline Measurements'!#REF!","v":{"$error":"#REF!"}}]
[{"$f":"'E4-Baseline Measurements'!#REF!","v":{"$error":"#REF!"}},{"$error":"#REF!"},{"$error":"#REF!"},{"$f":"'E4-Baseline Measurements'!#REF!","v":{"$error":"#REF!"}}]
[{"$f":"'E4-Baseline Measurements'!#REF!","v":{"$error":"#REF!"}},{"$error":"#REF!"},{"$error":"#REF!"},{"$f":"'E4-Baseline Measurements'!#REF!","v":{"$error":"#REF!"}}]
[{"$f":"'E4-Baseline Measurements'!#REF!","v":{"$error":"#REF!"}},{"$error":"#REF!"},{"$error":"#REF!"},{"$f":"'E4-Baseline Measurements'!#REF!","v":{"$error":"#REF!"}}]
[{"$f":"'E4-Baseline Measurements'!#REF!","v":{"$error":"#REF!"}},{"$error":"#REF!"},{"$error":"#REF!"},{"$f":"'E4-Baseline Measurements'!#REF!","v":{"$error":"#REF!"}}]
[{"$f":"'E4-Baseline Measurements'!#REF!","v":{"$error":"#REF!"}},{"$error":"#REF!"},{"$error":"#REF!"},{"$f":"'E4-Baseline Measurements'!#REF!","v":{"$error":"#REF!"}}]
[{"$f":"'E4-Baseline Measurements'!#REF!","v":{"$error":"#REF!"}},{"$error":"#REF!"},{"$error":"#REF!"},{"$f":"'E4-Baseline Measurements'!#REF!","v":{"$error":"#REF!"}}]
[{"$f":"'E4-Baseline Measurements'!#REF!","v":{"$error":"#REF!"}},{"$error":"#REF!"},{"$error":"#REF!"},{"$f":"'E4-Baseline Measurements'!#REF!","v":{"$error":"#REF!"}}]
[{"$f":"'E4-Baseline Measurements'!#REF!","v":{"$error":"#REF!"}},{"$error":"#REF!"},{"$error":"#REF!"},{"$f":"'E4-Baseline Measurements'!#REF!","v":{"$error":"#REF!"}}]
[{"$f":"'E4-Baseline Measurements'!#REF!","v":{"$error":"#REF!"}},{"$error":"#REF!"},{"$error":"#REF!"},{"$f":"'E4-Baseline Measurements'!#REF!","v":{"$error":"#REF!"}}]
[{"$f":"'E4-Baseline Measurements'!#REF!","v":{"$error":"#REF!"}},{"$error":"#REF!"},{"$error":"#REF!"},{"$f":"'E4-Baseline Measurements'!#REF!","v":{"$error":"#REF!"}}]
[{"$f":"'E4-Baseline Measurements'!#REF!","v":{"$error":"#REF!"}},{"$error":"#REF!"},{"$error":"#REF!"},{"$f":"'E4-Baseline Measurements'!#REF!","v":{"$error":"#REF!"}}]
[{"$f":"'E4-Baseline Measurements'!#REF!","v":{"$error":"#REF!"}},{"$error":"#REF!"},{"$error":"#REF!"},{"$f":"'E4-Baseline Measurements'!#REF!","v":{"$error":"#REF!"}}]
[{"$f":"'E4-Baseline Measurements'!#REF!","v":{"$error":"#REF!"}},{"$error":"#REF!"},{"$error":"#REF!"},{"$f":"'E4-Baseline Measurements'!#REF!","v":{"$error":"#REF!"}}]
[{"$f":"'E4-Baseline Measurements'!#REF!","v":{"$error":"#REF!"}},{"$error":"#REF!"},{"$error":"#REF!"},{"$f":"'E4-Baseline Measurements'!#REF!","v":{"$error":"#REF!"}}]
[{"$f":"'E4-Baseline Measurements'!#REF!","v":{"$error":"#REF!"}},{"$error":"#REF!"},{"$error":"#REF!"},{"$f":"'E4-Baseline Measurements'!#REF!","v":{"$error":"#REF!"}}]
[{"$f":"'E4-Baseline Measurements'!#REF!","v":{"$error":"#REF!"}},{"$error":"#REF!"},{"$error":"#REF!"},{"$f":"'E4-Baseline Measurements'!#REF!","v":{"$error":"#REF!"}}]
[{"$f":"'E4-Baseline Measurements'!#REF!","v":{"$error":"#REF!"}},{"$error":"#REF!"},{"$error":"#REF!"},{"$f":"'E4-Baseline Measurements'!#REF!","v":{"$error":"#REF!"}}]
[{"$f":"'E4-Baseline Measurements'!#REF!","v":{"$error":"#REF!"}},{"$error":"#REF!"},{"$error":"#REF!"},{"$f":"'E4-Baseline Measurements'!#REF!","v":{"$error":"#REF!"}}]
[{"$f":"'E4-Baseline Measurements'!#REF!","v":{"$error":"#REF!"}},{"$error":"#REF!"},{"$error":"#REF!"},{"$f":"'E4-Baseline Measurements'!#REF!","v":{"$error":"#REF!"}}]
[{"$f":"'E4-Baseline Measurements'!#REF!","v":{"$error":"#REF!"}},{"$error":"#REF!"},{"$error":"#REF!"},{"$f":"'E4-Baseline Measurements'!#REF!","v":{"$error":"#REF!"}}]
[{"$f":"'E4-Baseline Measurements'!#REF!","v":{"$error":"#REF!"}},{"$error":"#REF!"},{"$error":"#REF!"},{"$f":"'E4-Baseline Measurements'!#REF!","v":{"$error":"#REF!"}}]
[{"$f":"'E4-Baseline Measurements'!#REF!","v":{"$error":"#REF!"}},{"$error":"#REF!"},{"$error":"#REF!"},{"$f":"'E4-Baseline Measurements'!#REF!","v":{"$error":"#REF!"}}]
[{"$f":"'E4-Baseline Measurements'!#REF!","v":{"$error":"#REF!"}},{"$error":"#REF!"},{"$error":"#REF!"},{"$f":"'E4-Baseline Measurements'!#REF!","v":{"$error":"#REF!"}}]
[{"$f":"'E4-Baseline Measurements'!#REF!","v":{"$error":"#REF!"}},{"$error":"#REF!"},{"$error":"#REF!"},{"$f":"'E4-Baseline Measurements'!#REF!","v":{"$error":"#REF!"}}]
[{"$f":"'E4-Baseline Measurements'!#REF!","v":{"$error":"#REF!"}},{"$error":"#REF!"},{"$error":"#REF!"},{"$f":"'E4-Baseline Measurements'!#REF!","v":{"$error":"#REF!"}}]
[{"$f":"'E4-Baseline Measurements'!#REF!","v":{"$error":"#REF!"}},{"$error":"#REF!"},{"$error":"#REF!"},{"$f":"'E4-Baseline Measurements'!#REF!","v":{"$error":"#REF!"}}]
[{"$f":"'E4-Baseline Measurements'!#REF!","v":{"$error":"#REF!"}},{"$error":"#REF!"},{"$error":"#REF!"},{"$f":"'E4-Baseline Measurements'!#REF!","v":{"$error":"#REF!"}}]
[{"$f":"'E4-Baseline Measurements'!#REF!","v":{"$error":"#REF!"}},{"$error":"#REF!"},{"$error":"#REF!"},{"$f":"'E4-Baseline Measurements'!#REF!","v":{"$error":"#REF!"}}]
[{"$f":"'E4-Baseline Measurements'!#REF!","v":{"$error":"#REF!"}},{"$error":"#REF!"},{"$error":"#REF!"},{"$f":"'E4-Baseline Measurements'!#REF!","v":{"$error":"#REF!"}}]
[{"$f":"'E4-Baseline Measurements'!#REF!","v":{"$error":"#REF!"}},{"$error":"#REF!"},{"$error":"#REF!"},{"$f":"'E4-Baseline Measurements'!#REF!","v":{"$error":"#REF!"}}]
[{"$f":"'E4-Baseline Measurements'!#REF!","v":{"$error":"#REF!"}},{"$error":"#REF!"},{"$error":"#REF!"},{"$f":"'E4-Baseline Measurements'!#REF!","v":{"$error":"#REF!"}}]
[{"$f":"'E4-Baseline Measurements'!#REF!","v":{"$error":"#REF!"}},{"$error":"#REF!"},{"$error":"#REF!"},{"$f":"'E4-Baseline Measurements'!#REF!","v":{"$error":"#REF!"}}]
[{"$f":"'E4-Baseline Measurements'!#REF!","v":{"$error":"#REF!"}},{"$error":"#REF!"},{"$error":"#REF!"},{"$f":"'E4-Baseline Measurements'!#REF!","v":{"$error":"#REF!"}}]
[{"$f":"'E4-Baseline Measurements'!#REF!","v":{"$error":"#REF!"}},{"$error":"#REF!"},{"$error":"#REF!"},{"$f":"'E4-Baseline Measurements'!#REF!","v":{"$error":"#REF!"}}]
[{"$f":"'E4-Baseline Measurements'!#REF!","v":{"$error":"#REF!"}},{"$error":"#REF!"},{"$error":"#REF!"},{"$f":"'E4-Baseline Measurements'!#REF!","v":{"$error":"#REF!"}}]
[{"$f":"'E4-Baseline Measurements'!#REF!","v":{"$error":"#REF!"}},{"$error":"#REF!"},{"$error":"#REF!"},{"$f":"'E4-Baseline Measurements'!#REF!","v":{"$error":"#REF!"}}]
[{"$f":"'E4-Baseline Measurements'!#REF!","v":{"$error":"#REF!"}},{"$error":"#REF!"},{"$error":"#REF!"},{"$f":"'E4-Baseline Measurements'!#REF!","v":{"$error":"#REF!"}}]
[{"$f":"'E4-Baseline Measurements'!#REF!","v":{"$error":"#REF!"}},{"$error":"#REF!"},{"$error":"#REF!"},{"$f":"'E4-Baseline Measurements'!#REF!","v":{"$error":"#REF!"}}]
[{"$f":"'E4-Baseline Measurements'!#REF!","v":{"$error":"#REF!"}},{"$error":"#REF!"},{"$error":"#REF!"},{"$f":"'E4-Baseline Measurements'!#REF!","v":{"$error":"#REF!"}}]
[{"$f":"'E4-Baseline Measurements'!#REF!","v":{"$error":"#REF!"}},{"$error":"#REF!"},{"$error":"#REF!"},{"$f":"'E4-Baseline Measurements'!#REF!","v":{"$error":"#REF!"}}]
[{"$f":"'E4-Baseline Measurements'!#REF!","v":{"$error":"#REF!"}},{"$f":"1.05*$F$2-0.05*$F$4","v":{"$error":"#REF!"}},{"$f":"1.05*$F$4-0.05*$F$2","v":{"$error":"#REF!"}},{"$f":"'E4-Baseline Measurements'!#REF!","v":{"$error":"#REF!"}}]
[{"$f":"'E4-Baseline Measurements'!#REF!","v":{"$error":"#REF!"}},{"$error":"#REF!"},{"$error":"#REF!"},{"$f":"'E4-Baseline Measurements'!#REF!","v":{"$error":"#REF!"}}]
[{"$f":"'E4-Baseline Measurements'!#REF!","v":{"$error":"#REF!"}},{"$error":"#REF!"},{"$error":"#REF!"},{"$f":"'E4-Baseline Measurements'!#REF!","v":{"$error":"#REF!"}}]
[{"$f":"'E4-Baseline Measurements'!#REF!","v":{"$error":"#REF!"}},{"$error":"#REF!"},{"$error":"#REF!"},{"$f":"'E4-Baseline Measurements'!#REF!","v":{"$error":"#REF!"}}]
[{"$f":"'E4-Baseline Measurements'!#REF!","v":{"$error":"#REF!"}},{"$error":"#REF!"},{"$error":"#REF!"},{"$f":"'E4-Baseline Measurements'!#REF!","v":{"$error":"#REF!"}}]
[{"$f":"'E4-Baseline Measurements'!#REF!","v":{"$error":"#REF!"}},{"$error":"#REF!"},{"$error":"#REF!"},{"$f":"'E4-Baseline Measurements'!#REF!","v":{"$error":"#REF!"}}]
[{"$f":"'E4-Baseline Measurements'!#REF!","v":{"$error":"#REF!"}},{"$error":"#REF!"},{"$error":"#REF!"},{"$f":"'E4-Baseline Measurements'!#REF!","v":{"$error":"#REF!"}}]
[{"$f":"'E4-Baseline Measurements'!#REF!","v":{"$error":"#REF!"}},{"$error":"#REF!"},{"$error":"#REF!"},{"$f":"'E4-Baseline Measurements'!#REF!","v":{"$error":"#REF!"}}]
[{"$f":"'E4-Baseline Measurements'!#REF!","v":{"$error":"#REF!"}},{"$error":"#REF!"},{"$error":"#REF!"},{"$f":"'E4-Baseline Measurements'!#REF!","v":{"$error":"#REF!"}}]
[{"$f":"'E4-Baseline Measurements'!#REF!","v":{"$error":"#REF!"}},{"$error":"#REF!"},{"$error":"#REF!"},{"$f":"'E4-Baseline Measurements'!#REF!","v":{"$error":"#REF!"}}]
[{"$f":"'E4-Baseline Measurements'!#REF!","v":{"$error":"#REF!"}},{"$error":"#REF!"},{"$error":"#REF!"},{"$f":"'E4-Baseline Measurements'!#REF!","v":{"$error":"#REF!"}}]
[{"$f":"'E4-Baseline Measurements'!#REF!","v":{"$error":"#REF!"}},{"$error":"#REF!"},{"$error":"#REF!"},{"$f":"'E4-Baseline Measurements'!#REF!","v":{"$error":"#REF!"}}]
[{"$f":"'E4-Baseline Measurements'!#REF!","v":{"$error":"#REF!"}},{"$error":"#REF!"},{"$error":"#REF!"},{"$f":"'E4-Baseline Measurements'!#REF!","v":{"$error":"#REF!"}}]
[{"$f":"'E4-Baseline Measurements'!#REF!","v":{"$error":"#REF!"}},{"$error":"#REF!"},{"$error":"#REF!"},{"$f":"'E4-Baseline Measurements'!#REF!","v":{"$error":"#REF!"}}]
[{"$f":"'E4-Baseline Measurements'!#REF!","v":{"$error":"#REF!"}},{"$error":"#REF!"},{"$error":"#REF!"},{"$f":"'E4-Baseline Measurements'!#REF!","v":{"$error":"#REF!"}}]
[{"$f":"'E4-Baseline Measurements'!#REF!","v":{"$error":"#REF!"}},{"$error":"#REF!"},{"$error":"#REF!"},{"$f":"'E4-Baseline Measurements'!#REF!","v":{"$error":"#REF!"}}]
[{"$f":"'E4-Baseline Measurements'!#REF!","v":{"$error":"#REF!"}},{"$error":"#REF!"},{"$error":"#REF!"},{"$f":"'E4-Baseline Measurements'!#REF!","v":{"$error":"#REF!"}}]
[{"$f":"'E4-Baseline Measurements'!#REF!","v":{"$error":"#REF!"}},{"$error":"#REF!"},{"$error":"#REF!"},{"$f":"'E4-Baseline Measurements'!#REF!","v":{"$error":"#REF!"}}]
[{"$f":"'E4-Baseline Measurements'!#REF!","v":{"$error":"#REF!"}},{"$error":"#REF!"},{"$error":"#REF!"},{"$f":"'E4-Baseline Measurements'!#REF!","v":{"$error":"#REF!"}}]
[{"$f":"'E4-Baseline Measurements'!#REF!","v":{"$error":"#REF!"}},{"$error":"#REF!"},{"$error":"#REF!"},{"$f":"'E4-Baseline Measurements'!#REF!","v":{"$error":"#REF!"}}]
[{"$f":"'E4-Baseline Measurements'!#REF!","v":{"$error":"#REF!"}},{"$error":"#REF!"},{"$error":"#REF!"},{"$f":"'E4-Baseline Measurements'!#REF!","v":{"$error":"#REF!"}}]
[{"$f":"'E4-Baseline Measurements'!#REF!","v":{"$error":"#REF!"}},{"$error":"#REF!"},{"$error":"#REF!"},{"$f":"'E4-Baseline Measurements'!#REF!","v":{"$error":"#REF!"}}]
[{"$f":"'E4-Baseline Measurements'!#REF!","v":{"$error":"#REF!"}},{"$error":"#REF!"},{"$error":"#REF!"},{"$f":"'E4-Baseline Measurements'!#REF!","v":{"$error":"#REF!"}}]
[{"$f":"'E4-Baseline Measurements'!#REF!","v":{"$error":"#REF!"}},{"$error":"#REF!"},{"$error":"#REF!"},{"$f":"'E4-Baseline Measurements'!#REF!","v":{"$error":"#REF!"}}]
[{"$f":"'E4-Baseline Measurements'!#REF!","v":{"$error":"#REF!"}},{"$error":"#REF!"},{"$error":"#REF!"},{"$f":"'E4-Baseline Measurements'!#REF!","v":{"$error":"#REF!"}}]
[{"$f":"'E4-Baseline Measurements'!#REF!","v":{"$error":"#REF!"}},{"$error":"#REF!"},{"$error":"#REF!"},{"$f":"'E4-Baseline Measurements'!#REF!","v":{"$error":"#REF!"}}]
[{"$f":"'E4-Baseline Measurements'!#REF!","v":{"$error":"#REF!"}},{"$error":"#REF!"},{"$error":"#REF!"},{"$f":"'E4-Baseline Measurements'!#REF!","v":{"$error":"#REF!"}}]
[{"$f":"'E4-Baseline Measurements'!#REF!","v":{"$error":"#REF!"}},{"$error":"#REF!"},{"$error":"#REF!"},{"$f":"'E4-Baseline Measurements'!#REF!","v":{"$error":"#REF!"}}]
[{"$f":"'E4-Baseline Measurements'!#REF!","v":{"$error":"#REF!"}},{"$error":"#REF!"},{"$error":"#REF!"},{"$f":"'E4-Baseline Measurements'!#REF!","v":{"$error":"#REF!"}}]
[{"$f":"'E4-Baseline Measurements'!#REF!","v":{"$error":"#REF!"}},{"$error":"#REF!"},{"$error":"#REF!"},{"$f":"'E4-Baseline Measurements'!#REF!","v":{"$error":"#REF!"}}]
[{"$f":"'E4-Baseline Measurements'!#REF!","v":{"$error":"#REF!"}},{"$error":"#REF!"},{"$error":"#REF!"},{"$f":"'E4-Baseline Measurements'!#REF!","v":{"$error":"#REF!"}}]
[{"$f":"'E4-Baseline Measurements'!#REF!","v":{"$error":"#REF!"}},{"$error":"#REF!"},{"$error":"#REF!"},{"$f":"'E4-Baseline Measurements'!#REF!","v":{"$error":"#REF!"}}]
[{"$f":"'E4-Baseline Measurements'!#REF!","v":{"$error":"#REF!"}},{"$error":"#REF!"},{"$error":"#REF!"},{"$f":"'E4-Baseline Measurements'!#REF!","v":{"$error":"#REF!"}}]
[{"$f":"'E4-Baseline Measurements'!#REF!","v":{"$error":"#REF!"}},{"$error":"#REF!"},{"$error":"#REF!"},{"$f":"'E4-Baseline Measurements'!#REF!","v":{"$error":"#REF!"}}]
[{"$f":"'E4-Baseline Measurements'!#REF!","v":{"$error":"#REF!"}},{"$error":"#REF!"},{"$error":"#REF!"},{"$f":"'E4-Baseline Measurements'!#REF!","v":{"$error":"#REF!"}}]
[{"$f":"'E4-Baseline Measurements'!#REF!","v":{"$error":"#REF!"}},{"$error":"#REF!"},{"$error":"#REF!"},{"$f":"'E4-Baseline Measurements'!#REF!","v":{"$error":"#REF!"}}]
[{"$f":"'E4-Baseline Measurements'!#REF!","v":{"$error":"#REF!"}},{"$error":"#REF!"},{"$error":"#REF!"},{"$f":"'E4-Baseline Measurements'!#REF!","v":{"$error":"#REF!"}}]
[{"$f":"'E4-Baseline Measurements'!#REF!","v":{"$error":"#REF!"}},{"$error":"#REF!"},{"$error":"#REF!"},{"$f":"'E4-Baseline Measurements'!#REF!","v":{"$error":"#REF!"}}]
[{"$f":"'E4-Baseline Measurements'!#REF!","v":{"$error":"#REF!"}},{"$error":"#REF!"},{"$error":"#REF!"},{"$f":"'E4-Baseline Measurements'!#REF!","v":{"$error":"#REF!"}}]
[{"$f":"'E4-Baseline Measurements'!#REF!","v":{"$error":"#REF!"}},{"$error":"#REF!"},{"$error":"#REF!"},{"$f":"'E4-Baseline Measurements'!#REF!","v":{"$error":"#REF!"}}]
[{"$f":"'E4-Baseline Measurements'!#REF!","v":{"$error":"#REF!"}},{"$error":"#REF!"},{"$error":"#REF!"},{"$f":"'E4-Baseline Measurements'!#REF!","v":{"$error":"#REF!"}}]
[{"$f":"'E4-Baseline Measurements'!#REF!","v":{"$error":"#REF!"}},{"$error":"#REF!"},{"$error":"#REF!"},{"$f":"'E4-Baseline Measurements'!#REF!","v":{"$error":"#REF!"}}]
[{"$f":"'E4-Baseline Measurements'!#REF!","v":{"$error":"#REF!"}},{"$error":"#REF!"},{"$error":"#REF!"},{"$f":"'E4-Baseline Measurements'!#REF!","v":{"$error":"#REF!"}}]
[{"$f":"'E4-Baseline Measurements'!#REF!","v":{"$error":"#REF!"}},{"$error":"#REF!"},{"$error":"#REF!"},{"$f":"'E4-Baseline Measurements'!#REF!","v":{"$error":"#REF!"}}]
[{"$f":"'E4-Baseline Measurements'!#REF!","v":{"$error":"#REF!"}},{"$error":"#REF!"},{"$error":"#REF!"},{"$f":"'E4-Baseline Measurements'!#REF!","v":{"$error":"#REF!"}}]
[{"$f":"'E4-Baseline Measurements'!#REF!","v":{"$error":"#REF!"}},{"$error":"#REF!"},{"$error":"#REF!"},{"$f":"'E4-Baseline Measurements'!#REF!","v":{"$error":"#REF!"}}]
[{"$f":"'E4-Baseline Measurements'!#REF!","v":{"$error":"#REF!"}},{"$error":"#REF!"},{"$error":"#REF!"},{"$f":"'E4-Baseline Measurements'!#REF!","v":{"$error":"#REF!"}}]
[{"$f":"'E4-Baseline Measurements'!#REF!","v":{"$error":"#REF!"}},{"$error":"#REF!"},{"$error":"#REF!"},{"$f":"'E4-Baseline Measurements'!#REF!","v":{"$error":"#REF!"}}]
[{"$f":"'E4-Baseline Measurements'!#REF!","v":{"$error":"#REF!"}},{"$error":"#REF!"},{"$error":"#REF!"},{"$f":"'E4-Baseline Measurements'!#REF!","v":{"$error":"#REF!"}}]
[{"$f":"'E4-Baseline Measurements'!#REF!","v":{"$error":"#REF!"}},{"$error":"#REF!"},{"$error":"#REF!"},{"$f":"'E4-Baseline Measurements'!#REF!","v":{"$error":"#REF!"}}]
[{"$f":"'E4-Baseline Measurements'!#REF!","v":{"$error":"#REF!"}},{"$error":"#REF!"},{"$error":"#REF!"},{"$f":"'E4-Baseline Measurements'!#REF!","v":{"$error":"#REF!"}}]
[{"$f":"'E4-Baseline Measurements'!#REF!","v":{"$error":"#REF!"}},{"$error":"#REF!"},{"$error":"#REF!"},{"$f":"'E4-Baseline Measurements'!#REF!","v":{"$error":"#REF!"}}]
[{"$f":"'E4-Baseline Measurements'!#REF!","v":{"$error":"#REF!"}},{"$error":"#REF!"},{"$error":"#REF!"},{"$f":"'E4-Baseline Measurements'!#REF!","v":{"$error":"#REF!"}}]
[{"$f":"'E4-Baseline Measurements'!#REF!","v":{"$error":"#REF!"}},{"$error":"#REF!"},{"$error":"#REF!"},{"$f":"'E4-Baseline Measurements'!#REF!","v":{"$error":"#REF!"}}]
[{"$f":"'E4-Baseline Measurements'!#REF!","v":{"$error":"#REF!"}},{"$error":"#REF!"},{"$error":"#REF!"},{"$f":"'E4-Baseline Measurements'!#REF!","v":{"$error":"#REF!"}}]
[{"$f":"'E4-Baseline Measurements'!#REF!","v":{"$error":"#REF!"}},{"$error":"#REF!"},{"$error":"#REF!"},{"$f":"'E4-Baseline Measurements'!#REF!","v":{"$error":"#REF!"}}]
[{"$f":"'E4-Baseline Measurements'!#REF!","v":{"$error":"#REF!"}},{"$error":"#REF!"},{"$error":"#REF!"},{"$f":"'E4-Baseline Measurements'!#REF!","v":{"$error":"#REF!"}}]
[{"$f":"'E4-Baseline Measurements'!#REF!","v":{"$error":"#REF!"}},{"$error":"#REF!"},{"$error":"#REF!"},{"$f":"'E4-Baseline Measurements'!#REF!","v":{"$error":"#REF!"}}]
[{"$f":"'E4-Baseline Measurements'!#REF!","v":{"$error":"#REF!"}},{"$error":"#REF!"},{"$error":"#REF!"},{"$f":"'E4-Baseline Measurements'!#REF!","v":{"$error":"#REF!"}}]
[{"$f":"'E4-Baseline Measurements'!#REF!","v":{"$error":"#REF!"}},{"$error":"#REF!"},{"$error":"#REF!"},{"$f":"'E4-Baseline Measurements'!#REF!","v":{"$error":"#REF!"}}]
[{"$f":"'E4-Baseline Measurements'!#REF!","v":{"$error":"#REF!"}},{"$error":"#REF!"},{"$error":"#REF!"},{"$f":"'E4-Baseline Measurements'!#REF!","v":{"$error":"#REF!"}}]
[{"$f":"'E4-Baseline Measurements'!#REF!","v":{"$error":"#REF!"}},{"$error":"#REF!"},{"$error":"#REF!"},{"$f":"'E4-Baseline Measurements'!#REF!","v":{"$error":"#REF!"}}]
[{"$f":"'E4-Baseline Measurements'!#REF!","v":{"$error":"#REF!"}},{"$error":"#REF!"},{"$error":"#REF!"},{"$f":"'E4-Baseline Measurements'!#REF!","v":{"$error":"#REF!"}}]
[{"$f":"'E4-Baseline Measurements'!#REF!","v":{"$error":"#REF!"}},{"$error":"#REF!"},{"$error":"#REF!"},{"$f":"'E4-Baseline Measurements'!#REF!","v":{"$error":"#REF!"}}]
[{"$f":"'E4-Baseline Measurements'!#REF!","v":{"$error":"#REF!"}},{"$f":"1.05*$F$2-0.05*$F$4","v":{"$error":"#REF!"}},{"$f":"1.05*$F$4-0.05*$F$2","v":{"$error":"#REF!"}},{"$f":"'E4-Baseline Measurements'!#REF!","v":{"$error":"#REF!"}}]
[{"$f":"'E4-Baseline Measurements'!#REF!","v":{"$error":"#REF!"}},{"$error":"#REF!"},{"$error":"#REF!"},{"$f":"'E4-Baseline Measurements'!#REF!","v":{"$error":"#REF!"}}]
[{"$f":"'E4-Baseline Measurements'!#REF!","v":{"$error":"#REF!"}},{"$error":"#REF!"},{"$error":"#REF!"},{"$f":"'E4-Baseline Measurements'!#REF!","v":{"$error":"#REF!"}}]
[{"$f":"'E4-Baseline Measurements'!#REF!","v":{"$error":"#REF!"}},{"$error":"#REF!"},{"$error":"#REF!"},{"$f":"'E4-Baseline Measurements'!#REF!","v":{"$error":"#REF!"}}]
[{"$f":"'E4-Baseline Measurements'!#REF!","v":{"$error":"#REF!"}},{"$error":"#REF!"},{"$error":"#REF!"},{"$f":"'E4-Baseline Measurements'!#REF!","v":{"$error":"#REF!"}}]
[{"$f":"'E4-Baseline Measurements'!#REF!","v":{"$error":"#REF!"}},{"$error":"#REF!"},{"$error":"#REF!"},{"$f":"'E4-Baseline Measurements'!#REF!","v":{"$error":"#REF!"}}]
[{"$f":"'E4-Baseline Measurements'!#REF!","v":{"$error":"#REF!"}},{"$error":"#REF!"},{"$error":"#REF!"},{"$f":"'E4-Baseline Measurements'!#REF!","v":{"$error":"#REF!"}}]
[{"$f":"'E4-Baseline Measurements'!#REF!","v":{"$error":"#REF!"}},{"$error":"#REF!"},{"$error":"#REF!"},{"$f":"'E4-Baseline Measurements'!#REF!","v":{"$error":"#REF!"}}]
[{"$f":"'E4-Baseline Measurements'!#REF!","v":{"$error":"#REF!"}},{"$error":"#REF!"},{"$error":"#REF!"},{"$f":"'E4-Baseline Measurements'!#REF!","v":{"$error":"#REF!"}}]
[{"$f":"'E4-Baseline Measurements'!#REF!","v":{"$error":"#REF!"}},{"$error":"#REF!"},{"$error":"#REF!"},{"$f":"'E4-Baseline Measurements'!#REF!","v":{"$error":"#REF!"}}]
[{"$f":"'E4-Baseline Measurements'!#REF!","v":{"$error":"#REF!"}},{"$error":"#REF!"},{"$error":"#REF!"},{"$f":"'E4-Baseline Measurements'!#REF!","v":{"$error":"#REF!"}}]
[{"$f":"'E4-Baseline Measurements'!#REF!","v":{"$error":"#REF!"}},{"$error":"#REF!"},{"$error":"#REF!"},{"$f":"'E4-Baseline Measurements'!#REF!","v":{"$error":"#REF!"}}]
[{"$f":"'E4-Baseline Measurements'!#REF!","v":{"$error":"#REF!"}},{"$error":"#REF!"},{"$error":"#REF!"},{"$f":"'E4-Baseline Measurements'!#REF!","v":{"$error":"#REF!"}}]
[{"$f":"'E4-Baseline Measurements'!#REF!","v":{"$error":"#REF!"}},{"$error":"#REF!"},{"$error":"#REF!"},{"$f":"'E4-Baseline Measurements'!#REF!","v":{"$error":"#REF!"}}]
[{"$f":"'E4-Baseline Measurements'!#REF!","v":{"$error":"#REF!"}},{"$error":"#REF!"},{"$error":"#REF!"},{"$f":"'E4-Baseline Measurements'!#REF!","v":{"$error":"#REF!"}}]
[{"$f":"'E4-Baseline Measurements'!#REF!","v":{"$error":"#REF!"}},{"$error":"#REF!"},{"$error":"#REF!"},{"$f":"'E4-Baseline Measurements'!#REF!","v":{"$error":"#REF!"}}]
[{"$f":"'E4-Baseline Measurements'!#REF!","v":{"$error":"#REF!"}},{"$error":"#REF!"},{"$error":"#REF!"},{"$f":"'E4-Baseline Measurements'!#REF!","v":{"$error":"#REF!"}}]
[{"$f":"'E4-Baseline Measurements'!#REF!","v":{"$error":"#REF!"}},{"$error":"#REF!"},{"$error":"#REF!"},{"$f":"'E4-Baseline Measurements'!#REF!","v":{"$error":"#REF!"}}]
[{"$f":"'E4-Baseline Measurements'!#REF!","v":{"$error":"#REF!"}},{"$error":"#REF!"},{"$error":"#REF!"},{"$f":"'E4-Baseline Measurements'!#REF!","v":{"$error":"#REF!"}}]
[{"$f":"'E4-Baseline Measurements'!#REF!","v":{"$error":"#REF!"}},{"$error":"#REF!"},{"$error":"#REF!"},{"$f":"'E4-Baseline Measurements'!#REF!","v":{"$error":"#REF!"}}]
[{"$f":"'E4-Baseline Measurements'!#REF!","v":{"$error":"#REF!"}},{"$error":"#REF!"},{"$error":"#REF!"},{"$f":"'E4-Baseline Measurements'!#REF!","v":{"$error":"#REF!"}}]
[{"$f":"'E4-Baseline Measurements'!#REF!","v":{"$error":"#REF!"}},{"$error":"#REF!"},{"$error":"#REF!"},{"$f":"'E4-Baseline Measurements'!#REF!","v":{"$error":"#REF!"}}]
[{"$f":"'E4-Baseline Measurements'!#REF!","v":{"$error":"#REF!"}},{"$error":"#REF!"},{"$error":"#REF!"},{"$f":"'E4-Baseline Measurements'!#REF!","v":{"$error":"#REF!"}}]
[{"$f":"'E4-Baseline Measurements'!#REF!","v":{"$error":"#REF!"}},{"$error":"#REF!"},{"$error":"#REF!"},{"$f":"'E4-Baseline Measurements'!#REF!","v":{"$error":"#REF!"}}]
[{"$f":"'E4-Baseline Measurements'!#REF!","v":{"$error":"#REF!"}},{"$error":"#REF!"},{"$error":"#REF!"},{"$f":"'E4-Baseline Measurements'!#REF!","v":{"$error":"#REF!"}}]
[{"$f":"'E4-Baseline Measurements'!#REF!","v":{"$error":"#REF!"}},{"$error":"#REF!"},{"$error":"#REF!"},{"$f":"'E4-Baseline Measurements'!#REF!","v":{"$error":"#REF!"}}]
[{"$f":"'E4-Baseline Measurements'!#REF!","v":{"$error":"#REF!"}},{"$error":"#REF!"},{"$error":"#REF!"},{"$f":"'E4-Baseline Measurements'!#REF!","v":{"$error":"#REF!"}}]
[{"$f":"'E4-Baseline Measurements'!#REF!","v":{"$error":"#REF!"}},{"$error":"#REF!"},{"$error":"#REF!"},{"$f":"'E4-Baseline Measurements'!#REF!","v":{"$error":"#REF!"}}]
[{"$f":"'E4-Baseline Measurements'!#REF!","v":{"$error":"#REF!"}},{"$error":"#REF!"},{"$error":"#REF!"},{"$f":"'E4-Baseline Measurements'!#REF!","v":{"$error":"#REF!"}}]
[{"$f":"'E4-Baseline Measurements'!#REF!","v":{"$error":"#REF!"}},{"$error":"#REF!"},{"$error":"#REF!"},{"$f":"'E4-Baseline Measurements'!#REF!","v":{"$error":"#REF!"}}]
[{"$f":"'E4-Baseline Measurements'!#REF!","v":{"$error":"#REF!"}},{"$error":"#REF!"},{"$error":"#REF!"},{"$f":"'E4-Baseline Measurements'!#REF!","v":{"$error":"#REF!"}}]
[{"$f":"'E4-Baseline Measurements'!#REF!","v":{"$error":"#REF!"}},{"$error":"#REF!"},{"$error":"#REF!"},{"$f":"'E4-Baseline Measurements'!#REF!","v":{"$error":"#REF!"}}]
[{"$f":"'E4-Baseline Measurements'!#REF!","v":{"$error":"#REF!"}},{"$error":"#REF!"},{"$error":"#REF!"},{"$f":"'E4-Baseline Measurements'!#REF!","v":{"$error":"#REF!"}}]
[{"$f":"'E4-Baseline Measurements'!#REF!","v":{"$error":"#REF!"}},{"$error":"#REF!"},{"$error":"#REF!"},{"$f":"'E4-Baseline Measurements'!#REF!","v":{"$error":"#REF!"}}]
[{"$f":"'E4-Baseline Measurements'!#REF!","v":{"$error":"#REF!"}},{"$error":"#REF!"},{"$error":"#REF!"},{"$f":"'E4-Baseline Measurements'!#REF!","v":{"$error":"#REF!"}}]
[{"$f":"'E4-Baseline Measurements'!#REF!","v":{"$error":"#REF!"}},{"$error":"#REF!"},{"$error":"#REF!"},{"$f":"'E4-Baseline Measurements'!#REF!","v":{"$error":"#REF!"}}]
[{"$f":"'E4-Baseline Measurements'!#REF!","v":{"$error":"#REF!"}},{"$error":"#REF!"},{"$error":"#REF!"},{"$f":"'E4-Baseline Measurements'!#REF!","v":{"$error":"#REF!"}}]
[{"$f":"'E4-Baseline Measurements'!#REF!","v":{"$error":"#REF!"}},{"$error":"#REF!"},{"$error":"#REF!"},{"$f":"'E4-Baseline Measurements'!#REF!","v":{"$error":"#REF!"}}]
[{"$f":"'E4-Baseline Measurements'!#REF!","v":{"$error":"#REF!"}},{"$error":"#REF!"},{"$error":"#REF!"},{"$f":"'E4-Baseline Measurements'!#REF!","v":{"$error":"#REF!"}}]
[{"$f":"'E4-Baseline Measurements'!#REF!","v":{"$error":"#REF!"}},{"$error":"#REF!"},{"$error":"#REF!"},{"$f":"'E4-Baseline Measurements'!#REF!","v":{"$error":"#REF!"}}]
[{"$f":"'E4-Baseline Measurements'!#REF!","v":{"$error":"#REF!"}},{"$error":"#REF!"},{"$error":"#REF!"},{"$f":"'E4-Baseline Measurements'!#REF!","v":{"$error":"#REF!"}}]
[{"$f":"'E4-Baseline Measurements'!#REF!","v":{"$error":"#REF!"}},{"$error":"#REF!"},{"$error":"#REF!"},{"$f":"'E4-Baseline Measurements'!#REF!","v":{"$error":"#REF!"}}]
[{"$f":"'E4-Baseline Measurements'!#REF!","v":{"$error":"#REF!"}},{"$error":"#REF!"},{"$error":"#REF!"},{"$f":"'E4-Baseline Measurements'!#REF!","v":{"$error":"#REF!"}}]
[{"$f":"'E4-Baseline Measurements'!#REF!","v":{"$error":"#REF!"}},{"$error":"#REF!"},{"$error":"#REF!"},{"$f":"'E4-Baseline Measurements'!#REF!","v":{"$error":"#REF!"}}]
[{"$f":"'E4-Baseline Measurements'!#REF!","v":{"$error":"#REF!"}},{"$error":"#REF!"},{"$error":"#REF!"},{"$f":"'E4-Baseline Measurements'!#REF!","v":{"$error":"#REF!"}}]

{"sheet":"Data - Baseline Chart","index":11,"n_rows":25,"n_cols":4,"rows_kept":25,"cut":false,"hidden":true,"merged":[]}
[]
["number","SF"]
[1,null,{"$f":"NumberFormatSF(A3,B3)","v":"0"},{"$f":"TEXT(A3,C3)","v":"1"}]
[1.2,1,{"$f":"NumberFormatSF(A4,B4)","v":"0"},{"$f":"TEXT(A4,C4)","v":"1"}]
[1000,3,"0","1000"]
[1234,3,"0","1234"]
[12345678,1,"0.E+00","1.E+07"]
[12345678,2,"0.0E+00","1.2E+07"]
[12345678,3,"0","12345678"]
[12345678,0,"0.E+00","1.E+07"]
[12345678,2,"0.0E+00","1.2E+07"]
[1234567,2,"0","1234567"]
[123456,2,{"$f":"NumberFormatSF(A13,B13)","v":"0"},"123456"]
[12345,2,"0","12345"]
[1.23,3,"0.00","1.23"]
[3.4,3,"0.00","3.40"]
[0.123,3,{"$f":"NumberFormatSF(A17,B17)","v":"0.000"},{"$f":"TEXT(A17,C17)","v":"0.123"}]
[0.1234,3,"0.000","0.123"]
[1.234E-2,3,"0.0000","0.0123"]
[1.2344999999999999E-3,3,"0.00000","0.00123"]
[1.2339999999999999E-4,3,"0.00E+00","1.23E-04"]
[1.234E-5,3,"0.00E+00","1.23E-05"]
[3.4,3,"0.00","3.40"]
[3.4,3,"0.00","3.40"]
[3.4,3,"0.00","3.40"]

{"sheet":"E5-Baseline Model","index":12,"n_rows":122,"n_cols":23,"rows_kept":122,"cut":false,"hidden":true,"merged":[[45,1,45,10],[46,3,46,6],[26,1,26,4],[36,1,36,12],[46,7,46,10],[46,11,46,14],[47,13,47,14],[41,1,41,11],[47,11,47,12],[88,1,88,2],[92,1,92,2],[91,1,91,2],[89,1,89,2],[87,3,87,4],[88,3,88,4],[59,3,59,4],[63,1,64,3],[72,1,72,7],[68,1,68,2],[67,5,67,6],[66,1,66,2],[73,1,73,6],[70,1,70,12],[67,3,67,4],[67,1,67,2],[66,5,66,6],[63,4,63,6],[9,1,9,12],[12,1,12,12],[14,1,14,6],[21,1,21,12],[15,4,15,6],[17,4,17,6],[23,1,23,4],[38,1,38,3],[16,1,16,3],[17,1,17,3],[18,1,18,3],[19,1,19,3],[23,5,23,6],[16,4,16,6],[15,1,15,3],[24,1,24,4],[31,4,31,6],[29,1,29,12],[33,1,33,2],[24,5,24,6],[25,5,25,6],[26,5,26,6],[93,1,93,2],[54,1,54,12],[59,1,59,2],[90,1,90,2],[89,3,89,4],[56,3,56,4],[99,1,99,12],[100,5,100,6],[47,3,47,4],[47,9,47,10],[47,7,47,8],[47,5,47,6],[94,3,94,4],[91,3,91,4],[56,1,56,2],[92,3,92,4],[94,1,94,2],[93,3,93,4],[87,1,87,2],[58,1,58,2],[57,1,57,2],[58,3,58,4],[85,1,85,12],[90,3,90,4],[107,1,107,12],[101,5,101,6],[113,1,113,2],[110,3,110,4],[103,3,103,4],[112,1,112,2],[111,3,111,4],[109,1,109,12],[102,1,102,2],[101,7,101,8],[101,1,101,2],[103,1,103,2],[102,5,102,6],[103,5,103,6],[102,7,102,8],[3,1,3,12],[81,1,81,2],[76,5,76,6],[75,5,75,6],[78,1,78,2],[43,1,43,12],[61,1,61,12],[18,4,18,6],[19,4,19,6],[57,3,57,4],[49,4,49,6],[5,1,5,12],[7,1,7,12],[25,1,25,4],[68,5,68,6],[75,1,75,2],[27,5,27,6],[27,1,27,4],[47,1,47,2],[66,3,66,4],[76,1,76,2],[49,1,50,3],[52,1,52,10],[68,3,68,4],[121,2,121,12],[100,3,100,4],[101,3,101,4],[119,1,119,2],[114,3,114,4],[115,3,115,4],[100,1,100,2],[116,3,116,4],[103,7,103,8],[100,7,100,8],[115,1,115,2],[116,1,116,2],[114,1,114,2],[105,1,105,12],[110,1,110,2],[111,1,111,2],[117,3,117,4],[118,3,118,4],[119,3,119,4],[102,3,102,4],[117,1,117,2],[118,1,118,2],[112,3,112,4],[113,3,113,4]]}
[null,null,"E5-Baseline Energy Model"]
[]
[{"$f":"LEFT(C1,1)","v":"E"},{"$f":"VLOOKUP(A3,EnergySourceLookup,2,FALSE)","v":"Electricity"},{"$f":"VLOOKUP(A3,EnergySourceLookup,3,FALSE)","v":"MWh"}]
[null,{"$f":"\"Warning: The 'Baseline Energy Model - Data (\" & VLOOKUP(LEFT($C$1,1),EnergySourceLookup,2,FALSE) & \")' is not continuous or covers a short period. Please ensure that the M&V Professional has examined your data and approved your M&V Plan.\"","v":"Warning: The 'Baseline Energy Model - Data (Electricity)' is not continuous or covers a short period. Please ensure that the M&V Professional has examined your data and approved your M&V Plan."}]
[]
[true,{"$f":"\"Warning: The 'Baseline Energy Model - Data (\"&VLOOKUP(LEFT($C$1,1),EnergySourceLookup,2,FALSE)&\")' contains site constant values that are different to the typical value specified on the 'Boundaries and Variables (\"&VLOOKUP(LEFT($C$1,1),EnergySourceLookup,2,FALSE)&\")' step and have not be excluded as a non-normal measurement.\nNote: Please ensure you mark excluded values with the letter 'Y'.\"","v":"Warning: The 'Baseline Energy Model - Data (Electricity)' contains site constant values that are different to the typical value specified on the 'Boundaries and Variables (Electricity)' step and have not be excluded as a non-normal measurement.\nNote: Please ensure you mark excluded values with the letter 'Y'."}]
[]
[null,{"$f":"\"Baseline Energy Model (\" & VLOOKUP(LEFT($C$1,1),EnergySourceLookup,2,FALSE) & \")\"","v":"Baseline Energy Model (Electricity)"}]
[]
[null,"This tool requires multi-linear regression and energy models in the form: \nEBaseline( x1, x2, … xp) = a0 + a1x1 + a2x2 + a3x3 + … + apxp (where a0, a1, …, ap are constants determined by the regression analysis)."]
[]
[]
[null,"Measurement period"]
[]
[null,"Measurement period:"]
[null,"Item Name",null,null,"Item Value"]
[null,"Start time",null,null,{"$f":"MIN(INDEX(E4DataTable,0,1))","v":"00:00:00"}]
[null,"End time",null,null,{"$f":"MAX(INDEX(E4DataTable,0,1))","v":"00:00:00"}]
[null,"Measurement Period (years)",null,null,{"$f":"(E18-E17)/365","v":0}]
[null,"Gross # time intervals",null,null,{"$f":"COUNT(INDEX(E4DataTable,0,1))","v":0}]
[]
[null,"Excluded time intervals"]
[]
[null,"Item Name",null,null,null,"Item Value"]
[null,"Number of time intervals excluded",null,null,null,{"$f":"COUNTIFS(INDEX(E4DataTable,0,COLUMNS(E4DataTable)-1),\"Y\")","v":0}]
[null,"Remaining # of time intervals",null,null,null,{"$f":"IFERROR(E20-F25,0)","v":0}]
[null,"Proportion of time intervals remaining",null,null,null,{"$f":"IFERROR(F26/E20,0)","v":0}]
[{"$f":"IF(F28=\"Pass\", TRUE, FALSE)","v":false},"Test for sufficient time intervals (>= 80%)",null,null,null,{"$f":"IF(F27>=80%, \"Pass\", \"Fail\")","v":"Fail"}]
[]
[null,"Chart of Independent Variable values over baseline measurement period"]
[]
[null,"Independent variable:"]
[]
[null,"Chart"]
[]
[]
[null,"Analysis: Test for Correlation between Independent Variables"]
[]
[null,"Correlation coefficient:"]
[]
[]
[null,"Note: Review any variables that are strongly correlated (highlighted in red) and consider refining your regression equation."]
[]
[null,"Effective range of baseline measurements"]
[]
[null,"Analysis - Effective range of measurements used to establish baseline energy model:"]
[null,null,null,"Normal Year Range",null,null,null,"Baseline Measurement Period Effective Range",null,null,null,"# of Normal Year Values Outside of Baseline Effective Range",null,null,null,null,null,null,null,"Normal Without Excluded Values",null,"Without Excluded Values"]
[null,"Variable",null,"Minimum",null,"Maximum",null,"Minimum",null,"Maximum",null,"< Minimum",null,"> Maximum",null,null,null,null,null,"Min","Max","Min","Max"]
[]
[null,"% of Normal Year Values within Baseline Measurements Effective Range:",null,null,{"$f":"COUNTIFS('E2-Normal Year Values'!$C$10:$C$374,\"<>Y\")/COUNTIFS('E2-Normal Year Values'!$C$10:$C$374,\"<>Y\")","v":1}]
[]
[]
[null,"Note: If less than 100% then consider extending the baseline measurement period to increase the Baseline Measurement Range. This will avoid the Energy Savings being reduced."]
[]
[null,"Degrees of freedom"]
[]
[null,"Item Name",null,"Item Value"]
[null,"# of valid data points",null,{"$f":"F26","v":0}]
[null,"# of independent variables",null,{"$f":"GetVariableCount($C$1,\"IV\")","v":0}]
[{"$f":"'ECharts-Baseline'!$P$10","v":""},"Degrees of freedom",null,{"$f":"D58-D59-1","v":-1}]
[]
[null,"Calculation Method"]
[]
[{"$f":"(EBEMMethodType_deprecated=ModelMethodRegressionAnalysis)","v":true},"Method for developing baseline energy model:",null,null,"Regression Analysis"]
[]
[]
[null,"Statistical test",null,"Test value",null,"Result"]
[{"$f":"IF(F68=\"Pass\", TRUE,FALSE)","v":false},"Coefficient of Variation (≤15%) (only relevant if Estimate of the Mean)",null,{"$f":"E5COV","v":""},null,{"$f":"IF(D68>=0.15, \"Fail\", \"Pass\")","v":"Fail"}]
[{"$f":"IF(F69=\"Pass\", TRUE,FALSE)","v":true},"Ratio # valid data points to # independent variables (only relevant if Regression Analysis)",null,{"$f":"IFERROR(D58/D59,\"\")","v":""},null,{"$f":"IF(D69<getsetting(\"IndependentVariablesDataPointMultiplier\"),\"Fail\",\"Pass\")","v":"Pass"}]
[]
[null,"Build Baseline Energy Model"]
[]
[null,"What software/tool was used to generate your regression equation (if relevant):"]
[]
[{"$f":"IFERROR(AVERAGEIF(INDEX(E4DataTable,0,COLUMNS(G4DataTable)-1), \"<>Y\", INDEX(E4DataTable,0,2)), 0)","v":0}]
[{"$f":"IFERROR(COUNTIF(INDEX(E5RegressionEquationCoefficientList,0,7), \"Warning\"),0)","v":0},"Variable",null,"Coefficient","t-statistic","Check"]
[null,"Intercept",null,null,null,"N/A"]
[]
[null,"Regression equation:"]
[null,"E(baseline)  = "]
[]
[null,"Chart"]
[]
[]
[]
[null,"Statistical analysis of energy model"]
[]
[null,"Item",null,"Value"]
[{"$f":"IFERROR('ECharts-Baseline'!$P$14,\"\")","v":""},"Coefficient of determination (R2)",null,{"$f":"E5R2","v":""}]
[{"$f":"IFERROR('ECharts-Baseline'!$P$15,\"\")","v":""},"Adjusted R2",null,{"$f":"E5AdjR2","v":""}]
[{"$f":"'ECharts-Baseline'!$P$12","v":{"$error":"#DIV/0!"}},"Standard error (SE)",null,{"$f":"IFERROR(E5StandardError,\"\")","v":""}]
[null,"t-value (at 90% confidence level)",null,{"$f":"IFERROR(TINV(VLOOKUP(\"tValueConfidenceMultiplier\",SettingsList,2,FALSE),D60),\"\")","v":""}]
[null,"Baseline average modelled energy",null,{"$f":"IFERROR(VLOOKUP(\"Intercept\",E5RegressionEquationCoefficientList, 3, FALSE), \"\")","v":0}]
[null,"Absolute modelling precision",null,{"$f":"IFERROR(D92*D91,\"\")","v":""}]
[null,"Relative modelling precision (based on mean value)",null,{"$f":"IFERROR(D94/D93,0)","v":0}]
[]
[]
[]
[]
[null,"Analysis - Check the baseline energy model meets best practice benchmarks:"]
[{"$f":"IF(IFERROR(COUNTIF(OFFSET(E5StatisticalRequirementsStartCell,1,6,3,2), \"Warning\"),0)=0, TRUE,FALSE)","v":false},"Modelling Criteria",null,"Best Practice Benchmark",null,"Baseline Energy Model Value",null,"Result"]
[null,"t-statistics of independent variables",null,"> 2",null,"N/A",null,{"$f":"IF(COUNTIF(INDEX(E5RegressionEquationCoefficientList,0,5),\"Warning\")>0, \"Warning\", \"Pass\")","v":"Pass"}]
[{"$f":"(F103>0.75)","v":false},"Lesser of R2 or adjusted R2 (only relevant for regression analysis)",null,"> 0.75",null,{"$f":"MIN(D89:E90)","v":0},null,{"$f":"IF(F103>0.75, \"Pass\", \"Warning\")","v":"Warning"}]
[null,"Relative precision calculated at 90% confidence level",null,"within ± 100%",null,{"$f":"D95","v":0},null,{"$f":"IF(F104<1, \"Pass\", \"Fail\")","v":"Pass"}]
[]
[null,"Warning: Value does not meet best practice benchmark. Ensure review included in M&V Professional reasoning."]
[]
[null,"Estimated Accuracy Factor"]
[]
[null,"Analysis - Estimated accuracy factor:"]
[null,"Item",null,"Value"]
[null,"Baseline model standard error",null,{"$f":"D91","v":""}]
[null,"Estimated operating model standard error"]
[null,"Estimated average gross annual energy savings %"]
[null,"Number of baseline measurement periods in 1 year",null,{"$f":"IFERROR(VLOOKUP(E1ModelFrequency, FrequencyLookup, 2, FALSE),\"\")","v":""}]
[null,"Estimated average annual energy savings",null,{"$f":"IFERROR(E5AvgModelledEnergy*D114*D115,\"\")","v":""}]
[null,"Estimated standard error of annual savings",null,{"$f":"IFERROR(SQRT(D115)*SQRT(D112^2+D113^2),\"\")","v":""}]
[null,"Estimated absolute precision of savings",null,{"$f":"IFERROR(D117*D92,\"\")","v":""}]
[null,"Estimated relative precision of savings",null,{"$f":"IFERROR(D118/D116,0)","v":0}]
[null,"Estimated ACCURACY FACTOR ",null,{"$f":"GetAccuracyFactor(D119, FALSE)","v":1}]
[]
[null,null,"Note: The estimated Accuracy Factor has no impact on the final Accuracy Factor applied."]

{"sheet":"E6-Operating Measurements","index":13,"n_rows":9,"n_cols":5,"rows_kept":9,"cut":false,"hidden":true,"merged":[[3,1,3,11],[7,1,8,1],[5,1,5,11],[7,2,8,2],[7,3,8,3],[7,4,8,4]]}
[null,null,"E6 - Operating Period Measurements"]
[]
[{"$f":"LEFT(C1,1)","v":"E"},{"$f":"VLOOKUP(A3,EnergySourceLookup,2,FALSE)","v":"Electricity"},{"$f":"VLOOKUP(A3,EnergySourceLookup,3,FALSE)","v":"MWh"}]
[null,"Measure and Convert Operating Period Measurements"]
[]
[null,"Note: Click the 'Update Tool' button in the navigation bar above after entering the data."]
[]
[null,"Date / Time","Energy","Exclude non-normal measurement? (Mark with 'Y')","Reason for exclusion"]
["Modelled Operating Energy"]

{"sheet":"ECharts-Operating","index":14,"n_rows":164,"n_cols":21,"rows_kept":164,"cut":false,"hidden":true,"merged":[]}
["Time period start","Lower bound","Upper bound","Independent Variables",null,"Minimum IV value",null,"Time interval","Excluded?","Measured operating energy","Modelled operating energy","Residual Rank","Residual",null,"Count",{"$f":"COUNT(M:M)","v":0},null,"Cumulative distribution","z-value","Actual residuals","Expect residual value if normal distribution"]
[{"$f":"'E6-Operating Measurements'!$B$10","v":"00:00:00"},{"$f":"1.05*$F$2-0.05*$F$4","v":{"$error":"#REF!"}},{"$f":"1.05*$F$4-0.05*$F$2","v":{"$error":"#REF!"}},{"$f":"'E6-Operating Measurements'!#REF!","v":{"$error":"#REF!"}},null,{"$f":"MIN($D$2:$D$366)","v":{"$error":"#REF!"}},null,null,null,null,null,null,null,null,"Mean",{"$f":"AVERAGE(M:M)","v":{"$error":"#DIV/0!"}}]
[{"$f":"'E6-Operating Measurements'!$B$11","v":"00:00:00"},{"$error":"#REF!"},{"$error":"#REF!"},{"$f":"'E6-Operating Measurements'!#REF!","v":{"$error":"#REF!"}},null,"Maximum IV value",null,null,null,null,null,null,null,null,"StDev",{"$f":"_xlfn.STDEV.S(M:M)","v":{"$error":"#DIV/0!"}}]
[{"$f":"'E6-Operating Measurements'!$B$12","v":"00:00:00"},{"$error":"#REF!"},{"$error":"#REF!"},{"$f":"'E6-Operating Measurements'!#REF!","v":{"$error":"#REF!"}},null,{"$f":"MAX($D$2:$D$366)","v":{"$error":"#REF!"}}]
[{"$f":"'E6-Operating Measurements'!$B$13","v":"00:00:00"},{"$error":"#REF!"},{"$error":"#REF!"},{"$f":"'E6-Operating Measurements'!#REF!","v":{"$error":"#REF!"}},null,null,null,null,null,null,null,null,null,null,"Measured"]
[{"$f":"'E6-Operating Measurements'!$B$14","v":"00:00:00"},{"$error":"#REF!"},{"$error":"#REF!"},{"$f":"'E6-Operating Measurements'!#REF!","v":{"$error":"#REF!"}},null,null,null,null,null,null,null,null,null,null,"Count",{"$f":"COUNT(J:J)","v":0}]
[{"$f":"'E6-Operating Measurements'!$B$15","v":"00:00:00"},{"$error":"#REF!"},{"$error":"#REF!"},{"$f":"'E6-Operating Measurements'!#REF!","v":{"$error":"#REF!"}},null,null,null,null,null,null,null,null,null,null,"Mean",{"$f":"AVERAGE(J:J)","v":{"$error":"#DIV/0!"}}]
[{"$f":"'E6-Operating Measurements'!$B$16","v":"00:00:00"},{"$error":"#REF!"},{"$error":"#REF!"},{"$f":"'E6-Operating Measurements'!#REF!","v":{"$error":"#REF!"}},null,null,null,null,null,null,null,null,null,null,"StDev",{"$f":"_xlfn.STDEV.S(J:J)","v":{"$error":"#DIV/0!"}}]
[{"$f":"'E6-Operating Measurements'!$B$17","v":"00:00:00"},{"$error":"#REF!"},{"$error":"#REF!"},{"$f":"'E6-Operating Measurements'!#REF!","v":{"$error":"#REF!"}},null,null,null,null,null,null,null,null,null,null,"IV count",{"$f":"GetVariableCount(MID(CELL(\"filename\"),FIND(\"]\",CELL(\"filename\"))+1,1),\"IV\")","v":0}]
[{"$f":"'E6-Operating Measurements'!$B$18","v":"00:00:00"},{"$error":"#REF!"},{"$error":"#REF!"},{"$f":"'E6-Operating Measurements'!#REF!","v":{"$error":"#REF!"}},null,null,null,null,null,null,null,null,null,null,"COV",{"$f":"IFERROR(P8/P7,\"\")","v":""}]
[{"$f":"'E6-Operating Measurements'!$B$19","v":"00:00:00"},{"$error":"#REF!"},{"$error":"#REF!"},{"$f":"'E6-Operating Measurements'!#REF!","v":{"$error":"#REF!"}}]
[{"$f":"'E6-Operating Measurements'!$B$20","v":"00:00:00"},{"$error":"#REF!"},{"$error":"#REF!"},{"$f":"'E6-Operating Measurements'!#REF!","v":{"$error":"#REF!"}},null,null,null,null,null,null,null,null,null,null,"Standard Error",{"$f":"IF(P9=0,P8/SQRT(P6),SQRT(SUMSQ(M:M)/(P6-2)))","v":{"$error":"#DIV/0!"}}]
[{"$f":"'E6-Operating Measurements'!$B$21","v":"00:00:00"},{"$error":"#REF!"},{"$error":"#REF!"},{"$f":"'E6-Operating Measurements'!#REF!","v":{"$error":"#REF!"}}]
[{"$f":"'E6-Operating Measurements'!$B$22","v":"00:00:00"},{"$error":"#REF!"},{"$error":"#REF!"},{"$f":"'E6-Operating Measurements'!#REF!","v":{"$error":"#REF!"}},null,null,null,null,null,null,null,null,null,null,"R2",{"$f":"1-_xlfn.VAR.S(M:M)/_xlfn.VAR.S(J:J)","v":{"$error":"#DIV/0!"}}]
[{"$f":"'E6-Operating Measurements'!$B$23","v":"00:00:00"},{"$error":"#REF!"},{"$error":"#REF!"},{"$f":"'E6-Operating Measurements'!#REF!","v":{"$error":"#REF!"}},null,null,null,null,null,null,null,null,null,null,"Adjusted R2",{"$f":"1-(1-P14)*(P6-1)/(P6-P9-1)","v":{"$error":"#DIV/0!"}}]
[{"$f":"'E6-Operating Measurements'!$B$24","v":"00:00:00"},{"$error":"#REF!"},{"$error":"#REF!"},{"$f":"'E6-Operating Measurements'!#REF!","v":{"$error":"#REF!"}}]
[{"$f":"'E6-Operating Measurements'!$B$25","v":"00:00:00"},{"$error":"#REF!"},{"$error":"#REF!"},{"$f":"'E6-Operating Measurements'!#REF!","v":{"$error":"#REF!"}}]
[{"$f":"'E6-Operating Measurements'!$B$26","v":"00:00:00"},{"$error":"#REF!"},{"$error":"#REF!"},{"$f":"'E6-Operating Measurements'!#REF!","v":{"$error":"#REF!"}}]
[{"$f":"'E6-Operating Measurements'!$B$27","v":"00:00:00"},{"$error":"#REF!"},{"$error":"#REF!"},{"$f":"'E6-Operating Measurements'!#REF!","v":{"$error":"#REF!"}}]
[{"$f":"'E6-Operating Measurements'!$B$28","v":"00:00:00"},{"$error":"#REF!"},{"$error":"#REF!"},{"$f":"'E6-Operating Measurements'!#REF!","v":{"$error":"#REF!"}}]
[{"$f":"'E6-Operating Measurements'!$B$29","v":"00:00:00"},{"$error":"#REF!"},{"$error":"#REF!"},{"$f":"'E6-Operating Measurements'!#REF!","v":{"$error":"#REF!"}}]
[{"$f":"'E6-Operating Measurements'!$B$30","v":"00:00:00"},{"$error":"#REF!"},{"$error":"#REF!"},{"$f":"'E6-Operating Measurements'!#REF!","v":{"$error":"#REF!"}}]
[{"$f":"'E6-Operating Measurements'!$B$31","v":"00:00:00"},{"$error":"#REF!"},{"$error":"#REF!"},{"$f":"'E6-Operating Measurements'!#REF!","v":{"$error":"#REF!"}}]
[{"$f":"'E6-Operating Measurements'!$B$32","v":"00:00:00"},{"$error":"#REF!"},{"$error":"#REF!"},{"$f":"'E6-Operating Measurements'!#REF!","v":{"$error":"#REF!"}}]
[{"$f":"'E6-Operating Measurements'!$B$33","v":"00:00:00"},{"$error":"#REF!"},{"$error":"#REF!"},{"$f":"'E6-Operating Measurements'!#REF!","v":{"$error":"#REF!"}}]
[{"$f":"'E6-Operating Measurements'!$B$34","v":"00:00:00"},{"$error":"#REF!"},{"$error":"#REF!"},{"$f":"'E6-Operating Measurements'!#REF!","v":{"$error":"#REF!"}}]
[{"$f":"'E6-Operating Measurements'!$B$35","v":"00:00:00"},{"$error":"#REF!"},{"$error":"#REF!"},{"$f":"'E6-Operating Measurements'!#REF!","v":{"$error":"#REF!"}}]
[{"$f":"'E6-Operating Measurements'!$B$36","v":"00:00:00"},{"$error":"#REF!"},{"$error":"#REF!"},{"$f":"'E6-Operating Measurements'!#REF!","v":{"$error":"#REF!"}}]
[{"$f":"'E6-Operating Measurements'!$B$37","v":"00:00:00"},{"$error":"#REF!"},{"$error":"#REF!"},{"$f":"'E6-Operating Measurements'!#REF!","v":{"$error":"#REF!"}}]
[{"$f":"'E6-Operating Measurements'!$B$38","v":"00:00:00"},{"$error":"#REF!"},{"$error":"#REF!"},{"$f":"'E6-Operating Measurements'!#REF!","v":{"$error":"#REF!"}}]
[{"$f":"'E6-Operating Measurements'!$B$39","v":"00:00:00"},{"$error":"#REF!"},{"$error":"#REF!"},{"$f":"'E6-Operating Measurements'!#REF!","v":{"$error":"#REF!"}}]
[{"$f":"'E6-Operating Measurements'!$B$40","v":"00:00:00"},{"$error":"#REF!"},{"$error":"#REF!"},{"$f":"'E6-Operating Measurements'!#REF!","v":{"$error":"#REF!"}}]
[{"$f":"'E6-Operating Measurements'!$B$41","v":"00:00:00"},{"$error":"#REF!"},{"$error":"#REF!"},{"$f":"'E6-Operating Measurements'!#REF!","v":{"$error":"#REF!"}}]
[{"$f":"'E6-Operating Measurements'!$B$42","v":"00:00:00"},{"$f":"1.05*$F$2-0.05*$F$4","v":{"$error":"#REF!"}},{"$f":"1.05*$F$4-0.05*$F$2","v":{"$error":"#REF!"}},{"$f":"'E6-Operating Measurements'!#REF!","v":{"$error":"#REF!"}}]
[{"$f":"'E6-Operating Measurements'!$B$43","v":"00:00:00"},{"$error":"#REF!"},{"$error":"#REF!"},{"$f":"'E6-Operating Measurements'!#REF!","v":{"$error":"#REF!"}}]
[{"$f":"'E6-Operating Measurements'!$B$44","v":"00:00:00"},{"$error":"#REF!"},{"$error":"#REF!"},{"$f":"'E6-Operating Measurements'!#REF!","v":{"$error":"#REF!"}}]
[{"$f":"'E6-Operating Measurements'!$B$45","v":"00:00:00"},{"$error":"#REF!"},{"$error":"#REF!"},{"$f":"'E6-Operating Measurements'!#REF!","v":{"$error":"#REF!"}}]
[{"$f":"'E6-Operating Measurements'!$B$46","v":"00:00:00"},{"$error":"#REF!"},{"$error":"#REF!"},{"$f":"'E6-Operating Measurements'!#REF!","v":{"$error":"#REF!"}}]
[{"$f":"'E6-Operating Measurements'!$B$47","v":"00:00:00"},{"$error":"#REF!"},{"$error":"#REF!"},{"$f":"'E6-Operating Measurements'!#REF!","v":{"$error":"#REF!"}}]
[{"$f":"'E6-Operating Measurements'!$B$48","v":"00:00:00"},{"$error":"#REF!"},{"$error":"#REF!"},{"$f":"'E6-Operating Measurements'!#REF!","v":{"$error":"#REF!"}}]
[{"$f":"'E6-Operating Measurements'!$B$49","v":"00:00:00"},{"$error":"#REF!"},{"$error":"#REF!"},{"$f":"'E6-Operating Measurements'!#REF!","v":{"$error":"#REF!"}}]
[{"$f":"'E6-Operating Measurements'!$B$50","v":"00:00:00"},{"$error":"#REF!"},{"$error":"#REF!"},{"$f":"'E6-Operating Measurements'!#REF!","v":{"$error":"#REF!"}}]
[{"$f":"'E6-Operating Measurements'!$B$51","v":"00:00:00"},{"$error":"#REF!"},{"$error":"#REF!"},{"$f":"'E6-Operating Measurements'!#REF!","v":{"$error":"#REF!"}}]
[{"$f":"'E6-Operating Measurements'!$B$52","v":"00:00:00"},{"$error":"#REF!"},{"$error":"#REF!"},{"$f":"'E6-Operating Measurements'!#REF!","v":{"$error":"#REF!"}}]
[{"$f":"'E6-Operating Measurements'!$B$53","v":"00:00:00"},{"$error":"#REF!"},{"$error":"#REF!"},{"$f":"'E6-Operating Measurements'!#REF!","v":{"$error":"#REF!"}}]
[{"$f":"'E6-Operating Measurements'!$B$54","v":"00:00:00"},{"$error":"#REF!"},{"$error":"#REF!"},{"$f":"'E6-Operating Measurements'!#REF!","v":{"$error":"#REF!"}}]
[{"$f":"'E6-Operating Measurements'!$B$55","v":"00:00:00"},{"$error":"#REF!"},{"$error":"#REF!"},{"$f":"'E6-Operating Measurements'!#REF!","v":{"$error":"#REF!"}}]
[{"$f":"'E6-Operating Measurements'!$B$56","v":"00:00:00"},{"$error":"#REF!"},{"$error":"#REF!"},{"$f":"'E6-Operating Measurements'!#REF!","v":{"$error":"#REF!"}}]
[{"$f":"'E6-Operating Measurements'!$B$57","v":"00:00:00"},{"$error":"#REF!"},{"$error":"#REF!"},{"$f":"'E6-Operating Measurements'!#REF!","v":{"$error":"#REF!"}}]
[{"$f":"'E6-Operating Measurements'!$B$58","v":"00:00:00"},{"$error":"#REF!"},{"$error":"#REF!"},{"$f":"'E6-Operating Measurements'!#REF!","v":{"$error":"#REF!"}}]
[{"$f":"'E6-Operating Measurements'!$B$59","v":"00:00:00"},{"$error":"#REF!"},{"$error":"#REF!"},{"$f":"'E6-Operating Measurements'!#REF!","v":{"$error":"#REF!"}}]
[{"$f":"'E6-Operating Measurements'!$B$60","v":"00:00:00"},{"$error":"#REF!"},{"$error":"#REF!"},{"$f":"'E6-Operating Measurements'!#REF!","v":{"$error":"#REF!"}}]
[{"$f":"'E6-Operating Measurements'!$B$61","v":"00:00:00"},{"$error":"#REF!"},{"$error":"#REF!"},{"$f":"'E6-Operating Measurements'!#REF!","v":{"$error":"#REF!"}}]
[{"$f":"'E6-Operating Measurements'!$B$62","v":"00:00:00"},{"$error":"#REF!"},{"$error":"#REF!"},{"$f":"'E6-Operating Measurements'!#REF!","v":{"$error":"#REF!"}}]
[{"$f":"'E6-Operating Measurements'!$B$63","v":"00:00:00"},{"$error":"#REF!"},{"$error":"#REF!"},{"$f":"'E6-Operating Measurements'!#REF!","v":{"$error":"#REF!"}}]
[{"$f":"'E6-Operating Measurements'!$B$64","v":"00:00:00"},{"$error":"#REF!"},{"$error":"#REF!"},{"$f":"'E6-Operating Measurements'!#REF!","v":{"$error":"#REF!"}}]
[{"$f":"'E6-Operating Measurements'!$B$65","v":"00:00:00"},{"$error":"#REF!"},{"$error":"#REF!"},{"$f":"'E6-Operating Measurements'!#REF!","v":{"$error":"#REF!"}}]
[{"$f":"'E6-Operating Measurements'!$B$66","v":"00:00:00"},{"$error":"#REF!"},{"$error":"#REF!"},{"$f":"'E6-Operating Measurements'!#REF!","v":{"$error":"#REF!"}}]
[{"$f":"'E6-Operating Measurements'!$B$67","v":"00:00:00"},{"$error":"#REF!"},{"$error":"#REF!"},{"$f":"'E6-Operating Measurements'!#REF!","v":{"$error":"#REF!"}}]
[{"$f":"'E6-Operating Measurements'!$B$68","v":"00:00:00"},{"$error":"#REF!"},{"$error":"#REF!"},{"$f":"'E6-Operating Measurements'!#REF!","v":{"$error":"#REF!"}}]
[{"$f":"'E6-Operating Measurements'!$B$69","v":"00:00:00"},{"$error":"#REF!"},{"$error":"#REF!"},{"$f":"'E6-Operating Measurements'!#REF!","v":{"$error":"#REF!"}}]
[{"$f":"'E6-Operating Measurements'!$B$70","v":"00:00:00"},{"$error":"#REF!"},{"$error":"#REF!"},{"$f":"'E6-Operating Measurements'!#REF!","v":{"$error":"#REF!"}}]
[{"$f":"'E6-Operating Measurements'!$B$71","v":"00:00:00"},{"$error":"#REF!"},{"$error":"#REF!"},{"$f":"'E6-Operating Measurements'!#REF!","v":{"$error":"#REF!"}}]
[{"$f":"'E6-Operating Measurements'!$B$72","v":"00:00:00"},{"$error":"#REF!"},{"$error":"#REF!"},{"$f":"'E6-Operating Measurements'!#REF!","v":{"$error":"#REF!"}}]
[{"$f":"'E6-Operating Measurements'!$B$73","v":"00:00:00"},{"$error":"#REF!"},{"$error":"#REF!"},{"$f":"'E6-Operating Measurements'!#REF!","v":{"$error":"#REF!"}}]
[{"$f":"'E6-Operating Measurements'!$B$74","v":"00:00:00"},{"$f":"1.05*$F$2-0.05*$F$4","v":{"$error":"#REF!"}},{"$f":"1.05*$F$4-0.05*$F$2","v":{"$error":"#REF!"}},{"$f":"'E6-Operating Measurements'!#REF!","v":{"$error":"#REF!"}}]
[{"$f":"'E6-Operating Measurements'!$B$75","v":"00:00:00"},{"$error":"#REF!"},{"$error":"#REF!"},{"$f":"'E6-Operating Measurements'!#REF!","v":{"$error":"#REF!"}}]
[{"$f":"'E6-Operating Measurements'!$B$76","v":"00:00:00"},{"$error":"#REF!"},{"$error":"#REF!"},{"$f":"'E6-Operating Measurements'!#REF!","v":{"$error":"#REF!"}}]
[{"$f":"'E6-Operating Measurements'!$B$77","v":"00:00:00"},{"$error":"#REF!"},{"$error":"#REF!"},{"$f":"'E6-Operating Measurements'!#REF!","v":{"$error":"#REF!"}}]
[{"$f":"'E6-Operating Measurements'!$B$78","v":"00:00:00"},{"$error":"#REF!"},{"$error":"#REF!"},{"$f":"'E6-Operating Measurements'!#REF!","v":{"$error":"#REF!"}}]
[{"$f":"'E6-Operating Measurements'!$B$79","v":"00:00:00"},{"$error":"#REF!"},{"$error":"#REF!"},{"$f":"'E6-Operating Measurements'!#REF!","v":{"$error":"#REF!"}}]
[{"$f":"'E6-Operating Measurements'!$B$80","v":"00:00:00"},{"$error":"#REF!"},{"$error":"#REF!"},{"$f":"'E6-Operating Measurements'!#REF!","v":{"$error":"#REF!"}}]
[{"$f":"'E6-Operating Measurements'!$B$81","v":"00:00:00"},{"$error":"#REF!"},{"$error":"#REF!"},{"$f":"'E6-Operating Measurements'!#REF!","v":{"$error":"#REF!"}}]
[{"$f":"'E6-Operating Measurements'!$B$82","v":"00:00:00"},{"$error":"#REF!"},{"$error":"#REF!"},{"$f":"'E6-Operating Measurements'!#REF!","v":{"$error":"#REF!"}}]
[{"$f":"'E6-Operating Measurements'!$B$83","v":"00:00:00"},{"$error":"#REF!"},{"$error":"#REF!"},{"$f":"'E6-Operating Measurements'!#REF!","v":{"$error":"#REF!"}}]
[{"$f":"'E6-Operating Measurements'!$B$84","v":"00:00:00"},{"$error":"#REF!"},{"$error":"#REF!"},{"$f":"'E6-Operating Measurements'!#REF!","v":{"$error":"#REF!"}}]
[{"$f":"'E6-Operating Measurements'!$B$85","v":"00:00:00"},{"$error":"#REF!"},{"$error":"#REF!"},{"$f":"'E6-Operating Measurements'!#REF!","v":{"$error":"#REF!"}}]
[{"$f":"'E6-Operating Measurements'!$B$86","v":"00:00:00"},{"$error":"#REF!"},{"$error":"#REF!"},{"$f":"'E6-Operating Measurements'!#REF!","v":{"$error":"#REF!"}}]
[{"$f":"'E6-Operating Measurements'!$B$87","v":"00:00:00"},{"$error":"#REF!"},{"$error":"#REF!"},{"$f":"'E6-Operating Measurements'!#REF!","v":{"$error":"#REF!"}}]
[{"$f":"'E6-Operating Measurements'!$B$88","v":"00:00:00"},{"$error":"#REF!"},{"$error":"#REF!"},{"$f":"'E6-Operating Measurements'!#REF!","v":{"$error":"#REF!"}}]
[{"$f":"'E6-Operating Measurements'!$B$89","v":"00:00:00"},{"$error":"#REF!"},{"$error":"#REF!"},{"$f":"'E6-Operating Measurements'!#REF!","v":{"$error":"#REF!"}}]
[{"$f":"'E6-Operating Measurements'!$B$90","v":"00:00:00"},{"$error":"#REF!"},{"$error":"#REF!"},{"$f":"'E6-Operating Measurements'!#REF!","v":{"$error":"#REF!"}}]
[{"$f":"'E6-Operating Measurements'!$B$91","v":"00:00:00"},{"$error":"#REF!"},{"$error":"#REF!"},{"$f":"'E6-Operating Measurements'!#REF!","v":{"$error":"#REF!"}}]
[{"$f":"'E6-Operating Measurements'!$B$92","v":"00:00:00"},{"$error":"#REF!"},{"$error":"#REF!"},{"$f":"'E6-Operating Measurements'!#REF!","v":{"$error":"#REF!"}}]
[{"$f":"'E6-Operating Measurements'!$B$93","v":"00:00:00"},{"$error":"#REF!"},{"$error":"#REF!"},{"$f":"'E6-Operating Measurements'!#REF!","v":{"$error":"#REF!"}}]
[{"$f":"'E6-Operating Measurements'!$B$94","v":"00:00:00"},{"$error":"#REF!"},{"$error":"#REF!"},{"$f":"'E6-Operating Measurements'!#REF!","v":{"$error":"#REF!"}}]
[{"$f":"'E6-Operating Measurements'!$B$95","v":"00:00:00"},{"$error":"#REF!"},{"$error":"#REF!"},{"$f":"'E6-Operating Measurements'!#REF!","v":{"$error":"#REF!"}}]
[{"$f":"'E6-Operating Measurements'!$B$96","v":"00:00:00"},{"$error":"#REF!"},{"$error":"#REF!"},{"$f":"'E6-Operating Measurements'!#REF!","v":{"$error":"#REF!"}}]
[{"$f":"'E6-Operating Measurements'!$B$97","v":"00:00:00"},{"$error":"#REF!"},{"$error":"#REF!"},{"$f":"'E6-Operating Measurements'!#REF!","v":{"$error":"#REF!"}}]
[{"$f":"'E6-Operating Measurements'!$B$98","v":"00:00:00"},{"$error":"#REF!"},{"$error":"#REF!"},{"$f":"'E6-Operating Measurements'!#REF!","v":{"$error":"#REF!"}}]
[{"$f":"'E6-Operating Measurements'!$B$99","v":"00:00:00"},{"$error":"#REF!"},{"$error":"#REF!"},{"$f":"'E6-Operating Measurements'!#REF!","v":{"$error":"#REF!"}}]
[{"$f":"'E6-Operating Measurements'!$B$100","v":"00:00:00"},{"$error":"#REF!"},{"$error":"#REF!"},{"$f":"'E6-Operating Measurements'!#REF!","v":{"$error":"#REF!"}}]
[{"$f":"'E6-Operating Measurements'!$B$101","v":"00:00:00"},{"$error":"#REF!"},{"$error":"#REF!"},{"$f":"'E6-Operating Measurements'!#REF!","v":{"$error":"#REF!"}}]
[{"$f":"'E6-Operating Measurements'!$B$102","v":"00:00:00"},{"$error":"#REF!"},{"$error":"#REF!"},{"$f":"'E6-Operating Measurements'!#REF!","v":{"$error":"#REF!"}}]
[{"$f":"'E6-Operating Measurements'!$B$103","v":"00:00:00"},{"$error":"#REF!"},{"$error":"#REF!"},{"$f":"'E6-Operating Measurements'!#REF!","v":{"$error":"#REF!"}}]
[{"$f":"'E6-Operating Measurements'!$B$104","v":"00:00:00"},{"$error":"#REF!"},{"$error":"#REF!"},{"$f":"'E6-Operating Measurements'!#REF!","v":{"$error":"#REF!"}}]
[{"$f":"'E6-Operating Measurements'!$B$105","v":"00:00:00"},{"$error":"#REF!"},{"$error":"#REF!"},{"$f":"'E6-Operating Measurements'!#REF!","v":{"$error":"#REF!"}}]
[{"$f":"'E6-Operating Measurements'!$B$106","v":"00:00:00"},{"$f":"1.05*$F$2-0.05*$F$4","v":{"$error":"#REF!"}},{"$f":"1.05*$F$4-0.05*$F$2","v":{"$error":"#REF!"}},{"$f":"'E6-Operating Measurements'!#REF!","v":{"$error":"#REF!"}}]
[{"$f":"'E6-Operating Measurements'!$B$107","v":"00:00:00"},{"$error":"#REF!"},{"$error":"#REF!"},{"$f":"'E6-Operating Measurements'!#REF!","v":{"$error":"#REF!"}}]
[{"$f":"'E6-Operating Measurements'!$B$108","v":"00:00:00"},{"$error":"#REF!"},{"$error":"#REF!"},{"$f":"'E6-Operating Measurements'!#REF!","v":{"$error":"#REF!"}}]
[{"$f":"'E6-Operating Measurements'!$B$109","v":"00:00:00"},{"$error":"#REF!"},{"$error":"#REF!"},{"$f":"'E6-Operating Measurements'!#REF!","v":{"$error":"#REF!"}}]
[{"$f":"'E6-Operating Measurements'!$B$110","v":"00:00:00"},{"$error":"#REF!"},{"$error":"#REF!"},{"$f":"'E6-Operating Measurements'!#REF!","v":{"$error":"#REF!"}}]
[{"$f":"'E6-Operating Measurements'!$B$111","v":"00:00:00"},{"$error":"#REF!"},{"$error":"#REF!"},{"$f":"'E6-Operating Measurements'!#REF!","v":{"$error":"#REF!"}}]
[{"$f":"'E6-Operating Measurements'!$B$112","v":"00:00:00"},{"$error":"#REF!"},{"$error":"#REF!"},{"$f":"'E6-Operating Measurements'!#REF!","v":{"$error":"#REF!"}}]
[{"$f":"'E6-Operating Measurements'!$B$113","v":"00:00:00"},{"$error":"#REF!"},{"$error":"#REF!"},{"$f":"'E6-Operating Measurements'!#REF!","v":{"$error":"#REF!"}}]
[{"$f":"'E6-Operating Measurements'!$B$114","v":"00:00:00"},{"$error":"#REF!"},{"$error":"#REF!"},{"$f":"'E6-Operating Measurements'!#REF!","v":{"$error":"#REF!"}}]
[{"$f":"'E6-Operating Measurements'!$B$115","v":"00:00:00"},{"$error":"#REF!"},{"$error":"#REF!"},{"$f":"'E6-Operating Measurements'!#REF!","v":{"$error":"#REF!"}}]
[{"$f":"'E6-Operating Measurements'!$B$116","v":"00:00:00"},{"$error":"#REF!"},{"$error":"#REF!"},{"$f":"'E6-Operating Measurements'!#REF!","v":{"$error":"#REF!"}}]
[{"$f":"'E6-Operating Measurements'!$B$117","v":"00:00:00"},{"$error":"#REF!"},{"$error":"#REF!"},{"$f":"'E6-Operating Measurements'!#REF!","v":{"$error":"#REF!"}}]
[{"$f":"'E6-Operating Measurements'!$B$118","v":"00:00:00"},{"$error":"#REF!"},{"$error":"#REF!"},{"$f":"'E6-Operating Measurements'!#REF!","v":{"$error":"#REF!"}}]
[{"$f":"'E6-Operating Measurements'!$B$119","v":"00:00:00"},{"$error":"#REF!"},{"$error":"#REF!"},{"$f":"'E6-Operating Measurements'!#REF!","v":{"$error":"#REF!"}}]
[{"$f":"'E6-Operating Measurements'!$B$120","v":"00:00:00"},{"$error":"#REF!"},{"$error":"#REF!"},{"$f":"'E6-Operating Measurements'!#REF!","v":{"$error":"#REF!"}}]
[{"$f":"'E6-Operating Measurements'!$B$121","v":"00:00:00"},{"$error":"#REF!"},{"$error":"#REF!"},{"$f":"'E6-Operating Measurements'!#REF!","v":{"$error":"#REF!"}}]
[{"$f":"'E6-Operating Measurements'!$B$122","v":"00:00:00"},{"$error":"#REF!"},{"$error":"#REF!"},{"$f":"'E6-Operating Measurements'!#REF!","v":{"$error":"#REF!"}}]
[{"$f":"'E6-Operating Measurements'!$B$123","v":"00:00:00"},{"$error":"#REF!"},{"$error":"#REF!"},{"$f":"'E6-Operating Measurements'!#REF!","v":{"$error":"#REF!"}}]
[{"$f":"'E6-Operating Measurements'!$B$124","v":"00:00:00"},{"$error":"#REF!"},{"$error":"#REF!"},{"$f":"'E6-Operating Measurements'!#REF!","v":{"$error":"#REF!"}}]
[{"$f":"'E6-Operating Measurements'!$B$125","v":"00:00:00"},{"$error":"#REF!"},{"$error":"#REF!"},{"$f":"'E6-Operating Measurements'!#REF!","v":{"$error":"#REF!"}}]
[{"$f":"'E6-Operating Measurements'!$B$126","v":"00:00:00"},{"$error":"#REF!"},{"$error":"#REF!"},{"$f":"'E6-Operating Measurements'!#REF!","v":{"$error":"#REF!"}}]
[{"$f":"'E6-Operating Measurements'!$B$127","v":"00:00:00"},{"$error":"#REF!"},{"$error":"#REF!"},{"$f":"'E6-Operating Measurements'!#REF!","v":{"$error":"#REF!"}}]
[{"$f":"'E6-Operating Measurements'!$B$128","v":"00:00:00"},{"$error":"#REF!"},{"$error":"#REF!"},{"$f":"'E6-Operating Measurements'!#REF!","v":{"$error":"#REF!"}}]
[{"$f":"'E6-Operating Measurements'!$B$129","v":"00:00:00"},{"$error":"#REF!"},{"$error":"#REF!"},{"$f":"'E6-Operating Measurements'!#REF!","v":{"$error":"#REF!"}}]
[{"$f":"'E6-Operating Measurements'!$B$130","v":"00:00:00"},{"$error":"#REF!"},{"$error":"#REF!"},{"$f":"'E6-Operating Measurements'!#REF!","v":{"$error":"#REF!"}}]
[{"$f":"'E6-Operating Measurements'!$B$131","v":"00:00:00"},{"$error":"#REF!"},{"$error":"#REF!"},{"$f":"'E6-Operating Measurements'!#REF!","v":{"$error":"#REF!"}}]
[{"$f":"'E6-Operating Measurements'!$B$132","v":"00:00:00"},{"$error":"#REF!"},{"$error":"#REF!"},{"$f":"'E6-Operating Measurements'!#REF!","v":{"$error":"#REF!"}}]
[{"$f":"'E6-Operating Measurements'!$B$133","v":"00:00:00"},{"$error":"#REF!"},{"$error":"#REF!"},{"$f":"'E6-Operating Measurements'!#REF!","v":{"$error":"#REF!"}}]
[{"$f":"'E6-Operating Measurements'!$B$134","v":"00:00:00"},{"$error":"#REF!"},{"$error":"#REF!"},{"$f":"'E6-Operating Measurements'!#REF!","v":{"$error":"#REF!"}}]
[{"$f":"'E6-Operating Measurements'!$B$135","v":"00:00:00"},{"$error":"#REF!"},{"$error":"#REF!"},{"$f":"'E6-Operating Measurements'!#REF!","v":{"$error":"#REF!"}}]
[{"$f":"'E6-Operating Measurements'!$B$136","v":"00:00:00"},{"$error":"#REF!"},{"$error":"#REF!"},{"$f":"'E6-Operating Measurements'!#REF!","v":{"$error":"#REF!"}}]
[{"$f":"'E6-Operating Measurements'!$B$137","v":"00:00:00"},{"$error":"#REF!"},{"$error":"#REF!"},{"$f":"'E6-Operating Measurements'!#REF!","v":{"$error":"#REF!"}}]
[{"$f":"'E6-Operating Measurements'!$B$138","v":"00:00:00"},{"$f":"1.05*$F$2-0.05*$F$4","v":{"$error":"#REF!"}},{"$f":"1.05*$F$4-0.05*$F$2","v":{"$error":"#REF!"}},{"$f":"'E6-Operating Measurements'!#REF!","v":{"$error":"#REF!"}}]
[{"$f":"'E6-Operating Measurements'!$B$139","v":"00:00:00"},{"$error":"#REF!"},{"$error":"#REF!"},{"$f":"'E6-Operating Measurements'!#REF!","v":{"$error":"#REF!"}}]
[{"$f":"'E6-Operating Measurements'!$B$140","v":"00:00:00"},{"$error":"#REF!"},{"$error":"#REF!"},{"$f":"'E6-Operating Measurements'!#REF!","v":{"$error":"#REF!"}}]
[{"$f":"'E6-Operating Measurements'!$B$141","v":"00:00:00"},{"$error":"#REF!"},{"$error":"#REF!"},{"$f":"'E6-Operating Measurements'!#REF!","v":{"$error":"#REF!"}}]
[{"$f":"'E6-Operating Measurements'!$B$142","v":"00:00:00"},{"$error":"#REF!"},{"$error":"#REF!"},{"$f":"'E6-Operating Measurements'!#REF!","v":{"$error":"#REF!"}}]
[{"$f":"'E6-Operating Measurements'!$B$143","v":"00:00:00"},{"$error":"#REF!"},{"$error":"#REF!"},{"$f":"'E6-Operating Measurements'!#REF!","v":{"$error":"#REF!"}}]
[{"$f":"'E6-Operating Measurements'!$B$144","v":"00:00:00"},{"$error":"#REF!"},{"$error":"#REF!"},{"$f":"'E6-Operating Measurements'!#REF!","v":{"$error":"#REF!"}}]
[{"$f":"'E6-Operating Measurements'!$B$145","v":"00:00:00"},{"$error":"#REF!"},{"$error":"#REF!"},{"$f":"'E6-Operating Measurements'!#REF!","v":{"$error":"#REF!"}}]
[{"$f":"'E6-Operating Measurements'!$B$146","v":"00:00:00"},{"$error":"#REF!"},{"$error":"#REF!"},{"$f":"'E6-Operating Measurements'!#REF!","v":{"$error":"#REF!"}}]
[{"$f":"'E6-Operating Measurements'!$B$147","v":"00:00:00"},{"$error":"#REF!"},{"$error":"#REF!"},{"$f":"'E6-Operating Measurements'!#REF!","v":{"$error":"#REF!"}}]
[{"$f":"'E6-Operating Measurements'!$B$148","v":"00:00:00"},{"$error":"#REF!"},{"$error":"#REF!"},{"$f":"'E6-Operating Measurements'!#REF!","v":{"$error":"#REF!"}}]
[{"$f":"'E6-Operating Measurements'!$B$149","v":"00:00:00"},{"$error":"#REF!"},{"$error":"#REF!"},{"$f":"'E6-Operating Measurements'!#REF!","v":{"$error":"#REF!"}}]
[{"$f":"'E6-Operating Measurements'!$B$150","v":"00:00:00"},{"$error":"#REF!"},{"$error":"#REF!"},{"$f":"'E6-Operating Measurements'!#REF!","v":{"$error":"#REF!"}}]
[{"$f":"'E6-Operating Measurements'!$B$151","v":"00:00:00"},{"$error":"#REF!"},{"$error":"#REF!"},{"$f":"'E6-Operating Measurements'!#REF!","v":{"$error":"#REF!"}}]
[{"$f":"'E6-Operating Measurements'!$B$152","v":"00:00:00"},{"$error":"#REF!"},{"$error":"#REF!"},{"$f":"'E6-Operating Measurements'!#REF!","v":{"$error":"#REF!"}}]
[{"$f":"'E6-Operating Measurements'!$B$153","v":"00:00:00"},{"$error":"#REF!"},{"$error":"#REF!"},{"$f":"'E6-Operating Measurements'!#REF!","v":{"$error":"#REF!"}}]
[{"$f":"'E6-Operating Measurements'!$B$154","v":"00:00:00"},{"$error":"#REF!"},{"$error":"#REF!"},{"$f":"'E6-Operating Measurements'!#REF!","v":{"$error":"#REF!"}}]
[{"$f":"'E6-Operating Measurements'!$B$155","v":"00:00:00"},{"$error":"#REF!"},{"$error":"#REF!"},{"$f":"'E6-Operating Measurements'!#REF!","v":{"$error":"#REF!"}}]
[{"$f":"'E6-Operating Measurements'!$B$156","v":"00:00:00"},{"$error":"#REF!"},{"$error":"#REF!"},{"$f":"'E6-Operating Measurements'!#REF!","v":{"$error":"#REF!"}}]
[{"$f":"'E6-Operating Measurements'!$B$157","v":"00:00:00"},{"$error":"#REF!"},{"$error":"#REF!"},{"$f":"'E6-Operating Measurements'!#REF!","v":{"$error":"#REF!"}}]
[{"$f":"'E6-Operating Measurements'!$B$158","v":"00:00:00"},{"$error":"#REF!"},{"$error":"#REF!"},{"$f":"'E6-Operating Measurements'!#REF!","v":{"$error":"#REF!"}}]
[{"$f":"'E6-Operating Measurements'!$B$159","v":"00:00:00"},{"$error":"#REF!"},{"$error":"#REF!"},{"$f":"'E6-Operating Measurements'!#REF!","v":{"$error":"#REF!"}}]
[{"$f":"'E6-Operating Measurements'!$B$160","v":"00:00:00"},{"$error":"#REF!"},{"$error":"#REF!"},{"$f":"'E6-Operating Measurements'!#REF!","v":{"$error":"#REF!"}}]
[{"$f":"'E6-Operating Measurements'!$B$161","v":"00:00:00"},{"$error":"#REF!"},{"$error":"#REF!"},{"$f":"'E6-Operating Measurements'!#REF!","v":{"$error":"#REF!"}}]
[{"$f":"'E6-Operating Measurements'!$B$162","v":"00:00:00"},{"$error":"#REF!"},{"$error":"#REF!"},{"$f":"'E6-Operating Measurements'!#REF!","v":{"$error":"#REF!"}}]
[{"$f":"'E6-Operating Measurements'!$B$163","v":"00:00:00"},{"$error":"#REF!"},{"$error":"#REF!"},{"$f":"'E6-Operating Measurements'!#REF!","v":{"$error":"#REF!"}}]
[{"$f":"'E6-Operating Measurements'!$B$164","v":"00:00:00"},{"$error":"#REF!"},{"$error":"#REF!"},{"$f":"'E6-Operating Measurements'!#REF!","v":{"$error":"#REF!"}}]
[{"$f":"'E6-Operating Measurements'!$B$165","v":"00:00:00"},{"$error":"#REF!"},{"$error":"#REF!"},{"$f":"'E6-Operating Measurements'!#REF!","v":{"$error":"#REF!"}}]
[{"$f":"'E6-Operating Measurements'!$B$166","v":"00:00:00"},{"$error":"#REF!"},{"$error":"#REF!"},{"$f":"'E6-Operating Measurements'!#REF!","v":{"$error":"#REF!"}}]
[{"$f":"'E6-Operating Measurements'!$B$167","v":"00:00:00"},{"$error":"#REF!"},{"$error":"#REF!"},{"$f":"'E6-Operating Measurements'!#REF!","v":{"$error":"#REF!"}}]
[{"$f":"'E6-Operating Measurements'!$B$168","v":"00:00:00"},{"$error":"#REF!"},{"$error":"#REF!"},{"$f":"'E6-Operating Measurements'!#REF!","v":{"$error":"#REF!"}}]
[{"$f":"'E6-Operating Measurements'!$B$169","v":"00:00:00"},{"$error":"#REF!"},{"$error":"#REF!"},{"$f":"'E6-Operating Measurements'!#REF!","v":{"$error":"#REF!"}}]
[{"$f":"'E6-Operating Measurements'!$B$170","v":"00:00:00"},{"$error":"#REF!"},{"$error":"#REF!"},{"$f":"'E6-Operating Measurements'!#REF!","v":{"$error":"#REF!"}}]
[{"$f":"'E6-Operating Measurements'!$B$171","v":"00:00:00"},{"$error":"#REF!"},{"$error":"#REF!"},{"$f":"'E6-Operating Measurements'!#REF!","v":{"$error":"#REF!"}}]
[{"$f":"'E6-Operating Measurements'!$B$172","v":"00:00:00"},{"$error":"#REF!"},{"$error":"#REF!"},{"$f":"'E6-Operating Measurements'!#REF!","v":{"$error":"#REF!"}}]

{"sheet":"E7-Operating Model","index":15,"n_rows":106,"n_cols":23,"rows_kept":106,"cut":false,"hidden":true,"merged":[[105,1,105,12],[67,1,67,2],[67,3,67,4],[67,5,67,6],[68,1,68,2],[68,3,68,4],[68,5,68,6],[89,3,89,4],[90,3,90,4],[76,1,76,2],[81,1,81,2],[92,3,92,4],[93,3,93,4],[99,1,99,12],[93,1,93,2],[103,7,103,8],[89,1,89,2],[88,3,88,4],[90,1,90,2],[88,1,88,2],[85,1,85,12],[103,3,103,4],[103,5,103,6],[91,1,91,2],[87,3,87,4],[66,1,66,2],[63,1,64,3],[63,4,63,6],[59,1,59,2],[59,3,59,4],[87,1,87,2],[73,1,73,6],[56,1,56,2],[58,1,58,2],[61,1,61,12],[58,3,58,4],[75,1,75,2],[75,5,75,6],[76,5,76,6],[66,3,66,4],[78,1,78,2],[45,1,45,10],[31,4,31,6],[3,1,3,12],[43,1,43,12],[17,4,17,6],[18,4,18,6],[19,4,19,6],[25,1,25,4],[26,1,26,4],[25,5,25,6],[26,5,26,6],[36,1,36,12],[33,1,33,2],[23,1,23,4],[24,1,24,4],[23,5,23,6],[21,1,21,12],[41,1,41,12],[38,1,38,3],[16,4,16,6],[27,1,27,4],[27,5,27,6],[19,1,19,3],[24,5,24,6],[29,1,29,12],[7,1,7,12],[9,1,9,12],[12,1,12,12],[5,1,5,12],[14,1,14,12],[15,1,15,3],[16,1,16,3],[17,1,17,3],[18,1,18,3],[15,4,15,6],[91,3,91,4],[103,1,103,2],[101,7,101,8],[102,7,102,8],[100,1,100,2],[100,3,100,4],[100,5,100,6],[101,1,101,2],[101,3,101,4],[101,5,101,6],[94,3,94,4],[94,1,94,2],[102,3,102,4],[92,1,92,2],[102,5,102,6],[100,7,100,8],[102,1,102,2],[47,13,47,14],[46,7,46,10],[47,1,47,2],[47,3,47,4],[72,1,72,7],[47,7,47,8],[46,3,46,6],[66,5,66,6],[70,1,70,12],[46,11,46,14],[47,11,47,12],[47,9,47,10],[54,1,54,12],[49,1,50,3],[49,4,49,6],[52,1,52,12],[57,1,57,2],[57,3,57,4],[56,3,56,4],[47,5,47,6]]}
[null,null,"E7 - Operating Energy Model"]
[]
[{"$f":"LEFT(C1,1)","v":"E"},{"$f":"VLOOKUP(A3,EnergySourceLookup,2,FALSE)","v":"Electricity"},{"$f":"VLOOKUP(A3,EnergySourceLookup,3,FALSE)","v":"MWh"}]
[null,{"$f":"\"Warning: The 'Operating Energy Model - Data (\" & VLOOKUP(LEFT($C$1,1),EnergySourceLookup,2,FALSE) & \")' is not continuous or covers a short period. Please ensure that the M&V Professional has examined your data and approved your M&V Plan.\"","v":"Warning: The 'Operating Energy Model - Data (Electricity)' is not continuous or covers a short period. Please ensure that the M&V Professional has examined your data and approved your M&V Plan."}]
[]
[false,{"$f":"\"Warning: The 'Operating Energy Model - Data (\"&VLOOKUP(LEFT($C$1,1),EnergySourceLookup,2,FALSE)&\")' contains site constant values that are different to the typical value specified on the 'Boundaries and Variables (\"&VLOOKUP(LEFT($C$1,1),EnergySourceLookup,2,FALSE)&\")' step and have not be excluded as a non-normal measurement.\nNote: Please ensure you mark excluded values with the letter 'Y'.\"","v":"Warning: The 'Operating Energy Model - Data (Electricity)' contains site constant values that are different to the typical value specified on the 'Boundaries and Variables (Electricity)' step and have not be excluded as a non-normal measurement.\nNote: Please ensure you mark excluded values with the letter 'Y'."}]
[]
[null,{"$f":"\"Operating Energy Model (\" & VLOOKUP(LEFT($C$1,1),EnergySourceLookup,2,FALSE) & \")\"","v":"Operating Energy Model (Electricity)"}]
[]
[null,"This tool requires multi-linear regression and energy models in the form: \nEOperating( x1, x2, … xp) = a0 + a1x1 + a2x2 + a3x3 + … + apxp (where a0, a1, …, ap are constants determined by the regression analysis)."]
[]
[]
[null,"Measurement period"]
[]
[null,"Measurement period:"]
[null,"Item Name",null,null,"Item Value"]
[null,"Start date",null,null,{"$f":"MIN(INDEX(E6DataTable,0,1))","v":"00:00:00"}]
[null,"End date",null,null,{"$f":"MAX(INDEX(E6DataTable,0,1))","v":"00:00:00"}]
[null,"Measurement Period (years)",null,null,{"$f":"(E18-E17)/365","v":0}]
[null,"Gross # time intervals",null,null,{"$f":"COUNT(INDEX(E6DataTable,0,1))","v":0}]
[]
[null,"Excluded time intervals"]
[]
[null,"Item Name",null,null,null,"Item Value"]
[null,"Number of time intervals excluded",null,null,null,{"$f":"COUNTIFS(INDEX(E6DataTable,0,COLUMNS(E6DataTable)-1),\"Y\")","v":0}]
[null,"Remaining # of time intervals",null,null,null,{"$f":"IFERROR(E20-F25,0)","v":0}]
[null,"Proportion of time intervals remaining",null,null,null,{"$f":"IFERROR(F26/E20,0)","v":0}]
[{"$f":"IF(F28=\"Pass\", TRUE, FALSE)","v":false},"Test for sufficient time intervals (>= 80%)",null,null,null,{"$f":"IF(F27>=80%, \"Pass\", \"Fail\")","v":"Fail"}]
[]
[null,"Chart of Independent Variable values over operating measurement period"]
[]
[null,"Independent variable:"]
[]
[null,"Chart"]
[]
[]
[null,"Analysis: Test for Correlation between Independent Variables"]
[]
[null,"Correlation coefficient:"]
[]
[]
[null,"Note: Review any variables that are strongly correlated (highlighted in red) and consider refining your regression equation."]
[]
[null,"Effective range"]
[]
[null,"Analysis - Effective range of measurements used to establish operating energy model:"]
[null,null,null,"Normal Year Range",null,null,null,"Operating Measurement Period Effective Range",null,null,null,"# of Normal Year Values Outside of Operating Effective Range",null,null,null,null,null,null,null,"Normal Without Excluded Values",null,"Without Excluded Values"]
[null,"Variable",null,"Minimum",null,"Maximum",null,"Minimum",null,"Maximum",null,"< Minimum",null,"> Maximum",null,null,null,null,null,"Min","Max","Min","Max"]
[]
[null,"% of Normal Range within Operating Measurement Range:",null,null,{"$f":"COUNTIFS('E2-Normal Year Values'!$C$10:$C$374,\"<>Y\")/COUNTIFS('E2-Normal Year Values'!$C$10:$C$374,\"<>Y\")","v":1}]
[]
[]
[null,"NB: If less than 100% then consider extending the operating measurement period to increase the Operating Measurement Range. This will avoid the Energy Savings being reduced."]
[]
[null,"Degrees of freedom"]
[]
[null,"Item Name",null,"Item Value"]
[null,"# of valid data points",null,{"$f":"F26","v":0}]
[null,"# of independent variables",null,{"$f":"GetVariableCount($C$1,\"IV\")","v":0}]
[{"$f":"'ECharts-Operating'!$P$10","v":""},"Degrees of freedom",null,{"$f":"D58-D59-1","v":-1}]
[]
[null,"Calculation Method"]
[]
[null,"Method for developing operating energy model:",null,null,"Regression Analysis"]
[]
[]
[null,"Statistical test",null,"Test value",null,"Result"]
[{"$f":"IF(F68=\"Pass\", TRUE,FALSE)","v":false},"Coefficient of Variation (≤15%) (only relevant if Estimate of the Mean)",null,{"$f":"E7COV","v":""},null,{"$f":"IF(D68>=0.15, \"Fail\", \"Pass\")","v":"Fail"}]
[{"$f":"IF(F69=\"Pass\", TRUE,FALSE)","v":true},"Ratio # valid data points to # independent variables",null,{"$f":"IFERROR(D58/D59,\"\")","v":""},null,{"$f":"IF(D69<getsetting(\"IndependentVariablesDataPointMultiplier\"),\"Fail\",\"Pass\")","v":"Pass"}]
[]
[null,"Build Operating Energy Model"]
[]
[null,"What software/tool was used to generate your regression equation (if relevant):"]
[]
[{"$f":"IFERROR(AVERAGEIF(INDEX(E6DataTable,0,COLUMNS(G4DataTable)-1), \"<>Y\", INDEX(E6DataTable,0,2)), 0)","v":0}]
[{"$f":"IFERROR(COUNTIF(INDEX(E7RegressionEquationCoefficientList,0,7), \"Warning\"),0)","v":0},"Variable",null,"Coefficient","t-statistic","Check"]
[null,"Intercept",null,null,null,"N/A"]
[]
[null,"Working Formula:"]
[null,"E(operating)  = "]
[]
[null,"Chart"]
[{"$f":"MIN(IF(ISNUMBER(#REF!),#REF!))","v":0}]
[{"$f":"MAX(IF(ISNUMBER(#REF!),#REF!))","v":0}]
[{"$f":"MAX(IF(ISNUMBER(#REF!),#REF!))","v":0}]
[null,"Statistical analysis of energy model"]
[]
[null,"Item",null,"Value"]
[{"$f":"IFERROR('ECharts-Operating'!$P$14,\"\")","v":""},"Coefficient of determination (R2)",null,{"$f":"E7R2","v":""}]
[{"$f":"IFERROR('ECharts-Operating'!$P$15,\"\")","v":""},"Adjusted R2",null,{"$f":"E7AdjR2","v":""}]
[{"$f":"'ECharts-Operating'!$P$12","v":{"$error":"#DIV/0!"}},"Standard error (SE)",null,{"$f":"IFERROR(E7StandardError,\"\")","v":""}]
[null,"t-value (at 90% confidence level)",null,{"$f":"IFERROR(TINV(VLOOKUP(\"tValueConfidenceMultiplier\",SettingsList,2,FALSE),D60),\"\")","v":""}]
[null,"Operating average modelled energy",null,{"$f":"IFERROR(VLOOKUP(\"Intercept\",E7RegressionEquationCoefficientList, 3, FALSE), \"\")","v":0}]
[null,"Absolute modelling precision",null,{"$f":"IFERROR(D92*D91,\"\")","v":""}]
[null,"Relative modelling precision (based on mean value)",null,{"$f":"IFERROR(D94/D93,0)","v":0}]
[]
[]
[]
[]
[null,"Analysis - Check the operating energy model meets best practice benchmarks:"]
[{"$f":"IF(IFERROR(COUNTIF(H102:I104, \"Warning\"),0)=0, TRUE,FALSE)","v":false},"Modelling Criteria",null,"Best Practice Benchmark",null,"Operating Energy Model Value",null,"Result"]
[null,"t-statistics of independent variables",null,"> 2",null,"N/A",null,{"$f":"IF(COUNTIF(INDEX(E7RegressionEquationCoefficientList,0,5),\"Warning\")>0, \"Warning\", \"Pass\")","v":"Pass"}]
[null,"Lesser of R2 or adjusted R2 (only relevant for regression analysis)",null,"> 0.75",null,{"$f":"MIN(D88:E89)","v":0},null,{"$f":"IF(F103>0.75, \"Pass\", \"Warning\")","v":"Warning"}]
[null,"Relative precision calculated at 90% confidence level",null,"within ± 100%",null,{"$f":"D95","v":0},null,{"$f":"IF(F104<1, \"Pass\", \"Fail\")","v":"Pass"}]
[]
[null,"Warning: Value does not meet best practice benchmark. Ensure review included in M&V Professional reasoning."]

{"sheet":"Data - Operating Chart","index":16,"n_rows":0,"n_cols":0,"rows_kept":0,"cut":false,"hidden":true,"merged":[]}

{"sheet":"E8-Reporting Period Values","index":17,"n_rows":8,"n_cols":5,"rows_kept":8,"cut":false,"hidden":true,"merged":[[3,1,3,12],[5,1,5,12],[7,1,8,1],[7,3,8,3],[7,4,8,4],[7,2,8,2]]}
[null,null,"E8 - Reporting Period Values"]
[]
[{"$f":"LEFT(C1,1)","v":"E"},{"$f":"VLOOKUP(A3,EnergySourceLookup,2,FALSE)","v":"Electricity"},{"$f":"VLOOKUP(A3,EnergySourceLookup,3,FALSE)","v":"MWh"}]
[null,"Establish Values for all Independent Variables during the Reporting Period"]
[]
[null,{"$f":"\"Note: Click the 'Update Tool' button in the navigation bar above after entering the data. \" & IF(E1ModelFrequency<>\"\", \"This step should contain \" & VLOOKUP(E1ModelFrequency, FrequencyLookup,2,FALSE) & \" data points based on the selected \" & E1ModelFrequency & \" Measurement Frequency.\", \"\")","v":"Note: Click the 'Update Tool' button in the navigation bar above after entering the data. "}]
[]
[null,"Date / Time","Energy","Exclude non-normal measurement? (Mark with 'Y')","Reason for exclusion"]

{"sheet":"E9-Interactive Savings","index":18,"n_rows":15,"n_cols":5,"rows_kept":15,"cut":false,"hidden":true,"merged":[[14,1,14,6],[5,1,5,3],[3,1,3,6],[4,1,4,6],[6,8,7,13],[11,1,12,3],[11,4,11,6],[6,1,6,6],[7,1,7,6],[9,1,9,6]]}
[null,null,"E9 - Interactive Energy Savings"]
[]
[{"$f":"LEFT(C1,1)","v":"E"},{"$f":"VLOOKUP(A3,EnergySourceLookup,2,FALSE)","v":"Electricity"},{"$f":"VLOOKUP(A3,EnergySourceLookup,3,FALSE)","v":"MWh"}]
[null,"Identify and define the effects of the project on the performance of energy consuming products outside the Measurement Boundary (interactive effects):"]
[]
[]
[null,"Describe how the Interactive Energy Savings due to those interactive effects were calculated:"]
[]
[]
[null,"Note: Interactive energy savings must be estimated in accordance with a repeatable method that:\n(i) uses data recorded for the premises where the project is undertaken; or\n(ii) is consistent with generally accepted estimation approaches in the science and engineering field applicable to the kind of effects being estimated. \n\nFor example, Schedule 34 of the Victorian Energy Upgrades Prescribed Activities includes an air-conditioning multiplier for lighting projects."]
[]
[{"$f":"IFERROR(IF(IESEndUseInAirConSpace=\"Yes\",TRUE,IF(E11BaselineConsumption-E11OperatingConsumption<>0, E9AnnualInteractiveSavings/(E11BaselineConsumption-E11OperatingConsumption),0)<=getsetting(\"IESAirConSpaceMaxPerc\")), FALSE)","v":false},{"$f":"\"Specify the ANNUAL Interactive Energy Savings (\"&$C$3&\"/yr):\"","v":"Specify the ANNUAL Interactive Energy Savings (MWh/yr):"}]
[null,null,null,null,{"$f":"IF(PSCalculationMethod=CalculationMethodNYES,\"Normal Year Value (same for each year)\",IF(PSCalculationMethod=CalculationMethodMAES,\"Savings for the single reporting year.\",\"\"))","v":""}]
[]
[null,"ERROR: The total Interactive Energy Savings are greater than 10% of Total Energy Savings. You will need to change your measurement boundary."]

{"sheet":"ECharts-Savings","index":19,"n_rows":366,"n_cols":12,"rows_kept":366,"cut":false,"hidden":true,"merged":[]}
["Time period start","CDD","isSaturday","isSunday","isPublicHoliday","Is within Baseline Model effective range?","Is within Operating Model effective range?","Within all ranges?","Baseline energy consumption","Operating Year energy consumption","Normal Year / Reporting Period energy consumption","Energy savings"]
[42736,8.85,0,0,1,true,true,{"$f":"IF(PSCalculationMethod=CalculationMethodMAES,F2,IF(PSCalculationMethod=CalculationMethodNYES,AND(F2,G2),FALSE))","v":false},{"$f":"'E5-Baseline Model'!#REF!+SUMPRODUCT(B2:E2,TRANSPOSE('E5-Baseline Model'!#REF!))","v":{"$error":"#REF!"}},{"$f":"'E5-Baseline Model'!#REF!+SUMPRODUCT(B2:E2,TRANSPOSE('E5-Baseline Model'!#REF!))+RAND()-0.5","v":{"$error":"#REF!"}},{"$f":"IF(PSCalculationMethod=CalculationMethodNYES,J2,IF(PSCalculationMethod=CalculationMethodNYES,'E8-Reporting Period Values'!#REF!,\"\"))","v":""},{"$f":"IF(H2,I2-K2,0)","v":0}]
[42737,9.9499999999999993,0,0,1,true,true,false,{"$f":"'E5-Baseline Model'!#REF!+SUMPRODUCT(B3:E3,TRANSPOSE('E5-Baseline Model'!#REF!))","v":{"$error":"#REF!"}},{"$f":"'E5-Baseline Model'!#REF!+SUMPRODUCT(B3:E3,TRANSPOSE('E5-Baseline Model'!#REF!))+RAND()-0.5","v":{"$error":"#REF!"}},{"$f":"IF(PSCalculationMethod=CalculationMethodNYES,J3,IF(PSCalculationMethod=CalculationMethodNYES,'E8-Reporting Period Values'!#REF!,\"\"))","v":""},{"$f":"IF(H3,I3-K3,0)","v":0}]
[42738,9.65,0,0,0,true,true,false,{"$f":"'E5-Baseline Model'!#REF!+SUMPRODUCT(B4:E4,TRANSPOSE('E5-Baseline Model'!#REF!))","v":{"$error":"#REF!"}},{"$f":"'E5-Baseline Model'!#REF!+SUMPRODUCT(B4:E4,TRANSPOSE('E5-Baseline Model'!#REF!))+RAND()-0.5","v":{"$error":"#REF!"}},{"$f":"IF(PSCalculationMethod=CalculationMethodNYES,J4,IF(PSCalculationMethod=CalculationMethodNYES,'E8-Reporting Period Values'!#REF!,\"\"))","v":""},0]
[42739,9.1999999999999993,0,0,0,true,true,false,{"$f":"'E5-Baseline Model'!#REF!+SUMPRODUCT(B5:E5,TRANSPOSE('E5-Baseline Model'!#REF!))","v":{"$error":"#REF!"}},{"$f":"'E5-Baseline Model'!#REF!+SUMPRODUCT(B5:E5,TRANSPOSE('E5-Baseline Model'!#REF!))+RAND()-0.5","v":{"$error":"#REF!"}},{"$f":"IF(PSCalculationMethod=CalculationMethodNYES,J5,IF(PSCalculationMethod=CalculationMethodNYES,'E8-Reporting Period Values'!#REF!,\"\"))","v":""},0]
[42740,10.7,0,0,0,true,true,false,{"$f":"'E5-Baseline Model'!#REF!+SUMPRODUCT(B6:E6,TRANSPOSE('E5-Baseline Model'!#REF!))","v":{"$error":"#REF!"}},{"$f":"'E5-Baseline Model'!#REF!+SUMPRODUCT(B6:E6,TRANSPOSE('E5-Baseline Model'!#REF!))+RAND()-0.5","v":{"$error":"#REF!"}},{"$f":"IF(PSCalculationMethod=CalculationMethodNYES,J6,IF(PSCalculationMethod=CalculationMethodNYES,'E8-Reporting Period Values'!#REF!,\"\"))","v":""},0]
[42741,10.4,0,0,0,true,true,false,{"$f":"'E5-Baseline Model'!#REF!+SUMPRODUCT(B7:E7,TRANSPOSE('E5-Baseline Model'!#REF!))","v":{"$error":"#REF!"}},{"$f":"'E5-Baseline Model'!#REF!+SUMPRODUCT(B7:E7,TRANSPOSE('E5-Baseline Model'!#REF!))+RAND()-0.5","v":{"$error":"#REF!"}},{"$f":"IF(PSCalculationMethod=CalculationMethodNYES,J7,IF(PSCalculationMethod=CalculationMethodNYES,'E8-Reporting Period Values'!#REF!,\"\"))","v":""},0]
[42742,8.9,1,0,0,true,true,false,{"$f":"'E5-Baseline Model'!#REF!+SUMPRODUCT(B8:E8,TRANSPOSE('E5-Baseline Model'!#REF!))","v":{"$error":"#REF!"}},{"$f":"'E5-Baseline Model'!#REF!+SUMPRODUCT(B8:E8,TRANSPOSE('E5-Baseline Model'!#REF!))+RAND()-0.5","v":{"$error":"#REF!"}},{"$f":"IF(PSCalculationMethod=CalculationMethodNYES,J8,IF(PSCalculationMethod=CalculationMethodNYES,'E8-Reporting Period Values'!#REF!,\"\"))","v":""},0]
[42743,10.65,0,1,0,true,true,false,{"$f":"'E5-Baseline Model'!#REF!+SUMPRODUCT(B9:E9,TRANSPOSE('E5-Baseline Model'!#REF!))","v":{"$error":"#REF!"}},{"$f":"'E5-Baseline Model'!#REF!+SUMPRODUCT(B9:E9,TRANSPOSE('E5-Baseline Model'!#REF!))+RAND()-0.5","v":{"$error":"#REF!"}},{"$f":"IF(PSCalculationMethod=CalculationMethodNYES,J9,IF(PSCalculationMethod=CalculationMethodNYES,'E8-Reporting Period Values'!#REF!,\"\"))","v":""},0]
[42744,10.5,0,0,0,true,true,false,{"$f":"'E5-Baseline Model'!#REF!+SUMPRODUCT(B10:E10,TRANSPOSE('E5-Baseline Model'!#REF!))","v":{"$error":"#REF!"}},{"$f":"'E5-Baseline Model'!#REF!+SUMPRODUCT(B10:E10,TRANSPOSE('E5-Baseline Model'!#REF!))+RAND()-0.5","v":{"$error":"#REF!"}},{"$f":"IF(PSCalculationMethod=CalculationMethodNYES,J10,IF(PSCalculationMethod=CalculationMethodNYES,'E8-Reporting Period Values'!#REF!,\"\"))","v":""},0]
[42745,9.85,0,0,0,true,true,false,{"$f":"'E5-Baseline Model'!#REF!+SUMPRODUCT(B11:E11,TRANSPOSE('E5-Baseline Model'!#REF!))","v":{"$error":"#REF!"}},{"$f":"'E5-Baseline Model'!#REF!+SUMPRODUCT(B11:E11,TRANSPOSE('E5-Baseline Model'!#REF!))+RAND()-0.5","v":{"$error":"#REF!"}},{"$f":"IF(PSCalculationMethod=CalculationMethodNYES,J11,IF(PSCalculationMethod=CalculationMethodNYES,'E8-Reporting Period Values'!#REF!,\"\"))","v":""},0]
[42746,9.9499999999999993,0,0,0,true,true,false,{"$f":"'E5-Baseline Model'!#REF!+SUMPRODUCT(B12:E12,TRANSPOSE('E5-Baseline Model'!#REF!))","v":{"$error":"#REF!"}},{"$f":"'E5-Baseline Model'!#REF!+SUMPRODUCT(B12:E12,TRANSPOSE('E5-Baseline Model'!#REF!))+RAND()-0.5","v":{"$error":"#REF!"}},{"$f":"IF(PSCalculationMethod=CalculationMethodNYES,J12,IF(PSCalculationMethod=CalculationMethodNYES,'E8-Reporting Period Values'!#REF!,\"\"))","v":""},0]
[42747,12.25,0,0,0,true,true,false,{"$f":"'E5-Baseline Model'!#REF!+SUMPRODUCT(B13:E13,TRANSPOSE('E5-Baseline Model'!#REF!))","v":{"$error":"#REF!"}},{"$f":"'E5-Baseline Model'!#REF!+SUMPRODUCT(B13:E13,TRANSPOSE('E5-Baseline Model'!#REF!))+RAND()-0.5","v":{"$error":"#REF!"}},{"$f":"IF(PSCalculationMethod=CalculationMethodNYES,J13,IF(PSCalculationMethod=CalculationMethodNYES,'E8-Reporting Period Values'!#REF!,\"\"))","v":""},0]
[42748,6.85,0,0,0,true,true,false,{"$f":"'E5-Baseline Model'!#REF!+SUMPRODUCT(B14:E14,TRANSPOSE('E5-Baseline Model'!#REF!))","v":{"$error":"#REF!"}},{"$f":"'E5-Baseline Model'!#REF!+SUMPRODUCT(B14:E14,TRANSPOSE('E5-Baseline Model'!#REF!))+RAND()-0.5","v":{"$error":"#REF!"}},{"$f":"IF(PSCalculationMethod=CalculationMethodNYES,J14,IF(PSCalculationMethod=CalculationMethodNYES,'E8-Reporting Period Values'!#REF!,\"\"))","v":""},0]
[42749,8.25,1,0,0,true,true,false,{"$f":"'E5-Baseline Model'!#REF!+SUMPRODUCT(B15:E15,TRANSPOSE('E5-Baseline Model'!#REF!))","v":{"$error":"#REF!"}},{"$f":"'E5-Baseline Model'!#REF!+SUMPRODUCT(B15:E15,TRANSPOSE('E5-Baseline Model'!#REF!))+RAND()-0.5","v":{"$error":"#REF!"}},{"$f":"IF(PSCalculationMethod=CalculationMethodNYES,J15,IF(PSCalculationMethod=CalculationMethodNYES,'E8-Reporting Period Values'!#REF!,\"\"))","v":""},0]
[42750,11.2,0,1,0,true,true,false,{"$f":"'E5-Baseline Model'!#REF!+SUMPRODUCT(B16:E16,TRANSPOSE('E5-Baseline Model'!#REF!))","v":{"$error":"#REF!"}},{"$f":"'E5-Baseline Model'!#REF!+SUMPRODUCT(B16:E16,TRANSPOSE('E5-Baseline Model'!#REF!))+RAND()-0.5","v":{"$error":"#REF!"}},{"$f":"IF(PSCalculationMethod=CalculationMethodNYES,J16,IF(PSCalculationMethod=CalculationMethodNYES,'E8-Reporting Period Values'!#REF!,\"\"))","v":""},0]
[42751,7.6,0,0,0,true,true,false,{"$f":"'E5-Baseline Model'!#REF!+SUMPRODUCT(B17:E17,TRANSPOSE('E5-Baseline Model'!#REF!))","v":{"$error":"#REF!"}},{"$f":"'E5-Baseline Model'!#REF!+SUMPRODUCT(B17:E17,TRANSPOSE('E5-Baseline Model'!#REF!))+RAND()-0.5","v":{"$error":"#REF!"}},{"$f":"IF(PSCalculationMethod=CalculationMethodNYES,J17,IF(PSCalculationMethod=CalculationMethodNYES,'E8-Reporting Period Values'!#REF!,\"\"))","v":""},0]
[42752,7.25,0,0,0,true,true,false,{"$f":"'E5-Baseline Model'!#REF!+SUMPRODUCT(B18:E18,TRANSPOSE('E5-Baseline Model'!#REF!))","v":{"$error":"#REF!"}},{"$f":"'E5-Baseline Model'!#REF!+SUMPRODUCT(B18:E18,TRANSPOSE('E5-Baseline Model'!#REF!))+RAND()-0.5","v":{"$error":"#REF!"}},{"$f":"IF(PSCalculationMethod=CalculationMethodNYES,J18,IF(PSCalculationMethod=CalculationMethodNYES,'E8-Reporting Period Values'!#REF!,\"\"))","v":""},0]
[42753,7.3,0,0,0,true,true,false,{"$f":"'E5-Baseline Model'!#REF!+SUMPRODUCT(B19:E19,TRANSPOSE('E5-Baseline Model'!#REF!))","v":{"$error":"#REF!"}},{"$f":"'E5-Baseline Model'!#REF!+SUMPRODUCT(B19:E19,TRANSPOSE('E5-Baseline Model'!#REF!))+RAND()-0.5","v":{"$error":"#REF!"}},{"$f":"IF(PSCalculationMethod=CalculationMethodNYES,J19,IF(PSCalculationMethod=CalculationMethodNYES,'E8-Reporting Period Values'!#REF!,\"\"))","v":""},0]
[42754,10.15,0,0,0,true,true,false,{"$f":"'E5-Baseline Model'!#REF!+SUMPRODUCT(B20:E20,TRANSPOSE('E5-Baseline Model'!#REF!))","v":{"$error":"#REF!"}},{"$f":"'E5-Baseline Model'!#REF!+SUMPRODUCT(B20:E20,TRANSPOSE('E5-Baseline Model'!#REF!))+RAND()-0.5","v":{"$error":"#REF!"}},{"$f":"IF(PSCalculationMethod=CalculationMethodNYES,J20,IF(PSCalculationMethod=CalculationMethodNYES,'E8-Reporting Period Values'!#REF!,\"\"))","v":""},0]
[42755,7.5,0,0,0,true,true,false,{"$f":"'E5-Baseline Model'!#REF!+SUMPRODUCT(B21:E21,TRANSPOSE('E5-Baseline Model'!#REF!))","v":{"$error":"#REF!"}},{"$f":"'E5-Baseline Model'!#REF!+SUMPRODUCT(B21:E21,TRANSPOSE('E5-Baseline Model'!#REF!))+RAND()-0.5","v":{"$error":"#REF!"}},{"$f":"IF(PSCalculationMethod=CalculationMethodNYES,J21,IF(PSCalculationMethod=CalculationMethodNYES,'E8-Reporting Period Values'!#REF!,\"\"))","v":""},0]
[42756,6.4,1,0,0,true,true,false,{"$f":"'E5-Baseline Model'!#REF!+SUMPRODUCT(B22:E22,TRANSPOSE('E5-Baseline Model'!#REF!))","v":{"$error":"#REF!"}},{"$f":"'E5-Baseline Model'!#REF!+SUMPRODUCT(B22:E22,TRANSPOSE('E5-Baseline Model'!#REF!))+RAND()-0.5","v":{"$error":"#REF!"}},{"$f":"IF(PSCalculationMethod=CalculationMethodNYES,J22,IF(PSCalculationMethod=CalculationMethodNYES,'E8-Reporting Period Values'!#REF!,\"\"))","v":""},0]
[42757,6.7,0,1,0,true,true,false,{"$f":"'E5-Baseline Model'!#REF!+SUMPRODUCT(B23:E23,TRANSPOSE('E5-Baseline Model'!#REF!))","v":{"$error":"#REF!"}},{"$f":"'E5-Baseline Model'!#REF!+SUMPRODUCT(B23:E23,TRANSPOSE('E5-Baseline Model'!#REF!))+RAND()-0.5","v":{"$error":"#REF!"}},{"$f":"IF(PSCalculationMethod=CalculationMethodNYES,J23,IF(PSCalculationMethod=CalculationMethodNYES,'E8-Reporting Period Values'!#REF!,\"\"))","v":""},0]
[42758,6.65,0,0,0,true,true,false,{"$f":"'E5-Baseline Model'!#REF!+SUMPRODUCT(B24:E24,TRANSPOSE('E5-Baseline Model'!#REF!))","v":{"$error":"#REF!"}},{"$f":"'E5-Baseline Model'!#REF!+SUMPRODUCT(B24:E24,TRANSPOSE('E5-Baseline Model'!#REF!))+RAND()-0.5","v":{"$error":"#REF!"}},{"$f":"IF(PSCalculationMethod=CalculationMethodNYES,J24,IF(PSCalculationMethod=CalculationMethodNYES,'E8-Reporting Period Values'!#REF!,\"\"))","v":""},0]
[42759,8,0,0,0,true,true,false,{"$f":"'E5-Baseline Model'!#REF!+SUMPRODUCT(B25:E25,TRANSPOSE('E5-Baseline Model'!#REF!))","v":{"$error":"#REF!"}},{"$f":"'E5-Baseline Model'!#REF!+SUMPRODUCT(B25:E25,TRANSPOSE('E5-Baseline Model'!#REF!))+RAND()-0.5","v":{"$error":"#REF!"}},{"$f":"IF(PSCalculationMethod=CalculationMethodNYES,J25,IF(PSCalculationMethod=CalculationMethodNYES,'E8-Reporting Period Values'!#REF!,\"\"))","v":""},0]
[42760,8.3000000000000007,0,0,0,true,true,false,{"$f":"'E5-Baseline Model'!#REF!+SUMPRODUCT(B26:E26,TRANSPOSE('E5-Baseline Model'!#REF!))","v":{"$error":"#REF!"}},{"$f":"'E5-Baseline Model'!#REF!+SUMPRODUCT(B26:E26,TRANSPOSE('E5-Baseline Model'!#REF!))+RAND()-0.5","v":{"$error":"#REF!"}},{"$f":"IF(PSCalculationMethod=CalculationMethodNYES,J26,IF(PSCalculationMethod=CalculationMethodNYES,'E8-Reporting Period Values'!#REF!,\"\"))","v":""},0]
[42761,8.6999999999999993,0,0,1,true,true,false,{"$f":"'E5-Baseline Model'!#REF!+SUMPRODUCT(B27:E27,TRANSPOSE('E5-Baseline Model'!#REF!))","v":{"$error":"#REF!"}},{"$f":"'E5-Baseline Model'!#REF!+SUMPRODUCT(B27:E27,TRANSPOSE('E5-Baseline Model'!#REF!))+RAND()-0.5","v":{"$error":"#REF!"}},{"$f":"IF(PSCalculationMethod=CalculationMethodNYES,J27,IF(PSCalculationMethod=CalculationMethodNYES,'E8-Reporting Period Values'!#REF!,\"\"))","v":""},0]
[42762,10.25,0,0,0,true,true,false,{"$f":"'E5-Baseline Model'!#REF!+SUMPRODUCT(B28:E28,TRANSPOSE('E5-Baseline Model'!#REF!))","v":{"$error":"#REF!"}},{"$f":"'E5-Baseline Model'!#REF!+SUMPRODUCT(B28:E28,TRANSPOSE('E5-Baseline Model'!#REF!))+RAND()-0.5","v":{"$error":"#REF!"}},{"$f":"IF(PSCalculationMethod=CalculationMethodNYES,J28,IF(PSCalculationMethod=CalculationMethodNYES,'E8-Reporting Period Values'!#REF!,\"\"))","v":""},0]
[42763,10.199999999999999,1,0,0,true,true,false,{"$f":"'E5-Baseline Model'!#REF!+SUMPRODUCT(B29:E29,TRANSPOSE('E5-Baseline Model'!#REF!))","v":{"$error":"#REF!"}},{"$f":"'E5-Baseline Model'!#REF!+SUMPRODUCT(B29:E29,TRANSPOSE('E5-Baseline Model'!#REF!))+RAND()-0.5","v":{"$error":"#REF!"}},{"$f":"IF(PSCalculationMethod=CalculationMethodNYES,J29,IF(PSCalculationMethod=CalculationMethodNYES,'E8-Reporting Period Values'!#REF!,\"\"))","v":""},0]
[42764,11.5,0,1,0,true,true,false,{"$f":"'E5-Baseline Model'!#REF!+SUMPRODUCT(B30:E30,TRANSPOSE('E5-Baseline Model'!#REF!))","v":{"$error":"#REF!"}},{"$f":"'E5-Baseline Model'!#REF!+SUMPRODUCT(B30:E30,TRANSPOSE('E5-Baseline Model'!#REF!))+RAND()-0.5","v":{"$error":"#REF!"}},{"$f":"IF(PSCalculationMethod=CalculationMethodNYES,J30,IF(PSCalculationMethod=CalculationMethodNYES,'E8-Reporting Period Values'!#REF!,\"\"))","v":""},0]
[42765,11.25,0,0,0,true,true,false,{"$f":"'E5-Baseline Model'!#REF!+SUMPRODUCT(B31:E31,TRANSPOSE('E5-Baseline Model'!#REF!))","v":{"$error":"#REF!"}},{"$f":"'E5-Baseline Model'!#REF!+SUMPRODUCT(B31:E31,TRANSPOSE('E5-Baseline Model'!#REF!))+RAND()-0.5","v":{"$error":"#REF!"}},{"$f":"IF(PSCalculationMethod=CalculationMethodNYES,J31,IF(PSCalculationMethod=CalculationMethodNYES,'E8-Reporting Period Values'!#REF!,\"\"))","v":""},0]
[42766,6.95,0,0,0,true,true,false,{"$f":"'E5-Baseline Model'!#REF!+SUMPRODUCT(B32:E32,TRANSPOSE('E5-Baseline Model'!#REF!))","v":{"$error":"#REF!"}},{"$f":"'E5-Baseline Model'!#REF!+SUMPRODUCT(B32:E32,TRANSPOSE('E5-Baseline Model'!#REF!))+RAND()-0.5","v":{"$error":"#REF!"}},{"$f":"IF(PSCalculationMethod=CalculationMethodNYES,J32,IF(PSCalculationMethod=CalculationMethodNYES,'E8-Reporting Period Values'!#REF!,\"\"))","v":""},0]
[42767,3.7,0,0,0,true,true,false,{"$f":"'E5-Baseline Model'!#REF!+SUMPRODUCT(B33:E33,TRANSPOSE('E5-Baseline Model'!#REF!))","v":{"$error":"#REF!"}},{"$f":"'E5-Baseline Model'!#REF!+SUMPRODUCT(B33:E33,TRANSPOSE('E5-Baseline Model'!#REF!))+RAND()-0.5","v":{"$error":"#REF!"}},{"$f":"IF(PSCalculationMethod=CalculationMethodNYES,J33,IF(PSCalculationMethod=CalculationMethodNYES,'E8-Reporting Period Values'!#REF!,\"\"))","v":""},0]
[42768,5,0,0,0,true,true,false,{"$f":"'E5-Baseline Model'!#REF!+SUMPRODUCT(B34:E34,TRANSPOSE('E5-Baseline Model'!#REF!))","v":{"$error":"#REF!"}},{"$f":"'E5-Baseline Model'!#REF!+SUMPRODUCT(B34:E34,TRANSPOSE('E5-Baseline Model'!#REF!))+RAND()-0.5","v":{"$error":"#REF!"}},{"$f":"IF(PSCalculationMethod=CalculationMethodNYES,J34,IF(PSCalculationMethod=CalculationMethodNYES,'E8-Reporting Period Values'!#REF!,\"\"))","v":""},0]
[42769,6.85,0,0,0,true,true,false,{"$f":"'E5-Baseline Model'!#REF!+SUMPRODUCT(B35:E35,TRANSPOSE('E5-Baseline Model'!#REF!))","v":{"$error":"#REF!"}},{"$f":"'E5-Baseline Model'!#REF!+SUMPRODUCT(B35:E35,TRANSPOSE('E5-Baseline Model'!#REF!))+RAND()-0.5","v":{"$error":"#REF!"}},{"$f":"IF(PSCalculationMethod=CalculationMethodNYES,J35,IF(PSCalculationMethod=CalculationMethodNYES,'E8-Reporting Period Values'!#REF!,\"\"))","v":""},0]
[42770,7.3,1,0,0,true,true,false,{"$f":"'E5-Baseline Model'!#REF!+SUMPRODUCT(B36:E36,TRANSPOSE('E5-Baseline Model'!#REF!))","v":{"$error":"#REF!"}},{"$f":"'E5-Baseline Model'!#REF!+SUMPRODUCT(B36:E36,TRANSPOSE('E5-Baseline Model'!#REF!))+RAND()-0.5","v":{"$error":"#REF!"}},{"$f":"IF(PSCalculationMethod=CalculationMethodNYES,J36,IF(PSCalculationMethod=CalculationMethodNYES,'E8-Reporting Period Values'!#REF!,\"\"))","v":""},0]
[42771,8.4,0,1,0,true,true,false,{"$f":"'E5-Baseline Model'!#REF!+SUMPRODUCT(B37:E37,TRANSPOSE('E5-Baseline Model'!#REF!))","v":{"$error":"#REF!"}},{"$f":"'E5-Baseline Model'!#REF!+SUMPRODUCT(B37:E37,TRANSPOSE('E5-Baseline Model'!#REF!))+RAND()-0.5","v":{"$error":"#REF!"}},{"$f":"IF(PSCalculationMethod=CalculationMethodNYES,J37,IF(PSCalculationMethod=CalculationMethodNYES,'E8-Reporting Period Values'!#REF!,\"\"))","v":""},0]
[42772,9.15,0,0,0,true,true,false,{"$f":"'E5-Baseline Model'!#REF!+SUMPRODUCT(B38:E38,TRANSPOSE('E5-Baseline Model'!#REF!))","v":{"$error":"#REF!"}},{"$f":"'E5-Baseline Model'!#REF!+SUMPRODUCT(B38:E38,TRANSPOSE('E5-Baseline Model'!#REF!))+RAND()-0.5","v":{"$error":"#REF!"}},{"$f":"IF(PSCalculationMethod=CalculationMethodNYES,J38,IF(PSCalculationMethod=CalculationMethodNYES,'E8-Reporting Period Values'!#REF!,\"\"))","v":""},0]
[42773,10.25,0,0,0,true,true,false,{"$f":"'E5-Baseline Model'!#REF!+SUMPRODUCT(B39:E39,TRANSPOSE('E5-Baseline Model'!#REF!))","v":{"$error":"#REF!"}},{"$f":"'E5-Baseline Model'!#REF!+SUMPRODUCT(B39:E39,TRANSPOSE('E5-Baseline Model'!#REF!))+RAND()-0.5","v":{"$error":"#REF!"}},{"$f":"IF(PSCalculationMethod=CalculationMethodNYES,J39,IF(PSCalculationMethod=CalculationMethodNYES,'E8-Reporting Period Values'!#REF!,\"\"))","v":""},0]
[42774,10.75,0,0,0,true,true,false,{"$f":"'E5-Baseline Model'!#REF!+SUMPRODUCT(B40:E40,TRANSPOSE('E5-Baseline Model'!#REF!))","v":{"$error":"#REF!"}},{"$f":"'E5-Baseline Model'!#REF!+SUMPRODUCT(B40:E40,TRANSPOSE('E5-Baseline Model'!#REF!))+RAND()-0.5","v":{"$error":"#REF!"}},{"$f":"IF(PSCalculationMethod=CalculationMethodNYES,J40,IF(PSCalculationMethod=CalculationMethodNYES,'E8-Reporting Period Values'!#REF!,\"\"))","v":""},0]
[42775,11.45,0,0,0,true,true,false,{"$f":"'E5-Baseline Model'!#REF!+SUMPRODUCT(B41:E41,TRANSPOSE('E5-Baseline Model'!#REF!))","v":{"$error":"#REF!"}},{"$f":"'E5-Baseline Model'!#REF!+SUMPRODUCT(B41:E41,TRANSPOSE('E5-Baseline Model'!#REF!))+RAND()-0.5","v":{"$error":"#REF!"}},{"$f":"IF(PSCalculationMethod=CalculationMethodNYES,J41,IF(PSCalculationMethod=CalculationMethodNYES,'E8-Reporting Period Values'!#REF!,\"\"))","v":""},0]
[42776,6.5,0,0,0,true,true,false,{"$f":"'E5-Baseline Model'!#REF!+SUMPRODUCT(B42:E42,TRANSPOSE('E5-Baseline Model'!#REF!))","v":{"$error":"#REF!"}},{"$f":"'E5-Baseline Model'!#REF!+SUMPRODUCT(B42:E42,TRANSPOSE('E5-Baseline Model'!#REF!))+RAND()-0.5","v":{"$error":"#REF!"}},{"$f":"IF(PSCalculationMethod=CalculationMethodNYES,J42,IF(PSCalculationMethod=CalculationMethodNYES,'E8-Reporting Period Values'!#REF!,\"\"))","v":""},0]
[42777,6.9,1,0,0,true,true,false,{"$f":"'E5-Baseline Model'!#REF!+SUMPRODUCT(B43:E43,TRANSPOSE('E5-Baseline Model'!#REF!))","v":{"$error":"#REF!"}},{"$f":"'E5-Baseline Model'!#REF!+SUMPRODUCT(B43:E43,TRANSPOSE('E5-Baseline Model'!#REF!))+RAND()-0.5","v":{"$error":"#REF!"}},{"$f":"IF(PSCalculationMethod=CalculationMethodNYES,J43,IF(PSCalculationMethod=CalculationMethodNYES,'E8-Reporting Period Values'!#REF!,\"\"))","v":""},0]
[42778,8.0500000000000007,0,1,0,true,true,false,{"$f":"'E5-Baseline Model'!#REF!+SUMPRODUCT(B44:E44,TRANSPOSE('E5-Baseline Model'!#REF!))","v":{"$error":"#REF!"}},{"$f":"'E5-Baseline Model'!#REF!+SUMPRODUCT(B44:E44,TRANSPOSE('E5-Baseline Model'!#REF!))+RAND()-0.5","v":{"$error":"#REF!"}},{"$f":"IF(PSCalculationMethod=CalculationMethodNYES,J44,IF(PSCalculationMethod=CalculationMethodNYES,'E8-Reporting Period Values'!#REF!,\"\"))","v":""},0]
[42779,7.9,0,0,0,true,true,false,{"$f":"'E5-Baseline Model'!#REF!+SUMPRODUCT(B45:E45,TRANSPOSE('E5-Baseline Model'!#REF!))","v":{"$error":"#REF!"}},{"$f":"'E5-Baseline Model'!#REF!+SUMPRODUCT(B45:E45,TRANSPOSE('E5-Baseline Model'!#REF!))+RAND()-0.5","v":{"$error":"#REF!"}},{"$f":"IF(PSCalculationMethod=CalculationMethodNYES,J45,IF(PSCalculationMethod=CalculationMethodNYES,'E8-Reporting Period Values'!#REF!,\"\"))","v":""},0]
[42780,8.75,0,0,0,true,true,false,{"$f":"'E5-Baseline Model'!#REF!+SUMPRODUCT(B46:E46,TRANSPOSE('E5-Baseline Model'!#REF!))","v":{"$error":"#REF!"}},{"$f":"'E5-Baseline Model'!#REF!+SUMPRODUCT(B46:E46,TRANSPOSE('E5-Baseline Model'!#REF!))+RAND()-0.5","v":{"$error":"#REF!"}},{"$f":"IF(PSCalculationMethod=CalculationMethodNYES,J46,IF(PSCalculationMethod=CalculationMethodNYES,'E8-Reporting Period Values'!#REF!,\"\"))","v":""},0]
[42781,8.25,0,0,0,true,true,false,{"$f":"'E5-Baseline Model'!#REF!+SUMPRODUCT(B47:E47,TRANSPOSE('E5-Baseline Model'!#REF!))","v":{"$error":"#REF!"}},{"$f":"'E5-Baseline Model'!#REF!+SUMPRODUCT(B47:E47,TRANSPOSE('E5-Baseline Model'!#REF!))+RAND()-0.5","v":{"$error":"#REF!"}},{"$f":"IF(PSCalculationMethod=CalculationMethodNYES,J47,IF(PSCalculationMethod=CalculationMethodNYES,'E8-Reporting Period Values'!#REF!,\"\"))","v":""},0]
[42782,8.4,0,0,0,true,true,false,{"$f":"'E5-Baseline Model'!#REF!+SUMPRODUCT(B48:E48,TRANSPOSE('E5-Baseline Model'!#REF!))","v":{"$error":"#REF!"}},{"$f":"'E5-Baseline Model'!#REF!+SUMPRODUCT(B48:E48,TRANSPOSE('E5-Baseline Model'!#REF!))+RAND()-0.5","v":{"$error":"#REF!"}},{"$f":"IF(PSCalculationMethod=CalculationMethodNYES,J48,IF(PSCalculationMethod=CalculationMethodNYES,'E8-Reporting Period Values'!#REF!,\"\"))","v":""},0]
[42783,8.5,0,0,0,true,true,false,{"$f":"'E5-Baseline Model'!#REF!+SUMPRODUCT(B49:E49,TRANSPOSE('E5-Baseline Model'!#REF!))","v":{"$error":"#REF!"}},{"$f":"'E5-Baseline Model'!#REF!+SUMPRODUCT(B49:E49,TRANSPOSE('E5-Baseline Model'!#REF!))+RAND()-0.5","v":{"$error":"#REF!"}},{"$f":"IF(PSCalculationMethod=CalculationMethodNYES,J49,IF(PSCalculationMethod=CalculationMethodNYES,'E8-Reporting Period Values'!#REF!,\"\"))","v":""},0]
[42784,9.3000000000000007,1,0,0,true,true,false,{"$f":"'E5-Baseline Model'!#REF!+SUMPRODUCT(B50:E50,TRANSPOSE('E5-Baseline Model'!#REF!))","v":{"$error":"#REF!"}},{"$f":"'E5-Baseline Model'!#REF!+SUMPRODUCT(B50:E50,TRANSPOSE('E5-Baseline Model'!#REF!))+RAND()-0.5","v":{"$error":"#REF!"}},{"$f":"IF(PSCalculationMethod=CalculationMethodNYES,J50,IF(PSCalculationMethod=CalculationMethodNYES,'E8-Reporting Period Values'!#REF!,\"\"))","v":""},0]
[42785,10.7,0,1,0,true,true,false,{"$f":"'E5-Baseline Model'!#REF!+SUMPRODUCT(B51:E51,TRANSPOSE('E5-Baseline Model'!#REF!))","v":{"$error":"#REF!"}},{"$f":"'E5-Baseline Model'!#REF!+SUMPRODUCT(B51:E51,TRANSPOSE('E5-Baseline Model'!#REF!))+RAND()-0.5","v":{"$error":"#REF!"}},{"$f":"IF(PSCalculationMethod=CalculationMethodNYES,J51,IF(PSCalculationMethod=CalculationMethodNYES,'E8-Reporting Period Values'!#REF!,\"\"))","v":""},0]
[42786,10.8,0,0,0,true,true,false,{"$f":"'E5-Baseline Model'!#REF!+SUMPRODUCT(B52:E52,TRANSPOSE('E5-Baseline Model'!#REF!))","v":{"$error":"#REF!"}},{"$f":"'E5-Baseline Model'!#REF!+SUMPRODUCT(B52:E52,TRANSPOSE('E5-Baseline Model'!#REF!))+RAND()-0.5","v":{"$error":"#REF!"}},{"$f":"IF(PSCalculationMethod=CalculationMethodNYES,J52,IF(PSCalculationMethod=CalculationMethodNYES,'E8-Reporting Period Values'!#REF!,\"\"))","v":""},0]
[42787,10.95,0,0,0,true,true,false,{"$f":"'E5-Baseline Model'!#REF!+SUMPRODUCT(B53:E53,TRANSPOSE('E5-Baseline Model'!#REF!))","v":{"$error":"#REF!"}},{"$f":"'E5-Baseline Model'!#REF!+SUMPRODUCT(B53:E53,TRANSPOSE('E5-Baseline Model'!#REF!))+RAND()-0.5","v":{"$error":"#REF!"}},{"$f":"IF(PSCalculationMethod=CalculationMethodNYES,J53,IF(PSCalculationMethod=CalculationMethodNYES,'E8-Reporting Period Values'!#REF!,\"\"))","v":""},0]
[42788,8.15,0,0,0,true,true,false,{"$f":"'E5-Baseline Model'!#REF!+SUMPRODUCT(B54:E54,TRANSPOSE('E5-Baseline Model'!#REF!))","v":{"$error":"#REF!"}},{"$f":"'E5-Baseline Model'!#REF!+SUMPRODUCT(B54:E54,TRANSPOSE('E5-Baseline Model'!#REF!))+RAND()-0.5","v":{"$error":"#REF!"}},{"$f":"IF(PSCalculationMethod=CalculationMethodNYES,J54,IF(PSCalculationMethod=CalculationMethodNYES,'E8-Reporting Period Values'!#REF!,\"\"))","v":""},0]
[42789,10.15,0,0,0,true,true,false,{"$f":"'E5-Baseline Model'!#REF!+SUMPRODUCT(B55:E55,TRANSPOSE('E5-Baseline Model'!#REF!))","v":{"$error":"#REF!"}},{"$f":"'E5-Baseline Model'!#REF!+SUMPRODUCT(B55:E55,TRANSPOSE('E5-Baseline Model'!#REF!))+RAND()-0.5","v":{"$error":"#REF!"}},{"$f":"IF(PSCalculationMethod=CalculationMethodNYES,J55,IF(PSCalculationMethod=CalculationMethodNYES,'E8-Reporting Period Values'!#REF!,\"\"))","v":""},0]
[42790,11.5,0,0,0,true,true,false,{"$f":"'E5-Baseline Model'!#REF!+SUMPRODUCT(B56:E56,TRANSPOSE('E5-Baseline Model'!#REF!))","v":{"$error":"#REF!"}},{"$f":"'E5-Baseline Model'!#REF!+SUMPRODUCT(B56:E56,TRANSPOSE('E5-Baseline Model'!#REF!))+RAND()-0.5","v":{"$error":"#REF!"}},{"$f":"IF(PSCalculationMethod=CalculationMethodNYES,J56,IF(PSCalculationMethod=CalculationMethodNYES,'E8-Reporting Period Values'!#REF!,\"\"))","v":""},0]
[42791,10.8,1,0,0,true,true,false,{"$f":"'E5-Baseline Model'!#REF!+SUMPRODUCT(B57:E57,TRANSPOSE('E5-Baseline Model'!#REF!))","v":{"$error":"#REF!"}},{"$f":"'E5-Baseline Model'!#REF!+SUMPRODUCT(B57:E57,TRANSPOSE('E5-Baseline Model'!#REF!))+RAND()-0.5","v":{"$error":"#REF!"}},{"$f":"IF(PSCalculationMethod=CalculationMethodNYES,J57,IF(PSCalculationMethod=CalculationMethodNYES,'E8-Reporting Period Values'!#REF!,\"\"))","v":""},0]
[42792,10.65,0,1,0,true,true,false,{"$f":"'E5-Baseline Model'!#REF!+SUMPRODUCT(B58:E58,TRANSPOSE('E5-Baseline Model'!#REF!))","v":{"$error":"#REF!"}},{"$f":"'E5-Baseline Model'!#REF!+SUMPRODUCT(B58:E58,TRANSPOSE('E5-Baseline Model'!#REF!))+RAND()-0.5","v":{"$error":"#REF!"}},{"$f":"IF(PSCalculationMethod=CalculationMethodNYES,J58,IF(PSCalculationMethod=CalculationMethodNYES,'E8-Reporting Period Values'!#REF!,\"\"))","v":""},0]
[42793,11.4,0,0,0,true,true,false,{"$f":"'E5-Baseline Model'!#REF!+SUMPRODUCT(B59:E59,TRANSPOSE('E5-Baseline Model'!#REF!))","v":{"$error":"#REF!"}},{"$f":"'E5-Baseline Model'!#REF!+SUMPRODUCT(B59:E59,TRANSPOSE('E5-Baseline Model'!#REF!))+RAND()-0.5","v":{"$error":"#REF!"}},{"$f":"IF(PSCalculationMethod=CalculationMethodNYES,J59,IF(PSCalculationMethod=CalculationMethodNYES,'E8-Reporting Period Values'!#REF!,\"\"))","v":""},0]
[42794,4.3,0,0,0,true,true,false,{"$f":"'E5-Baseline Model'!#REF!+SUMPRODUCT(B60:E60,TRANSPOSE('E5-Baseline Model'!#REF!))","v":{"$error":"#REF!"}},{"$f":"'E5-Baseline Model'!#REF!+SUMPRODUCT(B60:E60,TRANSPOSE('E5-Baseline Model'!#REF!))+RAND()-0.5","v":{"$error":"#REF!"}},{"$f":"IF(PSCalculationMethod=CalculationMethodNYES,J60,IF(PSCalculationMethod=CalculationMethodNYES,'E8-Reporting Period Values'!#REF!,\"\"))","v":""},0]
[42795,9.65,0,0,0,true,true,false,{"$f":"'E5-Baseline Model'!#REF!+SUMPRODUCT(B61:E61,TRANSPOSE('E5-Baseline Model'!#REF!))","v":{"$error":"#REF!"}},{"$f":"'E5-Baseline Model'!#REF!+SUMPRODUCT(B61:E61,TRANSPOSE('E5-Baseline Model'!#REF!))+RAND()-0.5","v":{"$error":"#REF!"}},{"$f":"IF(PSCalculationMethod=CalculationMethodNYES,J61,IF(PSCalculationMethod=CalculationMethodNYES,'E8-Reporting Period Values'!#REF!,\"\"))","v":""},0]
[42796,9.85,0,0,0,true,true,false,{"$f":"'E5-Baseline Model'!#REF!+SUMPRODUCT(B62:E62,TRANSPOSE('E5-Baseline Model'!#REF!))","v":{"$error":"#REF!"}},{"$f":"'E5-Baseline Model'!#REF!+SUMPRODUCT(B62:E62,TRANSPOSE('E5-Baseline Model'!#REF!))+RAND()-0.5","v":{"$error":"#REF!"}},{"$f":"IF(PSCalculationMethod=CalculationMethodNYES,J62,IF(PSCalculationMethod=CalculationMethodNYES,'E8-Reporting Period Values'!#REF!,\"\"))","v":""},0]
[42797,9.8000000000000007,0,0,0,true,true,false,{"$f":"'E5-Baseline Model'!#REF!+SUMPRODUCT(B63:E63,TRANSPOSE('E5-Baseline Model'!#REF!))","v":{"$error":"#REF!"}},{"$f":"'E5-Baseline Model'!#REF!+SUMPRODUCT(B63:E63,TRANSPOSE('E5-Baseline Model'!#REF!))+RAND()-0.5","v":{"$error":"#REF!"}},{"$f":"IF(PSCalculationMethod=CalculationMethodNYES,J63,IF(PSCalculationMethod=CalculationMethodNYES,'E8-Reporting Period Values'!#REF!,\"\"))","v":""},0]
[42798,6.7,1,0,0,true,true,false,{"$f":"'E5-Baseline Model'!#REF!+SUMPRODUCT(B64:E64,TRANSPOSE('E5-Baseline Model'!#REF!))","v":{"$error":"#REF!"}},{"$f":"'E5-Baseline Model'!#REF!+SUMPRODUCT(B64:E64,TRANSPOSE('E5-Baseline Model'!#REF!))+RAND()-0.5","v":{"$error":"#REF!"}},{"$f":"IF(PSCalculationMethod=CalculationMethodNYES,J64,IF(PSCalculationMethod=CalculationMethodNYES,'E8-Reporting Period Values'!#REF!,\"\"))","v":""},0]
[42799,5,0,1,0,true,true,false,{"$f":"'E5-Baseline Model'!#REF!+SUMPRODUCT(B65:E65,TRANSPOSE('E5-Baseline Model'!#REF!))","v":{"$error":"#REF!"}},{"$f":"'E5-Baseline Model'!#REF!+SUMPRODUCT(B65:E65,TRANSPOSE('E5-Baseline Model'!#REF!))+RAND()-0.5","v":{"$error":"#REF!"}},{"$f":"IF(PSCalculationMethod=CalculationMethodNYES,J65,IF(PSCalculationMethod=CalculationMethodNYES,'E8-Reporting Period Values'!#REF!,\"\"))","v":""},0]
[42800,8,0,0,0,true,true,{"$f":"IF(PSCalculationMethod=CalculationMethodMAES,F66,IF(PSCalculationMethod=CalculationMethodNYES,AND(F66,G66),FALSE))","v":false},{"$f":"'E5-Baseline Model'!#REF!+SUMPRODUCT(B66:E66,TRANSPOSE('E5-Baseline Model'!#REF!))","v":{"$error":"#REF!"}},{"$f":"'E5-Baseline Model'!#REF!+SUMPRODUCT(B66:E66,TRANSPOSE('E5-Baseline Model'!#REF!))+RAND()-0.5","v":{"$error":"#REF!"}},{"$f":"IF(PSCalculationMethod=CalculationMethodNYES,J66,IF(PSCalculationMethod=CalculationMethodNYES,'E8-Reporting Period Values'!#REF!,\"\"))","v":""},0]
[42801,8.75,0,0,0,true,true,false,{"$f":"'E5-Baseline Model'!#REF!+SUMPRODUCT(B67:E67,TRANSPOSE('E5-Baseline Model'!#REF!))","v":{"$error":"#REF!"}},{"$f":"'E5-Baseline Model'!#REF!+SUMPRODUCT(B67:E67,TRANSPOSE('E5-Baseline Model'!#REF!))+RAND()-0.5","v":{"$error":"#REF!"}},{"$f":"IF(PSCalculationMethod=CalculationMethodNYES,J67,IF(PSCalculationMethod=CalculationMethodNYES,'E8-Reporting Period Values'!#REF!,\"\"))","v":""},{"$f":"IF(H67,I67-K67,0)","v":0}]
[42802,7.35,0,0,0,true,true,false,{"$f":"'E5-Baseline Model'!#REF!+SUMPRODUCT(B68:E68,TRANSPOSE('E5-Baseline Model'!#REF!))","v":{"$error":"#REF!"}},{"$f":"'E5-Baseline Model'!#REF!+SUMPRODUCT(B68:E68,TRANSPOSE('E5-Baseline Model'!#REF!))+RAND()-0.5","v":{"$error":"#REF!"}},{"$f":"IF(PSCalculationMethod=CalculationMethodNYES,J68,IF(PSCalculationMethod=CalculationMethodNYES,'E8-Reporting Period Values'!#REF!,\"\"))","v":""},0]
[42803,7.8,0,0,0,true,true,false,{"$f":"'E5-Baseline Model'!#REF!+SUMPRODUCT(B69:E69,TRANSPOSE('E5-Baseline Model'!#REF!))","v":{"$error":"#REF!"}},{"$f":"'E5-Baseline Model'!#REF!+SUMPRODUCT(B69:E69,TRANSPOSE('E5-Baseline Model'!#REF!))+RAND()-0.5","v":{"$error":"#REF!"}},{"$f":"IF(PSCalculationMethod=CalculationMethodNYES,J69,IF(PSCalculationMethod=CalculationMethodNYES,'E8-Reporting Period Values'!#REF!,\"\"))","v":""},0]
[42804,7.8,0,0,0,true,true,false,{"$f":"'E5-Baseline Model'!#REF!+SUMPRODUCT(B70:E70,TRANSPOSE('E5-Baseline Model'!#REF!))","v":{"$error":"#REF!"}},{"$f":"'E5-Baseline Model'!#REF!+SUMPRODUCT(B70:E70,TRANSPOSE('E5-Baseline Model'!#REF!))+RAND()-0.5","v":{"$error":"#REF!"}},{"$f":"IF(PSCalculationMethod=CalculationMethodNYES,J70,IF(PSCalculationMethod=CalculationMethodNYES,'E8-Reporting Period Values'!#REF!,\"\"))","v":""},0]
[42805,7.75,1,0,0,true,true,false,{"$f":"'E5-Baseline Model'!#REF!+SUMPRODUCT(B71:E71,TRANSPOSE('E5-Baseline Model'!#REF!))","v":{"$error":"#REF!"}},{"$f":"'E5-Baseline Model'!#REF!+SUMPRODUCT(B71:E71,TRANSPOSE('E5-Baseline Model'!#REF!))+RAND()-0.5","v":{"$error":"#REF!"}},{"$f":"IF(PSCalculationMethod=CalculationMethodNYES,J71,IF(PSCalculationMethod=CalculationMethodNYES,'E8-Reporting Period Values'!#REF!,\"\"))","v":""},0]
[42806,8.5500000000000007,0,1,0,true,true,false,{"$f":"'E5-Baseline Model'!#REF!+SUMPRODUCT(B72:E72,TRANSPOSE('E5-Baseline Model'!#REF!))","v":{"$error":"#REF!"}},{"$f":"'E5-Baseline Model'!#REF!+SUMPRODUCT(B72:E72,TRANSPOSE('E5-Baseline Model'!#REF!))+RAND()-0.5","v":{"$error":"#REF!"}},{"$f":"IF(PSCalculationMethod=CalculationMethodNYES,J72,IF(PSCalculationMethod=CalculationMethodNYES,'E8-Reporting Period Values'!#REF!,\"\"))","v":""},0]
[42807,9.5500000000000007,0,0,0,true,true,false,{"$f":"'E5-Baseline Model'!#REF!+SUMPRODUCT(B73:E73,TRANSPOSE('E5-Baseline Model'!#REF!))","v":{"$error":"#REF!"}},{"$f":"'E5-Baseline Model'!#REF!+SUMPRODUCT(B73:E73,TRANSPOSE('E5-Baseline Model'!#REF!))+RAND()-0.5","v":{"$error":"#REF!"}},{"$f":"IF(PSCalculationMethod=CalculationMethodNYES,J73,IF(PSCalculationMethod=CalculationMethodNYES,'E8-Reporting Period Values'!#REF!,\"\"))","v":""},0]
[42808,9.3000000000000007,0,0,0,true,true,false,{"$f":"'E5-Baseline Model'!#REF!+SUMPRODUCT(B74:E74,TRANSPOSE('E5-Baseline Model'!#REF!))","v":{"$error":"#REF!"}},{"$f":"'E5-Baseline Model'!#REF!+SUMPRODUCT(B74:E74,TRANSPOSE('E5-Baseline Model'!#REF!))+RAND()-0.5","v":{"$error":"#REF!"}},{"$f":"IF(PSCalculationMethod=CalculationMethodNYES,J74,IF(PSCalculationMethod=CalculationMethodNYES,'E8-Reporting Period Values'!#REF!,\"\"))","v":""},0]
[42809,7.45,0,0,0,true,true,false,{"$f":"'E5-Baseline Model'!#REF!+SUMPRODUCT(B75:E75,TRANSPOSE('E5-Baseline Model'!#REF!))","v":{"$error":"#REF!"}},{"$f":"'E5-Baseline Model'!#REF!+SUMPRODUCT(B75:E75,TRANSPOSE('E5-Baseline Model'!#REF!))+RAND()-0.5","v":{"$error":"#REF!"}},{"$f":"IF(PSCalculationMethod=CalculationMethodNYES,J75,IF(PSCalculationMethod=CalculationMethodNYES,'E8-Reporting Period Values'!#REF!,\"\"))","v":""},0]
[42810,6.8,0,0,0,true,true,false,{"$f":"'E5-Baseline Model'!#REF!+SUMPRODUCT(B76:E76,TRANSPOSE('E5-Baseline Model'!#REF!))","v":{"$error":"#REF!"}},{"$f":"'E5-Baseline Model'!#REF!+SUMPRODUCT(B76:E76,TRANSPOSE('E5-Baseline Model'!#REF!))+RAND()-0.5","v":{"$error":"#REF!"}},{"$f":"IF(PSCalculationMethod=CalculationMethodNYES,J76,IF(PSCalculationMethod=CalculationMethodNYES,'E8-Reporting Period Values'!#REF!,\"\"))","v":""},0]
[42811,6.8,0,0,0,true,true,false,{"$f":"'E5-Baseline Model'!#REF!+SUMPRODUCT(B77:E77,TRANSPOSE('E5-Baseline Model'!#REF!))","v":{"$error":"#REF!"}},{"$f":"'E5-Baseline Model'!#REF!+SUMPRODUCT(B77:E77,TRANSPOSE('E5-Baseline Model'!#REF!))+RAND()-0.5","v":{"$error":"#REF!"}},{"$f":"IF(PSCalculationMethod=CalculationMethodNYES,J77,IF(PSCalculationMethod=CalculationMethodNYES,'E8-Reporting Period Values'!#REF!,\"\"))","v":""},0]
[42812,8.6,1,0,0,true,true,false,{"$f":"'E5-Baseline Model'!#REF!+SUMPRODUCT(B78:E78,TRANSPOSE('E5-Baseline Model'!#REF!))","v":{"$error":"#REF!"}},{"$f":"'E5-Baseline Model'!#REF!+SUMPRODUCT(B78:E78,TRANSPOSE('E5-Baseline Model'!#REF!))+RAND()-0.5","v":{"$error":"#REF!"}},{"$f":"IF(PSCalculationMethod=CalculationMethodNYES,J78,IF(PSCalculationMethod=CalculationMethodNYES,'E8-Reporting Period Values'!#REF!,\"\"))","v":""},0]
[42813,9,0,1,0,true,true,false,{"$f":"'E5-Baseline Model'!#REF!+SUMPRODUCT(B79:E79,TRANSPOSE('E5-Baseline Model'!#REF!))","v":{"$error":"#REF!"}},{"$f":"'E5-Baseline Model'!#REF!+SUMPRODUCT(B79:E79,TRANSPOSE('E5-Baseline Model'!#REF!))+RAND()-0.5","v":{"$error":"#REF!"}},{"$f":"IF(PSCalculationMethod=CalculationMethodNYES,J79,IF(PSCalculationMethod=CalculationMethodNYES,'E8-Reporting Period Values'!#REF!,\"\"))","v":""},0]
[42814,8.4499999999999993,0,0,0,true,true,false,{"$f":"'E5-Baseline Model'!#REF!+SUMPRODUCT(B80:E80,TRANSPOSE('E5-Baseline Model'!#REF!))","v":{"$error":"#REF!"}},{"$f":"'E5-Baseline Model'!#REF!+SUMPRODUCT(B80:E80,TRANSPOSE('E5-Baseline Model'!#REF!))+RAND()-0.5","v":{"$error":"#REF!"}},{"$f":"IF(PSCalculationMethod=CalculationMethodNYES,J80,IF(PSCalculationMethod=CalculationMethodNYES,'E8-Reporting Period Values'!#REF!,\"\"))","v":""},0]
[42815,8.15,0,0,0,true,true,false,{"$f":"'E5-Baseline Model'!#REF!+SUMPRODUCT(B81:E81,TRANSPOSE('E5-Baseline Model'!#REF!))","v":{"$error":"#REF!"}},{"$f":"'E5-Baseline Model'!#REF!+SUMPRODUCT(B81:E81,TRANSPOSE('E5-Baseline Model'!#REF!))+RAND()-0.5","v":{"$error":"#REF!"}},{"$f":"IF(PSCalculationMethod=CalculationMethodNYES,J81,IF(PSCalculationMethod=CalculationMethodNYES,'E8-Reporting Period Values'!#REF!,\"\"))","v":""},0]
[42816,8.6,0,0,0,true,true,false,{"$f":"'E5-Baseline Model'!#REF!+SUMPRODUCT(B82:E82,TRANSPOSE('E5-Baseline Model'!#REF!))","v":{"$error":"#REF!"}},{"$f":"'E5-Baseline Model'!#REF!+SUMPRODUCT(B82:E82,TRANSPOSE('E5-Baseline Model'!#REF!))+RAND()-0.5","v":{"$error":"#REF!"}},{"$f":"IF(PSCalculationMethod=CalculationMethodNYES,J82,IF(PSCalculationMethod=CalculationMethodNYES,'E8-Reporting Period Values'!#REF!,\"\"))","v":""},0]
[42817,9.3000000000000007,0,0,0,true,true,false,{"$f":"'E5-Baseline Model'!#REF!+SUMPRODUCT(B83:E83,TRANSPOSE('E5-Baseline Model'!#REF!))","v":{"$error":"#REF!"}},{"$f":"'E5-Baseline Model'!#REF!+SUMPRODUCT(B83:E83,TRANSPOSE('E5-Baseline Model'!#REF!))+RAND()-0.5","v":{"$error":"#REF!"}},{"$f":"IF(PSCalculationMethod=CalculationMethodNYES,J83,IF(PSCalculationMethod=CalculationMethodNYES,'E8-Reporting Period Values'!#REF!,\"\"))","v":""},0]
[42818,9.4,0,0,0,true,true,false,{"$f":"'E5-Baseline Model'!#REF!+SUMPRODUCT(B84:E84,TRANSPOSE('E5-Baseline Model'!#REF!))","v":{"$error":"#REF!"}},{"$f":"'E5-Baseline Model'!#REF!+SUMPRODUCT(B84:E84,TRANSPOSE('E5-Baseline Model'!#REF!))+RAND()-0.5","v":{"$error":"#REF!"}},{"$f":"IF(PSCalculationMethod=CalculationMethodNYES,J84,IF(PSCalculationMethod=CalculationMethodNYES,'E8-Reporting Period Values'!#REF!,\"\"))","v":""},0]
[42819,9.5500000000000007,1,0,0,true,true,false,{"$f":"'E5-Baseline Model'!#REF!+SUMPRODUCT(B85:E85,TRANSPOSE('E5-Baseline Model'!#REF!))","v":{"$error":"#REF!"}},{"$f":"'E5-Baseline Model'!#REF!+SUMPRODUCT(B85:E85,TRANSPOSE('E5-Baseline Model'!#REF!))+RAND()-0.5","v":{"$error":"#REF!"}},{"$f":"IF(PSCalculationMethod=CalculationMethodNYES,J85,IF(PSCalculationMethod=CalculationMethodNYES,'E8-Reporting Period Values'!#REF!,\"\"))","v":""},0]
[42820,8.0500000000000007,0,1,0,true,true,false,{"$f":"'E5-Baseline Model'!#REF!+SUMPRODUCT(B86:E86,TRANSPOSE('E5-Baseline Model'!#REF!))","v":{"$error":"#REF!"}},{"$f":"'E5-Baseline Model'!#REF!+SUMPRODUCT(B86:E86,TRANSPOSE('E5-Baseline Model'!#REF!))+RAND()-0.5","v":{"$error":"#REF!"}},{"$f":"IF(PSCalculationMethod=CalculationMethodNYES,J86,IF(PSCalculationMethod=CalculationMethodNYES,'E8-Reporting Period Values'!#REF!,\"\"))","v":""},0]
[42821,5.95,0,0,0,true,true,false,{"$f":"'E5-Baseline Model'!#REF!+SUMPRODUCT(B87:E87,TRANSPOSE('E5-Baseline Model'!#REF!))","v":{"$error":"#REF!"}},{"$f":"'E5-Baseline Model'!#REF!+SUMPRODUCT(B87:E87,TRANSPOSE('E5-Baseline Model'!#REF!))+RAND()-0.5","v":{"$error":"#REF!"}},{"$f":"IF(PSCalculationMethod=CalculationMethodNYES,J87,IF(PSCalculationMethod=CalculationMethodNYES,'E8-Reporting Period Values'!#REF!,\"\"))","v":""},0]
[42822,6.25,0,0,0,true,true,false,{"$f":"'E5-Baseline Model'!#REF!+SUMPRODUCT(B88:E88,TRANSPOSE('E5-Baseline Model'!#REF!))","v":{"$error":"#REF!"}},{"$f":"'E5-Baseline Model'!#REF!+SUMPRODUCT(B88:E88,TRANSPOSE('E5-Baseline Model'!#REF!))+RAND()-0.5","v":{"$error":"#REF!"}},{"$f":"IF(PSCalculationMethod=CalculationMethodNYES,J88,IF(PSCalculationMethod=CalculationMethodNYES,'E8-Reporting Period Values'!#REF!,\"\"))","v":""},0]
[42823,8.4,0,0,0,true,true,false,{"$f":"'E5-Baseline Model'!#REF!+SUMPRODUCT(B89:E89,TRANSPOSE('E5-Baseline Model'!#REF!))","v":{"$error":"#REF!"}},{"$f":"'E5-Baseline Model'!#REF!+SUMPRODUCT(B89:E89,TRANSPOSE('E5-Baseline Model'!#REF!))+RAND()-0.5","v":{"$error":"#REF!"}},{"$f":"IF(PSCalculationMethod=CalculationMethodNYES,J89,IF(PSCalculationMethod=CalculationMethodNYES,'E8-Reporting Period Values'!#REF!,\"\"))","v":""},0]
[42824,7.15,0,0,0,true,true,false,{"$f":"'E5-Baseline Model'!#REF!+SUMPRODUCT(B90:E90,TRANSPOSE('E5-Baseline Model'!#REF!))","v":{"$error":"#REF!"}},{"$f":"'E5-Baseline Model'!#REF!+SUMPRODUCT(B90:E90,TRANSPOSE('E5-Baseline Model'!#REF!))+RAND()-0.5","v":{"$error":"#REF!"}},{"$f":"IF(PSCalculationMethod=CalculationMethodNYES,J90,IF(PSCalculationMethod=CalculationMethodNYES,'E8-Reporting Period Values'!#REF!,\"\"))","v":""},0]
[42825,7.55,0,0,0,true,true,false,{"$f":"'E5-Baseline Model'!#REF!+SUMPRODUCT(B91:E91,TRANSPOSE('E5-Baseline Model'!#REF!))","v":{"$error":"#REF!"}},{"$f":"'E5-Baseline Model'!#REF!+SUMPRODUCT(B91:E91,TRANSPOSE('E5-Baseline Model'!#REF!))+RAND()-0.5","v":{"$error":"#REF!"}},{"$f":"IF(PSCalculationMethod=CalculationMethodNYES,J91,IF(PSCalculationMethod=CalculationMethodNYES,'E8-Reporting Period Values'!#REF!,\"\"))","v":""},0]
[42826,8.0500000000000007,1,0,0,true,true,false,{"$f":"'E5-Baseline Model'!#REF!+SUMPRODUCT(B92:E92,TRANSPOSE('E5-Baseline Model'!#REF!))","v":{"$error":"#REF!"}},{"$f":"'E5-Baseline Model'!#REF!+SUMPRODUCT(B92:E92,TRANSPOSE('E5-Baseline Model'!#REF!))+RAND()-0.5","v":{"$error":"#REF!"}},{"$f":"IF(PSCalculationMethod=CalculationMethodNYES,J92,IF(PSCalculationMethod=CalculationMethodNYES,'E8-Reporting Period Values'!#REF!,\"\"))","v":""},0]
[42827,8.6,0,1,0,true,true,false,{"$f":"'E5-Baseline Model'!#REF!+SUMPRODUCT(B93:E93,TRANSPOSE('E5-Baseline Model'!#REF!))","v":{"$error":"#REF!"}},{"$f":"'E5-Baseline Model'!#REF!+SUMPRODUCT(B93:E93,TRANSPOSE('E5-Baseline Model'!#REF!))+RAND()-0.5","v":{"$error":"#REF!"}},{"$f":"IF(PSCalculationMethod=CalculationMethodNYES,J93,IF(PSCalculationMethod=CalculationMethodNYES,'E8-Reporting Period Values'!#REF!,\"\"))","v":""},0]
[42828,7.1,0,0,0,true,true,false,{"$f":"'E5-Baseline Model'!#REF!+SUMPRODUCT(B94:E94,TRANSPOSE('E5-Baseline Model'!#REF!))","v":{"$error":"#REF!"}},{"$f":"'E5-Baseline Model'!#REF!+SUMPRODUCT(B94:E94,TRANSPOSE('E5-Baseline Model'!#REF!))+RAND()-0.5","v":{"$error":"#REF!"}},{"$f":"IF(PSCalculationMethod=CalculationMethodNYES,J94,IF(PSCalculationMethod=CalculationMethodNYES,'E8-Reporting Period Values'!#REF!,\"\"))","v":""},0]
[42829,8,0,0,0,true,true,false,{"$f":"'E5-Baseline Model'!#REF!+SUMPRODUCT(B95:E95,TRANSPOSE('E5-Baseline Model'!#REF!))","v":{"$error":"#REF!"}},{"$f":"'E5-Baseline Model'!#REF!+SUMPRODUCT(B95:E95,TRANSPOSE('E5-Baseline Model'!#REF!))+RAND()-0.5","v":{"$error":"#REF!"}},{"$f":"IF(PSCalculationMethod=CalculationMethodNYES,J95,IF(PSCalculationMethod=CalculationMethodNYES,'E8-Reporting Period Values'!#REF!,\"\"))","v":""},0]
[42830,5.45,0,0,0,true,true,false,{"$f":"'E5-Baseline Model'!#REF!+SUMPRODUCT(B96:E96,TRANSPOSE('E5-Baseline Model'!#REF!))","v":{"$error":"#REF!"}},{"$f":"'E5-Baseline Model'!#REF!+SUMPRODUCT(B96:E96,TRANSPOSE('E5-Baseline Model'!#REF!))+RAND()-0.5","v":{"$error":"#REF!"}},{"$f":"IF(PSCalculationMethod=CalculationMethodNYES,J96,IF(PSCalculationMethod=CalculationMethodNYES,'E8-Reporting Period Values'!#REF!,\"\"))","v":""},0]
[42831,4.8499999999999996,0,0,0,true,true,false,{"$f":"'E5-Baseline Model'!#REF!+SUMPRODUCT(B97:E97,TRANSPOSE('E5-Baseline Model'!#REF!))","v":{"$error":"#REF!"}},{"$f":"'E5-Baseline Model'!#REF!+SUMPRODUCT(B97:E97,TRANSPOSE('E5-Baseline Model'!#REF!))+RAND()-0.5","v":{"$error":"#REF!"}},{"$f":"IF(PSCalculationMethod=CalculationMethodNYES,J97,IF(PSCalculationMethod=CalculationMethodNYES,'E8-Reporting Period Values'!#REF!,\"\"))","v":""},0]
[42832,6.2,0,0,0,true,true,false,{"$f":"'E5-Baseline Model'!#REF!+SUMPRODUCT(B98:E98,TRANSPOSE('E5-Baseline Model'!#REF!))","v":{"$error":"#REF!"}},{"$f":"'E5-Baseline Model'!#REF!+SUMPRODUCT(B98:E98,TRANSPOSE('E5-Baseline Model'!#REF!))+RAND()-0.5","v":{"$error":"#REF!"}},{"$f":"IF(PSCalculationMethod=CalculationMethodNYES,J98,IF(PSCalculationMethod=CalculationMethodNYES,'E8-Reporting Period Values'!#REF!,\"\"))","v":""},0]
[42833,6,1,0,0,true,true,false,{"$f":"'E5-Baseline Model'!#REF!+SUMPRODUCT(B99:E99,TRANSPOSE('E5-Baseline Model'!#REF!))","v":{"$error":"#REF!"}},{"$f":"'E5-Baseline Model'!#REF!+SUMPRODUCT(B99:E99,TRANSPOSE('E5-Baseline Model'!#REF!))+RAND()-0.5","v":{"$error":"#REF!"}},{"$f":"IF(PSCalculationMethod=CalculationMethodNYES,J99,IF(PSCalculationMethod=CalculationMethodNYES,'E8-Reporting Period Values'!#REF!,\"\"))","v":""},0]
[42834,7.25,0,1,0,true,true,false,{"$f":"'E5-Baseline Model'!#REF!+SUMPRODUCT(B100:E100,TRANSPOSE('E5-Baseline Model'!#REF!))","v":{"$error":"#REF!"}},{"$f":"'E5-Baseline Model'!#REF!+SUMPRODUCT(B100:E100,TRANSPOSE('E5-Baseline Model'!#REF!))+RAND()-0.5","v":{"$error":"#REF!"}},{"$f":"IF(PSCalculationMethod=CalculationMethodNYES,J100,IF(PSCalculationMethod=CalculationMethodNYES,'E8-Reporting Period Values'!#REF!,\"\"))","v":""},0]
[42835,9.4499999999999993,0,0,0,true,true,false,{"$f":"'E5-Baseline Model'!#REF!+SUMPRODUCT(B101:E101,TRANSPOSE('E5-Baseline Model'!#REF!))","v":{"$error":"#REF!"}},{"$f":"'E5-Baseline Model'!#REF!+SUMPRODUCT(B101:E101,TRANSPOSE('E5-Baseline Model'!#REF!))+RAND()-0.5","v":{"$error":"#REF!"}},{"$f":"IF(PSCalculationMethod=CalculationMethodNYES,J101,IF(PSCalculationMethod=CalculationMethodNYES,'E8-Reporting Period Values'!#REF!,\"\"))","v":""},0]
[42836,5.45,0,0,0,true,true,false,{"$f":"'E5-Baseline Model'!#REF!+SUMPRODUCT(B102:E102,TRANSPOSE('E5-Baseline Model'!#REF!))","v":{"$error":"#REF!"}},{"$f":"'E5-Baseline Model'!#REF!+SUMPRODUCT(B102:E102,TRANSPOSE('E5-Baseline Model'!#REF!))+RAND()-0.5","v":{"$error":"#REF!"}},{"$f":"IF(PSCalculationMethod=CalculationMethodNYES,J102,IF(PSCalculationMethod=CalculationMethodNYES,'E8-Reporting Period Values'!#REF!,\"\"))","v":""},0]
[42837,4.3,0,0,0,true,true,false,{"$f":"'E5-Baseline Model'!#REF!+SUMPRODUCT(B103:E103,TRANSPOSE('E5-Baseline Model'!#REF!))","v":{"$error":"#REF!"}},{"$f":"'E5-Baseline Model'!#REF!+SUMPRODUCT(B103:E103,TRANSPOSE('E5-Baseline Model'!#REF!))+RAND()-0.5","v":{"$error":"#REF!"}},{"$f":"IF(PSCalculationMethod=CalculationMethodNYES,J103,IF(PSCalculationMethod=CalculationMethodNYES,'E8-Reporting Period Values'!#REF!,\"\"))","v":""},0]
[42838,3.25,0,0,0,true,true,false,{"$f":"'E5-Baseline Model'!#REF!+SUMPRODUCT(B104:E104,TRANSPOSE('E5-Baseline Model'!#REF!))","v":{"$error":"#REF!"}},{"$f":"'E5-Baseline Model'!#REF!+SUMPRODUCT(B104:E104,TRANSPOSE('E5-Baseline Model'!#REF!))+RAND()-0.5","v":{"$error":"#REF!"}},{"$f":"IF(PSCalculationMethod=CalculationMethodNYES,J104,IF(PSCalculationMethod=CalculationMethodNYES,'E8-Reporting Period Values'!#REF!,\"\"))","v":""},0]
[42839,3.65,0,0,1,true,true,false,{"$f":"'E5-Baseline Model'!#REF!+SUMPRODUCT(B105:E105,TRANSPOSE('E5-Baseline Model'!#REF!))","v":{"$error":"#REF!"}},{"$f":"'E5-Baseline Model'!#REF!+SUMPRODUCT(B105:E105,TRANSPOSE('E5-Baseline Model'!#REF!))+RAND()-0.5","v":{"$error":"#REF!"}},{"$f":"IF(PSCalculationMethod=CalculationMethodNYES,J105,IF(PSCalculationMethod=CalculationMethodNYES,'E8-Reporting Period Values'!#REF!,\"\"))","v":""},0]
[42840,4.8,1,0,0,true,true,false,{"$f":"'E5-Baseline Model'!#REF!+SUMPRODUCT(B106:E106,TRANSPOSE('E5-Baseline Model'!#REF!))","v":{"$error":"#REF!"}},{"$f":"'E5-Baseline Model'!#REF!+SUMPRODUCT(B106:E106,TRANSPOSE('E5-Baseline Model'!#REF!))+RAND()-0.5","v":{"$error":"#REF!"}},{"$f":"IF(PSCalculationMethod=CalculationMethodNYES,J106,IF(PSCalculationMethod=CalculationMethodNYES,'E8-Reporting Period Values'!#REF!,\"\"))","v":""},0]
[42841,4.4000000000000004,0,1,0,true,true,false,{"$f":"'E5-Baseline Model'!#REF!+SUMPRODUCT(B107:E107,TRANSPOSE('E5-Baseline Model'!#REF!))","v":{"$error":"#REF!"}},{"$f":"'E5-Baseline Model'!#REF!+SUMPRODUCT(B107:E107,TRANSPOSE('E5-Baseline Model'!#REF!))+RAND()-0.5","v":{"$error":"#REF!"}},{"$f":"IF(PSCalculationMethod=CalculationMethodNYES,J107,IF(PSCalculationMethod=CalculationMethodNYES,'E8-Reporting Period Values'!#REF!,\"\"))","v":""},0]
[42842,6,0,0,1,true,true,false,{"$f":"'E5-Baseline Model'!#REF!+SUMPRODUCT(B108:E108,TRANSPOSE('E5-Baseline Model'!#REF!))","v":{"$error":"#REF!"}},{"$f":"'E5-Baseline Model'!#REF!+SUMPRODUCT(B108:E108,TRANSPOSE('E5-Baseline Model'!#REF!))+RAND()-0.5","v":{"$error":"#REF!"}},{"$f":"IF(PSCalculationMethod=CalculationMethodNYES,J108,IF(PSCalculationMethod=CalculationMethodNYES,'E8-Reporting Period Values'!#REF!,\"\"))","v":""},0]
[42843,4.8499999999999996,0,0,0,true,true,false,{"$f":"'E5-Baseline Model'!#REF!+SUMPRODUCT(B109:E109,TRANSPOSE('E5-Baseline Model'!#REF!))","v":{"$error":"#REF!"}},{"$f":"'E5-Baseline Model'!#REF!+SUMPRODUCT(B109:E109,TRANSPOSE('E5-Baseline Model'!#REF!))+RAND()-0.5","v":{"$error":"#REF!"}},{"$f":"IF(PSCalculationMethod=CalculationMethodNYES,J109,IF(PSCalculationMethod=CalculationMethodNYES,'E8-Reporting Period Values'!#REF!,\"\"))","v":""},0]
[42844,4.05,0,0,0,true,true,false,{"$f":"'E5-Baseline Model'!#REF!+SUMPRODUCT(B110:E110,TRANSPOSE('E5-Baseline Model'!#REF!))","v":{"$error":"#REF!"}},{"$f":"'E5-Baseline Model'!#REF!+SUMPRODUCT(B110:E110,TRANSPOSE('E5-Baseline Model'!#REF!))+RAND()-0.5","v":{"$error":"#REF!"}},{"$f":"IF(PSCalculationMethod=CalculationMethodNYES,J110,IF(PSCalculationMethod=CalculationMethodNYES,'E8-Reporting Period Values'!#REF!,\"\"))","v":""},0]
[42845,5.25,0,0,0,true,true,false,{"$f":"'E5-Baseline Model'!#REF!+SUMPRODUCT(B111:E111,TRANSPOSE('E5-Baseline Model'!#REF!))","v":{"$error":"#REF!"}},{"$f":"'E5-Baseline Model'!#REF!+SUMPRODUCT(B111:E111,TRANSPOSE('E5-Baseline Model'!#REF!))+RAND()-0.5","v":{"$error":"#REF!"}},{"$f":"IF(PSCalculationMethod=CalculationMethodNYES,J111,IF(PSCalculationMethod=CalculationMethodNYES,'E8-Reporting Period Values'!#REF!,\"\"))","v":""},0]
[42846,5.0999999999999996,0,0,0,true,true,false,{"$f":"'E5-Baseline Model'!#REF!+SUMPRODUCT(B112:E112,TRANSPOSE('E5-Baseline Model'!#REF!))","v":{"$error":"#REF!"}},{"$f":"'E5-Baseline Model'!#REF!+SUMPRODUCT(B112:E112,TRANSPOSE('E5-Baseline Model'!#REF!))+RAND()-0.5","v":{"$error":"#REF!"}},{"$f":"IF(PSCalculationMethod=CalculationMethodNYES,J112,IF(PSCalculationMethod=CalculationMethodNYES,'E8-Reporting Period Values'!#REF!,\"\"))","v":""},0]
[42847,5.75,1,0,0,true,true,false,{"$f":"'E5-Baseline Model'!#REF!+SUMPRODUCT(B113:E113,TRANSPOSE('E5-Baseline Model'!#REF!))","v":{"$error":"#REF!"}},{"$f":"'E5-Baseline Model'!#REF!+SUMPRODUCT(B113:E113,TRANSPOSE('E5-Baseline Model'!#REF!))+RAND()-0.5","v":{"$error":"#REF!"}},{"$f":"IF(PSCalculationMethod=CalculationMethodNYES,J113,IF(PSCalculationMethod=CalculationMethodNYES,'E8-Reporting Period Values'!#REF!,\"\"))","v":""},0]
[42848,8,0,1,0,true,true,false,{"$f":"'E5-Baseline Model'!#REF!+SUMPRODUCT(B114:E114,TRANSPOSE('E5-Baseline Model'!#REF!))","v":{"$error":"#REF!"}},{"$f":"'E5-Baseline Model'!#REF!+SUMPRODUCT(B114:E114,TRANSPOSE('E5-Baseline Model'!#REF!))+RAND()-0.5","v":{"$error":"#REF!"}},{"$f":"IF(PSCalculationMethod=CalculationMethodNYES,J114,IF(PSCalculationMethod=CalculationMethodNYES,'E8-Reporting Period Values'!#REF!,\"\"))","v":""},0]
[42849,5.25,0,0,0,true,true,false,{"$f":"'E5-Baseline Model'!#REF!+SUMPRODUCT(B115:E115,TRANSPOSE('E5-Baseline Model'!#REF!))","v":{"$error":"#REF!"}},{"$f":"'E5-Baseline Model'!#REF!+SUMPRODUCT(B115:E115,TRANSPOSE('E5-Baseline Model'!#REF!))+RAND()-0.5","v":{"$error":"#REF!"}},{"$f":"IF(PSCalculationMethod=CalculationMethodNYES,J115,IF(PSCalculationMethod=CalculationMethodNYES,'E8-Reporting Period Values'!#REF!,\"\"))","v":""},0]
[42850,5.3,0,0,1,true,true,false,{"$f":"'E5-Baseline Model'!#REF!+SUMPRODUCT(B116:E116,TRANSPOSE('E5-Baseline Model'!#REF!))","v":{"$error":"#REF!"}},{"$f":"'E5-Baseline Model'!#REF!+SUMPRODUCT(B116:E116,TRANSPOSE('E5-Baseline Model'!#REF!))+RAND()-0.5","v":{"$error":"#REF!"}},{"$f":"IF(PSCalculationMethod=CalculationMethodNYES,J116,IF(PSCalculationMethod=CalculationMethodNYES,'E8-Reporting Period Values'!#REF!,\"\"))","v":""},0]
[42851,3.4,0,0,0,true,true,false,{"$f":"'E5-Baseline Model'!#REF!+SUMPRODUCT(B117:E117,TRANSPOSE('E5-Baseline Model'!#REF!))","v":{"$error":"#REF!"}},{"$f":"'E5-Baseline Model'!#REF!+SUMPRODUCT(B117:E117,TRANSPOSE('E5-Baseline Model'!#REF!))+RAND()-0.5","v":{"$error":"#REF!"}},{"$f":"IF(PSCalculationMethod=CalculationMethodNYES,J117,IF(PSCalculationMethod=CalculationMethodNYES,'E8-Reporting Period Values'!#REF!,\"\"))","v":""},0]
[42852,3.8,0,0,0,true,true,false,{"$f":"'E5-Baseline Model'!#REF!+SUMPRODUCT(B118:E118,TRANSPOSE('E5-Baseline Model'!#REF!))","v":{"$error":"#REF!"}},{"$f":"'E5-Baseline Model'!#REF!+SUMPRODUCT(B118:E118,TRANSPOSE('E5-Baseline Model'!#REF!))+RAND()-0.5","v":{"$error":"#REF!"}},{"$f":"IF(PSCalculationMethod=CalculationMethodNYES,J118,IF(PSCalculationMethod=CalculationMethodNYES,'E8-Reporting Period Values'!#REF!,\"\"))","v":""},0]
[42853,6.3,0,0,0,true,true,false,{"$f":"'E5-Baseline Model'!#REF!+SUMPRODUCT(B119:E119,TRANSPOSE('E5-Baseline Model'!#REF!))","v":{"$error":"#REF!"}},{"$f":"'E5-Baseline Model'!#REF!+SUMPRODUCT(B119:E119,TRANSPOSE('E5-Baseline Model'!#REF!))+RAND()-0.5","v":{"$error":"#REF!"}},{"$f":"IF(PSCalculationMethod=CalculationMethodNYES,J119,IF(PSCalculationMethod=CalculationMethodNYES,'E8-Reporting Period Values'!#REF!,\"\"))","v":""},0]
[42854,7.75,1,0,0,true,true,false,{"$f":"'E5-Baseline Model'!#REF!+SUMPRODUCT(B120:E120,TRANSPOSE('E5-Baseline Model'!#REF!))","v":{"$error":"#REF!"}},{"$f":"'E5-Baseline Model'!#REF!+SUMPRODUCT(B120:E120,TRANSPOSE('E5-Baseline Model'!#REF!))+RAND()-0.5","v":{"$error":"#REF!"}},{"$f":"IF(PSCalculationMethod=CalculationMethodNYES,J120,IF(PSCalculationMethod=CalculationMethodNYES,'E8-Reporting Period Values'!#REF!,\"\"))","v":""},0]
[42855,3.15,0,1,0,true,true,false,{"$f":"'E5-Baseline Model'!#REF!+SUMPRODUCT(B121:E121,TRANSPOSE('E5-Baseline Model'!#REF!))","v":{"$error":"#REF!"}},{"$f":"'E5-Baseline Model'!#REF!+SUMPRODUCT(B121:E121,TRANSPOSE('E5-Baseline Model'!#REF!))+RAND()-0.5","v":{"$error":"#REF!"}},{"$f":"IF(PSCalculationMethod=CalculationMethodNYES,J121,IF(PSCalculationMethod=CalculationMethodNYES,'E8-Reporting Period Values'!#REF!,\"\"))","v":""},0]
[42856,5.8,0,0,0,true,true,false,{"$f":"'E5-Baseline Model'!#REF!+SUMPRODUCT(B122:E122,TRANSPOSE('E5-Baseline Model'!#REF!))","v":{"$error":"#REF!"}},{"$f":"'E5-Baseline Model'!#REF!+SUMPRODUCT(B122:E122,TRANSPOSE('E5-Baseline Model'!#REF!))+RAND()-0.5","v":{"$error":"#REF!"}},{"$f":"IF(PSCalculationMethod=CalculationMethodNYES,J122,IF(PSCalculationMethod=CalculationMethodNYES,'E8-Reporting Period Values'!#REF!,\"\"))","v":""},0]
[42857,5.9,0,0,0,true,true,false,{"$f":"'E5-Baseline Model'!#REF!+SUMPRODUCT(B123:E123,TRANSPOSE('E5-Baseline Model'!#REF!))","v":{"$error":"#REF!"}},{"$f":"'E5-Baseline Model'!#REF!+SUMPRODUCT(B123:E123,TRANSPOSE('E5-Baseline Model'!#REF!))+RAND()-0.5","v":{"$error":"#REF!"}},{"$f":"IF(PSCalculationMethod=CalculationMethodNYES,J123,IF(PSCalculationMethod=CalculationMethodNYES,'E8-Reporting Period Values'!#REF!,\"\"))","v":""},0]
[42858,5.55,0,0,0,true,true,false,{"$f":"'E5-Baseline Model'!#REF!+SUMPRODUCT(B124:E124,TRANSPOSE('E5-Baseline Model'!#REF!))","v":{"$error":"#REF!"}},{"$f":"'E5-Baseline Model'!#REF!+SUMPRODUCT(B124:E124,TRANSPOSE('E5-Baseline Model'!#REF!))+RAND()-0.5","v":{"$error":"#REF!"}},{"$f":"IF(PSCalculationMethod=CalculationMethodNYES,J124,IF(PSCalculationMethod=CalculationMethodNYES,'E8-Reporting Period Values'!#REF!,\"\"))","v":""},0]
[42859,7.1,0,0,0,true,true,false,{"$f":"'E5-Baseline Model'!#REF!+SUMPRODUCT(B125:E125,TRANSPOSE('E5-Baseline Model'!#REF!))","v":{"$error":"#REF!"}},{"$f":"'E5-Baseline Model'!#REF!+SUMPRODUCT(B125:E125,TRANSPOSE('E5-Baseline Model'!#REF!))+RAND()-0.5","v":{"$error":"#REF!"}},{"$f":"IF(PSCalculationMethod=CalculationMethodNYES,J125,IF(PSCalculationMethod=CalculationMethodNYES,'E8-Reporting Period Values'!#REF!,\"\"))","v":""},0]
[42860,3.2,0,0,0,true,true,false,{"$f":"'E5-Baseline Model'!#REF!+SUMPRODUCT(B126:E126,TRANSPOSE('E5-Baseline Model'!#REF!))","v":{"$error":"#REF!"}},{"$f":"'E5-Baseline Model'!#REF!+SUMPRODUCT(B126:E126,TRANSPOSE('E5-Baseline Model'!#REF!))+RAND()-0.5","v":{"$error":"#REF!"}},{"$f":"IF(PSCalculationMethod=CalculationMethodNYES,J126,IF(PSCalculationMethod=CalculationMethodNYES,'E8-Reporting Period Values'!#REF!,\"\"))","v":""},0]
[42861,1.9,1,0,0,true,true,false,{"$f":"'E5-Baseline Model'!#REF!+SUMPRODUCT(B127:E127,TRANSPOSE('E5-Baseline Model'!#REF!))","v":{"$error":"#REF!"}},{"$f":"'E5-Baseline Model'!#REF!+SUMPRODUCT(B127:E127,TRANSPOSE('E5-Baseline Model'!#REF!))+RAND()-0.5","v":{"$error":"#REF!"}},{"$f":"IF(PSCalculationMethod=CalculationMethodNYES,J127,IF(PSCalculationMethod=CalculationMethodNYES,'E8-Reporting Period Values'!#REF!,\"\"))","v":""},0]
[42862,2.0499999999999998,0,1,0,true,true,false,{"$f":"'E5-Baseline Model'!#REF!+SUMPRODUCT(B128:E128,TRANSPOSE('E5-Baseline Model'!#REF!))","v":{"$error":"#REF!"}},{"$f":"'E5-Baseline Model'!#REF!+SUMPRODUCT(B128:E128,TRANSPOSE('E5-Baseline Model'!#REF!))+RAND()-0.5","v":{"$error":"#REF!"}},{"$f":"IF(PSCalculationMethod=CalculationMethodNYES,J128,IF(PSCalculationMethod=CalculationMethodNYES,'E8-Reporting Period Values'!#REF!,\"\"))","v":""},0]
[42863,2.2000000000000002,0,0,0,true,true,false,{"$f":"'E5-Baseline Model'!#REF!+SUMPRODUCT(B129:E129,TRANSPOSE('E5-Baseline Model'!#REF!))","v":{"$error":"#REF!"}},{"$f":"'E5-Baseline Model'!#REF!+SUMPRODUCT(B129:E129,TRANSPOSE('E5-Baseline Model'!#REF!))+RAND()-0.5","v":{"$error":"#REF!"}},{"$f":"IF(PSCalculationMethod=CalculationMethodNYES,J129,IF(PSCalculationMethod=CalculationMethodNYES,'E8-Reporting Period Values'!#REF!,\"\"))","v":""},0]
[42864,2.25,0,0,0,true,true,{"$f":"IF(PSCalculationMethod=CalculationMethodMAES,F130,IF(PSCalculationMethod=CalculationMethodNYES,AND(F130,G130),FALSE))","v":false},{"$f":"'E5-Baseline Model'!#REF!+SUMPRODUCT(B130:E130,TRANSPOSE('E5-Baseline Model'!#REF!))","v":{"$error":"#REF!"}},{"$f":"'E5-Baseline Model'!#REF!+SUMPRODUCT(B130:E130,TRANSPOSE('E5-Baseline Model'!#REF!))+RAND()-0.5","v":{"$error":"#REF!"}},{"$f":"IF(PSCalculationMethod=CalculationMethodNYES,J130,IF(PSCalculationMethod=CalculationMethodNYES,'E8-Reporting Period Values'!#REF!,\"\"))","v":""},0]
[42865,4.6500000000000004,0,0,0,true,true,false,{"$f":"'E5-Baseline Model'!#REF!+SUMPRODUCT(B131:E131,TRANSPOSE('E5-Baseline Model'!#REF!))","v":{"$error":"#REF!"}},{"$f":"'E5-Baseline Model'!#REF!+SUMPRODUCT(B131:E131,TRANSPOSE('E5-Baseline Model'!#REF!))+RAND()-0.5","v":{"$error":"#REF!"}},{"$f":"IF(PSCalculationMethod=CalculationMethodNYES,J131,IF(PSCalculationMethod=CalculationMethodNYES,'E8-Reporting Period Values'!#REF!,\"\"))","v":""},{"$f":"IF(H131,I131-K131,0)","v":0}]
[42866,3.35,0,0,0,true,true,false,{"$f":"'E5-Baseline Model'!#REF!+SUMPRODUCT(B132:E132,TRANSPOSE('E5-Baseline Model'!#REF!))","v":{"$error":"#REF!"}},{"$f":"'E5-Baseline Model'!#REF!+SUMPRODUCT(B132:E132,TRANSPOSE('E5-Baseline Model'!#REF!))+RAND()-0.5","v":{"$error":"#REF!"}},{"$f":"IF(PSCalculationMethod=CalculationMethodNYES,J132,IF(PSCalculationMethod=CalculationMethodNYES,'E8-Reporting Period Values'!#REF!,\"\"))","v":""},0]
[42867,1.25,0,0,0,true,true,false,{"$f":"'E5-Baseline Model'!#REF!+SUMPRODUCT(B133:E133,TRANSPOSE('E5-Baseline Model'!#REF!))","v":{"$error":"#REF!"}},{"$f":"'E5-Baseline Model'!#REF!+SUMPRODUCT(B133:E133,TRANSPOSE('E5-Baseline Model'!#REF!))+RAND()-0.5","v":{"$error":"#REF!"}},{"$f":"IF(PSCalculationMethod=CalculationMethodNYES,J133,IF(PSCalculationMethod=CalculationMethodNYES,'E8-Reporting Period Values'!#REF!,\"\"))","v":""},0]
[42868,0,1,0,0,true,true,false,{"$f":"'E5-Baseline Model'!#REF!+SUMPRODUCT(B134:E134,TRANSPOSE('E5-Baseline Model'!#REF!))","v":{"$error":"#REF!"}},{"$f":"'E5-Baseline Model'!#REF!+SUMPRODUCT(B134:E134,TRANSPOSE('E5-Baseline Model'!#REF!))+RAND()-0.5","v":{"$error":"#REF!"}},{"$f":"IF(PSCalculationMethod=CalculationMethodNYES,J134,IF(PSCalculationMethod=CalculationMethodNYES,'E8-Reporting Period Values'!#REF!,\"\"))","v":""},0]
[42869,1.1000000000000001,0,1,0,true,true,false,{"$f":"'E5-Baseline Model'!#REF!+SUMPRODUCT(B135:E135,TRANSPOSE('E5-Baseline Model'!#REF!))","v":{"$error":"#REF!"}},{"$f":"'E5-Baseline Model'!#REF!+SUMPRODUCT(B135:E135,TRANSPOSE('E5-Baseline Model'!#REF!))+RAND()-0.5","v":{"$error":"#REF!"}},{"$f":"IF(PSCalculationMethod=CalculationMethodNYES,J135,IF(PSCalculationMethod=CalculationMethodNYES,'E8-Reporting Period Values'!#REF!,\"\"))","v":""},0]
[42870,2.9,0,0,0,true,true,false,{"$f":"'E5-Baseline Model'!#REF!+SUMPRODUCT(B136:E136,TRANSPOSE('E5-Baseline Model'!#REF!))","v":{"$error":"#REF!"}},{"$f":"'E5-Baseline Model'!#REF!+SUMPRODUCT(B136:E136,TRANSPOSE('E5-Baseline Model'!#REF!))+RAND()-0.5","v":{"$error":"#REF!"}},{"$f":"IF(PSCalculationMethod=CalculationMethodNYES,J136,IF(PSCalculationMethod=CalculationMethodNYES,'E8-Reporting Period Values'!#REF!,\"\"))","v":""},0]
[42871,1.8,0,0,0,true,true,false,{"$f":"'E5-Baseline Model'!#REF!+SUMPRODUCT(B137:E137,TRANSPOSE('E5-Baseline Model'!#REF!))","v":{"$error":"#REF!"}},{"$f":"'E5-Baseline Model'!#REF!+SUMPRODUCT(B137:E137,TRANSPOSE('E5-Baseline Model'!#REF!))+RAND()-0.5","v":{"$error":"#REF!"}},{"$f":"IF(PSCalculationMethod=CalculationMethodNYES,J137,IF(PSCalculationMethod=CalculationMethodNYES,'E8-Reporting Period Values'!#REF!,\"\"))","v":""},0]
[42872,1.4,0,0,0,true,true,false,{"$f":"'E5-Baseline Model'!#REF!+SUMPRODUCT(B138:E138,TRANSPOSE('E5-Baseline Model'!#REF!))","v":{"$error":"#REF!"}},{"$f":"'E5-Baseline Model'!#REF!+SUMPRODUCT(B138:E138,TRANSPOSE('E5-Baseline Model'!#REF!))+RAND()-0.5","v":{"$error":"#REF!"}},{"$f":"IF(PSCalculationMethod=CalculationMethodNYES,J138,IF(PSCalculationMethod=CalculationMethodNYES,'E8-Reporting Period Values'!#REF!,\"\"))","v":""},0]
[42873,3.65,0,0,0,true,true,false,{"$f":"'E5-Baseline Model'!#REF!+SUMPRODUCT(B139:E139,TRANSPOSE('E5-Baseline Model'!#REF!))","v":{"$error":"#REF!"}},{"$f":"'E5-Baseline Model'!#REF!+SUMPRODUCT(B139:E139,TRANSPOSE('E5-Baseline Model'!#REF!))+RAND()-0.5","v":{"$error":"#REF!"}},{"$f":"IF(PSCalculationMethod=CalculationMethodNYES,J139,IF(PSCalculationMethod=CalculationMethodNYES,'E8-Reporting Period Values'!#REF!,\"\"))","v":""},0]
[42874,6.8,0,0,0,true,true,false,{"$f":"'E5-Baseline Model'!#REF!+SUMPRODUCT(B140:E140,TRANSPOSE('E5-Baseline Model'!#REF!))","v":{"$error":"#REF!"}},{"$f":"'E5-Baseline Model'!#REF!+SUMPRODUCT(B140:E140,TRANSPOSE('E5-Baseline Model'!#REF!))+RAND()-0.5","v":{"$error":"#REF!"}},{"$f":"IF(PSCalculationMethod=CalculationMethodNYES,J140,IF(PSCalculationMethod=CalculationMethodNYES,'E8-Reporting Period Values'!#REF!,\"\"))","v":""},0]
[42875,4.1500000000000004,1,0,0,true,true,false,{"$f":"'E5-Baseline Model'!#REF!+SUMPRODUCT(B141:E141,TRANSPOSE('E5-Baseline Model'!#REF!))","v":{"$error":"#REF!"}},{"$f":"'E5-Baseline Model'!#REF!+SUMPRODUCT(B141:E141,TRANSPOSE('E5-Baseline Model'!#REF!))+RAND()-0.5","v":{"$error":"#REF!"}},{"$f":"IF(PSCalculationMethod=CalculationMethodNYES,J141,IF(PSCalculationMethod=CalculationMethodNYES,'E8-Reporting Period Values'!#REF!,\"\"))","v":""},0]
[42876,1.35,0,1,0,true,true,false,{"$f":"'E5-Baseline Model'!#REF!+SUMPRODUCT(B142:E142,TRANSPOSE('E5-Baseline Model'!#REF!))","v":{"$error":"#REF!"}},{"$f":"'E5-Baseline Model'!#REF!+SUMPRODUCT(B142:E142,TRANSPOSE('E5-Baseline Model'!#REF!))+RAND()-0.5","v":{"$error":"#REF!"}},{"$f":"IF(PSCalculationMethod=CalculationMethodNYES,J142,IF(PSCalculationMethod=CalculationMethodNYES,'E8-Reporting Period Values'!#REF!,\"\"))","v":""},0]
[42877,0.6,0,0,0,true,true,false,{"$f":"'E5-Baseline Model'!#REF!+SUMPRODUCT(B143:E143,TRANSPOSE('E5-Baseline Model'!#REF!))","v":{"$error":"#REF!"}},{"$f":"'E5-Baseline Model'!#REF!+SUMPRODUCT(B143:E143,TRANSPOSE('E5-Baseline Model'!#REF!))+RAND()-0.5","v":{"$error":"#REF!"}},{"$f":"IF(PSCalculationMethod=CalculationMethodNYES,J143,IF(PSCalculationMethod=CalculationMethodNYES,'E8-Reporting Period Values'!#REF!,\"\"))","v":""},0]
[42878,0.30000000000000099,0,0,0,true,true,false,{"$f":"'E5-Baseline Model'!#REF!+SUMPRODUCT(B144:E144,TRANSPOSE('E5-Baseline Model'!#REF!))","v":{"$error":"#REF!"}},{"$f":"'E5-Baseline Model'!#REF!+SUMPRODUCT(B144:E144,TRANSPOSE('E5-Baseline Model'!#REF!))+RAND()-0.5","v":{"$error":"#REF!"}},{"$f":"IF(PSCalculationMethod=CalculationMethodNYES,J144,IF(PSCalculationMethod=CalculationMethodNYES,'E8-Reporting Period Values'!#REF!,\"\"))","v":""},0]
[42879,0.44999999999999901,0,0,0,true,true,false,{"$f":"'E5-Baseline Model'!#REF!+SUMPRODUCT(B145:E145,TRANSPOSE('E5-Baseline Model'!#REF!))","v":{"$error":"#REF!"}},{"$f":"'E5-Baseline Model'!#REF!+SUMPRODUCT(B145:E145,TRANSPOSE('E5-Baseline Model'!#REF!))+RAND()-0.5","v":{"$error":"#REF!"}},{"$f":"IF(PSCalculationMethod=CalculationMethodNYES,J145,IF(PSCalculationMethod=CalculationMethodNYES,'E8-Reporting Period Values'!#REF!,\"\"))","v":""},0]
[42880,0,0,0,0,true,true,false,{"$f":"'E5-Baseline Model'!#REF!+SUMPRODUCT(B146:E146,TRANSPOSE('E5-Baseline Model'!#REF!))","v":{"$error":"#REF!"}},{"$f":"'E5-Baseline Model'!#REF!+SUMPRODUCT(B146:E146,TRANSPOSE('E5-Baseline Model'!#REF!))+RAND()-0.5","v":{"$error":"#REF!"}},{"$f":"IF(PSCalculationMethod=CalculationMethodNYES,J146,IF(PSCalculationMethod=CalculationMethodNYES,'E8-Reporting Period Values'!#REF!,\"\"))","v":""},0]
[42881,2,0,0,0,true,true,false,{"$f":"'E5-Baseline Model'!#REF!+SUMPRODUCT(B147:E147,TRANSPOSE('E5-Baseline Model'!#REF!))","v":{"$error":"#REF!"}},{"$f":"'E5-Baseline Model'!#REF!+SUMPRODUCT(B147:E147,TRANSPOSE('E5-Baseline Model'!#REF!))+RAND()-0.5","v":{"$error":"#REF!"}},{"$f":"IF(PSCalculationMethod=CalculationMethodNYES,J147,IF(PSCalculationMethod=CalculationMethodNYES,'E8-Reporting Period Values'!#REF!,\"\"))","v":""},0]
[42882,2.35,1,0,0,true,true,false,{"$f":"'E5-Baseline Model'!#REF!+SUMPRODUCT(B148:E148,TRANSPOSE('E5-Baseline Model'!#REF!))","v":{"$error":"#REF!"}},{"$f":"'E5-Baseline Model'!#REF!+SUMPRODUCT(B148:E148,TRANSPOSE('E5-Baseline Model'!#REF!))+RAND()-0.5","v":{"$error":"#REF!"}},{"$f":"IF(PSCalculationMethod=CalculationMethodNYES,J148,IF(PSCalculationMethod=CalculationMethodNYES,'E8-Reporting Period Values'!#REF!,\"\"))","v":""},0]
[42883,2.4,0,1,0,true,true,false,{"$f":"'E5-Baseline Model'!#REF!+SUMPRODUCT(B149:E149,TRANSPOSE('E5-Baseline Model'!#REF!))","v":{"$error":"#REF!"}},{"$f":"'E5-Baseline Model'!#REF!+SUMPRODUCT(B149:E149,TRANSPOSE('E5-Baseline Model'!#REF!))+RAND()-0.5","v":{"$error":"#REF!"}},{"$f":"IF(PSCalculationMethod=CalculationMethodNYES,J149,IF(PSCalculationMethod=CalculationMethodNYES,'E8-Reporting Period Values'!#REF!,\"\"))","v":""},0]
[42884,0.69999999999999896,0,0,0,true,true,false,{"$f":"'E5-Baseline Model'!#REF!+SUMPRODUCT(B150:E150,TRANSPOSE('E5-Baseline Model'!#REF!))","v":{"$error":"#REF!"}},{"$f":"'E5-Baseline Model'!#REF!+SUMPRODUCT(B150:E150,TRANSPOSE('E5-Baseline Model'!#REF!))+RAND()-0.5","v":{"$error":"#REF!"}},{"$f":"IF(PSCalculationMethod=CalculationMethodNYES,J150,IF(PSCalculationMethod=CalculationMethodNYES,'E8-Reporting Period Values'!#REF!,\"\"))","v":""},0]
[42885,0,0,0,0,true,true,false,{"$f":"'E5-Baseline Model'!#REF!+SUMPRODUCT(B151:E151,TRANSPOSE('E5-Baseline Model'!#REF!))","v":{"$error":"#REF!"}},{"$f":"'E5-Baseline Model'!#REF!+SUMPRODUCT(B151:E151,TRANSPOSE('E5-Baseline Model'!#REF!))+RAND()-0.5","v":{"$error":"#REF!"}},{"$f":"IF(PSCalculationMethod=CalculationMethodNYES,J151,IF(PSCalculationMethod=CalculationMethodNYES,'E8-Reporting Period Values'!#REF!,\"\"))","v":""},0]
[42886,0,0,0,0,true,true,false,{"$f":"'E5-Baseline Model'!#REF!+SUMPRODUCT(B152:E152,TRANSPOSE('E5-Baseline Model'!#REF!))","v":{"$error":"#REF!"}},{"$f":"'E5-Baseline Model'!#REF!+SUMPRODUCT(B152:E152,TRANSPOSE('E5-Baseline Model'!#REF!))+RAND()-0.5","v":{"$error":"#REF!"}},{"$f":"IF(PSCalculationMethod=CalculationMethodNYES,J152,IF(PSCalculationMethod=CalculationMethodNYES,'E8-Reporting Period Values'!#REF!,\"\"))","v":""},0]
[42887,0.19999999999999901,0,0,0,true,true,false,{"$f":"'E5-Baseline Model'!#REF!+SUMPRODUCT(B153:E153,TRANSPOSE('E5-Baseline Model'!#REF!))","v":{"$error":"#REF!"}},{"$f":"'E5-Baseline Model'!#REF!+SUMPRODUCT(B153:E153,TRANSPOSE('E5-Baseline Model'!#REF!))+RAND()-0.5","v":{"$error":"#REF!"}},{"$f":"IF(PSCalculationMethod=CalculationMethodNYES,J153,IF(PSCalculationMethod=CalculationMethodNYES,'E8-Reporting Period Values'!#REF!,\"\"))","v":""},0]
[42888,0.15,0,0,0,true,true,false,{"$f":"'E5-Baseline Model'!#REF!+SUMPRODUCT(B154:E154,TRANSPOSE('E5-Baseline Model'!#REF!))","v":{"$error":"#REF!"}},{"$f":"'E5-Baseline Model'!#REF!+SUMPRODUCT(B154:E154,TRANSPOSE('E5-Baseline Model'!#REF!))+RAND()-0.5","v":{"$error":"#REF!"}},{"$f":"IF(PSCalculationMethod=CalculationMethodNYES,J154,IF(PSCalculationMethod=CalculationMethodNYES,'E8-Reporting Period Values'!#REF!,\"\"))","v":""},0]
[42889,1.25,1,0,0,true,true,false,{"$f":"'E5-Baseline Model'!#REF!+SUMPRODUCT(B155:E155,TRANSPOSE('E5-Baseline Model'!#REF!))","v":{"$error":"#REF!"}},{"$f":"'E5-Baseline Model'!#REF!+SUMPRODUCT(B155:E155,TRANSPOSE('E5-Baseline Model'!#REF!))+RAND()-0.5","v":{"$error":"#REF!"}},{"$f":"IF(PSCalculationMethod=CalculationMethodNYES,J155,IF(PSCalculationMethod=CalculationMethodNYES,'E8-Reporting Period Values'!#REF!,\"\"))","v":""},0]
[42890,0.75,0,1,0,true,true,false,{"$f":"'E5-Baseline Model'!#REF!+SUMPRODUCT(B156:E156,TRANSPOSE('E5-Baseline Model'!#REF!))","v":{"$error":"#REF!"}},{"$f":"'E5-Baseline Model'!#REF!+SUMPRODUCT(B156:E156,TRANSPOSE('E5-Baseline Model'!#REF!))+RAND()-0.5","v":{"$error":"#REF!"}},{"$f":"IF(PSCalculationMethod=CalculationMethodNYES,J156,IF(PSCalculationMethod=CalculationMethodNYES,'E8-Reporting Period Values'!#REF!,\"\"))","v":""},0]
[42891,2.5499999999999998,0,0,0,true,true,false,{"$f":"'E5-Baseline Model'!#REF!+SUMPRODUCT(B157:E157,TRANSPOSE('E5-Baseline Model'!#REF!))","v":{"$error":"#REF!"}},{"$f":"'E5-Baseline Model'!#REF!+SUMPRODUCT(B157:E157,TRANSPOSE('E5-Baseline Model'!#REF!))+RAND()-0.5","v":{"$error":"#REF!"}},{"$f":"IF(PSCalculationMethod=CalculationMethodNYES,J157,IF(PSCalculationMethod=CalculationMethodNYES,'E8-Reporting Period Values'!#REF!,\"\"))","v":""},0]
[42892,2.1,0,0,0,true,true,false,{"$f":"'E5-Baseline Model'!#REF!+SUMPRODUCT(B158:E158,TRANSPOSE('E5-Baseline Model'!#REF!))","v":{"$error":"#REF!"}},{"$f":"'E5-Baseline Model'!#REF!+SUMPRODUCT(B158:E158,TRANSPOSE('E5-Baseline Model'!#REF!))+RAND()-0.5","v":{"$error":"#REF!"}},{"$f":"IF(PSCalculationMethod=CalculationMethodNYES,J158,IF(PSCalculationMethod=CalculationMethodNYES,'E8-Reporting Period Values'!#REF!,\"\"))","v":""},0]
[42893,2.25,0,0,0,true,true,false,{"$f":"'E5-Baseline Model'!#REF!+SUMPRODUCT(B159:E159,TRANSPOSE('E5-Baseline Model'!#REF!))","v":{"$error":"#REF!"}},{"$f":"'E5-Baseline Model'!#REF!+SUMPRODUCT(B159:E159,TRANSPOSE('E5-Baseline Model'!#REF!))+RAND()-0.5","v":{"$error":"#REF!"}},{"$f":"IF(PSCalculationMethod=CalculationMethodNYES,J159,IF(PSCalculationMethod=CalculationMethodNYES,'E8-Reporting Period Values'!#REF!,\"\"))","v":""},0]
[42894,2.1,0,0,0,true,true,false,{"$f":"'E5-Baseline Model'!#REF!+SUMPRODUCT(B160:E160,TRANSPOSE('E5-Baseline Model'!#REF!))","v":{"$error":"#REF!"}},{"$f":"'E5-Baseline Model'!#REF!+SUMPRODUCT(B160:E160,TRANSPOSE('E5-Baseline Model'!#REF!))+RAND()-0.5","v":{"$error":"#REF!"}},{"$f":"IF(PSCalculationMethod=CalculationMethodNYES,J160,IF(PSCalculationMethod=CalculationMethodNYES,'E8-Reporting Period Values'!#REF!,\"\"))","v":""},0]
[42895,2.5,0,0,0,true,true,false,{"$f":"'E5-Baseline Model'!#REF!+SUMPRODUCT(B161:E161,TRANSPOSE('E5-Baseline Model'!#REF!))","v":{"$error":"#REF!"}},{"$f":"'E5-Baseline Model'!#REF!+SUMPRODUCT(B161:E161,TRANSPOSE('E5-Baseline Model'!#REF!))+RAND()-0.5","v":{"$error":"#REF!"}},{"$f":"IF(PSCalculationMethod=CalculationMethodNYES,J161,IF(PSCalculationMethod=CalculationMethodNYES,'E8-Reporting Period Values'!#REF!,\"\"))","v":""},0]
[42896,2.7,1,0,0,true,true,false,{"$f":"'E5-Baseline Model'!#REF!+SUMPRODUCT(B162:E162,TRANSPOSE('E5-Baseline Model'!#REF!))","v":{"$error":"#REF!"}},{"$f":"'E5-Baseline Model'!#REF!+SUMPRODUCT(B162:E162,TRANSPOSE('E5-Baseline Model'!#REF!))+RAND()-0.5","v":{"$error":"#REF!"}},{"$f":"IF(PSCalculationMethod=CalculationMethodNYES,J162,IF(PSCalculationMethod=CalculationMethodNYES,'E8-Reporting Period Values'!#REF!,\"\"))","v":""},0]
[42897,3.35,0,1,0,true,true,false,{"$f":"'E5-Baseline Model'!#REF!+SUMPRODUCT(B163:E163,TRANSPOSE('E5-Baseline Model'!#REF!))","v":{"$error":"#REF!"}},{"$f":"'E5-Baseline Model'!#REF!+SUMPRODUCT(B163:E163,TRANSPOSE('E5-Baseline Model'!#REF!))+RAND()-0.5","v":{"$error":"#REF!"}},{"$f":"IF(PSCalculationMethod=CalculationMethodNYES,J163,IF(PSCalculationMethod=CalculationMethodNYES,'E8-Reporting Period Values'!#REF!,\"\"))","v":""},0]
[42898,1.1499999999999999,0,0,1,true,true,false,{"$f":"'E5-Baseline Model'!#REF!+SUMPRODUCT(B164:E164,TRANSPOSE('E5-Baseline Model'!#REF!))","v":{"$error":"#REF!"}},{"$f":"'E5-Baseline Model'!#REF!+SUMPRODUCT(B164:E164,TRANSPOSE('E5-Baseline Model'!#REF!))+RAND()-0.5","v":{"$error":"#REF!"}},{"$f":"IF(PSCalculationMethod=CalculationMethodNYES,J164,IF(PSCalculationMethod=CalculationMethodNYES,'E8-Reporting Period Values'!#REF!,\"\"))","v":""},0]
[42899,3.1,0,0,0,true,true,false,{"$f":"'E5-Baseline Model'!#REF!+SUMPRODUCT(B165:E165,TRANSPOSE('E5-Baseline Model'!#REF!))","v":{"$error":"#REF!"}},{"$f":"'E5-Baseline Model'!#REF!+SUMPRODUCT(B165:E165,TRANSPOSE('E5-Baseline Model'!#REF!))+RAND()-0.5","v":{"$error":"#REF!"}},{"$f":"IF(PSCalculationMethod=CalculationMethodNYES,J165,IF(PSCalculationMethod=CalculationMethodNYES,'E8-Reporting Period Values'!#REF!,\"\"))","v":""},0]
[42900,1.4,0,0,0,true,true,false,{"$f":"'E5-Baseline Model'!#REF!+SUMPRODUCT(B166:E166,TRANSPOSE('E5-Baseline Model'!#REF!))","v":{"$error":"#REF!"}},{"$f":"'E5-Baseline Model'!#REF!+SUMPRODUCT(B166:E166,TRANSPOSE('E5-Baseline Model'!#REF!))+RAND()-0.5","v":{"$error":"#REF!"}},{"$f":"IF(PSCalculationMethod=CalculationMethodNYES,J166,IF(PSCalculationMethod=CalculationMethodNYES,'E8-Reporting Period Values'!#REF!,\"\"))","v":""},0]
[42901,0.44999999999999901,0,0,0,true,true,false,{"$f":"'E5-Baseline Model'!#REF!+SUMPRODUCT(B167:E167,TRANSPOSE('E5-Baseline Model'!#REF!))","v":{"$error":"#REF!"}},{"$f":"'E5-Baseline Model'!#REF!+SUMPRODUCT(B167:E167,TRANSPOSE('E5-Baseline Model'!#REF!))+RAND()-0.5","v":{"$error":"#REF!"}},{"$f":"IF(PSCalculationMethod=CalculationMethodNYES,J167,IF(PSCalculationMethod=CalculationMethodNYES,'E8-Reporting Period Values'!#REF!,\"\"))","v":""},0]
[42902,0,0,0,0,true,true,false,{"$f":"'E5-Baseline Model'!#REF!+SUMPRODUCT(B168:E168,TRANSPOSE('E5-Baseline Model'!#REF!))","v":{"$error":"#REF!"}},{"$f":"'E5-Baseline Model'!#REF!+SUMPRODUCT(B168:E168,TRANSPOSE('E5-Baseline Model'!#REF!))+RAND()-0.5","v":{"$error":"#REF!"}},{"$f":"IF(PSCalculationMethod=CalculationMethodNYES,J168,IF(PSCalculationMethod=CalculationMethodNYES,'E8-Reporting Period Values'!#REF!,\"\"))","v":""},0]
[42903,0,1,0,0,true,true,false,{"$f":"'E5-Baseline Model'!#REF!+SUMPRODUCT(B169:E169,TRANSPOSE('E5-Baseline Model'!#REF!))","v":{"$error":"#REF!"}},{"$f":"'E5-Baseline Model'!#REF!+SUMPRODUCT(B169:E169,TRANSPOSE('E5-Baseline Model'!#REF!))+RAND()-0.5","v":{"$error":"#REF!"}},{"$f":"IF(PSCalculationMethod=CalculationMethodNYES,J169,IF(PSCalculationMethod=CalculationMethodNYES,'E8-Reporting Period Values'!#REF!,\"\"))","v":""},0]
[42904,0.64999999999999902,0,1,0,true,true,false,{"$f":"'E5-Baseline Model'!#REF!+SUMPRODUCT(B170:E170,TRANSPOSE('E5-Baseline Model'!#REF!))","v":{"$error":"#REF!"}},{"$f":"'E5-Baseline Model'!#REF!+SUMPRODUCT(B170:E170,TRANSPOSE('E5-Baseline Model'!#REF!))+RAND()-0.5","v":{"$error":"#REF!"}},{"$f":"IF(PSCalculationMethod=CalculationMethodNYES,J170,IF(PSCalculationMethod=CalculationMethodNYES,'E8-Reporting Period Values'!#REF!,\"\"))","v":""},0]
[42905,2.2999999999999998,0,0,0,true,true,false,{"$f":"'E5-Baseline Model'!#REF!+SUMPRODUCT(B171:E171,TRANSPOSE('E5-Baseline Model'!#REF!))","v":{"$error":"#REF!"}},{"$f":"'E5-Baseline Model'!#REF!+SUMPRODUCT(B171:E171,TRANSPOSE('E5-Baseline Model'!#REF!))+RAND()-0.5","v":{"$error":"#REF!"}},{"$f":"IF(PSCalculationMethod=CalculationMethodNYES,J171,IF(PSCalculationMethod=CalculationMethodNYES,'E8-Reporting Period Values'!#REF!,\"\"))","v":""},0]
[42906,0.65,0,0,0,true,true,false,{"$f":"'E5-Baseline Model'!#REF!+SUMPRODUCT(B172:E172,TRANSPOSE('E5-Baseline Model'!#REF!))","v":{"$error":"#REF!"}},{"$f":"'E5-Baseline Model'!#REF!+SUMPRODUCT(B172:E172,TRANSPOSE('E5-Baseline Model'!#REF!))+RAND()-0.5","v":{"$error":"#REF!"}},{"$f":"IF(PSCalculationMethod=CalculationMethodNYES,J172,IF(PSCalculationMethod=CalculationMethodNYES,'E8-Reporting Period Values'!#REF!,\"\"))","v":""},0]
[42907,0,0,0,0,true,true,false,{"$f":"'E5-Baseline Model'!#REF!+SUMPRODUCT(B173:E173,TRANSPOSE('E5-Baseline Model'!#REF!))","v":{"$error":"#REF!"}},{"$f":"'E5-Baseline Model'!#REF!+SUMPRODUCT(B173:E173,TRANSPOSE('E5-Baseline Model'!#REF!))+RAND()-0.5","v":{"$error":"#REF!"}},{"$f":"IF(PSCalculationMethod=CalculationMethodNYES,J173,IF(PSCalculationMethod=CalculationMethodNYES,'E8-Reporting Period Values'!#REF!,\"\"))","v":""},0]
[42908,0,0,0,0,true,true,false,{"$f":"'E5-Baseline Model'!#REF!+SUMPRODUCT(B174:E174,TRANSPOSE('E5-Baseline Model'!#REF!))","v":{"$error":"#REF!"}},{"$f":"'E5-Baseline Model'!#REF!+SUMPRODUCT(B174:E174,TRANSPOSE('E5-Baseline Model'!#REF!))+RAND()-0.5","v":{"$error":"#REF!"}},{"$f":"IF(PSCalculationMethod=CalculationMethodNYES,J174,IF(PSCalculationMethod=CalculationMethodNYES,'E8-Reporting Period Values'!#REF!,\"\"))","v":""},0]
[42909,0,0,0,0,true,true,false,{"$f":"'E5-Baseline Model'!#REF!+SUMPRODUCT(B175:E175,TRANSPOSE('E5-Baseline Model'!#REF!))","v":{"$error":"#REF!"}},{"$f":"'E5-Baseline Model'!#REF!+SUMPRODUCT(B175:E175,TRANSPOSE('E5-Baseline Model'!#REF!))+RAND()-0.5","v":{"$error":"#REF!"}},{"$f":"IF(PSCalculationMethod=CalculationMethodNYES,J175,IF(PSCalculationMethod=CalculationMethodNYES,'E8-Reporting Period Values'!#REF!,\"\"))","v":""},0]
[42910,0,1,0,0,true,true,false,{"$f":"'E5-Baseline Model'!#REF!+SUMPRODUCT(B176:E176,TRANSPOSE('E5-Baseline Model'!#REF!))","v":{"$error":"#REF!"}},{"$f":"'E5-Baseline Model'!#REF!+SUMPRODUCT(B176:E176,TRANSPOSE('E5-Baseline Model'!#REF!))+RAND()-0.5","v":{"$error":"#REF!"}},{"$f":"IF(PSCalculationMethod=CalculationMethodNYES,J176,IF(PSCalculationMethod=CalculationMethodNYES,'E8-Reporting Period Values'!#REF!,\"\"))","v":""},0]
[42911,0,0,1,0,true,true,false,{"$f":"'E5-Baseline Model'!#REF!+SUMPRODUCT(B177:E177,TRANSPOSE('E5-Baseline Model'!#REF!))","v":{"$error":"#REF!"}},{"$f":"'E5-Baseline Model'!#REF!+SUMPRODUCT(B177:E177,TRANSPOSE('E5-Baseline Model'!#REF!))+RAND()-0.5","v":{"$error":"#REF!"}},{"$f":"IF(PSCalculationMethod=CalculationMethodNYES,J177,IF(PSCalculationMethod=CalculationMethodNYES,'E8-Reporting Period Values'!#REF!,\"\"))","v":""},0]
[42912,0,0,0,0,true,true,false,{"$f":"'E5-Baseline Model'!#REF!+SUMPRODUCT(B178:E178,TRANSPOSE('E5-Baseline Model'!#REF!))","v":{"$error":"#REF!"}},{"$f":"'E5-Baseline Model'!#REF!+SUMPRODUCT(B178:E178,TRANSPOSE('E5-Baseline Model'!#REF!))+RAND()-0.5","v":{"$error":"#REF!"}},{"$f":"IF(PSCalculationMethod=CalculationMethodNYES,J178,IF(PSCalculationMethod=CalculationMethodNYES,'E8-Reporting Period Values'!#REF!,\"\"))","v":""},0]
[42913,0,0,0,0,true,true,false,{"$f":"'E5-Baseline Model'!#REF!+SUMPRODUCT(B179:E179,TRANSPOSE('E5-Baseline Model'!#REF!))","v":{"$error":"#REF!"}},{"$f":"'E5-Baseline Model'!#REF!+SUMPRODUCT(B179:E179,TRANSPOSE('E5-Baseline Model'!#REF!))+RAND()-0.5","v":{"$error":"#REF!"}},{"$f":"IF(PSCalculationMethod=CalculationMethodNYES,J179,IF(PSCalculationMethod=CalculationMethodNYES,'E8-Reporting Period Values'!#REF!,\"\"))","v":""},0]
[42914,0.4,0,0,0,true,true,false,{"$f":"'E5-Baseline Model'!#REF!+SUMPRODUCT(B180:E180,TRANSPOSE('E5-Baseline Model'!#REF!))","v":{"$error":"#REF!"}},{"$f":"'E5-Baseline Model'!#REF!+SUMPRODUCT(B180:E180,TRANSPOSE('E5-Baseline Model'!#REF!))+RAND()-0.5","v":{"$error":"#REF!"}},{"$f":"IF(PSCalculationMethod=CalculationMethodNYES,J180,IF(PSCalculationMethod=CalculationMethodNYES,'E8-Reporting Period Values'!#REF!,\"\"))","v":""},0]
[42915,2.1,0,0,0,true,true,false,{"$f":"'E5-Baseline Model'!#REF!+SUMPRODUCT(B181:E181,TRANSPOSE('E5-Baseline Model'!#REF!))","v":{"$error":"#REF!"}},{"$f":"'E5-Baseline Model'!#REF!+SUMPRODUCT(B181:E181,TRANSPOSE('E5-Baseline Model'!#REF!))+RAND()-0.5","v":{"$error":"#REF!"}},{"$f":"IF(PSCalculationMethod=CalculationMethodNYES,J181,IF(PSCalculationMethod=CalculationMethodNYES,'E8-Reporting Period Values'!#REF!,\"\"))","v":""},0]
[42916,0.75,0,0,0,true,true,false,{"$f":"'E5-Baseline Model'!#REF!+SUMPRODUCT(B182:E182,TRANSPOSE('E5-Baseline Model'!#REF!))","v":{"$error":"#REF!"}},{"$f":"'E5-Baseline Model'!#REF!+SUMPRODUCT(B182:E182,TRANSPOSE('E5-Baseline Model'!#REF!))+RAND()-0.5","v":{"$error":"#REF!"}},{"$f":"IF(PSCalculationMethod=CalculationMethodNYES,J182,IF(PSCalculationMethod=CalculationMethodNYES,'E8-Reporting Period Values'!#REF!,\"\"))","v":""},0]
[42917,0,1,0,0,true,true,false,{"$f":"'E5-Baseline Model'!#REF!+SUMPRODUCT(B183:E183,TRANSPOSE('E5-Baseline Model'!#REF!))","v":{"$error":"#REF!"}},{"$f":"'E5-Baseline Model'!#REF!+SUMPRODUCT(B183:E183,TRANSPOSE('E5-Baseline Model'!#REF!))+RAND()-0.5","v":{"$error":"#REF!"}},{"$f":"IF(PSCalculationMethod=CalculationMethodNYES,J183,IF(PSCalculationMethod=CalculationMethodNYES,'E8-Reporting Period Values'!#REF!,\"\"))","v":""},0]
[42918,0,0,1,0,true,true,false,{"$f":"'E5-Baseline Model'!#REF!+SUMPRODUCT(B184:E184,TRANSPOSE('E5-Baseline Model'!#REF!))","v":{"$error":"#REF!"}},{"$f":"'E5-Baseline Model'!#REF!+SUMPRODUCT(B184:E184,TRANSPOSE('E5-Baseline Model'!#REF!))+RAND()-0.5","v":{"$error":"#REF!"}},{"$f":"IF(PSCalculationMethod=CalculationMethodNYES,J184,IF(PSCalculationMethod=CalculationMethodNYES,'E8-Reporting Period Values'!#REF!,\"\"))","v":""},0]
[42919,0,0,0,0,true,true,false,{"$f":"'E5-Baseline Model'!#REF!+SUMPRODUCT(B185:E185,TRANSPOSE('E5-Baseline Model'!#REF!))","v":{"$error":"#REF!"}},{"$f":"'E5-Baseline Model'!#REF!+SUMPRODUCT(B185:E185,TRANSPOSE('E5-Baseline Model'!#REF!))+RAND()-0.5","v":{"$error":"#REF!"}},{"$f":"IF(PSCalculationMethod=CalculationMethodNYES,J185,IF(PSCalculationMethod=CalculationMethodNYES,'E8-Reporting Period Values'!#REF!,\"\"))","v":""},0]
[42920,0,0,0,0,true,true,false,{"$f":"'E5-Baseline Model'!#REF!+SUMPRODUCT(B186:E186,TRANSPOSE('E5-Baseline Model'!#REF!))","v":{"$error":"#REF!"}},{"$f":"'E5-Baseline Model'!#REF!+SUMPRODUCT(B186:E186,TRANSPOSE('E5-Baseline Model'!#REF!))+RAND()-0.5","v":{"$error":"#REF!"}},{"$f":"IF(PSCalculationMethod=CalculationMethodNYES,J186,IF(PSCalculationMethod=CalculationMethodNYES,'E8-Reporting Period Values'!#REF!,\"\"))","v":""},0]
[42921,0,0,0,0,true,true,false,{"$f":"'E5-Baseline Model'!#REF!+SUMPRODUCT(B187:E187,TRANSPOSE('E5-Baseline Model'!#REF!))","v":{"$error":"#REF!"}},{"$f":"'E5-Baseline Model'!#REF!+SUMPRODUCT(B187:E187,TRANSPOSE('E5-Baseline Model'!#REF!))+RAND()-0.5","v":{"$error":"#REF!"}},{"$f":"IF(PSCalculationMethod=CalculationMethodNYES,J187,IF(PSCalculationMethod=CalculationMethodNYES,'E8-Reporting Period Values'!#REF!,\"\"))","v":""},0]
[42922,0,0,0,0,true,true,false,{"$f":"'E5-Baseline Model'!#REF!+SUMPRODUCT(B188:E188,TRANSPOSE('E5-Baseline Model'!#REF!))","v":{"$error":"#REF!"}},{"$f":"'E5-Baseline Model'!#REF!+SUMPRODUCT(B188:E188,TRANSPOSE('E5-Baseline Model'!#REF!))+RAND()-0.5","v":{"$error":"#REF!"}},{"$f":"IF(PSCalculationMethod=CalculationMethodNYES,J188,IF(PSCalculationMethod=CalculationMethodNYES,'E8-Reporting Period Values'!#REF!,\"\"))","v":""},0]
[42923,0,0,0,0,true,true,false,{"$f":"'E5-Baseline Model'!#REF!+SUMPRODUCT(B189:E189,TRANSPOSE('E5-Baseline Model'!#REF!))","v":{"$error":"#REF!"}},{"$f":"'E5-Baseline Model'!#REF!+SUMPRODUCT(B189:E189,TRANSPOSE('E5-Baseline Model'!#REF!))+RAND()-0.5","v":{"$error":"#REF!"}},{"$f":"IF(PSCalculationMethod=CalculationMethodNYES,J189,IF(PSCalculationMethod=CalculationMethodNYES,'E8-Reporting Period Values'!#REF!,\"\"))","v":""},0]
[42924,0,1,0,0,true,true,false,{"$f":"'E5-Baseline Model'!#REF!+SUMPRODUCT(B190:E190,TRANSPOSE('E5-Baseline Model'!#REF!))","v":{"$error":"#REF!"}},{"$f":"'E5-Baseline Model'!#REF!+SUMPRODUCT(B190:E190,TRANSPOSE('E5-Baseline Model'!#REF!))+RAND()-0.5","v":{"$error":"#REF!"}},{"$f":"IF(PSCalculationMethod=CalculationMethodNYES,J190,IF(PSCalculationMethod=CalculationMethodNYES,'E8-Reporting Period Values'!#REF!,\"\"))","v":""},0]
[42925,0,0,1,0,true,true,false,{"$f":"'E5-Baseline Model'!#REF!+SUMPRODUCT(B191:E191,TRANSPOSE('E5-Baseline Model'!#REF!))","v":{"$error":"#REF!"}},{"$f":"'E5-Baseline Model'!#REF!+SUMPRODUCT(B191:E191,TRANSPOSE('E5-Baseline Model'!#REF!))+RAND()-0.5","v":{"$error":"#REF!"}},{"$f":"IF(PSCalculationMethod=CalculationMethodNYES,J191,IF(PSCalculationMethod=CalculationMethodNYES,'E8-Reporting Period Values'!#REF!,\"\"))","v":""},0]
[42926,0.44999999999999901,0,0,0,true,true,false,{"$f":"'E5-Baseline Model'!#REF!+SUMPRODUCT(B192:E192,TRANSPOSE('E5-Baseline Model'!#REF!))","v":{"$error":"#REF!"}},{"$f":"'E5-Baseline Model'!#REF!+SUMPRODUCT(B192:E192,TRANSPOSE('E5-Baseline Model'!#REF!))+RAND()-0.5","v":{"$error":"#REF!"}},{"$f":"IF(PSCalculationMethod=CalculationMethodNYES,J192,IF(PSCalculationMethod=CalculationMethodNYES,'E8-Reporting Period Values'!#REF!,\"\"))","v":""},0]
[42927,0,0,0,0,true,true,false,{"$f":"'E5-Baseline Model'!#REF!+SUMPRODUCT(B193:E193,TRANSPOSE('E5-Baseline Model'!#REF!))","v":{"$error":"#REF!"}},{"$f":"'E5-Baseline Model'!#REF!+SUMPRODUCT(B193:E193,TRANSPOSE('E5-Baseline Model'!#REF!))+RAND()-0.5","v":{"$error":"#REF!"}},{"$f":"IF(PSCalculationMethod=CalculationMethodNYES,J193,IF(PSCalculationMethod=CalculationMethodNYES,'E8-Reporting Period Values'!#REF!,\"\"))","v":""},0]
[42928,1,0,0,0,true,true,{"$f":"IF(PSCalculationMethod=CalculationMethodMAES,F194,IF(PSCalculationMethod=CalculationMethodNYES,AND(F194,G194),FALSE))","v":false},{"$f":"'E5-Baseline Model'!#REF!+SUMPRODUCT(B194:E194,TRANSPOSE('E5-Baseline Model'!#REF!))","v":{"$error":"#REF!"}},{"$f":"'E5-Baseline Model'!#REF!+SUMPRODUCT(B194:E194,TRANSPOSE('E5-Baseline Model'!#REF!))+RAND()-0.5","v":{"$error":"#REF!"}},{"$f":"IF(PSCalculationMethod=CalculationMethodNYES,J194,IF(PSCalculationMethod=CalculationMethodNYES,'E8-Reporting Period Values'!#REF!,\"\"))","v":""},0]
[42929,2,0,0,0,true,true,false,{"$f":"'E5-Baseline Model'!#REF!+SUMPRODUCT(B195:E195,TRANSPOSE('E5-Baseline Model'!#REF!))","v":{"$error":"#REF!"}},{"$f":"'E5-Baseline Model'!#REF!+SUMPRODUCT(B195:E195,TRANSPOSE('E5-Baseline Model'!#REF!))+RAND()-0.5","v":{"$error":"#REF!"}},{"$f":"IF(PSCalculationMethod=CalculationMethodNYES,J195,IF(PSCalculationMethod=CalculationMethodNYES,'E8-Reporting Period Values'!#REF!,\"\"))","v":""},{"$f":"IF(H195,I195-K195,0)","v":0}]
[42930,0.30000000000000099,0,0,0,true,true,false,{"$f":"'E5-Baseline Model'!#REF!+SUMPRODUCT(B196:E196,TRANSPOSE('E5-Baseline Model'!#REF!))","v":{"$error":"#REF!"}},{"$f":"'E5-Baseline Model'!#REF!+SUMPRODUCT(B196:E196,TRANSPOSE('E5-Baseline Model'!#REF!))+RAND()-0.5","v":{"$error":"#REF!"}},{"$f":"IF(PSCalculationMethod=CalculationMethodNYES,J196,IF(PSCalculationMethod=CalculationMethodNYES,'E8-Reporting Period Values'!#REF!,\"\"))","v":""},0]
[42931,0,1,0,0,true,true,false,{"$f":"'E5-Baseline Model'!#REF!+SUMPRODUCT(B197:E197,TRANSPOSE('E5-Baseline Model'!#REF!))","v":{"$error":"#REF!"}},{"$f":"'E5-Baseline Model'!#REF!+SUMPRODUCT(B197:E197,TRANSPOSE('E5-Baseline Model'!#REF!))+RAND()-0.5","v":{"$error":"#REF!"}},{"$f":"IF(PSCalculationMethod=CalculationMethodNYES,J197,IF(PSCalculationMethod=CalculationMethodNYES,'E8-Reporting Period Values'!#REF!,\"\"))","v":""},0]
[42932,0,0,1,0,true,true,false,{"$f":"'E5-Baseline Model'!#REF!+SUMPRODUCT(B198:E198,TRANSPOSE('E5-Baseline Model'!#REF!))","v":{"$error":"#REF!"}},{"$f":"'E5-Baseline Model'!#REF!+SUMPRODUCT(B198:E198,TRANSPOSE('E5-Baseline Model'!#REF!))+RAND()-0.5","v":{"$error":"#REF!"}},{"$f":"IF(PSCalculationMethod=CalculationMethodNYES,J198,IF(PSCalculationMethod=CalculationMethodNYES,'E8-Reporting Period Values'!#REF!,\"\"))","v":""},0]
[42933,0,0,0,0,true,true,false,{"$f":"'E5-Baseline Model'!#REF!+SUMPRODUCT(B199:E199,TRANSPOSE('E5-Baseline Model'!#REF!))","v":{"$error":"#REF!"}},{"$f":"'E5-Baseline Model'!#REF!+SUMPRODUCT(B199:E199,TRANSPOSE('E5-Baseline Model'!#REF!))+RAND()-0.5","v":{"$error":"#REF!"}},{"$f":"IF(PSCalculationMethod=CalculationMethodNYES,J199,IF(PSCalculationMethod=CalculationMethodNYES,'E8-Reporting Period Values'!#REF!,\"\"))","v":""},0]
[42934,0,0,0,0,true,true,false,{"$f":"'E5-Baseline Model'!#REF!+SUMPRODUCT(B200:E200,TRANSPOSE('E5-Baseline Model'!#REF!))","v":{"$error":"#REF!"}},{"$f":"'E5-Baseline Model'!#REF!+SUMPRODUCT(B200:E200,TRANSPOSE('E5-Baseline Model'!#REF!))+RAND()-0.5","v":{"$error":"#REF!"}},{"$f":"IF(PSCalculationMethod=CalculationMethodNYES,J200,IF(PSCalculationMethod=CalculationMethodNYES,'E8-Reporting Period Values'!#REF!,\"\"))","v":""},0]
[42935,0,0,0,0,true,true,false,{"$f":"'E5-Baseline Model'!#REF!+SUMPRODUCT(B201:E201,TRANSPOSE('E5-Baseline Model'!#REF!))","v":{"$error":"#REF!"}},{"$f":"'E5-Baseline Model'!#REF!+SUMPRODUCT(B201:E201,TRANSPOSE('E5-Baseline Model'!#REF!))+RAND()-0.5","v":{"$error":"#REF!"}},{"$f":"IF(PSCalculationMethod=CalculationMethodNYES,J201,IF(PSCalculationMethod=CalculationMethodNYES,'E8-Reporting Period Values'!#REF!,\"\"))","v":""},0]
[42936,0,0,0,0,true,true,false,{"$f":"'E5-Baseline Model'!#REF!+SUMPRODUCT(B202:E202,TRANSPOSE('E5-Baseline Model'!#REF!))","v":{"$error":"#REF!"}},{"$f":"'E5-Baseline Model'!#REF!+SUMPRODUCT(B202:E202,TRANSPOSE('E5-Baseline Model'!#REF!))+RAND()-0.5","v":{"$error":"#REF!"}},{"$f":"IF(PSCalculationMethod=CalculationMethodNYES,J202,IF(PSCalculationMethod=CalculationMethodNYES,'E8-Reporting Period Values'!#REF!,\"\"))","v":""},0]
[42937,0,0,0,0,true,true,false,{"$f":"'E5-Baseline Model'!#REF!+SUMPRODUCT(B203:E203,TRANSPOSE('E5-Baseline Model'!#REF!))","v":{"$error":"#REF!"}},{"$f":"'E5-Baseline Model'!#REF!+SUMPRODUCT(B203:E203,TRANSPOSE('E5-Baseline Model'!#REF!))+RAND()-0.5","v":{"$error":"#REF!"}},{"$f":"IF(PSCalculationMethod=CalculationMethodNYES,J203,IF(PSCalculationMethod=CalculationMethodNYES,'E8-Reporting Period Values'!#REF!,\"\"))","v":""},0]
[42938,0,1,0,0,true,true,false,{"$f":"'E5-Baseline Model'!#REF!+SUMPRODUCT(B204:E204,TRANSPOSE('E5-Baseline Model'!#REF!))","v":{"$error":"#REF!"}},{"$f":"'E5-Baseline Model'!#REF!+SUMPRODUCT(B204:E204,TRANSPOSE('E5-Baseline Model'!#REF!))+RAND()-0.5","v":{"$error":"#REF!"}},{"$f":"IF(PSCalculationMethod=CalculationMethodNYES,J204,IF(PSCalculationMethod=CalculationMethodNYES,'E8-Reporting Period Values'!#REF!,\"\"))","v":""},0]
[42939,0,0,1,0,true,true,false,{"$f":"'E5-Baseline Model'!#REF!+SUMPRODUCT(B205:E205,TRANSPOSE('E5-Baseline Model'!#REF!))","v":{"$error":"#REF!"}},{"$f":"'E5-Baseline Model'!#REF!+SUMPRODUCT(B205:E205,TRANSPOSE('E5-Baseline Model'!#REF!))+RAND()-0.5","v":{"$error":"#REF!"}},{"$f":"IF(PSCalculationMethod=CalculationMethodNYES,J205,IF(PSCalculationMethod=CalculationMethodNYES,'E8-Reporting Period Values'!#REF!,\"\"))","v":""},0]
[42940,0,0,0,0,true,true,false,{"$f":"'E5-Baseline Model'!#REF!+SUMPRODUCT(B206:E206,TRANSPOSE('E5-Baseline Model'!#REF!))","v":{"$error":"#REF!"}},{"$f":"'E5-Baseline Model'!#REF!+SUMPRODUCT(B206:E206,TRANSPOSE('E5-Baseline Model'!#REF!))+RAND()-0.5","v":{"$error":"#REF!"}},{"$f":"IF(PSCalculationMethod=CalculationMethodNYES,J206,IF(PSCalculationMethod=CalculationMethodNYES,'E8-Reporting Period Values'!#REF!,\"\"))","v":""},0]
[42941,0,0,0,0,true,true,false,{"$f":"'E5-Baseline Model'!#REF!+SUMPRODUCT(B207:E207,TRANSPOSE('E5-Baseline Model'!#REF!))","v":{"$error":"#REF!"}},{"$f":"'E5-Baseline Model'!#REF!+SUMPRODUCT(B207:E207,TRANSPOSE('E5-Baseline Model'!#REF!))+RAND()-0.5","v":{"$error":"#REF!"}},{"$f":"IF(PSCalculationMethod=CalculationMethodNYES,J207,IF(PSCalculationMethod=CalculationMethodNYES,'E8-Reporting Period Values'!#REF!,\"\"))","v":""},0]
[42942,0,0,0,0,true,true,false,{"$f":"'E5-Baseline Model'!#REF!+SUMPRODUCT(B208:E208,TRANSPOSE('E5-Baseline Model'!#REF!))","v":{"$error":"#REF!"}},{"$f":"'E5-Baseline Model'!#REF!+SUMPRODUCT(B208:E208,TRANSPOSE('E5-Baseline Model'!#REF!))+RAND()-0.5","v":{"$error":"#REF!"}},{"$f":"IF(PSCalculationMethod=CalculationMethodNYES,J208,IF(PSCalculationMethod=CalculationMethodNYES,'E8-Reporting Period Values'!#REF!,\"\"))","v":""},0]
[42943,0,0,0,0,true,true,false,{"$f":"'E5-Baseline Model'!#REF!+SUMPRODUCT(B209:E209,TRANSPOSE('E5-Baseline Model'!#REF!))","v":{"$error":"#REF!"}},{"$f":"'E5-Baseline Model'!#REF!+SUMPRODUCT(B209:E209,TRANSPOSE('E5-Baseline Model'!#REF!))+RAND()-0.5","v":{"$error":"#REF!"}},{"$f":"IF(PSCalculationMethod=CalculationMethodNYES,J209,IF(PSCalculationMethod=CalculationMethodNYES,'E8-Reporting Period Values'!#REF!,\"\"))","v":""},0]
[42944,0,0,0,0,true,true,false,{"$f":"'E5-Baseline Model'!#REF!+SUMPRODUCT(B210:E210,TRANSPOSE('E5-Baseline Model'!#REF!))","v":{"$error":"#REF!"}},{"$f":"'E5-Baseline Model'!#REF!+SUMPRODUCT(B210:E210,TRANSPOSE('E5-Baseline Model'!#REF!))+RAND()-0.5","v":{"$error":"#REF!"}},{"$f":"IF(PSCalculationMethod=CalculationMethodNYES,J210,IF(PSCalculationMethod=CalculationMethodNYES,'E8-Reporting Period Values'!#REF!,\"\"))","v":""},0]
[42945,2.5499999999999998,1,0,0,true,true,false,{"$f":"'E5-Baseline Model'!#REF!+SUMPRODUCT(B211:E211,TRANSPOSE('E5-Baseline Model'!#REF!))","v":{"$error":"#REF!"}},{"$f":"'E5-Baseline Model'!#REF!+SUMPRODUCT(B211:E211,TRANSPOSE('E5-Baseline Model'!#REF!))+RAND()-0.5","v":{"$error":"#REF!"}},{"$f":"IF(PSCalculationMethod=CalculationMethodNYES,J211,IF(PSCalculationMethod=CalculationMethodNYES,'E8-Reporting Period Values'!#REF!,\"\"))","v":""},0]
[42946,2.75,0,1,0,true,true,false,{"$f":"'E5-Baseline Model'!#REF!+SUMPRODUCT(B212:E212,TRANSPOSE('E5-Baseline Model'!#REF!))","v":{"$error":"#REF!"}},{"$f":"'E5-Baseline Model'!#REF!+SUMPRODUCT(B212:E212,TRANSPOSE('E5-Baseline Model'!#REF!))+RAND()-0.5","v":{"$error":"#REF!"}},{"$f":"IF(PSCalculationMethod=CalculationMethodNYES,J212,IF(PSCalculationMethod=CalculationMethodNYES,'E8-Reporting Period Values'!#REF!,\"\"))","v":""},0]
[42947,1.25,0,0,0,true,true,false,{"$f":"'E5-Baseline Model'!#REF!+SUMPRODUCT(B213:E213,TRANSPOSE('E5-Baseline Model'!#REF!))","v":{"$error":"#REF!"}},{"$f":"'E5-Baseline Model'!#REF!+SUMPRODUCT(B213:E213,TRANSPOSE('E5-Baseline Model'!#REF!))+RAND()-0.5","v":{"$error":"#REF!"}},{"$f":"IF(PSCalculationMethod=CalculationMethodNYES,J213,IF(PSCalculationMethod=CalculationMethodNYES,'E8-Reporting Period Values'!#REF!,\"\"))","v":""},0]
[42948,0,0,0,0,true,true,false,{"$f":"'E5-Baseline Model'!#REF!+SUMPRODUCT(B214:E214,TRANSPOSE('E5-Baseline Model'!#REF!))","v":{"$error":"#REF!"}},{"$f":"'E5-Baseline Model'!#REF!+SUMPRODUCT(B214:E214,TRANSPOSE('E5-Baseline Model'!#REF!))+RAND()-0.5","v":{"$error":"#REF!"}},{"$f":"IF(PSCalculationMethod=CalculationMethodNYES,J214,IF(PSCalculationMethod=CalculationMethodNYES,'E8-Reporting Period Values'!#REF!,\"\"))","v":""},0]
[42949,0,0,0,0,true,true,false,{"$f":"'E5-Baseline Model'!#REF!+SUMPRODUCT(B215:E215,TRANSPOSE('E5-Baseline Model'!#REF!))","v":{"$error":"#REF!"}},{"$f":"'E5-Baseline Model'!#REF!+SUMPRODUCT(B215:E215,TRANSPOSE('E5-Baseline Model'!#REF!))+RAND()-0.5","v":{"$error":"#REF!"}},{"$f":"IF(PSCalculationMethod=CalculationMethodNYES,J215,IF(PSCalculationMethod=CalculationMethodNYES,'E8-Reporting Period Values'!#REF!,\"\"))","v":""},0]
[42950,0,0,0,0,true,true,false,{"$f":"'E5-Baseline Model'!#REF!+SUMPRODUCT(B216:E216,TRANSPOSE('E5-Baseline Model'!#REF!))","v":{"$error":"#REF!"}},{"$f":"'E5-Baseline Model'!#REF!+SUMPRODUCT(B216:E216,TRANSPOSE('E5-Baseline Model'!#REF!))+RAND()-0.5","v":{"$error":"#REF!"}},{"$f":"IF(PSCalculationMethod=CalculationMethodNYES,J216,IF(PSCalculationMethod=CalculationMethodNYES,'E8-Reporting Period Values'!#REF!,\"\"))","v":""},0]
[42951,0.25,0,0,0,true,true,false,{"$f":"'E5-Baseline Model'!#REF!+SUMPRODUCT(B217:E217,TRANSPOSE('E5-Baseline Model'!#REF!))","v":{"$error":"#REF!"}},{"$f":"'E5-Baseline Model'!#REF!+SUMPRODUCT(B217:E217,TRANSPOSE('E5-Baseline Model'!#REF!))+RAND()-0.5","v":{"$error":"#REF!"}},{"$f":"IF(PSCalculationMethod=CalculationMethodNYES,J217,IF(PSCalculationMethod=CalculationMethodNYES,'E8-Reporting Period Values'!#REF!,\"\"))","v":""},0]
[42952,0.44999999999999901,1,0,0,true,true,false,{"$f":"'E5-Baseline Model'!#REF!+SUMPRODUCT(B218:E218,TRANSPOSE('E5-Baseline Model'!#REF!))","v":{"$error":"#REF!"}},{"$f":"'E5-Baseline Model'!#REF!+SUMPRODUCT(B218:E218,TRANSPOSE('E5-Baseline Model'!#REF!))+RAND()-0.5","v":{"$error":"#REF!"}},{"$f":"IF(PSCalculationMethod=CalculationMethodNYES,J218,IF(PSCalculationMethod=CalculationMethodNYES,'E8-Reporting Period Values'!#REF!,\"\"))","v":""},0]
[42953,1,0,1,0,true,true,false,{"$f":"'E5-Baseline Model'!#REF!+SUMPRODUCT(B219:E219,TRANSPOSE('E5-Baseline Model'!#REF!))","v":{"$error":"#REF!"}},{"$f":"'E5-Baseline Model'!#REF!+SUMPRODUCT(B219:E219,TRANSPOSE('E5-Baseline Model'!#REF!))+RAND()-0.5","v":{"$error":"#REF!"}},{"$f":"IF(PSCalculationMethod=CalculationMethodNYES,J219,IF(PSCalculationMethod=CalculationMethodNYES,'E8-Reporting Period Values'!#REF!,\"\"))","v":""},0]
[42954,0,0,0,0,true,true,false,{"$f":"'E5-Baseline Model'!#REF!+SUMPRODUCT(B220:E220,TRANSPOSE('E5-Baseline Model'!#REF!))","v":{"$error":"#REF!"}},{"$f":"'E5-Baseline Model'!#REF!+SUMPRODUCT(B220:E220,TRANSPOSE('E5-Baseline Model'!#REF!))+RAND()-0.5","v":{"$error":"#REF!"}},{"$f":"IF(PSCalculationMethod=CalculationMethodNYES,J220,IF(PSCalculationMethod=CalculationMethodNYES,'E8-Reporting Period Values'!#REF!,\"\"))","v":""},0]
[42955,5.0000000000000697E-2,0,0,0,true,true,false,{"$f":"'E5-Baseline Model'!#REF!+SUMPRODUCT(B221:E221,TRANSPOSE('E5-Baseline Model'!#REF!))","v":{"$error":"#REF!"}},{"$f":"'E5-Baseline Model'!#REF!+SUMPRODUCT(B221:E221,TRANSPOSE('E5-Baseline Model'!#REF!))+RAND()-0.5","v":{"$error":"#REF!"}},{"$f":"IF(PSCalculationMethod=CalculationMethodNYES,J221,IF(PSCalculationMethod=CalculationMethodNYES,'E8-Reporting Period Values'!#REF!,\"\"))","v":""},0]
[42956,2.5499999999999998,0,0,0,true,true,false,{"$f":"'E5-Baseline Model'!#REF!+SUMPRODUCT(B222:E222,TRANSPOSE('E5-Baseline Model'!#REF!))","v":{"$error":"#REF!"}},{"$f":"'E5-Baseline Model'!#REF!+SUMPRODUCT(B222:E222,TRANSPOSE('E5-Baseline Model'!#REF!))+RAND()-0.5","v":{"$error":"#REF!"}},{"$f":"IF(PSCalculationMethod=CalculationMethodNYES,J222,IF(PSCalculationMethod=CalculationMethodNYES,'E8-Reporting Period Values'!#REF!,\"\"))","v":""},0]
[42957,0,0,0,0,true,true,false,{"$f":"'E5-Baseline Model'!#REF!+SUMPRODUCT(B223:E223,TRANSPOSE('E5-Baseline Model'!#REF!))","v":{"$error":"#REF!"}},{"$f":"'E5-Baseline Model'!#REF!+SUMPRODUCT(B223:E223,TRANSPOSE('E5-Baseline Model'!#REF!))+RAND()-0.5","v":{"$error":"#REF!"}},{"$f":"IF(PSCalculationMethod=CalculationMethodNYES,J223,IF(PSCalculationMethod=CalculationMethodNYES,'E8-Reporting Period Values'!#REF!,\"\"))","v":""},0]
[42958,0,0,0,0,true,true,false,{"$f":"'E5-Baseline Model'!#REF!+SUMPRODUCT(B224:E224,TRANSPOSE('E5-Baseline Model'!#REF!))","v":{"$error":"#REF!"}},{"$f":"'E5-Baseline Model'!#REF!+SUMPRODUCT(B224:E224,TRANSPOSE('E5-Baseline Model'!#REF!))+RAND()-0.5","v":{"$error":"#REF!"}},{"$f":"IF(PSCalculationMethod=CalculationMethodNYES,J224,IF(PSCalculationMethod=CalculationMethodNYES,'E8-Reporting Period Values'!#REF!,\"\"))","v":""},0]
[42959,0,1,0,0,true,true,false,{"$f":"'E5-Baseline Model'!#REF!+SUMPRODUCT(B225:E225,TRANSPOSE('E5-Baseline Model'!#REF!))","v":{"$error":"#REF!"}},{"$f":"'E5-Baseline Model'!#REF!+SUMPRODUCT(B225:E225,TRANSPOSE('E5-Baseline Model'!#REF!))+RAND()-0.5","v":{"$error":"#REF!"}},{"$f":"IF(PSCalculationMethod=CalculationMethodNYES,J225,IF(PSCalculationMethod=CalculationMethodNYES,'E8-Reporting Period Values'!#REF!,\"\"))","v":""},0]
[42960,0,0,1,0,true,true,false,{"$f":"'E5-Baseline Model'!#REF!+SUMPRODUCT(B226:E226,TRANSPOSE('E5-Baseline Model'!#REF!))","v":{"$error":"#REF!"}},{"$f":"'E5-Baseline Model'!#REF!+SUMPRODUCT(B226:E226,TRANSPOSE('E5-Baseline Model'!#REF!))+RAND()-0.5","v":{"$error":"#REF!"}},{"$f":"IF(PSCalculationMethod=CalculationMethodNYES,J226,IF(PSCalculationMethod=CalculationMethodNYES,'E8-Reporting Period Values'!#REF!,\"\"))","v":""},0]
[42961,0,0,0,0,true,true,false,{"$f":"'E5-Baseline Model'!#REF!+SUMPRODUCT(B227:E227,TRANSPOSE('E5-Baseline Model'!#REF!))","v":{"$error":"#REF!"}},{"$f":"'E5-Baseline Model'!#REF!+SUMPRODUCT(B227:E227,TRANSPOSE('E5-Baseline Model'!#REF!))+RAND()-0.5","v":{"$error":"#REF!"}},{"$f":"IF(PSCalculationMethod=CalculationMethodNYES,J227,IF(PSCalculationMethod=CalculationMethodNYES,'E8-Reporting Period Values'!#REF!,\"\"))","v":""},0]
[42962,0,0,0,0,true,true,false,{"$f":"'E5-Baseline Model'!#REF!+SUMPRODUCT(B228:E228,TRANSPOSE('E5-Baseline Model'!#REF!))","v":{"$error":"#REF!"}},{"$f":"'E5-Baseline Model'!#REF!+SUMPRODUCT(B228:E228,TRANSPOSE('E5-Baseline Model'!#REF!))+RAND()-0.5","v":{"$error":"#REF!"}},{"$f":"IF(PSCalculationMethod=CalculationMethodNYES,J228,IF(PSCalculationMethod=CalculationMethodNYES,'E8-Reporting Period Values'!#REF!,\"\"))","v":""},0]
[42963,0,0,0,0,true,true,false,{"$f":"'E5-Baseline Model'!#REF!+SUMPRODUCT(B229:E229,TRANSPOSE('E5-Baseline Model'!#REF!))","v":{"$error":"#REF!"}},{"$f":"'E5-Baseline Model'!#REF!+SUMPRODUCT(B229:E229,TRANSPOSE('E5-Baseline Model'!#REF!))+RAND()-0.5","v":{"$error":"#REF!"}},{"$f":"IF(PSCalculationMethod=CalculationMethodNYES,J229,IF(PSCalculationMethod=CalculationMethodNYES,'E8-Reporting Period Values'!#REF!,\"\"))","v":""},0]
[42964,0,0,0,0,true,true,false,{"$f":"'E5-Baseline Model'!#REF!+SUMPRODUCT(B230:E230,TRANSPOSE('E5-Baseline Model'!#REF!))","v":{"$error":"#REF!"}},{"$f":"'E5-Baseline Model'!#REF!+SUMPRODUCT(B230:E230,TRANSPOSE('E5-Baseline Model'!#REF!))+RAND()-0.5","v":{"$error":"#REF!"}},{"$f":"IF(PSCalculationMethod=CalculationMethodNYES,J230,IF(PSCalculationMethod=CalculationMethodNYES,'E8-Reporting Period Values'!#REF!,\"\"))","v":""},0]
[42965,1.25,0,0,0,true,true,false,{"$f":"'E5-Baseline Model'!#REF!+SUMPRODUCT(B231:E231,TRANSPOSE('E5-Baseline Model'!#REF!))","v":{"$error":"#REF!"}},{"$f":"'E5-Baseline Model'!#REF!+SUMPRODUCT(B231:E231,TRANSPOSE('E5-Baseline Model'!#REF!))+RAND()-0.5","v":{"$error":"#REF!"}},{"$f":"IF(PSCalculationMethod=CalculationMethodNYES,J231,IF(PSCalculationMethod=CalculationMethodNYES,'E8-Reporting Period Values'!#REF!,\"\"))","v":""},0]
[42966,0,1,0,0,true,true,false,{"$f":"'E5-Baseline Model'!#REF!+SUMPRODUCT(B232:E232,TRANSPOSE('E5-Baseline Model'!#REF!))","v":{"$error":"#REF!"}},{"$f":"'E5-Baseline Model'!#REF!+SUMPRODUCT(B232:E232,TRANSPOSE('E5-Baseline Model'!#REF!))+RAND()-0.5","v":{"$error":"#REF!"}},{"$f":"IF(PSCalculationMethod=CalculationMethodNYES,J232,IF(PSCalculationMethod=CalculationMethodNYES,'E8-Reporting Period Values'!#REF!,\"\"))","v":""},0]
[42967,0,0,1,0,true,true,false,{"$f":"'E5-Baseline Model'!#REF!+SUMPRODUCT(B233:E233,TRANSPOSE('E5-Baseline Model'!#REF!))","v":{"$error":"#REF!"}},{"$f":"'E5-Baseline Model'!#REF!+SUMPRODUCT(B233:E233,TRANSPOSE('E5-Baseline Model'!#REF!))+RAND()-0.5","v":{"$error":"#REF!"}},{"$f":"IF(PSCalculationMethod=CalculationMethodNYES,J233,IF(PSCalculationMethod=CalculationMethodNYES,'E8-Reporting Period Values'!#REF!,\"\"))","v":""},0]
[42968,1.4,0,0,0,true,true,false,{"$f":"'E5-Baseline Model'!#REF!+SUMPRODUCT(B234:E234,TRANSPOSE('E5-Baseline Model'!#REF!))","v":{"$error":"#REF!"}},{"$f":"'E5-Baseline Model'!#REF!+SUMPRODUCT(B234:E234,TRANSPOSE('E5-Baseline Model'!#REF!))+RAND()-0.5","v":{"$error":"#REF!"}},{"$f":"IF(PSCalculationMethod=CalculationMethodNYES,J234,IF(PSCalculationMethod=CalculationMethodNYES,'E8-Reporting Period Values'!#REF!,\"\"))","v":""},0]
[42969,0.60000000000000098,0,0,0,true,true,false,{"$f":"'E5-Baseline Model'!#REF!+SUMPRODUCT(B235:E235,TRANSPOSE('E5-Baseline Model'!#REF!))","v":{"$error":"#REF!"}},{"$f":"'E5-Baseline Model'!#REF!+SUMPRODUCT(B235:E235,TRANSPOSE('E5-Baseline Model'!#REF!))+RAND()-0.5","v":{"$error":"#REF!"}},{"$f":"IF(PSCalculationMethod=CalculationMethodNYES,J235,IF(PSCalculationMethod=CalculationMethodNYES,'E8-Reporting Period Values'!#REF!,\"\"))","v":""},0]
[42970,1.25,0,0,0,true,true,false,{"$f":"'E5-Baseline Model'!#REF!+SUMPRODUCT(B236:E236,TRANSPOSE('E5-Baseline Model'!#REF!))","v":{"$error":"#REF!"}},{"$f":"'E5-Baseline Model'!#REF!+SUMPRODUCT(B236:E236,TRANSPOSE('E5-Baseline Model'!#REF!))+RAND()-0.5","v":{"$error":"#REF!"}},{"$f":"IF(PSCalculationMethod=CalculationMethodNYES,J236,IF(PSCalculationMethod=CalculationMethodNYES,'E8-Reporting Period Values'!#REF!,\"\"))","v":""},0]
[42971,0.9,0,0,0,true,true,false,{"$f":"'E5-Baseline Model'!#REF!+SUMPRODUCT(B237:E237,TRANSPOSE('E5-Baseline Model'!#REF!))","v":{"$error":"#REF!"}},{"$f":"'E5-Baseline Model'!#REF!+SUMPRODUCT(B237:E237,TRANSPOSE('E5-Baseline Model'!#REF!))+RAND()-0.5","v":{"$error":"#REF!"}},{"$f":"IF(PSCalculationMethod=CalculationMethodNYES,J237,IF(PSCalculationMethod=CalculationMethodNYES,'E8-Reporting Period Values'!#REF!,\"\"))","v":""},0]
[42972,0,0,0,0,true,true,false,{"$f":"'E5-Baseline Model'!#REF!+SUMPRODUCT(B238:E238,TRANSPOSE('E5-Baseline Model'!#REF!))","v":{"$error":"#REF!"}},{"$f":"'E5-Baseline Model'!#REF!+SUMPRODUCT(B238:E238,TRANSPOSE('E5-Baseline Model'!#REF!))+RAND()-0.5","v":{"$error":"#REF!"}},{"$f":"IF(PSCalculationMethod=CalculationMethodNYES,J238,IF(PSCalculationMethod=CalculationMethodNYES,'E8-Reporting Period Values'!#REF!,\"\"))","v":""},0]
[42973,2.6,1,0,0,true,true,false,{"$f":"'E5-Baseline Model'!#REF!+SUMPRODUCT(B239:E239,TRANSPOSE('E5-Baseline Model'!#REF!))","v":{"$error":"#REF!"}},{"$f":"'E5-Baseline Model'!#REF!+SUMPRODUCT(B239:E239,TRANSPOSE('E5-Baseline Model'!#REF!))+RAND()-0.5","v":{"$error":"#REF!"}},{"$f":"IF(PSCalculationMethod=CalculationMethodNYES,J239,IF(PSCalculationMethod=CalculationMethodNYES,'E8-Reporting Period Values'!#REF!,\"\"))","v":""},0]
[42974,2,0,1,0,true,true,false,{"$f":"'E5-Baseline Model'!#REF!+SUMPRODUCT(B240:E240,TRANSPOSE('E5-Baseline Model'!#REF!))","v":{"$error":"#REF!"}},{"$f":"'E5-Baseline Model'!#REF!+SUMPRODUCT(B240:E240,TRANSPOSE('E5-Baseline Model'!#REF!))+RAND()-0.5","v":{"$error":"#REF!"}},{"$f":"IF(PSCalculationMethod=CalculationMethodNYES,J240,IF(PSCalculationMethod=CalculationMethodNYES,'E8-Reporting Period Values'!#REF!,\"\"))","v":""},0]
[42975,0,0,0,0,true,true,false,{"$f":"'E5-Baseline Model'!#REF!+SUMPRODUCT(B241:E241,TRANSPOSE('E5-Baseline Model'!#REF!))","v":{"$error":"#REF!"}},{"$f":"'E5-Baseline Model'!#REF!+SUMPRODUCT(B241:E241,TRANSPOSE('E5-Baseline Model'!#REF!))+RAND()-0.5","v":{"$error":"#REF!"}},{"$f":"IF(PSCalculationMethod=CalculationMethodNYES,J241,IF(PSCalculationMethod=CalculationMethodNYES,'E8-Reporting Period Values'!#REF!,\"\"))","v":""},0]
[42976,5.0000000000000697E-2,0,0,0,true,true,false,{"$f":"'E5-Baseline Model'!#REF!+SUMPRODUCT(B242:E242,TRANSPOSE('E5-Baseline Model'!#REF!))","v":{"$error":"#REF!"}},{"$f":"'E5-Baseline Model'!#REF!+SUMPRODUCT(B242:E242,TRANSPOSE('E5-Baseline Model'!#REF!))+RAND()-0.5","v":{"$error":"#REF!"}},{"$f":"IF(PSCalculationMethod=CalculationMethodNYES,J242,IF(PSCalculationMethod=CalculationMethodNYES,'E8-Reporting Period Values'!#REF!,\"\"))","v":""},0]
[42977,2.25,0,0,0,true,true,false,{"$f":"'E5-Baseline Model'!#REF!+SUMPRODUCT(B243:E243,TRANSPOSE('E5-Baseline Model'!#REF!))","v":{"$error":"#REF!"}},{"$f":"'E5-Baseline Model'!#REF!+SUMPRODUCT(B243:E243,TRANSPOSE('E5-Baseline Model'!#REF!))+RAND()-0.5","v":{"$error":"#REF!"}},{"$f":"IF(PSCalculationMethod=CalculationMethodNYES,J243,IF(PSCalculationMethod=CalculationMethodNYES,'E8-Reporting Period Values'!#REF!,\"\"))","v":""},0]
[42978,3.15,0,0,0,true,true,false,{"$f":"'E5-Baseline Model'!#REF!+SUMPRODUCT(B244:E244,TRANSPOSE('E5-Baseline Model'!#REF!))","v":{"$error":"#REF!"}},{"$f":"'E5-Baseline Model'!#REF!+SUMPRODUCT(B244:E244,TRANSPOSE('E5-Baseline Model'!#REF!))+RAND()-0.5","v":{"$error":"#REF!"}},{"$f":"IF(PSCalculationMethod=CalculationMethodNYES,J244,IF(PSCalculationMethod=CalculationMethodNYES,'E8-Reporting Period Values'!#REF!,\"\"))","v":""},0]
[42979,2.0499999999999998,0,0,0,true,true,false,{"$f":"'E5-Baseline Model'!#REF!+SUMPRODUCT(B245:E245,TRANSPOSE('E5-Baseline Model'!#REF!))","v":{"$error":"#REF!"}},{"$f":"'E5-Baseline Model'!#REF!+SUMPRODUCT(B245:E245,TRANSPOSE('E5-Baseline Model'!#REF!))+RAND()-0.5","v":{"$error":"#REF!"}},{"$f":"IF(PSCalculationMethod=CalculationMethodNYES,J245,IF(PSCalculationMethod=CalculationMethodNYES,'E8-Reporting Period Values'!#REF!,\"\"))","v":""},0]
[42980,0.60000000000000098,1,0,0,true,true,false,{"$f":"'E5-Baseline Model'!#REF!+SUMPRODUCT(B246:E246,TRANSPOSE('E5-Baseline Model'!#REF!))","v":{"$error":"#REF!"}},{"$f":"'E5-Baseline Model'!#REF!+SUMPRODUCT(B246:E246,TRANSPOSE('E5-Baseline Model'!#REF!))+RAND()-0.5","v":{"$error":"#REF!"}},{"$f":"IF(PSCalculationMethod=CalculationMethodNYES,J246,IF(PSCalculationMethod=CalculationMethodNYES,'E8-Reporting Period Values'!#REF!,\"\"))","v":""},0]
[42981,1.3,0,1,0,true,true,false,{"$f":"'E5-Baseline Model'!#REF!+SUMPRODUCT(B247:E247,TRANSPOSE('E5-Baseline Model'!#REF!))","v":{"$error":"#REF!"}},{"$f":"'E5-Baseline Model'!#REF!+SUMPRODUCT(B247:E247,TRANSPOSE('E5-Baseline Model'!#REF!))+RAND()-0.5","v":{"$error":"#REF!"}},{"$f":"IF(PSCalculationMethod=CalculationMethodNYES,J247,IF(PSCalculationMethod=CalculationMethodNYES,'E8-Reporting Period Values'!#REF!,\"\"))","v":""},0]
[42982,4.3499999999999996,0,0,0,true,true,false,{"$f":"'E5-Baseline Model'!#REF!+SUMPRODUCT(B248:E248,TRANSPOSE('E5-Baseline Model'!#REF!))","v":{"$error":"#REF!"}},{"$f":"'E5-Baseline Model'!#REF!+SUMPRODUCT(B248:E248,TRANSPOSE('E5-Baseline Model'!#REF!))+RAND()-0.5","v":{"$error":"#REF!"}},{"$f":"IF(PSCalculationMethod=CalculationMethodNYES,J248,IF(PSCalculationMethod=CalculationMethodNYES,'E8-Reporting Period Values'!#REF!,\"\"))","v":""},0]
[42983,6.75,0,0,0,true,true,false,{"$f":"'E5-Baseline Model'!#REF!+SUMPRODUCT(B249:E249,TRANSPOSE('E5-Baseline Model'!#REF!))","v":{"$error":"#REF!"}},{"$f":"'E5-Baseline Model'!#REF!+SUMPRODUCT(B249:E249,TRANSPOSE('E5-Baseline Model'!#REF!))+RAND()-0.5","v":{"$error":"#REF!"}},{"$f":"IF(PSCalculationMethod=CalculationMethodNYES,J249,IF(PSCalculationMethod=CalculationMethodNYES,'E8-Reporting Period Values'!#REF!,\"\"))","v":""},0]
[42984,1.85,0,0,0,true,true,false,{"$f":"'E5-Baseline Model'!#REF!+SUMPRODUCT(B250:E250,TRANSPOSE('E5-Baseline Model'!#REF!))","v":{"$error":"#REF!"}},{"$f":"'E5-Baseline Model'!#REF!+SUMPRODUCT(B250:E250,TRANSPOSE('E5-Baseline Model'!#REF!))+RAND()-0.5","v":{"$error":"#REF!"}},{"$f":"IF(PSCalculationMethod=CalculationMethodNYES,J250,IF(PSCalculationMethod=CalculationMethodNYES,'E8-Reporting Period Values'!#REF!,\"\"))","v":""},0]
[42985,1.45,0,0,0,true,true,false,{"$f":"'E5-Baseline Model'!#REF!+SUMPRODUCT(B251:E251,TRANSPOSE('E5-Baseline Model'!#REF!))","v":{"$error":"#REF!"}},{"$f":"'E5-Baseline Model'!#REF!+SUMPRODUCT(B251:E251,TRANSPOSE('E5-Baseline Model'!#REF!))+RAND()-0.5","v":{"$error":"#REF!"}},{"$f":"IF(PSCalculationMethod=CalculationMethodNYES,J251,IF(PSCalculationMethod=CalculationMethodNYES,'E8-Reporting Period Values'!#REF!,\"\"))","v":""},0]
[42986,0,0,0,0,true,true,false,{"$f":"'E5-Baseline Model'!#REF!+SUMPRODUCT(B252:E252,TRANSPOSE('E5-Baseline Model'!#REF!))","v":{"$error":"#REF!"}},{"$f":"'E5-Baseline Model'!#REF!+SUMPRODUCT(B252:E252,TRANSPOSE('E5-Baseline Model'!#REF!))+RAND()-0.5","v":{"$error":"#REF!"}},{"$f":"IF(PSCalculationMethod=CalculationMethodNYES,J252,IF(PSCalculationMethod=CalculationMethodNYES,'E8-Reporting Period Values'!#REF!,\"\"))","v":""},0]
[42987,0,1,0,0,true,true,false,{"$f":"'E5-Baseline Model'!#REF!+SUMPRODUCT(B253:E253,TRANSPOSE('E5-Baseline Model'!#REF!))","v":{"$error":"#REF!"}},{"$f":"'E5-Baseline Model'!#REF!+SUMPRODUCT(B253:E253,TRANSPOSE('E5-Baseline Model'!#REF!))+RAND()-0.5","v":{"$error":"#REF!"}},{"$f":"IF(PSCalculationMethod=CalculationMethodNYES,J253,IF(PSCalculationMethod=CalculationMethodNYES,'E8-Reporting Period Values'!#REF!,\"\"))","v":""},0]
[42988,1.3,0,1,0,true,true,false,{"$f":"'E5-Baseline Model'!#REF!+SUMPRODUCT(B254:E254,TRANSPOSE('E5-Baseline Model'!#REF!))","v":{"$error":"#REF!"}},{"$f":"'E5-Baseline Model'!#REF!+SUMPRODUCT(B254:E254,TRANSPOSE('E5-Baseline Model'!#REF!))+RAND()-0.5","v":{"$error":"#REF!"}},{"$f":"IF(PSCalculationMethod=CalculationMethodNYES,J254,IF(PSCalculationMethod=CalculationMethodNYES,'E8-Reporting Period Values'!#REF!,\"\"))","v":""},0]
[42989,0.4,0,0,0,true,true,false,{"$f":"'E5-Baseline Model'!#REF!+SUMPRODUCT(B255:E255,TRANSPOSE('E5-Baseline Model'!#REF!))","v":{"$error":"#REF!"}},{"$f":"'E5-Baseline Model'!#REF!+SUMPRODUCT(B255:E255,TRANSPOSE('E5-Baseline Model'!#REF!))+RAND()-0.5","v":{"$error":"#REF!"}},{"$f":"IF(PSCalculationMethod=CalculationMethodNYES,J255,IF(PSCalculationMethod=CalculationMethodNYES,'E8-Reporting Period Values'!#REF!,\"\"))","v":""},0]
[42990,1.4,0,0,0,true,true,false,{"$f":"'E5-Baseline Model'!#REF!+SUMPRODUCT(B256:E256,TRANSPOSE('E5-Baseline Model'!#REF!))","v":{"$error":"#REF!"}},{"$f":"'E5-Baseline Model'!#REF!+SUMPRODUCT(B256:E256,TRANSPOSE('E5-Baseline Model'!#REF!))+RAND()-0.5","v":{"$error":"#REF!"}},{"$f":"IF(PSCalculationMethod=CalculationMethodNYES,J256,IF(PSCalculationMethod=CalculationMethodNYES,'E8-Reporting Period Values'!#REF!,\"\"))","v":""},0]
[42991,4.9000000000000004,0,0,0,true,true,false,{"$f":"'E5-Baseline Model'!#REF!+SUMPRODUCT(B257:E257,TRANSPOSE('E5-Baseline Model'!#REF!))","v":{"$error":"#REF!"}},{"$f":"'E5-Baseline Model'!#REF!+SUMPRODUCT(B257:E257,TRANSPOSE('E5-Baseline Model'!#REF!))+RAND()-0.5","v":{"$error":"#REF!"}},{"$f":"IF(PSCalculationMethod=CalculationMethodNYES,J257,IF(PSCalculationMethod=CalculationMethodNYES,'E8-Reporting Period Values'!#REF!,\"\"))","v":""},0]
[42992,3.25,0,0,0,true,true,{"$f":"IF(PSCalculationMethod=CalculationMethodMAES,F258,IF(PSCalculationMethod=CalculationMethodNYES,AND(F258,G258),FALSE))","v":false},{"$f":"'E5-Baseline Model'!#REF!+SUMPRODUCT(B258:E258,TRANSPOSE('E5-Baseline Model'!#REF!))","v":{"$error":"#REF!"}},{"$f":"'E5-Baseline Model'!#REF!+SUMPRODUCT(B258:E258,TRANSPOSE('E5-Baseline Model'!#REF!))+RAND()-0.5","v":{"$error":"#REF!"}},{"$f":"IF(PSCalculationMethod=CalculationMethodNYES,J258,IF(PSCalculationMethod=CalculationMethodNYES,'E8-Reporting Period Values'!#REF!,\"\"))","v":""},0]
[42993,2.4,0,0,0,true,true,false,{"$f":"'E5-Baseline Model'!#REF!+SUMPRODUCT(B259:E259,TRANSPOSE('E5-Baseline Model'!#REF!))","v":{"$error":"#REF!"}},{"$f":"'E5-Baseline Model'!#REF!+SUMPRODUCT(B259:E259,TRANSPOSE('E5-Baseline Model'!#REF!))+RAND()-0.5","v":{"$error":"#REF!"}},{"$f":"IF(PSCalculationMethod=CalculationMethodNYES,J259,IF(PSCalculationMethod=CalculationMethodNYES,'E8-Reporting Period Values'!#REF!,\"\"))","v":""},{"$f":"IF(H259,I259-K259,0)","v":0}]
[42994,5.85,1,0,0,true,true,false,{"$f":"'E5-Baseline Model'!#REF!+SUMPRODUCT(B260:E260,TRANSPOSE('E5-Baseline Model'!#REF!))","v":{"$error":"#REF!"}},{"$f":"'E5-Baseline Model'!#REF!+SUMPRODUCT(B260:E260,TRANSPOSE('E5-Baseline Model'!#REF!))+RAND()-0.5","v":{"$error":"#REF!"}},{"$f":"IF(PSCalculationMethod=CalculationMethodNYES,J260,IF(PSCalculationMethod=CalculationMethodNYES,'E8-Reporting Period Values'!#REF!,\"\"))","v":""},0]
[42995,9.15,0,1,0,true,true,false,{"$f":"'E5-Baseline Model'!#REF!+SUMPRODUCT(B261:E261,TRANSPOSE('E5-Baseline Model'!#REF!))","v":{"$error":"#REF!"}},{"$f":"'E5-Baseline Model'!#REF!+SUMPRODUCT(B261:E261,TRANSPOSE('E5-Baseline Model'!#REF!))+RAND()-0.5","v":{"$error":"#REF!"}},{"$f":"IF(PSCalculationMethod=CalculationMethodNYES,J261,IF(PSCalculationMethod=CalculationMethodNYES,'E8-Reporting Period Values'!#REF!,\"\"))","v":""},0]
[42996,6.3,0,0,0,true,true,false,{"$f":"'E5-Baseline Model'!#REF!+SUMPRODUCT(B262:E262,TRANSPOSE('E5-Baseline Model'!#REF!))","v":{"$error":"#REF!"}},{"$f":"'E5-Baseline Model'!#REF!+SUMPRODUCT(B262:E262,TRANSPOSE('E5-Baseline Model'!#REF!))+RAND()-0.5","v":{"$error":"#REF!"}},{"$f":"IF(PSCalculationMethod=CalculationMethodNYES,J262,IF(PSCalculationMethod=CalculationMethodNYES,'E8-Reporting Period Values'!#REF!,\"\"))","v":""},0]
[42997,8.8000000000000007,0,0,0,true,true,false,{"$f":"'E5-Baseline Model'!#REF!+SUMPRODUCT(B263:E263,TRANSPOSE('E5-Baseline Model'!#REF!))","v":{"$error":"#REF!"}},{"$f":"'E5-Baseline Model'!#REF!+SUMPRODUCT(B263:E263,TRANSPOSE('E5-Baseline Model'!#REF!))+RAND()-0.5","v":{"$error":"#REF!"}},{"$f":"IF(PSCalculationMethod=CalculationMethodNYES,J263,IF(PSCalculationMethod=CalculationMethodNYES,'E8-Reporting Period Values'!#REF!,\"\"))","v":""},0]
[42998,3.3,0,0,0,true,true,false,{"$f":"'E5-Baseline Model'!#REF!+SUMPRODUCT(B264:E264,TRANSPOSE('E5-Baseline Model'!#REF!))","v":{"$error":"#REF!"}},{"$f":"'E5-Baseline Model'!#REF!+SUMPRODUCT(B264:E264,TRANSPOSE('E5-Baseline Model'!#REF!))+RAND()-0.5","v":{"$error":"#REF!"}},{"$f":"IF(PSCalculationMethod=CalculationMethodNYES,J264,IF(PSCalculationMethod=CalculationMethodNYES,'E8-Reporting Period Values'!#REF!,\"\"))","v":""},0]
[42999,3,0,0,0,true,true,false,{"$f":"'E5-Baseline Model'!#REF!+SUMPRODUCT(B265:E265,TRANSPOSE('E5-Baseline Model'!#REF!))","v":{"$error":"#REF!"}},{"$f":"'E5-Baseline Model'!#REF!+SUMPRODUCT(B265:E265,TRANSPOSE('E5-Baseline Model'!#REF!))+RAND()-0.5","v":{"$error":"#REF!"}},{"$f":"IF(PSCalculationMethod=CalculationMethodNYES,J265,IF(PSCalculationMethod=CalculationMethodNYES,'E8-Reporting Period Values'!#REF!,\"\"))","v":""},0]
[43000,8.6,0,0,0,true,true,false,{"$f":"'E5-Baseline Model'!#REF!+SUMPRODUCT(B266:E266,TRANSPOSE('E5-Baseline Model'!#REF!))","v":{"$error":"#REF!"}},{"$f":"'E5-Baseline Model'!#REF!+SUMPRODUCT(B266:E266,TRANSPOSE('E5-Baseline Model'!#REF!))+RAND()-0.5","v":{"$error":"#REF!"}},{"$f":"IF(PSCalculationMethod=CalculationMethodNYES,J266,IF(PSCalculationMethod=CalculationMethodNYES,'E8-Reporting Period Values'!#REF!,\"\"))","v":""},0]
[43001,2,1,0,0,true,true,false,{"$f":"'E5-Baseline Model'!#REF!+SUMPRODUCT(B267:E267,TRANSPOSE('E5-Baseline Model'!#REF!))","v":{"$error":"#REF!"}},{"$f":"'E5-Baseline Model'!#REF!+SUMPRODUCT(B267:E267,TRANSPOSE('E5-Baseline Model'!#REF!))+RAND()-0.5","v":{"$error":"#REF!"}},{"$f":"IF(PSCalculationMethod=CalculationMethodNYES,J267,IF(PSCalculationMethod=CalculationMethodNYES,'E8-Reporting Period Values'!#REF!,\"\"))","v":""},0]
[43002,1.2,0,1,0,true,true,false,{"$f":"'E5-Baseline Model'!#REF!+SUMPRODUCT(B268:E268,TRANSPOSE('E5-Baseline Model'!#REF!))","v":{"$error":"#REF!"}},{"$f":"'E5-Baseline Model'!#REF!+SUMPRODUCT(B268:E268,TRANSPOSE('E5-Baseline Model'!#REF!))+RAND()-0.5","v":{"$error":"#REF!"}},{"$f":"IF(PSCalculationMethod=CalculationMethodNYES,J268,IF(PSCalculationMethod=CalculationMethodNYES,'E8-Reporting Period Values'!#REF!,\"\"))","v":""},0]
[43003,2,0,0,0,true,true,false,{"$f":"'E5-Baseline Model'!#REF!+SUMPRODUCT(B269:E269,TRANSPOSE('E5-Baseline Model'!#REF!))","v":{"$error":"#REF!"}},{"$f":"'E5-Baseline Model'!#REF!+SUMPRODUCT(B269:E269,TRANSPOSE('E5-Baseline Model'!#REF!))+RAND()-0.5","v":{"$error":"#REF!"}},{"$f":"IF(PSCalculationMethod=CalculationMethodNYES,J269,IF(PSCalculationMethod=CalculationMethodNYES,'E8-Reporting Period Values'!#REF!,\"\"))","v":""},0]
[43004,1.75,0,0,0,true,true,false,{"$f":"'E5-Baseline Model'!#REF!+SUMPRODUCT(B270:E270,TRANSPOSE('E5-Baseline Model'!#REF!))","v":{"$error":"#REF!"}},{"$f":"'E5-Baseline Model'!#REF!+SUMPRODUCT(B270:E270,TRANSPOSE('E5-Baseline Model'!#REF!))+RAND()-0.5","v":{"$error":"#REF!"}},{"$f":"IF(PSCalculationMethod=CalculationMethodNYES,J270,IF(PSCalculationMethod=CalculationMethodNYES,'E8-Reporting Period Values'!#REF!,\"\"))","v":""},0]
[43005,1.7,0,0,0,true,true,false,{"$f":"'E5-Baseline Model'!#REF!+SUMPRODUCT(B271:E271,TRANSPOSE('E5-Baseline Model'!#REF!))","v":{"$error":"#REF!"}},{"$f":"'E5-Baseline Model'!#REF!+SUMPRODUCT(B271:E271,TRANSPOSE('E5-Baseline Model'!#REF!))+RAND()-0.5","v":{"$error":"#REF!"}},{"$f":"IF(PSCalculationMethod=CalculationMethodNYES,J271,IF(PSCalculationMethod=CalculationMethodNYES,'E8-Reporting Period Values'!#REF!,\"\"))","v":""},0]
[43006,4.75,0,0,0,true,true,false,{"$f":"'E5-Baseline Model'!#REF!+SUMPRODUCT(B272:E272,TRANSPOSE('E5-Baseline Model'!#REF!))","v":{"$error":"#REF!"}},{"$f":"'E5-Baseline Model'!#REF!+SUMPRODUCT(B272:E272,TRANSPOSE('E5-Baseline Model'!#REF!))+RAND()-0.5","v":{"$error":"#REF!"}},{"$f":"IF(PSCalculationMethod=CalculationMethodNYES,J272,IF(PSCalculationMethod=CalculationMethodNYES,'E8-Reporting Period Values'!#REF!,\"\"))","v":""},0]
[43007,2.5,0,0,0,true,true,false,{"$f":"'E5-Baseline Model'!#REF!+SUMPRODUCT(B273:E273,TRANSPOSE('E5-Baseline Model'!#REF!))","v":{"$error":"#REF!"}},{"$f":"'E5-Baseline Model'!#REF!+SUMPRODUCT(B273:E273,TRANSPOSE('E5-Baseline Model'!#REF!))+RAND()-0.5","v":{"$error":"#REF!"}},{"$f":"IF(PSCalculationMethod=CalculationMethodNYES,J273,IF(PSCalculationMethod=CalculationMethodNYES,'E8-Reporting Period Values'!#REF!,\"\"))","v":""},0]
[43008,1.4,1,0,0,true,true,false,{"$f":"'E5-Baseline Model'!#REF!+SUMPRODUCT(B274:E274,TRANSPOSE('E5-Baseline Model'!#REF!))","v":{"$error":"#REF!"}},{"$f":"'E5-Baseline Model'!#REF!+SUMPRODUCT(B274:E274,TRANSPOSE('E5-Baseline Model'!#REF!))+RAND()-0.5","v":{"$error":"#REF!"}},{"$f":"IF(PSCalculationMethod=CalculationMethodNYES,J274,IF(PSCalculationMethod=CalculationMethodNYES,'E8-Reporting Period Values'!#REF!,\"\"))","v":""},0]
[43009,2.15,0,1,0,true,true,false,{"$f":"'E5-Baseline Model'!#REF!+SUMPRODUCT(B275:E275,TRANSPOSE('E5-Baseline Model'!#REF!))","v":{"$error":"#REF!"}},{"$f":"'E5-Baseline Model'!#REF!+SUMPRODUCT(B275:E275,TRANSPOSE('E5-Baseline Model'!#REF!))+RAND()-0.5","v":{"$error":"#REF!"}},{"$f":"IF(PSCalculationMethod=CalculationMethodNYES,J275,IF(PSCalculationMethod=CalculationMethodNYES,'E8-Reporting Period Values'!#REF!,\"\"))","v":""},0]
[43010,3.35,0,0,1,true,true,false,{"$f":"'E5-Baseline Model'!#REF!+SUMPRODUCT(B276:E276,TRANSPOSE('E5-Baseline Model'!#REF!))","v":{"$error":"#REF!"}},{"$f":"'E5-Baseline Model'!#REF!+SUMPRODUCT(B276:E276,TRANSPOSE('E5-Baseline Model'!#REF!))+RAND()-0.5","v":{"$error":"#REF!"}},{"$f":"IF(PSCalculationMethod=CalculationMethodNYES,J276,IF(PSCalculationMethod=CalculationMethodNYES,'E8-Reporting Period Values'!#REF!,\"\"))","v":""},0]
[43011,3.95,0,0,0,true,true,false,{"$f":"'E5-Baseline Model'!#REF!+SUMPRODUCT(B277:E277,TRANSPOSE('E5-Baseline Model'!#REF!))","v":{"$error":"#REF!"}},{"$f":"'E5-Baseline Model'!#REF!+SUMPRODUCT(B277:E277,TRANSPOSE('E5-Baseline Model'!#REF!))+RAND()-0.5","v":{"$error":"#REF!"}},{"$f":"IF(PSCalculationMethod=CalculationMethodNYES,J277,IF(PSCalculationMethod=CalculationMethodNYES,'E8-Reporting Period Values'!#REF!,\"\"))","v":""},0]
[43012,5.5,0,0,0,true,true,false,{"$f":"'E5-Baseline Model'!#REF!+SUMPRODUCT(B278:E278,TRANSPOSE('E5-Baseline Model'!#REF!))","v":{"$error":"#REF!"}},{"$f":"'E5-Baseline Model'!#REF!+SUMPRODUCT(B278:E278,TRANSPOSE('E5-Baseline Model'!#REF!))+RAND()-0.5","v":{"$error":"#REF!"}},{"$f":"IF(PSCalculationMethod=CalculationMethodNYES,J278,IF(PSCalculationMethod=CalculationMethodNYES,'E8-Reporting Period Values'!#REF!,\"\"))","v":""},0]
[43013,5.8,0,0,0,true,true,false,{"$f":"'E5-Baseline Model'!#REF!+SUMPRODUCT(B279:E279,TRANSPOSE('E5-Baseline Model'!#REF!))","v":{"$error":"#REF!"}},{"$f":"'E5-Baseline Model'!#REF!+SUMPRODUCT(B279:E279,TRANSPOSE('E5-Baseline Model'!#REF!))+RAND()-0.5","v":{"$error":"#REF!"}},{"$f":"IF(PSCalculationMethod=CalculationMethodNYES,J279,IF(PSCalculationMethod=CalculationMethodNYES,'E8-Reporting Period Values'!#REF!,\"\"))","v":""},0]
[43014,5.7,0,0,0,true,true,false,{"$f":"'E5-Baseline Model'!#REF!+SUMPRODUCT(B280:E280,TRANSPOSE('E5-Baseline Model'!#REF!))","v":{"$error":"#REF!"}},{"$f":"'E5-Baseline Model'!#REF!+SUMPRODUCT(B280:E280,TRANSPOSE('E5-Baseline Model'!#REF!))+RAND()-0.5","v":{"$error":"#REF!"}},{"$f":"IF(PSCalculationMethod=CalculationMethodNYES,J280,IF(PSCalculationMethod=CalculationMethodNYES,'E8-Reporting Period Values'!#REF!,\"\"))","v":""},0]
[43015,2.65,1,0,0,true,true,false,{"$f":"'E5-Baseline Model'!#REF!+SUMPRODUCT(B281:E281,TRANSPOSE('E5-Baseline Model'!#REF!))","v":{"$error":"#REF!"}},{"$f":"'E5-Baseline Model'!#REF!+SUMPRODUCT(B281:E281,TRANSPOSE('E5-Baseline Model'!#REF!))+RAND()-0.5","v":{"$error":"#REF!"}},{"$f":"IF(PSCalculationMethod=CalculationMethodNYES,J281,IF(PSCalculationMethod=CalculationMethodNYES,'E8-Reporting Period Values'!#REF!,\"\"))","v":""},0]
[43016,3.35,0,1,0,true,true,false,{"$f":"'E5-Baseline Model'!#REF!+SUMPRODUCT(B282:E282,TRANSPOSE('E5-Baseline Model'!#REF!))","v":{"$error":"#REF!"}},{"$f":"'E5-Baseline Model'!#REF!+SUMPRODUCT(B282:E282,TRANSPOSE('E5-Baseline Model'!#REF!))+RAND()-0.5","v":{"$error":"#REF!"}},{"$f":"IF(PSCalculationMethod=CalculationMethodNYES,J282,IF(PSCalculationMethod=CalculationMethodNYES,'E8-Reporting Period Values'!#REF!,\"\"))","v":""},0]
[43017,4.3,0,0,0,true,true,false,{"$f":"'E5-Baseline Model'!#REF!+SUMPRODUCT(B283:E283,TRANSPOSE('E5-Baseline Model'!#REF!))","v":{"$error":"#REF!"}},{"$f":"'E5-Baseline Model'!#REF!+SUMPRODUCT(B283:E283,TRANSPOSE('E5-Baseline Model'!#REF!))+RAND()-0.5","v":{"$error":"#REF!"}},{"$f":"IF(PSCalculationMethod=CalculationMethodNYES,J283,IF(PSCalculationMethod=CalculationMethodNYES,'E8-Reporting Period Values'!#REF!,\"\"))","v":""},0]
[43018,4.8,0,0,0,true,true,false,{"$f":"'E5-Baseline Model'!#REF!+SUMPRODUCT(B284:E284,TRANSPOSE('E5-Baseline Model'!#REF!))","v":{"$error":"#REF!"}},{"$f":"'E5-Baseline Model'!#REF!+SUMPRODUCT(B284:E284,TRANSPOSE('E5-Baseline Model'!#REF!))+RAND()-0.5","v":{"$error":"#REF!"}},{"$f":"IF(PSCalculationMethod=CalculationMethodNYES,J284,IF(PSCalculationMethod=CalculationMethodNYES,'E8-Reporting Period Values'!#REF!,\"\"))","v":""},0]
[43019,5.0999999999999996,0,0,0,true,true,false,{"$f":"'E5-Baseline Model'!#REF!+SUMPRODUCT(B285:E285,TRANSPOSE('E5-Baseline Model'!#REF!))","v":{"$error":"#REF!"}},{"$f":"'E5-Baseline Model'!#REF!+SUMPRODUCT(B285:E285,TRANSPOSE('E5-Baseline Model'!#REF!))+RAND()-0.5","v":{"$error":"#REF!"}},{"$f":"IF(PSCalculationMethod=CalculationMethodNYES,J285,IF(PSCalculationMethod=CalculationMethodNYES,'E8-Reporting Period Values'!#REF!,\"\"))","v":""},0]
[43020,6.3,0,0,0,true,true,false,{"$f":"'E5-Baseline Model'!#REF!+SUMPRODUCT(B286:E286,TRANSPOSE('E5-Baseline Model'!#REF!))","v":{"$error":"#REF!"}},{"$f":"'E5-Baseline Model'!#REF!+SUMPRODUCT(B286:E286,TRANSPOSE('E5-Baseline Model'!#REF!))+RAND()-0.5","v":{"$error":"#REF!"}},{"$f":"IF(PSCalculationMethod=CalculationMethodNYES,J286,IF(PSCalculationMethod=CalculationMethodNYES,'E8-Reporting Period Values'!#REF!,\"\"))","v":""},0]
[43021,9.35,0,0,0,true,true,false,{"$f":"'E5-Baseline Model'!#REF!+SUMPRODUCT(B287:E287,TRANSPOSE('E5-Baseline Model'!#REF!))","v":{"$error":"#REF!"}},{"$f":"'E5-Baseline Model'!#REF!+SUMPRODUCT(B287:E287,TRANSPOSE('E5-Baseline Model'!#REF!))+RAND()-0.5","v":{"$error":"#REF!"}},{"$f":"IF(PSCalculationMethod=CalculationMethodNYES,J287,IF(PSCalculationMethod=CalculationMethodNYES,'E8-Reporting Period Values'!#REF!,\"\"))","v":""},0]
[43022,8.1,1,0,0,true,true,false,{"$f":"'E5-Baseline Model'!#REF!+SUMPRODUCT(B288:E288,TRANSPOSE('E5-Baseline Model'!#REF!))","v":{"$error":"#REF!"}},{"$f":"'E5-Baseline Model'!#REF!+SUMPRODUCT(B288:E288,TRANSPOSE('E5-Baseline Model'!#REF!))+RAND()-0.5","v":{"$error":"#REF!"}},{"$f":"IF(PSCalculationMethod=CalculationMethodNYES,J288,IF(PSCalculationMethod=CalculationMethodNYES,'E8-Reporting Period Values'!#REF!,\"\"))","v":""},0]
[43023,0,0,1,0,true,true,false,{"$f":"'E5-Baseline Model'!#REF!+SUMPRODUCT(B289:E289,TRANSPOSE('E5-Baseline Model'!#REF!))","v":{"$error":"#REF!"}},{"$f":"'E5-Baseline Model'!#REF!+SUMPRODUCT(B289:E289,TRANSPOSE('E5-Baseline Model'!#REF!))+RAND()-0.5","v":{"$error":"#REF!"}},{"$f":"IF(PSCalculationMethod=CalculationMethodNYES,J289,IF(PSCalculationMethod=CalculationMethodNYES,'E8-Reporting Period Values'!#REF!,\"\"))","v":""},0]
[43024,2.95,0,0,0,true,true,false,{"$f":"'E5-Baseline Model'!#REF!+SUMPRODUCT(B290:E290,TRANSPOSE('E5-Baseline Model'!#REF!))","v":{"$error":"#REF!"}},{"$f":"'E5-Baseline Model'!#REF!+SUMPRODUCT(B290:E290,TRANSPOSE('E5-Baseline Model'!#REF!))+RAND()-0.5","v":{"$error":"#REF!"}},{"$f":"IF(PSCalculationMethod=CalculationMethodNYES,J290,IF(PSCalculationMethod=CalculationMethodNYES,'E8-Reporting Period Values'!#REF!,\"\"))","v":""},0]
[43025,4.4000000000000004,0,0,0,true,true,false,{"$f":"'E5-Baseline Model'!#REF!+SUMPRODUCT(B291:E291,TRANSPOSE('E5-Baseline Model'!#REF!))","v":{"$error":"#REF!"}},{"$f":"'E5-Baseline Model'!#REF!+SUMPRODUCT(B291:E291,TRANSPOSE('E5-Baseline Model'!#REF!))+RAND()-0.5","v":{"$error":"#REF!"}},{"$f":"IF(PSCalculationMethod=CalculationMethodNYES,J291,IF(PSCalculationMethod=CalculationMethodNYES,'E8-Reporting Period Values'!#REF!,\"\"))","v":""},0]
[43026,2.5,0,0,0,true,true,false,{"$f":"'E5-Baseline Model'!#REF!+SUMPRODUCT(B292:E292,TRANSPOSE('E5-Baseline Model'!#REF!))","v":{"$error":"#REF!"}},{"$f":"'E5-Baseline Model'!#REF!+SUMPRODUCT(B292:E292,TRANSPOSE('E5-Baseline Model'!#REF!))+RAND()-0.5","v":{"$error":"#REF!"}},{"$f":"IF(PSCalculationMethod=CalculationMethodNYES,J292,IF(PSCalculationMethod=CalculationMethodNYES,'E8-Reporting Period Values'!#REF!,\"\"))","v":""},0]
[43027,2.6,0,0,0,true,true,false,{"$f":"'E5-Baseline Model'!#REF!+SUMPRODUCT(B293:E293,TRANSPOSE('E5-Baseline Model'!#REF!))","v":{"$error":"#REF!"}},{"$f":"'E5-Baseline Model'!#REF!+SUMPRODUCT(B293:E293,TRANSPOSE('E5-Baseline Model'!#REF!))+RAND()-0.5","v":{"$error":"#REF!"}},{"$f":"IF(PSCalculationMethod=CalculationMethodNYES,J293,IF(PSCalculationMethod=CalculationMethodNYES,'E8-Reporting Period Values'!#REF!,\"\"))","v":""},0]
[43028,3.4,0,0,0,true,true,false,{"$f":"'E5-Baseline Model'!#REF!+SUMPRODUCT(B294:E294,TRANSPOSE('E5-Baseline Model'!#REF!))","v":{"$error":"#REF!"}},{"$f":"'E5-Baseline Model'!#REF!+SUMPRODUCT(B294:E294,TRANSPOSE('E5-Baseline Model'!#REF!))+RAND()-0.5","v":{"$error":"#REF!"}},{"$f":"IF(PSCalculationMethod=CalculationMethodNYES,J294,IF(PSCalculationMethod=CalculationMethodNYES,'E8-Reporting Period Values'!#REF!,\"\"))","v":""},0]
[43029,5.15,1,0,0,true,true,false,{"$f":"'E5-Baseline Model'!#REF!+SUMPRODUCT(B295:E295,TRANSPOSE('E5-Baseline Model'!#REF!))","v":{"$error":"#REF!"}},{"$f":"'E5-Baseline Model'!#REF!+SUMPRODUCT(B295:E295,TRANSPOSE('E5-Baseline Model'!#REF!))+RAND()-0.5","v":{"$error":"#REF!"}},{"$f":"IF(PSCalculationMethod=CalculationMethodNYES,J295,IF(PSCalculationMethod=CalculationMethodNYES,'E8-Reporting Period Values'!#REF!,\"\"))","v":""},0]
[43030,7.5,0,1,0,true,true,false,{"$f":"'E5-Baseline Model'!#REF!+SUMPRODUCT(B296:E296,TRANSPOSE('E5-Baseline Model'!#REF!))","v":{"$error":"#REF!"}},{"$f":"'E5-Baseline Model'!#REF!+SUMPRODUCT(B296:E296,TRANSPOSE('E5-Baseline Model'!#REF!))+RAND()-0.5","v":{"$error":"#REF!"}},{"$f":"IF(PSCalculationMethod=CalculationMethodNYES,J296,IF(PSCalculationMethod=CalculationMethodNYES,'E8-Reporting Period Values'!#REF!,\"\"))","v":""},0]
[43031,0.89999999999999902,0,0,0,true,true,false,{"$f":"'E5-Baseline Model'!#REF!+SUMPRODUCT(B297:E297,TRANSPOSE('E5-Baseline Model'!#REF!))","v":{"$error":"#REF!"}},{"$f":"'E5-Baseline Model'!#REF!+SUMPRODUCT(B297:E297,TRANSPOSE('E5-Baseline Model'!#REF!))+RAND()-0.5","v":{"$error":"#REF!"}},{"$f":"IF(PSCalculationMethod=CalculationMethodNYES,J297,IF(PSCalculationMethod=CalculationMethodNYES,'E8-Reporting Period Values'!#REF!,\"\"))","v":""},0]
[43032,2.75,0,0,0,true,true,false,{"$f":"'E5-Baseline Model'!#REF!+SUMPRODUCT(B298:E298,TRANSPOSE('E5-Baseline Model'!#REF!))","v":{"$error":"#REF!"}},{"$f":"'E5-Baseline Model'!#REF!+SUMPRODUCT(B298:E298,TRANSPOSE('E5-Baseline Model'!#REF!))+RAND()-0.5","v":{"$error":"#REF!"}},{"$f":"IF(PSCalculationMethod=CalculationMethodNYES,J298,IF(PSCalculationMethod=CalculationMethodNYES,'E8-Reporting Period Values'!#REF!,\"\"))","v":""},0]
[43033,5.8,0,0,0,true,true,false,{"$f":"'E5-Baseline Model'!#REF!+SUMPRODUCT(B299:E299,TRANSPOSE('E5-Baseline Model'!#REF!))","v":{"$error":"#REF!"}},{"$f":"'E5-Baseline Model'!#REF!+SUMPRODUCT(B299:E299,TRANSPOSE('E5-Baseline Model'!#REF!))+RAND()-0.5","v":{"$error":"#REF!"}},{"$f":"IF(PSCalculationMethod=CalculationMethodNYES,J299,IF(PSCalculationMethod=CalculationMethodNYES,'E8-Reporting Period Values'!#REF!,\"\"))","v":""},0]
[43034,5.3,0,0,0,true,true,false,{"$f":"'E5-Baseline Model'!#REF!+SUMPRODUCT(B300:E300,TRANSPOSE('E5-Baseline Model'!#REF!))","v":{"$error":"#REF!"}},{"$f":"'E5-Baseline Model'!#REF!+SUMPRODUCT(B300:E300,TRANSPOSE('E5-Baseline Model'!#REF!))+RAND()-0.5","v":{"$error":"#REF!"}},{"$f":"IF(PSCalculationMethod=CalculationMethodNYES,J300,IF(PSCalculationMethod=CalculationMethodNYES,'E8-Reporting Period Values'!#REF!,\"\"))","v":""},0]
[43035,4.9000000000000004,0,0,0,true,true,false,{"$f":"'E5-Baseline Model'!#REF!+SUMPRODUCT(B301:E301,TRANSPOSE('E5-Baseline Model'!#REF!))","v":{"$error":"#REF!"}},{"$f":"'E5-Baseline Model'!#REF!+SUMPRODUCT(B301:E301,TRANSPOSE('E5-Baseline Model'!#REF!))+RAND()-0.5","v":{"$error":"#REF!"}},{"$f":"IF(PSCalculationMethod=CalculationMethodNYES,J301,IF(PSCalculationMethod=CalculationMethodNYES,'E8-Reporting Period Values'!#REF!,\"\"))","v":""},0]
[43036,4.3,1,0,0,true,true,false,{"$f":"'E5-Baseline Model'!#REF!+SUMPRODUCT(B302:E302,TRANSPOSE('E5-Baseline Model'!#REF!))","v":{"$error":"#REF!"}},{"$f":"'E5-Baseline Model'!#REF!+SUMPRODUCT(B302:E302,TRANSPOSE('E5-Baseline Model'!#REF!))+RAND()-0.5","v":{"$error":"#REF!"}},{"$f":"IF(PSCalculationMethod=CalculationMethodNYES,J302,IF(PSCalculationMethod=CalculationMethodNYES,'E8-Reporting Period Values'!#REF!,\"\"))","v":""},0]
[43037,6.3,0,1,0,true,true,false,{"$f":"'E5-Baseline Model'!#REF!+SUMPRODUCT(B303:E303,TRANSPOSE('E5-Baseline Model'!#REF!))","v":{"$error":"#REF!"}},{"$f":"'E5-Baseline Model'!#REF!+SUMPRODUCT(B303:E303,TRANSPOSE('E5-Baseline Model'!#REF!))+RAND()-0.5","v":{"$error":"#REF!"}},{"$f":"IF(PSCalculationMethod=CalculationMethodNYES,J303,IF(PSCalculationMethod=CalculationMethodNYES,'E8-Reporting Period Values'!#REF!,\"\"))","v":""},0]
[43038,8,0,0,0,true,true,false,{"$f":"'E5-Baseline Model'!#REF!+SUMPRODUCT(B304:E304,TRANSPOSE('E5-Baseline Model'!#REF!))","v":{"$error":"#REF!"}},{"$f":"'E5-Baseline Model'!#REF!+SUMPRODUCT(B304:E304,TRANSPOSE('E5-Baseline Model'!#REF!))+RAND()-0.5","v":{"$error":"#REF!"}},{"$f":"IF(PSCalculationMethod=CalculationMethodNYES,J304,IF(PSCalculationMethod=CalculationMethodNYES,'E8-Reporting Period Values'!#REF!,\"\"))","v":""},0]
[43039,5.25,0,0,0,true,true,false,{"$f":"'E5-Baseline Model'!#REF!+SUMPRODUCT(B305:E305,TRANSPOSE('E5-Baseline Model'!#REF!))","v":{"$error":"#REF!"}},{"$f":"'E5-Baseline Model'!#REF!+SUMPRODUCT(B305:E305,TRANSPOSE('E5-Baseline Model'!#REF!))+RAND()-0.5","v":{"$error":"#REF!"}},{"$f":"IF(PSCalculationMethod=CalculationMethodNYES,J305,IF(PSCalculationMethod=CalculationMethodNYES,'E8-Reporting Period Values'!#REF!,\"\"))","v":""},0]
[43040,10.9424991503671,0,0,0,true,true,false,{"$f":"'E5-Baseline Model'!#REF!+SUMPRODUCT(B306:E306,TRANSPOSE('E5-Baseline Model'!#REF!))","v":{"$error":"#REF!"}},{"$f":"'E5-Baseline Model'!#REF!+SUMPRODUCT(B306:E306,TRANSPOSE('E5-Baseline Model'!#REF!))+RAND()-0.5","v":{"$error":"#REF!"}},{"$f":"IF(PSCalculationMethod=CalculationMethodNYES,J306,IF(PSCalculationMethod=CalculationMethodNYES,'E8-Reporting Period Values'!#REF!,\"\"))","v":""},0]
[43041,4.6924991503671096,0,0,0,true,true,false,{"$f":"'E5-Baseline Model'!#REF!+SUMPRODUCT(B307:E307,TRANSPOSE('E5-Baseline Model'!#REF!))","v":{"$error":"#REF!"}},{"$f":"'E5-Baseline Model'!#REF!+SUMPRODUCT(B307:E307,TRANSPOSE('E5-Baseline Model'!#REF!))+RAND()-0.5","v":{"$error":"#REF!"}},{"$f":"IF(PSCalculationMethod=CalculationMethodNYES,J307,IF(PSCalculationMethod=CalculationMethodNYES,'E8-Reporting Period Values'!#REF!,\"\"))","v":""},0]
[43042,4.2424991503670997,0,0,0,true,true,false,{"$f":"'E5-Baseline Model'!#REF!+SUMPRODUCT(B308:E308,TRANSPOSE('E5-Baseline Model'!#REF!))","v":{"$error":"#REF!"}},{"$f":"'E5-Baseline Model'!#REF!+SUMPRODUCT(B308:E308,TRANSPOSE('E5-Baseline Model'!#REF!))+RAND()-0.5","v":{"$error":"#REF!"}},{"$f":"IF(PSCalculationMethod=CalculationMethodNYES,J308,IF(PSCalculationMethod=CalculationMethodNYES,'E8-Reporting Period Values'!#REF!,\"\"))","v":""},0]
[43043,5.9424991503671096,1,0,0,true,true,false,{"$f":"'E5-Baseline Model'!#REF!+SUMPRODUCT(B309:E309,TRANSPOSE('E5-Baseline Model'!#REF!))","v":{"$error":"#REF!"}},{"$f":"'E5-Baseline Model'!#REF!+SUMPRODUCT(B309:E309,TRANSPOSE('E5-Baseline Model'!#REF!))+RAND()-0.5","v":{"$error":"#REF!"}},{"$f":"IF(PSCalculationMethod=CalculationMethodNYES,J309,IF(PSCalculationMethod=CalculationMethodNYES,'E8-Reporting Period Values'!#REF!,\"\"))","v":""},0]
[43044,10.0924991503671,0,1,0,true,true,false,{"$f":"'E5-Baseline Model'!#REF!+SUMPRODUCT(B310:E310,TRANSPOSE('E5-Baseline Model'!#REF!))","v":{"$error":"#REF!"}},{"$f":"'E5-Baseline Model'!#REF!+SUMPRODUCT(B310:E310,TRANSPOSE('E5-Baseline Model'!#REF!))+RAND()-0.5","v":{"$error":"#REF!"}},{"$f":"IF(PSCalculationMethod=CalculationMethodNYES,J310,IF(PSCalculationMethod=CalculationMethodNYES,'E8-Reporting Period Values'!#REF!,\"\"))","v":""},0]
[43045,6.8924991503671,0,0,0,true,true,false,{"$f":"'E5-Baseline Model'!#REF!+SUMPRODUCT(B311:E311,TRANSPOSE('E5-Baseline Model'!#REF!))","v":{"$error":"#REF!"}},{"$f":"'E5-Baseline Model'!#REF!+SUMPRODUCT(B311:E311,TRANSPOSE('E5-Baseline Model'!#REF!))+RAND()-0.5","v":{"$error":"#REF!"}},{"$f":"IF(PSCalculationMethod=CalculationMethodNYES,J311,IF(PSCalculationMethod=CalculationMethodNYES,'E8-Reporting Period Values'!#REF!,\"\"))","v":""},0]
[43046,4.1924991503670999,0,0,0,true,true,false,{"$f":"'E5-Baseline Model'!#REF!+SUMPRODUCT(B312:E312,TRANSPOSE('E5-Baseline Model'!#REF!))","v":{"$error":"#REF!"}},{"$f":"'E5-Baseline Model'!#REF!+SUMPRODUCT(B312:E312,TRANSPOSE('E5-Baseline Model'!#REF!))+RAND()-0.5","v":{"$error":"#REF!"}},{"$f":"IF(PSCalculationMethod=CalculationMethodNYES,J312,IF(PSCalculationMethod=CalculationMethodNYES,'E8-Reporting Period Values'!#REF!,\"\"))","v":""},0]
[43047,4.4924991503670997,0,0,0,true,true,false,{"$f":"'E5-Baseline Model'!#REF!+SUMPRODUCT(B313:E313,TRANSPOSE('E5-Baseline Model'!#REF!))","v":{"$error":"#REF!"}},{"$f":"'E5-Baseline Model'!#REF!+SUMPRODUCT(B313:E313,TRANSPOSE('E5-Baseline Model'!#REF!))+RAND()-0.5","v":{"$error":"#REF!"}},{"$f":"IF(PSCalculationMethod=CalculationMethodNYES,J313,IF(PSCalculationMethod=CalculationMethodNYES,'E8-Reporting Period Values'!#REF!,\"\"))","v":""},0]
[43048,7.4924991503670997,0,0,0,true,true,false,{"$f":"'E5-Baseline Model'!#REF!+SUMPRODUCT(B314:E314,TRANSPOSE('E5-Baseline Model'!#REF!))","v":{"$error":"#REF!"}},{"$f":"'E5-Baseline Model'!#REF!+SUMPRODUCT(B314:E314,TRANSPOSE('E5-Baseline Model'!#REF!))+RAND()-0.5","v":{"$error":"#REF!"}},{"$f":"IF(PSCalculationMethod=CalculationMethodNYES,J314,IF(PSCalculationMethod=CalculationMethodNYES,'E8-Reporting Period Values'!#REF!,\"\"))","v":""},0]
[43049,7.6924991503671096,0,0,0,true,true,false,{"$f":"'E5-Baseline Model'!#REF!+SUMPRODUCT(B315:E315,TRANSPOSE('E5-Baseline Model'!#REF!))","v":{"$error":"#REF!"}},{"$f":"'E5-Baseline Model'!#REF!+SUMPRODUCT(B315:E315,TRANSPOSE('E5-Baseline Model'!#REF!))+RAND()-0.5","v":{"$error":"#REF!"}},{"$f":"IF(PSCalculationMethod=CalculationMethodNYES,J315,IF(PSCalculationMethod=CalculationMethodNYES,'E8-Reporting Period Values'!#REF!,\"\"))","v":""},0]
[43050,8.2924991503670995,1,0,0,true,true,false,{"$f":"'E5-Baseline Model'!#REF!+SUMPRODUCT(B316:E316,TRANSPOSE('E5-Baseline Model'!#REF!))","v":{"$error":"#REF!"}},{"$f":"'E5-Baseline Model'!#REF!+SUMPRODUCT(B316:E316,TRANSPOSE('E5-Baseline Model'!#REF!))+RAND()-0.5","v":{"$error":"#REF!"}},{"$f":"IF(PSCalculationMethod=CalculationMethodNYES,J316,IF(PSCalculationMethod=CalculationMethodNYES,'E8-Reporting Period Values'!#REF!,\"\"))","v":""},0]
[43051,8.9924991503671006,0,1,0,true,true,false,{"$f":"'E5-Baseline Model'!#REF!+SUMPRODUCT(B317:E317,TRANSPOSE('E5-Baseline Model'!#REF!))","v":{"$error":"#REF!"}},{"$f":"'E5-Baseline Model'!#REF!+SUMPRODUCT(B317:E317,TRANSPOSE('E5-Baseline Model'!#REF!))+RAND()-0.5","v":{"$error":"#REF!"}},{"$f":"IF(PSCalculationMethod=CalculationMethodNYES,J317,IF(PSCalculationMethod=CalculationMethodNYES,'E8-Reporting Period Values'!#REF!,\"\"))","v":""},0]
[43052,4.7924991503671004,0,0,0,true,true,false,{"$f":"'E5-Baseline Model'!#REF!+SUMPRODUCT(B318:E318,TRANSPOSE('E5-Baseline Model'!#REF!))","v":{"$error":"#REF!"}},{"$f":"'E5-Baseline Model'!#REF!+SUMPRODUCT(B318:E318,TRANSPOSE('E5-Baseline Model'!#REF!))+RAND()-0.5","v":{"$error":"#REF!"}},{"$f":"IF(PSCalculationMethod=CalculationMethodNYES,J318,IF(PSCalculationMethod=CalculationMethodNYES,'E8-Reporting Period Values'!#REF!,\"\"))","v":""},0]
[43053,3.4424991503670999,0,0,0,true,true,false,{"$f":"'E5-Baseline Model'!#REF!+SUMPRODUCT(B319:E319,TRANSPOSE('E5-Baseline Model'!#REF!))","v":{"$error":"#REF!"}},{"$f":"'E5-Baseline Model'!#REF!+SUMPRODUCT(B319:E319,TRANSPOSE('E5-Baseline Model'!#REF!))+RAND()-0.5","v":{"$error":"#REF!"}},{"$f":"IF(PSCalculationMethod=CalculationMethodNYES,J319,IF(PSCalculationMethod=CalculationMethodNYES,'E8-Reporting Period Values'!#REF!,\"\"))","v":""},0]
[43054,4.1924991503670999,0,0,0,true,true,false,{"$f":"'E5-Baseline Model'!#REF!+SUMPRODUCT(B320:E320,TRANSPOSE('E5-Baseline Model'!#REF!))","v":{"$error":"#REF!"}},{"$f":"'E5-Baseline Model'!#REF!+SUMPRODUCT(B320:E320,TRANSPOSE('E5-Baseline Model'!#REF!))+RAND()-0.5","v":{"$error":"#REF!"}},{"$f":"IF(PSCalculationMethod=CalculationMethodNYES,J320,IF(PSCalculationMethod=CalculationMethodNYES,'E8-Reporting Period Values'!#REF!,\"\"))","v":""},0]
[43055,6.1924991503670999,0,0,0,true,true,false,{"$f":"'E5-Baseline Model'!#REF!+SUMPRODUCT(B321:E321,TRANSPOSE('E5-Baseline Model'!#REF!))","v":{"$error":"#REF!"}},{"$f":"'E5-Baseline Model'!#REF!+SUMPRODUCT(B321:E321,TRANSPOSE('E5-Baseline Model'!#REF!))+RAND()-0.5","v":{"$error":"#REF!"}},{"$f":"IF(PSCalculationMethod=CalculationMethodNYES,J321,IF(PSCalculationMethod=CalculationMethodNYES,'E8-Reporting Period Values'!#REF!,\"\"))","v":""},0]
[43056,13.2924991503671,0,0,0,true,true,{"$f":"IF(PSCalculationMethod=CalculationMethodMAES,F322,IF(PSCalculationMethod=CalculationMethodNYES,AND(F322,G322),FALSE))","v":false},{"$f":"'E5-Baseline Model'!#REF!+SUMPRODUCT(B322:E322,TRANSPOSE('E5-Baseline Model'!#REF!))","v":{"$error":"#REF!"}},{"$f":"'E5-Baseline Model'!#REF!+SUMPRODUCT(B322:E322,TRANSPOSE('E5-Baseline Model'!#REF!))+RAND()-0.5","v":{"$error":"#REF!"}},{"$f":"IF(PSCalculationMethod=CalculationMethodNYES,J322,IF(PSCalculationMethod=CalculationMethodNYES,'E8-Reporting Period Values'!#REF!,\"\"))","v":""},0]
[43057,12.5924991503671,1,0,0,true,true,false,{"$f":"'E5-Baseline Model'!#REF!+SUMPRODUCT(B323:E323,TRANSPOSE('E5-Baseline Model'!#REF!))","v":{"$error":"#REF!"}},{"$f":"'E5-Baseline Model'!#REF!+SUMPRODUCT(B323:E323,TRANSPOSE('E5-Baseline Model'!#REF!))+RAND()-0.5","v":{"$error":"#REF!"}},{"$f":"IF(PSCalculationMethod=CalculationMethodNYES,J323,IF(PSCalculationMethod=CalculationMethodNYES,'E8-Reporting Period Values'!#REF!,\"\"))","v":""},{"$f":"IF(H323,I323-K323,0)","v":0}]
[43058,17.7924991503671,0,1,0,true,true,false,{"$f":"'E5-Baseline Model'!#REF!+SUMPRODUCT(B324:E324,TRANSPOSE('E5-Baseline Model'!#REF!))","v":{"$error":"#REF!"}},{"$f":"'E5-Baseline Model'!#REF!+SUMPRODUCT(B324:E324,TRANSPOSE('E5-Baseline Model'!#REF!))+RAND()-0.5","v":{"$error":"#REF!"}},{"$f":"IF(PSCalculationMethod=CalculationMethodNYES,J324,IF(PSCalculationMethod=CalculationMethodNYES,'E8-Reporting Period Values'!#REF!,\"\"))","v":""},0]
[43059,6.9424991503671096,0,0,0,true,true,false,{"$f":"'E5-Baseline Model'!#REF!+SUMPRODUCT(B325:E325,TRANSPOSE('E5-Baseline Model'!#REF!))","v":{"$error":"#REF!"}},{"$f":"'E5-Baseline Model'!#REF!+SUMPRODUCT(B325:E325,TRANSPOSE('E5-Baseline Model'!#REF!))+RAND()-0.5","v":{"$error":"#REF!"}},{"$f":"IF(PSCalculationMethod=CalculationMethodNYES,J325,IF(PSCalculationMethod=CalculationMethodNYES,'E8-Reporting Period Values'!#REF!,\"\"))","v":""},0]
[43060,6.6924991503670999,0,0,0,true,true,false,{"$f":"'E5-Baseline Model'!#REF!+SUMPRODUCT(B326:E326,TRANSPOSE('E5-Baseline Model'!#REF!))","v":{"$error":"#REF!"}},{"$f":"'E5-Baseline Model'!#REF!+SUMPRODUCT(B326:E326,TRANSPOSE('E5-Baseline Model'!#REF!))+RAND()-0.5","v":{"$error":"#REF!"}},{"$f":"IF(PSCalculationMethod=CalculationMethodNYES,J326,IF(PSCalculationMethod=CalculationMethodNYES,'E8-Reporting Period Values'!#REF!,\"\"))","v":""},0]
[43061,6.6924991503670999,0,0,0,true,true,false,{"$f":"'E5-Baseline Model'!#REF!+SUMPRODUCT(B327:E327,TRANSPOSE('E5-Baseline Model'!#REF!))","v":{"$error":"#REF!"}},{"$f":"'E5-Baseline Model'!#REF!+SUMPRODUCT(B327:E327,TRANSPOSE('E5-Baseline Model'!#REF!))+RAND()-0.5","v":{"$error":"#REF!"}},{"$f":"IF(PSCalculationMethod=CalculationMethodNYES,J327,IF(PSCalculationMethod=CalculationMethodNYES,'E8-Reporting Period Values'!#REF!,\"\"))","v":""},0]
[43062,8.3424991503671002,0,0,0,true,true,false,{"$f":"'E5-Baseline Model'!#REF!+SUMPRODUCT(B328:E328,TRANSPOSE('E5-Baseline Model'!#REF!))","v":{"$error":"#REF!"}},{"$f":"'E5-Baseline Model'!#REF!+SUMPRODUCT(B328:E328,TRANSPOSE('E5-Baseline Model'!#REF!))+RAND()-0.5","v":{"$error":"#REF!"}},{"$f":"IF(PSCalculationMethod=CalculationMethodNYES,J328,IF(PSCalculationMethod=CalculationMethodNYES,'E8-Reporting Period Values'!#REF!,\"\"))","v":""},0]
[43063,11.992499150367101,0,0,0,true,true,false,{"$f":"'E5-Baseline Model'!#REF!+SUMPRODUCT(B329:E329,TRANSPOSE('E5-Baseline Model'!#REF!))","v":{"$error":"#REF!"}},{"$f":"'E5-Baseline Model'!#REF!+SUMPRODUCT(B329:E329,TRANSPOSE('E5-Baseline Model'!#REF!))+RAND()-0.5","v":{"$error":"#REF!"}},{"$f":"IF(PSCalculationMethod=CalculationMethodNYES,J329,IF(PSCalculationMethod=CalculationMethodNYES,'E8-Reporting Period Values'!#REF!,\"\"))","v":""},0]
[43064,16.0424991503671,1,0,0,true,true,false,{"$f":"'E5-Baseline Model'!#REF!+SUMPRODUCT(B330:E330,TRANSPOSE('E5-Baseline Model'!#REF!))","v":{"$error":"#REF!"}},{"$f":"'E5-Baseline Model'!#REF!+SUMPRODUCT(B330:E330,TRANSPOSE('E5-Baseline Model'!#REF!))+RAND()-0.5","v":{"$error":"#REF!"}},{"$f":"IF(PSCalculationMethod=CalculationMethodNYES,J330,IF(PSCalculationMethod=CalculationMethodNYES,'E8-Reporting Period Values'!#REF!,\"\"))","v":""},0]
[43065,6.2924991503671004,0,1,0,true,true,false,{"$f":"'E5-Baseline Model'!#REF!+SUMPRODUCT(B331:E331,TRANSPOSE('E5-Baseline Model'!#REF!))","v":{"$error":"#REF!"}},{"$f":"'E5-Baseline Model'!#REF!+SUMPRODUCT(B331:E331,TRANSPOSE('E5-Baseline Model'!#REF!))+RAND()-0.5","v":{"$error":"#REF!"}},{"$f":"IF(PSCalculationMethod=CalculationMethodNYES,J331,IF(PSCalculationMethod=CalculationMethodNYES,'E8-Reporting Period Values'!#REF!,\"\"))","v":""},0]
[43066,6.6424991503671,0,0,0,true,true,false,{"$f":"'E5-Baseline Model'!#REF!+SUMPRODUCT(B332:E332,TRANSPOSE('E5-Baseline Model'!#REF!))","v":{"$error":"#REF!"}},{"$f":"'E5-Baseline Model'!#REF!+SUMPRODUCT(B332:E332,TRANSPOSE('E5-Baseline Model'!#REF!))+RAND()-0.5","v":{"$error":"#REF!"}},{"$f":"IF(PSCalculationMethod=CalculationMethodNYES,J332,IF(PSCalculationMethod=CalculationMethodNYES,'E8-Reporting Period Values'!#REF!,\"\"))","v":""},0]
[43067,9.8424991503671002,0,0,0,true,true,false,{"$f":"'E5-Baseline Model'!#REF!+SUMPRODUCT(B333:E333,TRANSPOSE('E5-Baseline Model'!#REF!))","v":{"$error":"#REF!"}},{"$f":"'E5-Baseline Model'!#REF!+SUMPRODUCT(B333:E333,TRANSPOSE('E5-Baseline Model'!#REF!))+RAND()-0.5","v":{"$error":"#REF!"}},{"$f":"IF(PSCalculationMethod=CalculationMethodNYES,J333,IF(PSCalculationMethod=CalculationMethodNYES,'E8-Reporting Period Values'!#REF!,\"\"))","v":""},0]
[43068,9.2924991503670995,0,0,0,true,true,false,{"$f":"'E5-Baseline Model'!#REF!+SUMPRODUCT(B334:E334,TRANSPOSE('E5-Baseline Model'!#REF!))","v":{"$error":"#REF!"}},{"$f":"'E5-Baseline Model'!#REF!+SUMPRODUCT(B334:E334,TRANSPOSE('E5-Baseline Model'!#REF!))+RAND()-0.5","v":{"$error":"#REF!"}},{"$f":"IF(PSCalculationMethod=CalculationMethodNYES,J334,IF(PSCalculationMethod=CalculationMethodNYES,'E8-Reporting Period Values'!#REF!,\"\"))","v":""},0]
[43069,12.15,0,0,0,true,true,false,{"$f":"'E5-Baseline Model'!#REF!+SUMPRODUCT(B335:E335,TRANSPOSE('E5-Baseline Model'!#REF!))","v":{"$error":"#REF!"}},{"$f":"'E5-Baseline Model'!#REF!+SUMPRODUCT(B335:E335,TRANSPOSE('E5-Baseline Model'!#REF!))+RAND()-0.5","v":{"$error":"#REF!"}},{"$f":"IF(PSCalculationMethod=CalculationMethodNYES,J335,IF(PSCalculationMethod=CalculationMethodNYES,'E8-Reporting Period Values'!#REF!,\"\"))","v":""},0]
[43070,4.05,0,0,0,true,true,false,{"$f":"'E5-Baseline Model'!#REF!+SUMPRODUCT(B336:E336,TRANSPOSE('E5-Baseline Model'!#REF!))","v":{"$error":"#REF!"}},{"$f":"'E5-Baseline Model'!#REF!+SUMPRODUCT(B336:E336,TRANSPOSE('E5-Baseline Model'!#REF!))+RAND()-0.5","v":{"$error":"#REF!"}},{"$f":"IF(PSCalculationMethod=CalculationMethodNYES,J336,IF(PSCalculationMethod=CalculationMethodNYES,'E8-Reporting Period Values'!#REF!,\"\"))","v":""},0]
[43071,4.9000000000000004,1,0,0,true,true,false,{"$f":"'E5-Baseline Model'!#REF!+SUMPRODUCT(B337:E337,TRANSPOSE('E5-Baseline Model'!#REF!))","v":{"$error":"#REF!"}},{"$f":"'E5-Baseline Model'!#REF!+SUMPRODUCT(B337:E337,TRANSPOSE('E5-Baseline Model'!#REF!))+RAND()-0.5","v":{"$error":"#REF!"}},{"$f":"IF(PSCalculationMethod=CalculationMethodNYES,J337,IF(PSCalculationMethod=CalculationMethodNYES,'E8-Reporting Period Values'!#REF!,\"\"))","v":""},0]
[43072,6.85,0,1,0,true,true,false,{"$f":"'E5-Baseline Model'!#REF!+SUMPRODUCT(B338:E338,TRANSPOSE('E5-Baseline Model'!#REF!))","v":{"$error":"#REF!"}},{"$f":"'E5-Baseline Model'!#REF!+SUMPRODUCT(B338:E338,TRANSPOSE('E5-Baseline Model'!#REF!))+RAND()-0.5","v":{"$error":"#REF!"}},{"$f":"IF(PSCalculationMethod=CalculationMethodNYES,J338,IF(PSCalculationMethod=CalculationMethodNYES,'E8-Reporting Period Values'!#REF!,\"\"))","v":""},0]
[43073,6.8,0,0,0,true,true,false,{"$f":"'E5-Baseline Model'!#REF!+SUMPRODUCT(B339:E339,TRANSPOSE('E5-Baseline Model'!#REF!))","v":{"$error":"#REF!"}},{"$f":"'E5-Baseline Model'!#REF!+SUMPRODUCT(B339:E339,TRANSPOSE('E5-Baseline Model'!#REF!))+RAND()-0.5","v":{"$error":"#REF!"}},{"$f":"IF(PSCalculationMethod=CalculationMethodNYES,J339,IF(PSCalculationMethod=CalculationMethodNYES,'E8-Reporting Period Values'!#REF!,\"\"))","v":""},0]
[43074,8.15,0,0,0,true,true,false,{"$f":"'E5-Baseline Model'!#REF!+SUMPRODUCT(B340:E340,TRANSPOSE('E5-Baseline Model'!#REF!))","v":{"$error":"#REF!"}},{"$f":"'E5-Baseline Model'!#REF!+SUMPRODUCT(B340:E340,TRANSPOSE('E5-Baseline Model'!#REF!))+RAND()-0.5","v":{"$error":"#REF!"}},{"$f":"IF(PSCalculationMethod=CalculationMethodNYES,J340,IF(PSCalculationMethod=CalculationMethodNYES,'E8-Reporting Period Values'!#REF!,\"\"))","v":""},0]
[43075,11.1,0,0,0,true,true,false,{"$f":"'E5-Baseline Model'!#REF!+SUMPRODUCT(B341:E341,TRANSPOSE('E5-Baseline Model'!#REF!))","v":{"$error":"#REF!"}},{"$f":"'E5-Baseline Model'!#REF!+SUMPRODUCT(B341:E341,TRANSPOSE('E5-Baseline Model'!#REF!))+RAND()-0.5","v":{"$error":"#REF!"}},{"$f":"IF(PSCalculationMethod=CalculationMethodNYES,J341,IF(PSCalculationMethod=CalculationMethodNYES,'E8-Reporting Period Values'!#REF!,\"\"))","v":""},0]
[43076,9.85,0,0,0,true,true,false,{"$f":"'E5-Baseline Model'!#REF!+SUMPRODUCT(B342:E342,TRANSPOSE('E5-Baseline Model'!#REF!))","v":{"$error":"#REF!"}},{"$f":"'E5-Baseline Model'!#REF!+SUMPRODUCT(B342:E342,TRANSPOSE('E5-Baseline Model'!#REF!))+RAND()-0.5","v":{"$error":"#REF!"}},{"$f":"IF(PSCalculationMethod=CalculationMethodNYES,J342,IF(PSCalculationMethod=CalculationMethodNYES,'E8-Reporting Period Values'!#REF!,\"\"))","v":""},0]
[43077,7.2,0,0,0,true,true,false,{"$f":"'E5-Baseline Model'!#REF!+SUMPRODUCT(B343:E343,TRANSPOSE('E5-Baseline Model'!#REF!))","v":{"$error":"#REF!"}},{"$f":"'E5-Baseline Model'!#REF!+SUMPRODUCT(B343:E343,TRANSPOSE('E5-Baseline Model'!#REF!))+RAND()-0.5","v":{"$error":"#REF!"}},{"$f":"IF(PSCalculationMethod=CalculationMethodNYES,J343,IF(PSCalculationMethod=CalculationMethodNYES,'E8-Reporting Period Values'!#REF!,\"\"))","v":""},0]
[43078,10,1,0,0,true,true,false,{"$f":"'E5-Baseline Model'!#REF!+SUMPRODUCT(B344:E344,TRANSPOSE('E5-Baseline Model'!#REF!))","v":{"$error":"#REF!"}},{"$f":"'E5-Baseline Model'!#REF!+SUMPRODUCT(B344:E344,TRANSPOSE('E5-Baseline Model'!#REF!))+RAND()-0.5","v":{"$error":"#REF!"}},{"$f":"IF(PSCalculationMethod=CalculationMethodNYES,J344,IF(PSCalculationMethod=CalculationMethodNYES,'E8-Reporting Period Values'!#REF!,\"\"))","v":""},0]
[43079,10.35,0,1,0,true,true,false,{"$f":"'E5-Baseline Model'!#REF!+SUMPRODUCT(B345:E345,TRANSPOSE('E5-Baseline Model'!#REF!))","v":{"$error":"#REF!"}},{"$f":"'E5-Baseline Model'!#REF!+SUMPRODUCT(B345:E345,TRANSPOSE('E5-Baseline Model'!#REF!))+RAND()-0.5","v":{"$error":"#REF!"}},{"$f":"IF(PSCalculationMethod=CalculationMethodNYES,J345,IF(PSCalculationMethod=CalculationMethodNYES,'E8-Reporting Period Values'!#REF!,\"\"))","v":""},0]
[43080,8,0,0,0,true,true,false,{"$f":"'E5-Baseline Model'!#REF!+SUMPRODUCT(B346:E346,TRANSPOSE('E5-Baseline Model'!#REF!))","v":{"$error":"#REF!"}},{"$f":"'E5-Baseline Model'!#REF!+SUMPRODUCT(B346:E346,TRANSPOSE('E5-Baseline Model'!#REF!))+RAND()-0.5","v":{"$error":"#REF!"}},{"$f":"IF(PSCalculationMethod=CalculationMethodNYES,J346,IF(PSCalculationMethod=CalculationMethodNYES,'E8-Reporting Period Values'!#REF!,\"\"))","v":""},0]
[43081,9.85,0,0,0,true,true,false,{"$f":"'E5-Baseline Model'!#REF!+SUMPRODUCT(B347:E347,TRANSPOSE('E5-Baseline Model'!#REF!))","v":{"$error":"#REF!"}},{"$f":"'E5-Baseline Model'!#REF!+SUMPRODUCT(B347:E347,TRANSPOSE('E5-Baseline Model'!#REF!))+RAND()-0.5","v":{"$error":"#REF!"}},{"$f":"IF(PSCalculationMethod=CalculationMethodNYES,J347,IF(PSCalculationMethod=CalculationMethodNYES,'E8-Reporting Period Values'!#REF!,\"\"))","v":""},0]
[43082,8.15,0,0,0,true,true,false,{"$f":"'E5-Baseline Model'!#REF!+SUMPRODUCT(B348:E348,TRANSPOSE('E5-Baseline Model'!#REF!))","v":{"$error":"#REF!"}},{"$f":"'E5-Baseline Model'!#REF!+SUMPRODUCT(B348:E348,TRANSPOSE('E5-Baseline Model'!#REF!))+RAND()-0.5","v":{"$error":"#REF!"}},{"$f":"IF(PSCalculationMethod=CalculationMethodNYES,J348,IF(PSCalculationMethod=CalculationMethodNYES,'E8-Reporting Period Values'!#REF!,\"\"))","v":""},0]
[43083,7.8,0,0,0,true,true,false,{"$f":"'E5-Baseline Model'!#REF!+SUMPRODUCT(B349:E349,TRANSPOSE('E5-Baseline Model'!#REF!))","v":{"$error":"#REF!"}},{"$f":"'E5-Baseline Model'!#REF!+SUMPRODUCT(B349:E349,TRANSPOSE('E5-Baseline Model'!#REF!))+RAND()-0.5","v":{"$error":"#REF!"}},{"$f":"IF(PSCalculationMethod=CalculationMethodNYES,J349,IF(PSCalculationMethod=CalculationMethodNYES,'E8-Reporting Period Values'!#REF!,\"\"))","v":""},0]
[43084,10.1,0,0,0,true,true,false,{"$f":"'E5-Baseline Model'!#REF!+SUMPRODUCT(B350:E350,TRANSPOSE('E5-Baseline Model'!#REF!))","v":{"$error":"#REF!"}},{"$f":"'E5-Baseline Model'!#REF!+SUMPRODUCT(B350:E350,TRANSPOSE('E5-Baseline Model'!#REF!))+RAND()-0.5","v":{"$error":"#REF!"}},{"$f":"IF(PSCalculationMethod=CalculationMethodNYES,J350,IF(PSCalculationMethod=CalculationMethodNYES,'E8-Reporting Period Values'!#REF!,\"\"))","v":""},0]
[43085,12.75,1,0,0,true,true,false,{"$f":"'E5-Baseline Model'!#REF!+SUMPRODUCT(B351:E351,TRANSPOSE('E5-Baseline Model'!#REF!))","v":{"$error":"#REF!"}},{"$f":"'E5-Baseline Model'!#REF!+SUMPRODUCT(B351:E351,TRANSPOSE('E5-Baseline Model'!#REF!))+RAND()-0.5","v":{"$error":"#REF!"}},{"$f":"IF(PSCalculationMethod=CalculationMethodNYES,J351,IF(PSCalculationMethod=CalculationMethodNYES,'E8-Reporting Period Values'!#REF!,\"\"))","v":""},0]
[43086,6.8,0,1,0,true,true,false,{"$f":"'E5-Baseline Model'!#REF!+SUMPRODUCT(B352:E352,TRANSPOSE('E5-Baseline Model'!#REF!))","v":{"$error":"#REF!"}},{"$f":"'E5-Baseline Model'!#REF!+SUMPRODUCT(B352:E352,TRANSPOSE('E5-Baseline Model'!#REF!))+RAND()-0.5","v":{"$error":"#REF!"}},{"$f":"IF(PSCalculationMethod=CalculationMethodNYES,J352,IF(PSCalculationMethod=CalculationMethodNYES,'E8-Reporting Period Values'!#REF!,\"\"))","v":""},0]
[43087,8.9,0,0,0,true,true,false,{"$f":"'E5-Baseline Model'!#REF!+SUMPRODUCT(B353:E353,TRANSPOSE('E5-Baseline Model'!#REF!))","v":{"$error":"#REF!"}},{"$f":"'E5-Baseline Model'!#REF!+SUMPRODUCT(B353:E353,TRANSPOSE('E5-Baseline Model'!#REF!))+RAND()-0.5","v":{"$error":"#REF!"}},{"$f":"IF(PSCalculationMethod=CalculationMethodNYES,J353,IF(PSCalculationMethod=CalculationMethodNYES,'E8-Reporting Period Values'!#REF!,\"\"))","v":""},0]
[43088,7.05,0,0,0,true,true,false,{"$f":"'E5-Baseline Model'!#REF!+SUMPRODUCT(B354:E354,TRANSPOSE('E5-Baseline Model'!#REF!))","v":{"$error":"#REF!"}},{"$f":"'E5-Baseline Model'!#REF!+SUMPRODUCT(B354:E354,TRANSPOSE('E5-Baseline Model'!#REF!))+RAND()-0.5","v":{"$error":"#REF!"}},{"$f":"IF(PSCalculationMethod=CalculationMethodNYES,J354,IF(PSCalculationMethod=CalculationMethodNYES,'E8-Reporting Period Values'!#REF!,\"\"))","v":""},0]
[43089,8.4,0,0,0,true,true,false,{"$f":"'E5-Baseline Model'!#REF!+SUMPRODUCT(B355:E355,TRANSPOSE('E5-Baseline Model'!#REF!))","v":{"$error":"#REF!"}},{"$f":"'E5-Baseline Model'!#REF!+SUMPRODUCT(B355:E355,TRANSPOSE('E5-Baseline Model'!#REF!))+RAND()-0.5","v":{"$error":"#REF!"}},{"$f":"IF(PSCalculationMethod=CalculationMethodNYES,J355,IF(PSCalculationMethod=CalculationMethodNYES,'E8-Reporting Period Values'!#REF!,\"\"))","v":""},0]
[43090,10.55,0,0,0,true,true,false,{"$f":"'E5-Baseline Model'!#REF!+SUMPRODUCT(B356:E356,TRANSPOSE('E5-Baseline Model'!#REF!))","v":{"$error":"#REF!"}},{"$f":"'E5-Baseline Model'!#REF!+SUMPRODUCT(B356:E356,TRANSPOSE('E5-Baseline Model'!#REF!))+RAND()-0.5","v":{"$error":"#REF!"}},{"$f":"IF(PSCalculationMethod=CalculationMethodNYES,J356,IF(PSCalculationMethod=CalculationMethodNYES,'E8-Reporting Period Values'!#REF!,\"\"))","v":""},0]
[43091,11.2477983007501,0,0,0,true,true,false,{"$f":"'E5-Baseline Model'!#REF!+SUMPRODUCT(B357:E357,TRANSPOSE('E5-Baseline Model'!#REF!))","v":{"$error":"#REF!"}},{"$f":"'E5-Baseline Model'!#REF!+SUMPRODUCT(B357:E357,TRANSPOSE('E5-Baseline Model'!#REF!))+RAND()-0.5","v":{"$error":"#REF!"}},{"$f":"IF(PSCalculationMethod=CalculationMethodNYES,J357,IF(PSCalculationMethod=CalculationMethodNYES,'E8-Reporting Period Values'!#REF!,\"\"))","v":""},0]
[43092,12.8424991503671,1,0,0,true,true,false,{"$f":"'E5-Baseline Model'!#REF!+SUMPRODUCT(B358:E358,TRANSPOSE('E5-Baseline Model'!#REF!))","v":{"$error":"#REF!"}},{"$f":"'E5-Baseline Model'!#REF!+SUMPRODUCT(B358:E358,TRANSPOSE('E5-Baseline Model'!#REF!))+RAND()-0.5","v":{"$error":"#REF!"}},{"$f":"IF(PSCalculationMethod=CalculationMethodNYES,J358,IF(PSCalculationMethod=CalculationMethodNYES,'E8-Reporting Period Values'!#REF!,\"\"))","v":""},0]
[43093,10.6924991503671,0,1,0,true,true,false,{"$f":"'E5-Baseline Model'!#REF!+SUMPRODUCT(B359:E359,TRANSPOSE('E5-Baseline Model'!#REF!))","v":{"$error":"#REF!"}},{"$f":"'E5-Baseline Model'!#REF!+SUMPRODUCT(B359:E359,TRANSPOSE('E5-Baseline Model'!#REF!))+RAND()-0.5","v":{"$error":"#REF!"}},{"$f":"IF(PSCalculationMethod=CalculationMethodNYES,J359,IF(PSCalculationMethod=CalculationMethodNYES,'E8-Reporting Period Values'!#REF!,\"\"))","v":""},0]
[43094,4.95,0,0,1,true,true,false,{"$f":"'E5-Baseline Model'!#REF!+SUMPRODUCT(B360:E360,TRANSPOSE('E5-Baseline Model'!#REF!))","v":{"$error":"#REF!"}},{"$f":"'E5-Baseline Model'!#REF!+SUMPRODUCT(B360:E360,TRANSPOSE('E5-Baseline Model'!#REF!))+RAND()-0.5","v":{"$error":"#REF!"}},{"$f":"IF(PSCalculationMethod=CalculationMethodNYES,J360,IF(PSCalculationMethod=CalculationMethodNYES,'E8-Reporting Period Values'!#REF!,\"\"))","v":""},0]
[43095,6.3,0,0,1,true,true,false,{"$f":"'E5-Baseline Model'!#REF!+SUMPRODUCT(B361:E361,TRANSPOSE('E5-Baseline Model'!#REF!))","v":{"$error":"#REF!"}},{"$f":"'E5-Baseline Model'!#REF!+SUMPRODUCT(B361:E361,TRANSPOSE('E5-Baseline Model'!#REF!))+RAND()-0.5","v":{"$error":"#REF!"}},{"$f":"IF(PSCalculationMethod=CalculationMethodNYES,J361,IF(PSCalculationMethod=CalculationMethodNYES,'E8-Reporting Period Values'!#REF!,\"\"))","v":""},0]
[43096,7.6,0,0,0,true,true,false,{"$f":"'E5-Baseline Model'!#REF!+SUMPRODUCT(B362:E362,TRANSPOSE('E5-Baseline Model'!#REF!))","v":{"$error":"#REF!"}},{"$f":"'E5-Baseline Model'!#REF!+SUMPRODUCT(B362:E362,TRANSPOSE('E5-Baseline Model'!#REF!))+RAND()-0.5","v":{"$error":"#REF!"}},{"$f":"IF(PSCalculationMethod=CalculationMethodNYES,J362,IF(PSCalculationMethod=CalculationMethodNYES,'E8-Reporting Period Values'!#REF!,\"\"))","v":""},0]
[43097,8.9499999999999993,0,0,0,true,true,false,{"$f":"'E5-Baseline Model'!#REF!+SUMPRODUCT(B363:E363,TRANSPOSE('E5-Baseline Model'!#REF!))","v":{"$error":"#REF!"}},{"$f":"'E5-Baseline Model'!#REF!+SUMPRODUCT(B363:E363,TRANSPOSE('E5-Baseline Model'!#REF!))+RAND()-0.5","v":{"$error":"#REF!"}},{"$f":"IF(PSCalculationMethod=CalculationMethodNYES,J363,IF(PSCalculationMethod=CalculationMethodNYES,'E8-Reporting Period Values'!#REF!,\"\"))","v":""},0]
[43098,8.5,0,0,0,true,true,false,{"$f":"'E5-Baseline Model'!#REF!+SUMPRODUCT(B364:E364,TRANSPOSE('E5-Baseline Model'!#REF!))","v":{"$error":"#REF!"}},{"$f":"'E5-Baseline Model'!#REF!+SUMPRODUCT(B364:E364,TRANSPOSE('E5-Baseline Model'!#REF!))+RAND()-0.5","v":{"$error":"#REF!"}},{"$f":"IF(PSCalculationMethod=CalculationMethodNYES,J364,IF(PSCalculationMethod=CalculationMethodNYES,'E8-Reporting Period Values'!#REF!,\"\"))","v":""},0]
[43099,8.4499999999999993,1,0,0,true,true,false,{"$f":"'E5-Baseline Model'!#REF!+SUMPRODUCT(B365:E365,TRANSPOSE('E5-Baseline Model'!#REF!))","v":{"$error":"#REF!"}},{"$f":"'E5-Baseline Model'!#REF!+SUMPRODUCT(B365:E365,TRANSPOSE('E5-Baseline Model'!#REF!))+RAND()-0.5","v":{"$error":"#REF!"}},{"$f":"IF(PSCalculationMethod=CalculationMethodNYES,J365,IF(PSCalculationMethod=CalculationMethodNYES,'E8-Reporting Period Values'!#REF!,\"\"))","v":""},0]
[43100,11.1,0,1,0,true,true,false,{"$f":"'E5-Baseline Model'!#REF!+SUMPRODUCT(B366:E366,TRANSPOSE('E5-Baseline Model'!#REF!))","v":{"$error":"#REF!"}},{"$f":"'E5-Baseline Model'!#REF!+SUMPRODUCT(B366:E366,TRANSPOSE('E5-Baseline Model'!#REF!))+RAND()-0.5","v":{"$error":"#REF!"}},{"$f":"IF(PSCalculationMethod=CalculationMethodNYES,J366,IF(PSCalculationMethod=CalculationMethodNYES,'E8-Reporting Period Values'!#REF!,\"\"))","v":""},0]

{"sheet":"E10-MAES","index":20,"n_rows":403,"n_cols":11,"rows_kept":403,"cut":false,"hidden":true,"merged":[[22,1,22,4],[23,1,23,4],[24,1,24,4],[25,1,25,4],[17,1,17,5],[18,1,18,5],[36,8,37,8],[36,3,37,3],[11,1,11,2],[36,7,37,7],[36,2,37,2],[36,5,37,5],[34,1,34,7],[28,1,28,7],[36,6,37,6],[36,1,37,1],[36,4,37,4],[13,1,13,12],[15,1,15,5],[16,1,16,5],[26,1,26,4],[20,1,20,12],[3,1,3,12],[5,1,5,3],[10,7,10,8],[10,9,10,10],[10,3,10,4],[10,5,10,6],[8,1,8,12],[10,1,10,2]]}
[null,null,"E10 - Measured Annual Energy Savings"]
[]
[{"$f":"LEFT(C1,1)","v":"E"},{"$f":"VLOOKUP(A3,EnergySourceLookup,2,FALSE)","v":"Electricity"},{"$f":"VLOOKUP(A3,EnergySourceLookup,3,FALSE)","v":"MWh"}]
[null,"Equation"]
[]
[null,"Equation 5:"]
[null,null,"measured annual energy savings =  Σt ( EBM,t – Emeas,t ) + Eint"]
[]
[null,"Effective range"]
[]
[null,"BASELINE ENERGY MODEL",null,"Reporting Year Values",null,"Baseline Measurements",null,"Baseline Energy Model Effective Range",null,"# of Reporting Year Values Outside of Baseline Effective Range"]
[null,"Variable",null,"Minimum","Maximum","Minimum","Maximum","Minimum","Maximum","< Minimum","> Maximum"]
[]
[null,"Eligible Time Intervals"]
[null,null,null,null,null,null,null,null,"NYESBaselineEnergyMin","NYESOperatingEnergyMin","NYESSavingsEnergyMin"]
[null,"Number of time intervals in Reporting Year:",null,null,null,null,{"$f":"COUNTA($H$39:$H$403)","v":365},null,"NYESBaselineEnergyMax","NYESOperatingEnergyMax","NYESSavingsEnergyMax"]
[null,"Number of ineligible time intervals:",null,null,null,null,{"$f":"COUNTIF($H$39:$H$403,FALSE)","v":0},null,"NYESBaselineEnergyMax","NYESOperatingEnergyMax","NYESSavingsEnergyMax"]
[null,"Number of eligible time intervals:",null,null,null,null,{"$f":"G16-G17","v":365},null,"NYESBaselineEnergyMax","NYESOperatingEnergyMax","NYESSavingsEnergyMax"]
[null,"% eligible time intervals",null,null,null,null,{"$f":"IFERROR(G18/G16,\"\")","v":1},null,"NYESBaselineEnergyMax","NYESOperatingEnergyMax","NYESSavingsEnergyMax"]
[]
[null,"Energy Savings"]
[]
[null,"Item Name",null,null,null,"Units","Energy"]
[null,"Baseline Normal Year Annual Energy Consumption",null,null,null,{"$f":"$C$3","v":"MWh"},{"$f":"SUMIF($H$39:$H$403,TRUE,$G$39:$G$403)","v":0}]
[null,"Reporting Period Measured Annual Energy Consumption",null,null,null,{"$f":"F24","v":"MWh"},{"$f":"SUMIF($H$39:$H$403,TRUE,$C$39:$C$403)","v":0}]
[null,"Annual Interactive Energy Savings",null,null,null,{"$f":"F25","v":"MWh"},{"$f":"E9AnnualInteractiveSavings","v":0}]
[null,"Measured Annual Energy Savings",null,null,null,{"$f":"F26","v":"MWh"},{"$f":"IFERROR(G24-G25+G26,\"\")","v":0}]
[]
[null,"Chart of Gross Measured Annual Energy Savings"]
[]
[]
[]
[]
[]
[null,"Reporting Period Values and Calculated Energy"]
[]
[null,"Date / Time",{"$f":"\"Reported energy consumption (\" & $C$3 & \")\"","v":"Reported energy consumption (MWh)"},"Time interval data excluded?","Site constants all at normal values?","Within baseline model effective range?",{"$f":"\"Baseline energy consumption (\" & $C$3 & \")\"","v":"Baseline energy consumption (MWh)"},"Eligible time interval?","Energy savings"]
[]
[null,null,null,null,{"$f":"TRUE","v":true},{"$f":"TRUE","v":true},{"$f":"IFERROR(NA(),E5InterceptValue + 0)","v":0},{"$f":"AND(UPPER(LEFT(D39))<>\"Y\",E39,F39)","v":true},{"$f":"IF(H39,G39-C39,NA())","v":0}]
[null,null,null,null,{"$f":"TRUE","v":true},{"$f":"TRUE","v":true},{"$f":"IFERROR(NA(),E5InterceptValue + 0)","v":0},true,0]
[null,null,null,null,{"$f":"TRUE","v":true},{"$f":"TRUE","v":true},{"$f":"IFERROR(NA(),E5InterceptValue + 0)","v":0},true,0]
[null,null,null,null,{"$f":"TRUE","v":true},{"$f":"TRUE","v":true},{"$f":"IFERROR(NA(),E5InterceptValue + 0)","v":0},true,0]
[null,null,null,null,{"$f":"TRUE","v":true},{"$f":"TRUE","v":true},{"$f":"IFERROR(NA(),E5InterceptValue + 0)","v":0},true,0]
[null,null,null,null,{"$f":"TRUE","v":true},{"$f":"TRUE","v":true},{"$f":"IFERROR(NA(),E5InterceptValue + 0)","v":0},true,0]
[null,null,null,null,{"$f":"TRUE","v":true},{"$f":"TRUE","v":true},{"$f":"IFERROR(NA(),E5InterceptValue + 0)","v":0},true,0]
[null,null,null,null,{"$f":"TRUE","v":true},{"$f":"TRUE","v":true},{"$f":"IFERROR(NA(),E5InterceptValue + 0)","v":0},true,0]
[null,null,null,null,{"$f":"TRUE","v":true},{"$f":"TRUE","v":true},{"$f":"IFERROR(NA(),E5InterceptValue + 0)","v":0},true,0]
[null,null,null,null,{"$f":"TRUE","v":true},{"$f":"TRUE","v":true},{"$f":"IFERROR(NA(),E5InterceptValue + 0)","v":0},true,0]
[null,null,null,null,{"$f":"TRUE","v":true},{"$f":"TRUE","v":true},{"$f":"IFERROR(NA(),E5InterceptValue + 0)","v":0},true,0]
[null,null,null,null,{"$f":"TRUE","v":true},{"$f":"TRUE","v":true},{"$f":"IFERROR(NA(),E5InterceptValue + 0)","v":0},true,0]
[null,null,null,null,{"$f":"TRUE","v":true},{"$f":"TRUE","v":true},{"$f":"IFERROR(NA(),E5InterceptValue + 0)","v":0},true,0]
[null,null,null,null,{"$f":"TRUE","v":true},{"$f":"TRUE","v":true},{"$f":"IFERROR(NA(),E5InterceptValue + 0)","v":0},true,0]
[null,null,null,null,{"$f":"TRUE","v":true},{"$f":"TRUE","v":true},{"$f":"IFERROR(NA(),E5InterceptValue + 0)","v":0},true,0]
[null,null,null,null,{"$f":"TRUE","v":true},{"$f":"TRUE","v":true},{"$f":"IFERROR(NA(),E5InterceptValue + 0)","v":0},true,0]
[null,null,null,null,{"$f":"TRUE","v":true},{"$f":"TRUE","v":true},{"$f":"IFERROR(NA(),E5InterceptValue + 0)","v":0},true,0]
[null,null,null,null,{"$f":"TRUE","v":true},{"$f":"TRUE","v":true},{"$f":"IFERROR(NA(),E5InterceptValue + 0)","v":0},true,0]
[null,null,null,null,{"$f":"TRUE","v":true},{"$f":"TRUE","v":true},{"$f":"IFERROR(NA(),E5InterceptValue + 0)","v":0},true,0]
[null,null,null,null,{"$f":"TRUE","v":true},{"$f":"TRUE","v":true},{"$f":"IFERROR(NA(),E5InterceptValue + 0)","v":0},true,0]
[null,null,null,null,{"$f":"TRUE","v":true},{"$f":"TRUE","v":true},{"$f":"IFERROR(NA(),E5InterceptValue + 0)","v":0},true,0]
[null,null,null,null,{"$f":"TRUE","v":true},{"$f":"TRUE","v":true},{"$f":"IFERROR(NA(),E5InterceptValue + 0)","v":0},true,0]
[null,null,null,null,{"$f":"TRUE","v":true},{"$f":"TRUE","v":true},{"$f":"IFERROR(NA(),E5InterceptValue + 0)","v":0},true,0]
[null,null,null,null,{"$f":"TRUE","v":true},{"$f":"TRUE","v":true},{"$f":"IFERROR(NA(),E5InterceptValue + 0)","v":0},true,0]
[null,null,null,null,{"$f":"TRUE","v":true},{"$f":"TRUE","v":true},{"$f":"IFERROR(NA(),E5InterceptValue + 0)","v":0},true,0]
[null,null,null,null,{"$f":"TRUE","v":true},{"$f":"TRUE","v":true},{"$f":"IFERROR(NA(),E5InterceptValue + 0)","v":0},true,0]
[null,null,null,null,{"$f":"TRUE","v":true},{"$f":"TRUE","v":true},{"$f":"IFERROR(NA(),E5InterceptValue + 0)","v":0},true,0]
[null,null,null,null,{"$f":"TRUE","v":true},{"$f":"TRUE","v":true},{"$f":"IFERROR(NA(),E5InterceptValue + 0)","v":0},true,0]
[null,null,null,null,{"$f":"TRUE","v":true},{"$f":"TRUE","v":true},{"$f":"IFERROR(NA(),E5InterceptValue + 0)","v":0},true,0]
[null,null,null,null,{"$f":"TRUE","v":true},{"$f":"TRUE","v":true},{"$f":"IFERROR(NA(),E5InterceptValue + 0)","v":0},true,0]
[null,null,null,null,{"$f":"TRUE","v":true},{"$f":"TRUE","v":true},{"$f":"IFERROR(NA(),E5InterceptValue + 0)","v":0},true,0]
[null,null,null,null,{"$f":"TRUE","v":true},{"$f":"TRUE","v":true},{"$f":"IFERROR(NA(),E5InterceptValue + 0)","v":0},true,0]
[null,null,null,null,{"$f":"TRUE","v":true},{"$f":"TRUE","v":true},{"$f":"IFERROR(NA(),E5InterceptValue + 0)","v":0},true,0]
[null,null,null,null,{"$f":"TRUE","v":true},{"$f":"TRUE","v":true},{"$f":"IFERROR(NA(),E5InterceptValue + 0)","v":0},true,0]
[null,null,null,null,{"$f":"TRUE","v":true},{"$f":"TRUE","v":true},{"$f":"IFERROR(NA(),E5InterceptValue + 0)","v":0},true,0]
[null,null,null,null,{"$f":"TRUE","v":true},{"$f":"TRUE","v":true},{"$f":"IFERROR(NA(),E5InterceptValue + 0)","v":0},true,0]
[null,null,null,null,{"$f":"TRUE","v":true},{"$f":"TRUE","v":true},{"$f":"IFERROR(NA(),E5InterceptValue + 0)","v":0},true,0]
[null,null,null,null,{"$f":"TRUE","v":true},{"$f":"TRUE","v":true},{"$f":"IFERROR(NA(),E5InterceptValue + 0)","v":0},true,0]
[null,null,null,null,{"$f":"TRUE","v":true},{"$f":"TRUE","v":true},{"$f":"IFERROR(NA(),E5InterceptValue + 0)","v":0},true,0]
[null,null,null,null,{"$f":"TRUE","v":true},{"$f":"TRUE","v":true},{"$f":"IFERROR(NA(),E5InterceptValue + 0)","v":0},true,0]
[null,null,null,null,{"$f":"TRUE","v":true},{"$f":"TRUE","v":true},{"$f":"IFERROR(NA(),E5InterceptValue + 0)","v":0},true,0]
[null,null,null,null,{"$f":"TRUE","v":true},{"$f":"TRUE","v":true},{"$f":"IFERROR(NA(),E5InterceptValue + 0)","v":0},true,0]
[null,null,null,null,{"$f":"TRUE","v":true},{"$f":"TRUE","v":true},{"$f":"IFERROR(NA(),E5InterceptValue + 0)","v":0},true,0]
[null,null,null,null,{"$f":"TRUE","v":true},{"$f":"TRUE","v":true},{"$f":"IFERROR(NA(),E5InterceptValue + 0)","v":0},true,0]
[null,null,null,null,{"$f":"TRUE","v":true},{"$f":"TRUE","v":true},{"$f":"IFERROR(NA(),E5InterceptValue + 0)","v":0},true,0]
[null,null,null,null,{"$f":"TRUE","v":true},{"$f":"TRUE","v":true},{"$f":"IFERROR(NA(),E5InterceptValue + 0)","v":0},true,0]
[null,null,null,null,{"$f":"TRUE","v":true},{"$f":"TRUE","v":true},{"$f":"IFERROR(NA(),E5InterceptValue + 0)","v":0},true,0]
[null,null,null,null,{"$f":"TRUE","v":true},{"$f":"TRUE","v":true},{"$f":"IFERROR(NA(),E5InterceptValue + 0)","v":0},true,0]
[null,null,null,null,{"$f":"TRUE","v":true},{"$f":"TRUE","v":true},{"$f":"IFERROR(NA(),E5InterceptValue + 0)","v":0},true,0]
[null,null,null,null,{"$f":"TRUE","v":true},{"$f":"TRUE","v":true},{"$f":"IFERROR(NA(),E5InterceptValue + 0)","v":0},true,0]
[null,null,null,null,{"$f":"TRUE","v":true},{"$f":"TRUE","v":true},{"$f":"IFERROR(NA(),E5InterceptValue + 0)","v":0},true,0]
[null,null,null,null,{"$f":"TRUE","v":true},{"$f":"TRUE","v":true},{"$f":"IFERROR(NA(),E5InterceptValue + 0)","v":0},true,0]
[null,null,null,null,{"$f":"TRUE","v":true},{"$f":"TRUE","v":true},{"$f":"IFERROR(NA(),E5InterceptValue + 0)","v":0},true,0]
[null,null,null,null,{"$f":"TRUE","v":true},{"$f":"TRUE","v":true},{"$f":"IFERROR(NA(),E5InterceptValue + 0)","v":0},true,0]
[null,null,null,null,{"$f":"TRUE","v":true},{"$f":"TRUE","v":true},{"$f":"IFERROR(NA(),E5InterceptValue + 0)","v":0},true,0]
[null,null,null,null,{"$f":"TRUE","v":true},{"$f":"TRUE","v":true},{"$f":"IFERROR(NA(),E5InterceptValue + 0)","v":0},true,0]
[null,null,null,null,{"$f":"TRUE","v":true},{"$f":"TRUE","v":true},{"$f":"IFERROR(NA(),E5InterceptValue + 0)","v":0},true,0]
[null,null,null,null,{"$f":"TRUE","v":true},{"$f":"TRUE","v":true},{"$f":"IFERROR(NA(),E5InterceptValue + 0)","v":0},true,0]
[null,null,null,null,{"$f":"TRUE","v":true},{"$f":"TRUE","v":true},{"$f":"IFERROR(NA(),E5InterceptValue + 0)","v":0},true,0]
[null,null,null,null,{"$f":"TRUE","v":true},{"$f":"TRUE","v":true},{"$f":"IFERROR(NA(),E5InterceptValue + 0)","v":0},true,0]
[null,null,null,null,{"$f":"TRUE","v":true},{"$f":"TRUE","v":true},{"$f":"IFERROR(NA(),E5InterceptValue + 0)","v":0},true,0]
[null,null,null,null,{"$f":"TRUE","v":true},{"$f":"TRUE","v":true},{"$f":"IFERROR(NA(),E5InterceptValue + 0)","v":0},true,0]
[null,null,null,null,{"$f":"TRUE","v":true},{"$f":"TRUE","v":true},{"$f":"IFERROR(NA(),E5InterceptValue + 0)","v":0},true,0]
[null,null,null,null,{"$f":"TRUE","v":true},{"$f":"TRUE","v":true},{"$f":"IFERROR(NA(),E5InterceptValue + 0)","v":0},true,0]
[null,null,null,null,{"$f":"TRUE","v":true},{"$f":"TRUE","v":true},{"$f":"IFERROR(NA(),E5InterceptValue + 0)","v":0},{"$f":"AND(UPPER(LEFT(D103))<>\"Y\",E103,F103)","v":true},{"$f":"IF(H103,G103-C103,NA())","v":0}]
[null,null,null,null,{"$f":"TRUE","v":true},{"$f":"TRUE","v":true},{"$f":"IFERROR(NA(),E5InterceptValue + 0)","v":0},true,0]
[null,null,null,null,{"$f":"TRUE","v":true},{"$f":"TRUE","v":true},{"$f":"IFERROR(NA(),E5InterceptValue + 0)","v":0},true,0]
[null,null,null,null,{"$f":"TRUE","v":true},{"$f":"TRUE","v":true},{"$f":"IFERROR(NA(),E5InterceptValue + 0)","v":0},true,0]
[null,null,null,null,{"$f":"TRUE","v":true},{"$f":"TRUE","v":true},{"$f":"IFERROR(NA(),E5InterceptValue + 0)","v":0},true,0]
[null,null,null,null,{"$f":"TRUE","v":true},{"$f":"TRUE","v":true},{"$f":"IFERROR(NA(),E5InterceptValue + 0)","v":0},true,0]
[null,null,null,null,{"$f":"TRUE","v":true},{"$f":"TRUE","v":true},{"$f":"IFERROR(NA(),E5InterceptValue + 0)","v":0},true,0]
[null,null,null,null,{"$f":"TRUE","v":true},{"$f":"TRUE","v":true},{"$f":"IFERROR(NA(),E5InterceptValue + 0)","v":0},true,0]
[null,null,null,null,{"$f":"TRUE","v":true},{"$f":"TRUE","v":true},{"$f":"IFERROR(NA(),E5InterceptValue + 0)","v":0},true,0]
[null,null,null,null,{"$f":"TRUE","v":true},{"$f":"TRUE","v":true},{"$f":"IFERROR(NA(),E5InterceptValue + 0)","v":0},true,0]
[null,null,null,null,{"$f":"TRUE","v":true},{"$f":"TRUE","v":true},{"$f":"IFERROR(NA(),E5InterceptValue + 0)","v":0},true,0]
[null,null,null,null,{"$f":"TRUE","v":true},{"$f":"TRUE","v":true},{"$f":"IFERROR(NA(),E5InterceptValue + 0)","v":0},true,0]
[null,null,null,null,{"$f":"TRUE","v":true},{"$f":"TRUE","v":true},{"$f":"IFERROR(NA(),E5InterceptValue + 0)","v":0},true,0]
[null,null,null,null,{"$f":"TRUE","v":true},{"$f":"TRUE","v":true},{"$f":"IFERROR(NA(),E5InterceptValue + 0)","v":0},true,0]
[null,null,null,null,{"$f":"TRUE","v":true},{"$f":"TRUE","v":true},{"$f":"IFERROR(NA(),E5InterceptValue + 0)","v":0},true,0]
[null,null,null,null,{"$f":"TRUE","v":true},{"$f":"TRUE","v":true},{"$f":"IFERROR(NA(),E5InterceptValue + 0)","v":0},true,0]
[null,null,null,null,{"$f":"TRUE","v":true},{"$f":"TRUE","v":true},{"$f":"IFERROR(NA(),E5InterceptValue + 0)","v":0},true,0]
[null,null,null,null,{"$f":"TRUE","v":true},{"$f":"TRUE","v":true},{"$f":"IFERROR(NA(),E5InterceptValue + 0)","v":0},true,0]
[null,null,null,null,{"$f":"TRUE","v":true},{"$f":"TRUE","v":true},{"$f":"IFERROR(NA(),E5InterceptValue + 0)","v":0},true,0]
[null,null,null,null,{"$f":"TRUE","v":true},{"$f":"TRUE","v":true},{"$f":"IFERROR(NA(),E5InterceptValue + 0)","v":0},true,0]
[null,null,null,null,{"$f":"TRUE","v":true},{"$f":"TRUE","v":true},{"$f":"IFERROR(NA(),E5InterceptValue + 0)","v":0},true,0]
[null,null,null,null,{"$f":"TRUE","v":true},{"$f":"TRUE","v":true},{"$f":"IFERROR(NA(),E5InterceptValue + 0)","v":0},true,0]
[null,null,null,null,{"$f":"TRUE","v":true},{"$f":"TRUE","v":true},{"$f":"IFERROR(NA(),E5InterceptValue + 0)","v":0},true,0]
[null,null,null,null,{"$f":"TRUE","v":true},{"$f":"TRUE","v":true},{"$f":"IFERROR(NA(),E5InterceptValue + 0)","v":0},true,0]
[null,null,null,null,{"$f":"TRUE","v":true},{"$f":"TRUE","v":true},{"$f":"IFERROR(NA(),E5InterceptValue + 0)","v":0},true,0]
[null,null,null,null,{"$f":"TRUE","v":true},{"$f":"TRUE","v":true},{"$f":"IFERROR(NA(),E5InterceptValue + 0)","v":0},true,0]
[null,null,null,null,{"$f":"TRUE","v":true},{"$f":"TRUE","v":true},{"$f":"IFERROR(NA(),E5InterceptValue + 0)","v":0},true,0]
[null,null,null,null,{"$f":"TRUE","v":true},{"$f":"TRUE","v":true},{"$f":"IFERROR(NA(),E5InterceptValue + 0)","v":0},true,0]
[null,null,null,null,{"$f":"TRUE","v":true},{"$f":"TRUE","v":true},{"$f":"IFERROR(NA(),E5InterceptValue + 0)","v":0},true,0]
[null,null,null,null,{"$f":"TRUE","v":true},{"$f":"TRUE","v":true},{"$f":"IFERROR(NA(),E5InterceptValue + 0)","v":0},true,0]
[null,null,null,null,{"$f":"TRUE","v":true},{"$f":"TRUE","v":true},{"$f":"IFERROR(NA(),E5InterceptValue + 0)","v":0},true,0]
[null,null,null,null,{"$f":"TRUE","v":true},{"$f":"TRUE","v":true},{"$f":"IFERROR(NA(),E5InterceptValue + 0)","v":0},true,0]
[null,null,null,null,{"$f":"TRUE","v":true},{"$f":"TRUE","v":true},{"$f":"IFERROR(NA(),E5InterceptValue + 0)","v":0},true,0]
[null,null,null,null,{"$f":"TRUE","v":true},{"$f":"TRUE","v":true},{"$f":"IFERROR(NA(),E5InterceptValue + 0)","v":0},true,0]
[null,null,null,null,{"$f":"TRUE","v":true},{"$f":"TRUE","v":true},{"$f":"IFERROR(NA(),E5InterceptValue + 0)","v":0},true,0]
[null,null,null,null,{"$f":"TRUE","v":true},{"$f":"TRUE","v":true},{"$f":"IFERROR(NA(),E5InterceptValue + 0)","v":0},true,0]
[null,null,null,null,{"$f":"TRUE","v":true},{"$f":"TRUE","v":true},{"$f":"IFERROR(NA(),E5InterceptValue + 0)","v":0},true,0]
[null,null,null,null,{"$f":"TRUE","v":true},{"$f":"TRUE","v":true},{"$f":"IFERROR(NA(),E5InterceptValue + 0)","v":0},true,0]
[null,null,null,null,{"$f":"TRUE","v":true},{"$f":"TRUE","v":true},{"$f":"IFERROR(NA(),E5InterceptValue + 0)","v":0},true,0]
[null,null,null,null,{"$f":"TRUE","v":true},{"$f":"TRUE","v":true},{"$f":"IFERROR(NA(),E5InterceptValue + 0)","v":0},true,0]
[null,null,null,null,{"$f":"TRUE","v":true},{"$f":"TRUE","v":true},{"$f":"IFERROR(NA(),E5InterceptValue + 0)","v":0},true,0]
[null,null,null,null,{"$f":"TRUE","v":true},{"$f":"TRUE","v":true},{"$f":"IFERROR(NA(),E5InterceptValue + 0)","v":0},true,0]
[null,null,null,null,{"$f":"TRUE","v":true},{"$f":"TRUE","v":true},{"$f":"IFERROR(NA(),E5InterceptValue + 0)","v":0},true,0]
[null,null,null,null,{"$f":"TRUE","v":true},{"$f":"TRUE","v":true},{"$f":"IFERROR(NA(),E5InterceptValue + 0)","v":0},true,0]
[null,null,null,null,{"$f":"TRUE","v":true},{"$f":"TRUE","v":true},{"$f":"IFERROR(NA(),E5InterceptValue + 0)","v":0},true,0]
[null,null,null,null,{"$f":"TRUE","v":true},{"$f":"TRUE","v":true},{"$f":"IFERROR(NA(),E5InterceptValue + 0)","v":0},true,0]
[null,null,null,null,{"$f":"TRUE","v":true},{"$f":"TRUE","v":true},{"$f":"IFERROR(NA(),E5InterceptValue + 0)","v":0},true,0]
[null,null,null,null,{"$f":"TRUE","v":true},{"$f":"TRUE","v":true},{"$f":"IFERROR(NA(),E5InterceptValue + 0)","v":0},true,0]
[null,null,null,null,{"$f":"TRUE","v":true},{"$f":"TRUE","v":true},{"$f":"IFERROR(NA(),E5InterceptValue + 0)","v":0},true,0]
[null,null,null,null,{"$f":"TRUE","v":true},{"$f":"TRUE","v":true},{"$f":"IFERROR(NA(),E5InterceptValue + 0)","v":0},true,0]
[null,null,null,null,{"$f":"TRUE","v":true},{"$f":"TRUE","v":true},{"$f":"IFERROR(NA(),E5InterceptValue + 0)","v":0},true,0]
[null,null,null,null,{"$f":"TRUE","v":true},{"$f":"TRUE","v":true},{"$f":"IFERROR(NA(),E5InterceptValue + 0)","v":0},true,0]
[null,null,null,null,{"$f":"TRUE","v":true},{"$f":"TRUE","v":true},{"$f":"IFERROR(NA(),E5InterceptValue + 0)","v":0},true,0]
[null,null,null,null,{"$f":"TRUE","v":true},{"$f":"TRUE","v":true},{"$f":"IFERROR(NA(),E5InterceptValue + 0)","v":0},true,0]
[null,null,null,null,{"$f":"TRUE","v":true},{"$f":"TRUE","v":true},{"$f":"IFERROR(NA(),E5InterceptValue + 0)","v":0},true,0]
[null,null,null,null,{"$f":"TRUE","v":true},{"$f":"TRUE","v":true},{"$f":"IFERROR(NA(),E5InterceptValue + 0)","v":0},true,0]
[null,null,null,null,{"$f":"TRUE","v":true},{"$f":"TRUE","v":true},{"$f":"IFERROR(NA(),E5InterceptValue + 0)","v":0},true,0]
[null,null,null,null,{"$f":"TRUE","v":true},{"$f":"TRUE","v":true},{"$f":"IFERROR(NA(),E5InterceptValue + 0)","v":0},true,0]
[null,null,null,null,{"$f":"TRUE","v":true},{"$f":"TRUE","v":true},{"$f":"IFERROR(NA(),E5InterceptValue + 0)","v":0},true,0]
[null,null,null,null,{"$f":"TRUE","v":true},{"$f":"TRUE","v":true},{"$f":"IFERROR(NA(),E5InterceptValue + 0)","v":0},true,0]
[null,null,null,null,{"$f":"TRUE","v":true},{"$f":"TRUE","v":true},{"$f":"IFERROR(NA(),E5InterceptValue + 0)","v":0},true,0]
[null,null,null,null,{"$f":"TRUE","v":true},{"$f":"TRUE","v":true},{"$f":"IFERROR(NA(),E5InterceptValue + 0)","v":0},true,0]
[null,null,null,null,{"$f":"TRUE","v":true},{"$f":"TRUE","v":true},{"$f":"IFERROR(NA(),E5InterceptValue + 0)","v":0},true,0]
[null,null,null,null,{"$f":"TRUE","v":true},{"$f":"TRUE","v":true},{"$f":"IFERROR(NA(),E5InterceptValue + 0)","v":0},true,0]
[null,null,null,null,{"$f":"TRUE","v":true},{"$f":"TRUE","v":true},{"$f":"IFERROR(NA(),E5InterceptValue + 0)","v":0},{"$f":"AND(UPPER(LEFT(D167))<>\"Y\",E167,F167)","v":true},{"$f":"IF(H167,G167-C167,NA())","v":0}]
[null,null,null,null,{"$f":"TRUE","v":true},{"$f":"TRUE","v":true},{"$f":"IFERROR(NA(),E5InterceptValue + 0)","v":0},true,0]
[null,null,null,null,{"$f":"TRUE","v":true},{"$f":"TRUE","v":true},{"$f":"IFERROR(NA(),E5InterceptValue + 0)","v":0},true,0]
[null,null,null,null,{"$f":"TRUE","v":true},{"$f":"TRUE","v":true},{"$f":"IFERROR(NA(),E5InterceptValue + 0)","v":0},true,0]
[null,null,null,null,{"$f":"TRUE","v":true},{"$f":"TRUE","v":true},{"$f":"IFERROR(NA(),E5InterceptValue + 0)","v":0},true,0]
[null,null,null,null,{"$f":"TRUE","v":true},{"$f":"TRUE","v":true},{"$f":"IFERROR(NA(),E5InterceptValue + 0)","v":0},true,0]
[null,null,null,null,{"$f":"TRUE","v":true},{"$f":"TRUE","v":true},{"$f":"IFERROR(NA(),E5InterceptValue + 0)","v":0},true,0]
[null,null,null,null,{"$f":"TRUE","v":true},{"$f":"TRUE","v":true},{"$f":"IFERROR(NA(),E5InterceptValue + 0)","v":0},true,0]
[null,null,null,null,{"$f":"TRUE","v":true},{"$f":"TRUE","v":true},{"$f":"IFERROR(NA(),E5InterceptValue + 0)","v":0},true,0]
[null,null,null,null,{"$f":"TRUE","v":true},{"$f":"TRUE","v":true},{"$f":"IFERROR(NA(),E5InterceptValue + 0)","v":0},true,0]
[null,null,null,null,{"$f":"TRUE","v":true},{"$f":"TRUE","v":true},{"$f":"IFERROR(NA(),E5InterceptValue + 0)","v":0},true,0]
[null,null,null,null,{"$f":"TRUE","v":true},{"$f":"TRUE","v":true},{"$f":"IFERROR(NA(),E5InterceptValue + 0)","v":0},true,0]
[null,null,null,null,{"$f":"TRUE","v":true},{"$f":"TRUE","v":true},{"$f":"IFERROR(NA(),E5InterceptValue + 0)","v":0},true,0]
[null,null,null,null,{"$f":"TRUE","v":true},{"$f":"TRUE","v":true},{"$f":"IFERROR(NA(),E5InterceptValue + 0)","v":0},true,0]
[null,null,null,null,{"$f":"TRUE","v":true},{"$f":"TRUE","v":true},{"$f":"IFERROR(NA(),E5InterceptValue + 0)","v":0},true,0]
[null,null,null,null,{"$f":"TRUE","v":true},{"$f":"TRUE","v":true},{"$f":"IFERROR(NA(),E5InterceptValue + 0)","v":0},true,0]
[null,null,null,null,{"$f":"TRUE","v":true},{"$f":"TRUE","v":true},{"$f":"IFERROR(NA(),E5InterceptValue + 0)","v":0},true,0]
[null,null,null,null,{"$f":"TRUE","v":true},{"$f":"TRUE","v":true},{"$f":"IFERROR(NA(),E5InterceptValue + 0)","v":0},true,0]
[null,null,null,null,{"$f":"TRUE","v":true},{"$f":"TRUE","v":true},{"$f":"IFERROR(NA(),E5InterceptValue + 0)","v":0},true,0]
[null,null,null,null,{"$f":"TRUE","v":true},{"$f":"TRUE","v":true},{"$f":"IFERROR(NA(),E5InterceptValue + 0)","v":0},true,0]
[null,null,null,null,{"$f":"TRUE","v":true},{"$f":"TRUE","v":true},{"$f":"IFERROR(NA(),E5InterceptValue + 0)","v":0},true,0]
[null,null,null,null,{"$f":"TRUE","v":true},{"$f":"TRUE","v":true},{"$f":"IFERROR(NA(),E5InterceptValue + 0)","v":0},true,0]
[null,null,null,null,{"$f":"TRUE","v":true},{"$f":"TRUE","v":true},{"$f":"IFERROR(NA(),E5InterceptValue + 0)","v":0},true,0]
[null,null,null,null,{"$f":"TRUE","v":true},{"$f":"TRUE","v":true},{"$f":"IFERROR(NA(),E5InterceptValue + 0)","v":0},true,0]
[null,null,null,null,{"$f":"TRUE","v":true},{"$f":"TRUE","v":true},{"$f":"IFERROR(NA(),E5InterceptValue + 0)","v":0},true,0]
[null,null,null,null,{"$f":"TRUE","v":true},{"$f":"TRUE","v":true},{"$f":"IFERROR(NA(),E5InterceptValue + 0)","v":0},true,0]
[null,null,null,null,{"$f":"TRUE","v":true},{"$f":"TRUE","v":true},{"$f":"IFERROR(NA(),E5InterceptValue + 0)","v":0},true,0]
[null,null,null,null,{"$f":"TRUE","v":true},{"$f":"TRUE","v":true},{"$f":"IFERROR(NA(),E5InterceptValue + 0)","v":0},true,0]
[null,null,null,null,{"$f":"TRUE","v":true},{"$f":"TRUE","v":true},{"$f":"IFERROR(NA(),E5InterceptValue + 0)","v":0},true,0]
[null,null,null,null,{"$f":"TRUE","v":true},{"$f":"TRUE","v":true},{"$f":"IFERROR(NA(),E5InterceptValue + 0)","v":0},true,0]
[null,null,null,null,{"$f":"TRUE","v":true},{"$f":"TRUE","v":true},{"$f":"IFERROR(NA(),E5InterceptValue + 0)","v":0},true,0]
[null,null,null,null,{"$f":"TRUE","v":true},{"$f":"TRUE","v":true},{"$f":"IFERROR(NA(),E5InterceptValue + 0)","v":0},true,0]
[null,null,null,null,{"$f":"TRUE","v":true},{"$f":"TRUE","v":true},{"$f":"IFERROR(NA(),E5InterceptValue + 0)","v":0},true,0]
[null,null,null,null,{"$f":"TRUE","v":true},{"$f":"TRUE","v":true},{"$f":"IFERROR(NA(),E5InterceptValue + 0)","v":0},true,0]
[null,null,null,null,{"$f":"TRUE","v":true},{"$f":"TRUE","v":true},{"$f":"IFERROR(NA(),E5InterceptValue + 0)","v":0},true,0]
[null,null,null,null,{"$f":"TRUE","v":true},{"$f":"TRUE","v":true},{"$f":"IFERROR(NA(),E5InterceptValue + 0)","v":0},true,0]
[null,null,null,null,{"$f":"TRUE","v":true},{"$f":"TRUE","v":true},{"$f":"IFERROR(NA(),E5InterceptValue + 0)","v":0},true,0]
[null,null,null,null,{"$f":"TRUE","v":true},{"$f":"TRUE","v":true},{"$f":"IFERROR(NA(),E5InterceptValue + 0)","v":0},true,0]
[null,null,null,null,{"$f":"TRUE","v":true},{"$f":"TRUE","v":true},{"$f":"IFERROR(NA(),E5InterceptValue + 0)","v":0},true,0]
[null,null,null,null,{"$f":"TRUE","v":true},{"$f":"TRUE","v":true},{"$f":"IFERROR(NA(),E5InterceptValue + 0)","v":0},true,0]
[null,null,null,null,{"$f":"TRUE","v":true},{"$f":"TRUE","v":true},{"$f":"IFERROR(NA(),E5InterceptValue + 0)","v":0},true,0]
[null,null,null,null,{"$f":"TRUE","v":true},{"$f":"TRUE","v":true},{"$f":"IFERROR(NA(),E5InterceptValue + 0)","v":0},true,0]
[null,null,null,null,{"$f":"TRUE","v":true},{"$f":"TRUE","v":true},{"$f":"IFERROR(NA(),E5InterceptValue + 0)","v":0},true,0]
[null,null,null,null,{"$f":"TRUE","v":true},{"$f":"TRUE","v":true},{"$f":"IFERROR(NA(),E5InterceptValue + 0)","v":0},true,0]
[null,null,null,null,{"$f":"TRUE","v":true},{"$f":"TRUE","v":true},{"$f":"IFERROR(NA(),E5InterceptValue + 0)","v":0},true,0]
[null,null,null,null,{"$f":"TRUE","v":true},{"$f":"TRUE","v":true},{"$f":"IFERROR(NA(),E5InterceptValue + 0)","v":0},true,0]
[null,null,null,null,{"$f":"TRUE","v":true},{"$f":"TRUE","v":true},{"$f":"IFERROR(NA(),E5InterceptValue + 0)","v":0},true,0]
[null,null,null,null,{"$f":"TRUE","v":true},{"$f":"TRUE","v":true},{"$f":"IFERROR(NA(),E5InterceptValue + 0)","v":0},true,0]
[null,null,null,null,{"$f":"TRUE","v":true},{"$f":"TRUE","v":true},{"$f":"IFERROR(NA(),E5InterceptValue + 0)","v":0},true,0]
[null,null,null,null,{"$f":"TRUE","v":true},{"$f":"TRUE","v":true},{"$f":"IFERROR(NA(),E5InterceptValue + 0)","v":0},true,0]
[null,null,null,null,{"$f":"TRUE","v":true},{"$f":"TRUE","v":true},{"$f":"IFERROR(NA(),E5InterceptValue + 0)","v":0},true,0]
[null,null,null,null,{"$f":"TRUE","v":true},{"$f":"TRUE","v":true},{"$f":"IFERROR(NA(),E5InterceptValue + 0)","v":0},true,0]
[null,null,null,null,{"$f":"TRUE","v":true},{"$f":"TRUE","v":true},{"$f":"IFERROR(NA(),E5InterceptValue + 0)","v":0},true,0]
[null,null,null,null,{"$f":"TRUE","v":true},{"$f":"TRUE","v":true},{"$f":"IFERROR(NA(),E5InterceptValue + 0)","v":0},true,0]
[null,null,null,null,{"$f":"TRUE","v":true},{"$f":"TRUE","v":true},{"$f":"IFERROR(NA(),E5InterceptValue + 0)","v":0},true,0]
[null,null,null,null,{"$f":"TRUE","v":true},{"$f":"TRUE","v":true},{"$f":"IFERROR(NA(),E5InterceptValue + 0)","v":0},true,0]
[null,null,null,null,{"$f":"TRUE","v":true},{"$f":"TRUE","v":true},{"$f":"IFERROR(NA(),E5InterceptValue + 0)","v":0},true,0]
[null,null,null,null,{"$f":"TRUE","v":true},{"$f":"TRUE","v":true},{"$f":"IFERROR(NA(),E5InterceptValue + 0)","v":0},true,0]
[null,null,null,null,{"$f":"TRUE","v":true},{"$f":"TRUE","v":true},{"$f":"IFERROR(NA(),E5InterceptValue + 0)","v":0},true,0]
[null,null,null,null,{"$f":"TRUE","v":true},{"$f":"TRUE","v":true},{"$f":"IFERROR(NA(),E5InterceptValue + 0)","v":0},true,0]
[null,null,null,null,{"$f":"TRUE","v":true},{"$f":"TRUE","v":true},{"$f":"IFERROR(NA(),E5InterceptValue + 0)","v":0},true,0]
[null,null,null,null,{"$f":"TRUE","v":true},{"$f":"TRUE","v":true},{"$f":"IFERROR(NA(),E5InterceptValue + 0)","v":0},true,0]
[null,null,null,null,{"$f":"TRUE","v":true},{"$f":"TRUE","v":true},{"$f":"IFERROR(NA(),E5InterceptValue + 0)","v":0},true,0]
[null,null,null,null,{"$f":"TRUE","v":true},{"$f":"TRUE","v":true},{"$f":"IFERROR(NA(),E5InterceptValue + 0)","v":0},true,0]
[null,null,null,null,{"$f":"TRUE","v":true},{"$f":"TRUE","v":true},{"$f":"IFERROR(NA(),E5InterceptValue + 0)","v":0},{"$f":"AND(UPPER(LEFT(D231))<>\"Y\",E231,F231)","v":true},{"$f":"IF(H231,G231-C231,NA())","v":0}]
[null,null,null,null,{"$f":"TRUE","v":true},{"$f":"TRUE","v":true},{"$f":"IFERROR(NA(),E5InterceptValue + 0)","v":0},true,0]
[null,null,null,null,{"$f":"TRUE","v":true},{"$f":"TRUE","v":true},{"$f":"IFERROR(NA(),E5InterceptValue + 0)","v":0},true,0]
[null,null,null,null,{"$f":"TRUE","v":true},{"$f":"TRUE","v":true},{"$f":"IFERROR(NA(),E5InterceptValue + 0)","v":0},true,0]
[null,null,null,null,{"$f":"TRUE","v":true},{"$f":"TRUE","v":true},{"$f":"IFERROR(NA(),E5InterceptValue + 0)","v":0},true,0]
[null,null,null,null,{"$f":"TRUE","v":true},{"$f":"TRUE","v":true},{"$f":"IFERROR(NA(),E5InterceptValue + 0)","v":0},true,0]
[null,null,null,null,{"$f":"TRUE","v":true},{"$f":"TRUE","v":true},{"$f":"IFERROR(NA(),E5InterceptValue + 0)","v":0},true,0]
[null,null,null,null,{"$f":"TRUE","v":true},{"$f":"TRUE","v":true},{"$f":"IFERROR(NA(),E5InterceptValue + 0)","v":0},true,0]
[null,null,null,null,{"$f":"TRUE","v":true},{"$f":"TRUE","v":true},{"$f":"IFERROR(NA(),E5InterceptValue + 0)","v":0},true,0]
[null,null,null,null,{"$f":"TRUE","v":true},{"$f":"TRUE","v":true},{"$f":"IFERROR(NA(),E5InterceptValue + 0)","v":0},true,0]
[null,null,null,null,{"$f":"TRUE","v":true},{"$f":"TRUE","v":true},{"$f":"IFERROR(NA(),E5InterceptValue + 0)","v":0},true,0]
[null,null,null,null,{"$f":"TRUE","v":true},{"$f":"TRUE","v":true},{"$f":"IFERROR(NA(),E5InterceptValue + 0)","v":0},true,0]
[null,null,null,null,{"$f":"TRUE","v":true},{"$f":"TRUE","v":true},{"$f":"IFERROR(NA(),E5InterceptValue + 0)","v":0},true,0]
[null,null,null,null,{"$f":"TRUE","v":true},{"$f":"TRUE","v":true},{"$f":"IFERROR(NA(),E5InterceptValue + 0)","v":0},true,0]
[null,null,null,null,{"$f":"TRUE","v":true},{"$f":"TRUE","v":true},{"$f":"IFERROR(NA(),E5InterceptValue + 0)","v":0},true,0]
[null,null,null,null,{"$f":"TRUE","v":true},{"$f":"TRUE","v":true},{"$f":"IFERROR(NA(),E5InterceptValue + 0)","v":0},true,0]
[null,null,null,null,{"$f":"TRUE","v":true},{"$f":"TRUE","v":true},{"$f":"IFERROR(NA(),E5InterceptValue + 0)","v":0},true,0]
[null,null,null,null,{"$f":"TRUE","v":true},{"$f":"TRUE","v":true},{"$f":"IFERROR(NA(),E5InterceptValue + 0)","v":0},true,0]
[null,null,null,null,{"$f":"TRUE","v":true},{"$f":"TRUE","v":true},{"$f":"IFERROR(NA(),E5InterceptValue + 0)","v":0},true,0]
[null,null,null,null,{"$f":"TRUE","v":true},{"$f":"TRUE","v":true},{"$f":"IFERROR(NA(),E5InterceptValue + 0)","v":0},true,0]
[null,null,null,null,{"$f":"TRUE","v":true},{"$f":"TRUE","v":true},{"$f":"IFERROR(NA(),E5InterceptValue + 0)","v":0},true,0]
[null,null,null,null,{"$f":"TRUE","v":true},{"$f":"TRUE","v":true},{"$f":"IFERROR(NA(),E5InterceptValue + 0)","v":0},true,0]
[null,null,null,null,{"$f":"TRUE","v":true},{"$f":"TRUE","v":true},{"$f":"IFERROR(NA(),E5InterceptValue + 0)","v":0},true,0]
[null,null,null,null,{"$f":"TRUE","v":true},{"$f":"TRUE","v":true},{"$f":"IFERROR(NA(),E5InterceptValue + 0)","v":0},true,0]
[null,null,null,null,{"$f":"TRUE","v":true},{"$f":"TRUE","v":true},{"$f":"IFERROR(NA(),E5InterceptValue + 0)","v":0},true,0]
[null,null,null,null,{"$f":"TRUE","v":true},{"$f":"TRUE","v":true},{"$f":"IFERROR(NA(),E5InterceptValue + 0)","v":0},true,0]
[null,null,null,null,{"$f":"TRUE","v":true},{"$f":"TRUE","v":true},{"$f":"IFERROR(NA(),E5InterceptValue + 0)","v":0},true,0]
[null,null,null,null,{"$f":"TRUE","v":true},{"$f":"TRUE","v":true},{"$f":"IFERROR(NA(),E5InterceptValue + 0)","v":0},true,0]
[null,null,null,null,{"$f":"TRUE","v":true},{"$f":"TRUE","v":true},{"$f":"IFERROR(NA(),E5InterceptValue + 0)","v":0},true,0]
[null,null,null,null,{"$f":"TRUE","v":true},{"$f":"TRUE","v":true},{"$f":"IFERROR(NA(),E5InterceptValue + 0)","v":0},true,0]
[null,null,null,null,{"$f":"TRUE","v":true},{"$f":"TRUE","v":true},{"$f":"IFERROR(NA(),E5InterceptValue + 0)","v":0},true,0]
[null,null,null,null,{"$f":"TRUE","v":true},{"$f":"TRUE","v":true},{"$f":"IFERROR(NA(),E5InterceptValue + 0)","v":0},true,0]
[null,null,null,null,{"$f":"TRUE","v":true},{"$f":"TRUE","v":true},{"$f":"IFERROR(NA(),E5InterceptValue + 0)","v":0},true,0]
[null,null,null,null,{"$f":"TRUE","v":true},{"$f":"TRUE","v":true},{"$f":"IFERROR(NA(),E5InterceptValue + 0)","v":0},true,0]
[null,null,null,null,{"$f":"TRUE","v":true},{"$f":"TRUE","v":true},{"$f":"IFERROR(NA(),E5InterceptValue + 0)","v":0},true,0]
[null,null,null,null,{"$f":"TRUE","v":true},{"$f":"TRUE","v":true},{"$f":"IFERROR(NA(),E5InterceptValue + 0)","v":0},true,0]
[null,null,null,null,{"$f":"TRUE","v":true},{"$f":"TRUE","v":true},{"$f":"IFERROR(NA(),E5InterceptValue + 0)","v":0},true,0]
[null,null,null,null,{"$f":"TRUE","v":true},{"$f":"TRUE","v":true},{"$f":"IFERROR(NA(),E5InterceptValue + 0)","v":0},true,0]
[null,null,null,null,{"$f":"TRUE","v":true},{"$f":"TRUE","v":true},{"$f":"IFERROR(NA(),E5InterceptValue + 0)","v":0},true,0]
[null,null,null,null,{"$f":"TRUE","v":true},{"$f":"TRUE","v":true},{"$f":"IFERROR(NA(),E5InterceptValue + 0)","v":0},true,0]
[null,null,null,null,{"$f":"TRUE","v":true},{"$f":"TRUE","v":true},{"$f":"IFERROR(NA(),E5InterceptValue + 0)","v":0},true,0]
[null,null,null,null,{"$f":"TRUE","v":true},{"$f":"TRUE","v":true},{"$f":"IFERROR(NA(),E5InterceptValue + 0)","v":0},true,0]
[null,null,null,null,{"$f":"TRUE","v":true},{"$f":"TRUE","v":true},{"$f":"IFERROR(NA(),E5InterceptValue + 0)","v":0},true,0]
[null,null,null,null,{"$f":"TRUE","v":true},{"$f":"TRUE","v":true},{"$f":"IFERROR(NA(),E5InterceptValue + 0)","v":0},true,0]
[null,null,null,null,{"$f":"TRUE","v":true},{"$f":"TRUE","v":true},{"$f":"IFERROR(NA(),E5InterceptValue + 0)","v":0},true,0]
[null,null,null,null,{"$f":"TRUE","v":true},{"$f":"TRUE","v":true},{"$f":"IFERROR(NA(),E5InterceptValue + 0)","v":0},true,0]
[null,null,null,null,{"$f":"TRUE","v":true},{"$f":"TRUE","v":true},{"$f":"IFERROR(NA(),E5InterceptValue + 0)","v":0},true,0]
[null,null,null,null,{"$f":"TRUE","v":true},{"$f":"TRUE","v":true},{"$f":"IFERROR(NA(),E5InterceptValue + 0)","v":0},true,0]
[null,null,null,null,{"$f":"TRUE","v":true},{"$f":"TRUE","v":true},{"$f":"IFERROR(NA(),E5InterceptValue + 0)","v":0},true,0]
[null,null,null,null,{"$f":"TRUE","v":true},{"$f":"TRUE","v":true},{"$f":"IFERROR(NA(),E5InterceptValue + 0)","v":0},true,0]
[null,null,null,null,{"$f":"TRUE","v":true},{"$f":"TRUE","v":true},{"$f":"IFERROR(NA(),E5InterceptValue + 0)","v":0},true,0]
[null,null,null,null,{"$f":"TRUE","v":true},{"$f":"TRUE","v":true},{"$f":"IFERROR(NA(),E5InterceptValue + 0)","v":0},true,0]
[null,null,null,null,{"$f":"TRUE","v":true},{"$f":"TRUE","v":true},{"$f":"IFERROR(NA(),E5InterceptValue + 0)","v":0},true,0]
[null,null,null,null,{"$f":"TRUE","v":true},{"$f":"TRUE","v":true},{"$f":"IFERROR(NA(),E5InterceptValue + 0)","v":0},true,0]
[null,null,null,null,{"$f":"TRUE","v":true},{"$f":"TRUE","v":true},{"$f":"IFERROR(NA(),E5InterceptValue + 0)","v":0},true,0]
[null,null,null,null,{"$f":"TRUE","v":true},{"$f":"TRUE","v":true},{"$f":"IFERROR(NA(),E5InterceptValue + 0)","v":0},true,0]
[null,null,null,null,{"$f":"TRUE","v":true},{"$f":"TRUE","v":true},{"$f":"IFERROR(NA(),E5InterceptValue + 0)","v":0},true,0]
[null,null,null,null,{"$f":"TRUE","v":true},{"$f":"TRUE","v":true},{"$f":"IFERROR(NA(),E5InterceptValue + 0)","v":0},true,0]
[null,null,null,null,{"$f":"TRUE","v":true},{"$f":"TRUE","v":true},{"$f":"IFERROR(NA(),E5InterceptValue + 0)","v":0},true,0]
[null,null,null,null,{"$f":"TRUE","v":true},{"$f":"TRUE","v":true},{"$f":"IFERROR(NA(),E5InterceptValue + 0)","v":0},true,0]
[null,null,null,null,{"$f":"TRUE","v":true},{"$f":"TRUE","v":true},{"$f":"IFERROR(NA(),E5InterceptValue + 0)","v":0},true,0]
[null,null,null,null,{"$f":"TRUE","v":true},{"$f":"TRUE","v":true},{"$f":"IFERROR(NA(),E5InterceptValue + 0)","v":0},true,0]
[null,null,null,null,{"$f":"TRUE","v":true},{"$f":"TRUE","v":true},{"$f":"IFERROR(NA(),E5InterceptValue + 0)","v":0},true,0]
[null,null,null,null,{"$f":"TRUE","v":true},{"$f":"TRUE","v":true},{"$f":"IFERROR(NA(),E5InterceptValue + 0)","v":0},true,0]
[null,null,null,null,{"$f":"TRUE","v":true},{"$f":"TRUE","v":true},{"$f":"IFERROR(NA(),E5InterceptValue + 0)","v":0},{"$f":"AND(UPPER(LEFT(D295))<>\"Y\",E295,F295)","v":true},{"$f":"IF(H295,G295-C295,NA())","v":0}]
[null,null,null,null,{"$f":"TRUE","v":true},{"$f":"TRUE","v":true},{"$f":"IFERROR(NA(),E5InterceptValue + 0)","v":0},true,0]
[null,null,null,null,{"$f":"TRUE","v":true},{"$f":"TRUE","v":true},{"$f":"IFERROR(NA(),E5InterceptValue + 0)","v":0},true,0]
[null,null,null,null,{"$f":"TRUE","v":true},{"$f":"TRUE","v":true},{"$f":"IFERROR(NA(),E5InterceptValue + 0)","v":0},true,0]
[null,null,null,null,{"$f":"TRUE","v":true},{"$f":"TRUE","v":true},{"$f":"IFERROR(NA(),E5InterceptValue + 0)","v":0},true,0]
[null,null,null,null,{"$f":"TRUE","v":true},{"$f":"TRUE","v":true},{"$f":"IFERROR(NA(),E5InterceptValue + 0)","v":0},true,0]
[null,null,null,null,{"$f":"TRUE","v":true},{"$f":"TRUE","v":true},{"$f":"IFERROR(NA(),E5InterceptValue + 0)","v":0},true,0]
[null,null,null,null,{"$f":"TRUE","v":true},{"$f":"TRUE","v":true},{"$f":"IFERROR(NA(),E5InterceptValue + 0)","v":0},true,0]
[null,null,null,null,{"$f":"TRUE","v":true},{"$f":"TRUE","v":true},{"$f":"IFERROR(NA(),E5InterceptValue + 0)","v":0},true,0]
[null,null,null,null,{"$f":"TRUE","v":true},{"$f":"TRUE","v":true},{"$f":"IFERROR(NA(),E5InterceptValue + 0)","v":0},true,0]
[null,null,null,null,{"$f":"TRUE","v":true},{"$f":"TRUE","v":true},{"$f":"IFERROR(NA(),E5InterceptValue + 0)","v":0},true,0]
[null,null,null,null,{"$f":"TRUE","v":true},{"$f":"TRUE","v":true},{"$f":"IFERROR(NA(),E5InterceptValue + 0)","v":0},true,0]
[null,null,null,null,{"$f":"TRUE","v":true},{"$f":"TRUE","v":true},{"$f":"IFERROR(NA(),E5InterceptValue + 0)","v":0},true,0]
[null,null,null,null,{"$f":"TRUE","v":true},{"$f":"TRUE","v":true},{"$f":"IFERROR(NA(),E5InterceptValue + 0)","v":0},true,0]
[null,null,null,null,{"$f":"TRUE","v":true},{"$f":"TRUE","v":true},{"$f":"IFERROR(NA(),E5InterceptValue + 0)","v":0},true,0]
[null,null,null,null,{"$f":"TRUE","v":true},{"$f":"TRUE","v":true},{"$f":"IFERROR(NA(),E5InterceptValue + 0)","v":0},true,0]
[null,null,null,null,{"$f":"TRUE","v":true},{"$f":"TRUE","v":true},{"$f":"IFERROR(NA(),E5InterceptValue + 0)","v":0},true,0]
[null,null,null,null,{"$f":"TRUE","v":true},{"$f":"TRUE","v":true},{"$f":"IFERROR(NA(),E5InterceptValue + 0)","v":0},true,0]
[null,null,null,null,{"$f":"TRUE","v":true},{"$f":"TRUE","v":true},{"$f":"IFERROR(NA(),E5InterceptValue + 0)","v":0},true,0]
[null,null,null,null,{"$f":"TRUE","v":true},{"$f":"TRUE","v":true},{"$f":"IFERROR(NA(),E5InterceptValue + 0)","v":0},true,0]
[null,null,null,null,{"$f":"TRUE","v":true},{"$f":"TRUE","v":true},{"$f":"IFERROR(NA(),E5InterceptValue + 0)","v":0},true,0]
[null,null,null,null,{"$f":"TRUE","v":true},{"$f":"TRUE","v":true},{"$f":"IFERROR(NA(),E5InterceptValue + 0)","v":0},true,0]
[null,null,null,null,{"$f":"TRUE","v":true},{"$f":"TRUE","v":true},{"$f":"IFERROR(NA(),E5InterceptValue + 0)","v":0},true,0]
[null,null,null,null,{"$f":"TRUE","v":true},{"$f":"TRUE","v":true},{"$f":"IFERROR(NA(),E5InterceptValue + 0)","v":0},true,0]
[null,null,null,null,{"$f":"TRUE","v":true},{"$f":"TRUE","v":true},{"$f":"IFERROR(NA(),E5InterceptValue + 0)","v":0},true,0]
[null,null,null,null,{"$f":"TRUE","v":true},{"$f":"TRUE","v":true},{"$f":"IFERROR(NA(),E5InterceptValue + 0)","v":0},true,0]
[null,null,null,null,{"$f":"TRUE","v":true},{"$f":"TRUE","v":true},{"$f":"IFERROR(NA(),E5InterceptValue + 0)","v":0},true,0]
[null,null,null,null,{"$f":"TRUE","v":true},{"$f":"TRUE","v":true},{"$f":"IFERROR(NA(),E5InterceptValue + 0)","v":0},true,0]
[null,null,null,null,{"$f":"TRUE","v":true},{"$f":"TRUE","v":true},{"$f":"IFERROR(NA(),E5InterceptValue + 0)","v":0},true,0]
[null,null,null,null,{"$f":"TRUE","v":true},{"$f":"TRUE","v":true},{"$f":"IFERROR(NA(),E5InterceptValue + 0)","v":0},true,0]
[null,null,null,null,{"$f":"TRUE","v":true},{"$f":"TRUE","v":true},{"$f":"IFERROR(NA(),E5InterceptValue + 0)","v":0},true,0]
[null,null,null,null,{"$f":"TRUE","v":true},{"$f":"TRUE","v":true},{"$f":"IFERROR(NA(),E5InterceptValue + 0)","v":0},true,0]
[null,null,null,null,{"$f":"TRUE","v":true},{"$f":"TRUE","v":true},{"$f":"IFERROR(NA(),E5InterceptValue + 0)","v":0},true,0]
[null,null,null,null,{"$f":"TRUE","v":true},{"$f":"TRUE","v":true},{"$f":"IFERROR(NA(),E5InterceptValue + 0)","v":0},true,0]
[null,null,null,null,{"$f":"TRUE","v":true},{"$f":"TRUE","v":true},{"$f":"IFERROR(NA(),E5InterceptValue + 0)","v":0},true,0]
[null,null,null,null,{"$f":"TRUE","v":true},{"$f":"TRUE","v":true},{"$f":"IFERROR(NA(),E5InterceptValue + 0)","v":0},true,0]
[null,null,null,null,{"$f":"TRUE","v":true},{"$f":"TRUE","v":true},{"$f":"IFERROR(NA(),E5InterceptValue + 0)","v":0},true,0]
[null,null,null,null,{"$f":"TRUE","v":true},{"$f":"TRUE","v":true},{"$f":"IFERROR(NA(),E5InterceptValue + 0)","v":0},true,0]
[null,null,null,null,{"$f":"TRUE","v":true},{"$f":"TRUE","v":true},{"$f":"IFERROR(NA(),E5InterceptValue + 0)","v":0},true,0]
[null,null,null,null,{"$f":"TRUE","v":true},{"$f":"TRUE","v":true},{"$f":"IFERROR(NA(),E5InterceptValue + 0)","v":0},true,0]
[null,null,null,null,{"$f":"TRUE","v":true},{"$f":"TRUE","v":true},{"$f":"IFERROR(NA(),E5InterceptValue + 0)","v":0},true,0]
[null,null,null,null,{"$f":"TRUE","v":true},{"$f":"TRUE","v":true},{"$f":"IFERROR(NA(),E5InterceptValue + 0)","v":0},true,0]
[null,null,null,null,{"$f":"TRUE","v":true},{"$f":"TRUE","v":true},{"$f":"IFERROR(NA(),E5InterceptValue + 0)","v":0},true,0]
[null,null,null,null,{"$f":"TRUE","v":true},{"$f":"TRUE","v":true},{"$f":"IFERROR(NA(),E5InterceptValue + 0)","v":0},true,0]
[null,null,null,null,{"$f":"TRUE","v":true},{"$f":"TRUE","v":true},{"$f":"IFERROR(NA(),E5InterceptValue + 0)","v":0},true,0]
[null,null,null,null,{"$f":"TRUE","v":true},{"$f":"TRUE","v":true},{"$f":"IFERROR(NA(),E5InterceptValue + 0)","v":0},true,0]
[null,null,null,null,{"$f":"TRUE","v":true},{"$f":"TRUE","v":true},{"$f":"IFERROR(NA(),E5InterceptValue + 0)","v":0},true,0]
[null,null,null,null,{"$f":"TRUE","v":true},{"$f":"TRUE","v":true},{"$f":"IFERROR(NA(),E5InterceptValue + 0)","v":0},true,0]
[null,null,null,null,{"$f":"TRUE","v":true},{"$f":"TRUE","v":true},{"$f":"IFERROR(NA(),E5InterceptValue + 0)","v":0},true,0]
[null,null,null,null,{"$f":"TRUE","v":true},{"$f":"TRUE","v":true},{"$f":"IFERROR(NA(),E5InterceptValue + 0)","v":0},true,0]
[null,null,null,null,{"$f":"TRUE","v":true},{"$f":"TRUE","v":true},{"$f":"IFERROR(NA(),E5InterceptValue + 0)","v":0},true,0]
[null,null,null,null,{"$f":"TRUE","v":true},{"$f":"TRUE","v":true},{"$f":"IFERROR(NA(),E5InterceptValue + 0)","v":0},true,0]
[null,null,null,null,{"$f":"TRUE","v":true},{"$f":"TRUE","v":true},{"$f":"IFERROR(NA(),E5InterceptValue + 0)","v":0},true,0]
[null,null,null,null,{"$f":"TRUE","v":true},{"$f":"TRUE","v":true},{"$f":"IFERROR(NA(),E5InterceptValue + 0)","v":0},true,0]
[null,null,null,null,{"$f":"TRUE","v":true},{"$f":"TRUE","v":true},{"$f":"IFERROR(NA(),E5InterceptValue + 0)","v":0},true,0]
[null,null,null,null,{"$f":"TRUE","v":true},{"$f":"TRUE","v":true},{"$f":"IFERROR(NA(),E5InterceptValue + 0)","v":0},true,0]
[null,null,null,null,{"$f":"TRUE","v":true},{"$f":"TRUE","v":true},{"$f":"IFERROR(NA(),E5InterceptValue + 0)","v":0},true,0]
[null,null,null,null,{"$f":"TRUE","v":true},{"$f":"TRUE","v":true},{"$f":"IFERROR(NA(),E5InterceptValue + 0)","v":0},true,0]
[null,null,null,null,{"$f":"TRUE","v":true},{"$f":"TRUE","v":true},{"$f":"IFERROR(NA(),E5InterceptValue + 0)","v":0},true,0]
[null,null,null,null,{"$f":"TRUE","v":true},{"$f":"TRUE","v":true},{"$f":"IFERROR(NA(),E5InterceptValue + 0)","v":0},true,0]
[null,null,null,null,{"$f":"TRUE","v":true},{"$f":"TRUE","v":true},{"$f":"IFERROR(NA(),E5InterceptValue + 0)","v":0},true,0]
[null,null,null,null,{"$f":"TRUE","v":true},{"$f":"TRUE","v":true},{"$f":"IFERROR(NA(),E5InterceptValue + 0)","v":0},true,0]
[null,null,null,null,{"$f":"TRUE","v":true},{"$f":"TRUE","v":true},{"$f":"IFERROR(NA(),E5InterceptValue + 0)","v":0},true,0]
[null,null,null,null,{"$f":"TRUE","v":true},{"$f":"TRUE","v":true},{"$f":"IFERROR(NA(),E5InterceptValue + 0)","v":0},true,0]
[null,null,null,null,{"$f":"TRUE","v":true},{"$f":"TRUE","v":true},{"$f":"IFERROR(NA(),E5InterceptValue + 0)","v":0},{"$f":"AND(UPPER(LEFT(D359))<>\"Y\",E359,F359)","v":true},{"$f":"IF(H359,G359-C359,NA())","v":0}]
[null,null,null,null,{"$f":"TRUE","v":true},{"$f":"TRUE","v":true},{"$f":"IFERROR(NA(),E5InterceptValue + 0)","v":0},true,0]
[null,null,null,null,{"$f":"TRUE","v":true},{"$f":"TRUE","v":true},{"$f":"IFERROR(NA(),E5InterceptValue + 0)","v":0},true,0]
[null,null,null,null,{"$f":"TRUE","v":true},{"$f":"TRUE","v":true},{"$f":"IFERROR(NA(),E5InterceptValue + 0)","v":0},true,0]
[null,null,null,null,{"$f":"TRUE","v":true},{"$f":"TRUE","v":true},{"$f":"IFERROR(NA(),E5InterceptValue + 0)","v":0},true,0]
[null,null,null,null,{"$f":"TRUE","v":true},{"$f":"TRUE","v":true},{"$f":"IFERROR(NA(),E5InterceptValue + 0)","v":0},true,0]
[null,null,null,null,{"$f":"TRUE","v":true},{"$f":"TRUE","v":true},{"$f":"IFERROR(NA(),E5InterceptValue + 0)","v":0},true,0]
[null,null,null,null,{"$f":"TRUE","v":true},{"$f":"TRUE","v":true},{"$f":"IFERROR(NA(),E5InterceptValue + 0)","v":0},true,0]
[null,null,null,null,{"$f":"TRUE","v":true},{"$f":"TRUE","v":true},{"$f":"IFERROR(NA(),E5InterceptValue + 0)","v":0},true,0]
[null,null,null,null,{"$f":"TRUE","v":true},{"$f":"TRUE","v":true},{"$f":"IFERROR(NA(),E5InterceptValue + 0)","v":0},true,0]
[null,null,null,null,{"$f":"TRUE","v":true},{"$f":"TRUE","v":true},{"$f":"IFERROR(NA(),E5InterceptValue + 0)","v":0},true,0]
[null,null,null,null,{"$f":"TRUE","v":true},{"$f":"TRUE","v":true},{"$f":"IFERROR(NA(),E5InterceptValue + 0)","v":0},true,0]
[null,null,null,null,{"$f":"TRUE","v":true},{"$f":"TRUE","v":true},{"$f":"IFERROR(NA(),E5InterceptValue + 0)","v":0},true,0]
[null,null,null,null,{"$f":"TRUE","v":true},{"$f":"TRUE","v":true},{"$f":"IFERROR(NA(),E5InterceptValue + 0)","v":0},true,0]
[null,null,null,null,{"$f":"TRUE","v":true},{"$f":"TRUE","v":true},{"$f":"IFERROR(NA(),E5InterceptValue + 0)","v":0},true,0]
[null,null,null,null,{"$f":"TRUE","v":true},{"$f":"TRUE","v":true},{"$f":"IFERROR(NA(),E5InterceptValue + 0)","v":0},true,0]
[null,null,null,null,{"$f":"TRUE","v":true},{"$f":"TRUE","v":true},{"$f":"IFERROR(NA(),E5InterceptValue + 0)","v":0},true,0]
[null,null,null,null,{"$f":"TRUE","v":true},{"$f":"TRUE","v":true},{"$f":"IFERROR(NA(),E5InterceptValue + 0)","v":0},true,0]
[null,null,null,null,{"$f":"TRUE","v":true},{"$f":"TRUE","v":true},{"$f":"IFERROR(NA(),E5InterceptValue + 0)","v":0},true,0]
[null,null,null,null,{"$f":"TRUE","v":true},{"$f":"TRUE","v":true},{"$f":"IFERROR(NA(),E5InterceptValue + 0)","v":0},true,0]
[null,null,null,null,{"$f":"TRUE","v":true},{"$f":"TRUE","v":true},{"$f":"IFERROR(NA(),E5InterceptValue + 0)","v":0},true,0]
[null,null,null,null,{"$f":"TRUE","v":true},{"$f":"TRUE","v":true},{"$f":"IFERROR(NA(),E5InterceptValue + 0)","v":0},true,0]
[null,null,null,null,{"$f":"TRUE","v":true},{"$f":"TRUE","v":true},{"$f":"IFERROR(NA(),E5InterceptValue + 0)","v":0},true,0]
[null,null,null,null,{"$f":"TRUE","v":true},{"$f":"TRUE","v":true},{"$f":"IFERROR(NA(),E5InterceptValue + 0)","v":0},true,0]
[null,null,null,null,{"$f":"TRUE","v":true},{"$f":"TRUE","v":true},{"$f":"IFERROR(NA(),E5InterceptValue + 0)","v":0},true,0]
[null,null,null,null,{"$f":"TRUE","v":true},{"$f":"TRUE","v":true},{"$f":"IFERROR(NA(),E5InterceptValue + 0)","v":0},true,0]
[null,null,null,null,{"$f":"TRUE","v":true},{"$f":"TRUE","v":true},{"$f":"IFERROR(NA(),E5InterceptValue + 0)","v":0},true,0]
[null,null,null,null,{"$f":"TRUE","v":true},{"$f":"TRUE","v":true},{"$f":"IFERROR(NA(),E5InterceptValue + 0)","v":0},true,0]
[null,null,null,null,{"$f":"TRUE","v":true},{"$f":"TRUE","v":true},{"$f":"IFERROR(NA(),E5InterceptValue + 0)","v":0},true,0]
[null,null,null,null,{"$f":"TRUE","v":true},{"$f":"TRUE","v":true},{"$f":"IFERROR(NA(),E5InterceptValue + 0)","v":0},true,0]
[null,null,null,null,{"$f":"TRUE","v":true},{"$f":"TRUE","v":true},{"$f":"IFERROR(NA(),E5InterceptValue + 0)","v":0},true,0]
[null,null,null,null,{"$f":"TRUE","v":true},{"$f":"TRUE","v":true},{"$f":"IFERROR(NA(),E5InterceptValue + 0)","v":0},true,0]
[null,null,null,null,{"$f":"TRUE","v":true},{"$f":"TRUE","v":true},{"$f":"IFERROR(NA(),E5InterceptValue + 0)","v":0},true,0]
[null,null,null,null,{"$f":"TRUE","v":true},{"$f":"TRUE","v":true},{"$f":"IFERROR(NA(),E5InterceptValue + 0)","v":0},true,0]
[null,null,null,null,{"$f":"TRUE","v":true},{"$f":"TRUE","v":true},{"$f":"IFERROR(NA(),E5InterceptValue + 0)","v":0},true,0]
[null,null,null,null,{"$f":"TRUE","v":true},{"$f":"TRUE","v":true},{"$f":"IFERROR(NA(),E5InterceptValue + 0)","v":0},true,0]
[null,null,null,null,{"$f":"TRUE","v":true},{"$f":"TRUE","v":true},{"$f":"IFERROR(NA(),E5InterceptValue + 0)","v":0},true,0]
[null,null,null,null,{"$f":"TRUE","v":true},{"$f":"TRUE","v":true},{"$f":"IFERROR(NA(),E5InterceptValue + 0)","v":0},true,0]
[null,null,null,null,{"$f":"TRUE","v":true},{"$f":"TRUE","v":true},{"$f":"IFERROR(NA(),E5InterceptValue + 0)","v":0},true,0]
[null,null,null,null,{"$f":"TRUE","v":true},{"$f":"TRUE","v":true},{"$f":"IFERROR(NA(),E5InterceptValue + 0)","v":0},true,0]
[null,null,null,null,{"$f":"TRUE","v":true},{"$f":"TRUE","v":true},{"$f":"IFERROR(NA(),E5InterceptValue + 0)","v":0},true,0]
[null,null,null,null,{"$f":"TRUE","v":true},{"$f":"TRUE","v":true},{"$f":"IFERROR(NA(),E5InterceptValue + 0)","v":0},true,0]
[null,null,null,null,{"$f":"TRUE","v":true},{"$f":"TRUE","v":true},{"$f":"IFERROR(NA(),E5InterceptValue + 0)","v":0},true,0]
[null,null,null,null,{"$f":"TRUE","v":true},{"$f":"TRUE","v":true},{"$f":"IFERROR(NA(),E5InterceptValue + 0)","v":0},true,0]
[null,null,null,null,{"$f":"TRUE","v":true},{"$f":"TRUE","v":true},{"$f":"IFERROR(NA(),E5InterceptValue + 0)","v":0},true,0]

{"sheet":"E11-NYES","index":21,"n_rows":41,"n_cols":11,"rows_kept":41,"cut":false,"hidden":true,"merged":[[38,0,39,0],[8,1,8,12],[16,1,16,12],[23,1,23,12],[36,1,36,12],[25,1,25,4],[26,1,26,4],[27,1,27,4],[28,1,28,4],[29,1,29,4],[18,1,18,5],[19,1,19,5],[20,1,20,5],[38,9,39,9],[38,8,39,8],[38,6,39,6],[38,5,39,5],[21,1,21,5],[38,7,39,7],[38,4,39,4],[31,1,31,7],[38,1,39,1],[38,2,39,2],[38,3,39,3],[10,5,10,6],[10,7,10,8],[3,1,3,12],[5,1,5,3],[14,1,14,2],[10,1,10,2],[13,1,13,2],[13,5,13,6],[13,7,13,8],[11,1,11,2],[13,9,13,10],[13,3,13,4],[10,3,10,4],[10,9,10,10]]}
[null,null,"E11 - Normal Year Energy Savings"]
[]
[{"$f":"LEFT(C1,1)","v":"E"},{"$f":"VLOOKUP(A3,EnergySourceLookup,2,FALSE)","v":"Electricity"},{"$f":"VLOOKUP(A3,EnergySourceLookup,3,FALSE)","v":"MWh"}]
[null,"Equation"]
[]
[null,"Equation 4:"]
[null,null,"normal year savings =  Σt ( EBM,t – EOM,t ) + Eint"]
[]
[null,"Effective range"]
[]
[null,"BASELINE ENERGY MODEL",null,"Normal Year Values",null,"Baseline Measurements",null,"Baseline Energy Model Effective Range",null,"# of Normal Year Values Outside of Baseline Effective Range"]
[null,"Variable",null,"Minimum","Maximum","Minimum","Maximum","Minimum","Maximum","< Minimum","> Maximum"]
[]
[null,"OPERATING ENERGY MODEL",null,"Normal Year Values",null,"Operating Measurements",null,"Operating Energy Model Effective Range",null,"# of Normal Year Values Outside of Operating Effective Range"]
[null,"Variable",null,"Minimum","Maximum","Minimum","Maximum","Minimum","Maximum","< Minimum","> Maximum"]
[]
[null,"Eligible Time Intervals"]
[null,null,null,null,null,null,null,null,"NYESBaselineEnergyMin","NYESOperatingEnergyMin","NYESSavingsEnergyMin"]
[null,"Number of time intervals in Normal Year:",null,null,null,null,{"$f":"COUNTA($I$41)","v":1},null,"NYESBaselineEnergyMax","NYESOperatingEnergyMax","NYESSavingsEnergyMax"]
[null,"Number of ineligible time intervals:",null,null,null,null,{"$f":"COUNTIF($I$41,FALSE)","v":0}]
[null,"Number of eligible time intervals:",null,null,null,null,{"$f":"G19-G20","v":1}]
[null,"% eligible time intervals",null,null,null,null,{"$f":"G21/G19","v":1},null,"NYESBaselineEnergyMax","NYESOperatingEnergyMax","NYESSavingsEnergyMax"]
[]
[null,"Energy Savings"]
[]
[null,"Item Name",null,null,null,"Units","Energy"]
[null,"Baseline Normal Year Energy Consumption",null,null,null,{"$f":"$C$3","v":"MWh"},{"$f":"SUMIF($I$41,TRUE,$F$41)","v":0}]
[null,"Operating Normal Year Energy Consumption",null,null,null,{"$f":"$C$3","v":"MWh"},{"$f":"SUMIF($I$41,TRUE,$H$41)","v":0}]
[null,"Annual Interactive Energy Savings",null,null,null,{"$f":"$C$3","v":"MWh"},{"$f":"E9AnnualInteractiveSavings","v":0}]
[null,"Normal Year Savings",null,null,null,{"$f":"$C$3","v":"MWh"},{"$f":"G27-G28+G29","v":0}]
[]
[{"$f":"\"Normal Year Energy Consumption (\"&$B$3&\")\"","v":"Normal Year Energy Consumption (Electricity)"},"Chart of Gross Normal Year Energy Savings"]
[{"$f":"\"Gross Normal Year Energy Savings (\"&$B$3&\")\"","v":"Gross Normal Year Energy Savings (Electricity)"}]
[]
[]
[]
[null,"Normal Year Values and Calculated Energy"]
[]
["blank","Date / Time","Time interval data excluded","Site constants all at normal values?","Within baseline model effective range?",{"$f":"\"Baseline energy consumption (\" & $C$3& \")\"","v":"Baseline energy consumption (MWh)"},"Within operating model effective range?",{"$f":"\"Operating energy consumption (\" & $C$3 & \")\"","v":"Operating energy consumption (MWh)"},"Eligible time interval?","Energy savings"]
[]
[null,null,null,{"$f":"TRUE","v":true},{"$f":"TRUE","v":true},{"$f":"IFERROR(NA(),E5InterceptValue + 0)","v":0},{"$f":"TRUE","v":true},{"$f":"IFERROR(NA(),E7InterceptValue + 0)","v":0},{"$f":"AND(UPPER(LEFT(C41))<>\"Y\",D41,E41,G41)","v":true},{"$f":"IF(AND(D41,I41),F41-H41,NA())","v":0}]

{"sheet":"E12-Accuracy","index":22,"n_rows":28,"n_cols":8,"rows_kept":28,"cut":false,"hidden":true,"merged":[[20,4,20,6],[21,4,21,6],[22,4,22,6],[23,4,23,6],[24,4,24,6],[15,3,15,4],[12,1,12,2],[12,3,12,4],[13,1,13,2],[13,3,13,4],[14,1,14,2],[14,3,14,4],[15,1,15,2],[20,7,20,9],[21,7,21,9],[22,7,22,9],[23,7,23,9],[24,7,24,9],[20,1,20,3],[21,1,21,3],[22,1,22,3],[23,1,23,3],[24,1,24,3],[25,1,25,3],[26,1,26,3],[27,1,27,3],[25,7,25,9],[26,7,26,9],[27,7,27,9],[25,4,25,6],[26,4,26,6],[27,4,27,6],[3,1,3,12],[6,1,6,2],[6,3,6,4],[5,3,5,4],[5,1,5,2],[11,1,11,2],[11,3,11,4],[8,1,8,2],[8,3,8,4],[9,1,9,2],[9,3,9,4],[10,1,10,2],[10,3,10,4]]}
[null,null,"E12 - Accuracy Factor"]
[]
[{"$f":"LEFT(C1,1)","v":"E"},{"$f":"VLOOKUP(A3,EnergySourceLookup,2,FALSE)","v":"Electricity"},{"$f":"VLOOKUP(A3,EnergySourceLookup,3,FALSE)","v":"MWh"}]
[null,"Assign Accuracy Factor"]
[]
[null,"Item Name",null,"Item Value"]
[null,{"$f":"IF(PSCalculationMethod=CalculationMethodMAES,\"Measured Annual Energy Savings (\"&$C$3&\")\",IF(PSCalculationMethod=CalculationMethodNYES,\"Normal Year Electricity Savings (\"&$C$3&\")\",\"\"))","v":""},null,{"$f":"IF(PSCalculationMethod=CalculationMethodMAES,E10MeasuredAnnualEnergySavings,IF(PSCalculationMethod=CalculationMethodNYES,E11NormalYearSavings,\"\"))","v":""}]
[]
[null,"Item",null,"Value"]
[null,"Baseline Model Standard Error",null,{"$f":"IFERROR('E5-Baseline Model'!D112,\"\")","v":""}]
[null,"Operating Model Standard Error",null,{"$f":"IFERROR('E7-Operating Model'!D91,\"\")","v":""}]
[null,"Number of measurement periods in one year",null,{"$f":"IFERROR(VLOOKUP(E1ModelFrequency, FrequencyLookup, 2, FALSE),\"\")","v":""}]
[null,"Standard error of annual savings",null,{"$f":"IFERROR(SQRT((D12*IF(ISNUMBER(D10),D10,0)^2)+(D12*IF(ISNUMBER(D11),D11,0)^2)),\"\")","v":""}]
[null,"Absolute precision of annual savings",null,{"$f":"IFERROR(D13*MAX('E7-Operating Model'!D92,'E5-Baseline Model'!D92),\"\")","v":""}]
[null,"Relative precision of annual savings",null,{"$f":"IFERROR(D14/D7,0)","v":0}]
[null,"Assigned Accuracy Factor",null,{"$f":"IFERROR(GetAccuracyFactor($A$3,D15),\"\")","v":1}]
[]
[]
[]
[]
[null,"Relative error of energy savings estimate",null,null,"Accuracy Factor for an average energy model",null,null,"Accuracy Factor for all other energy models"]
[null,"< 25%",null,null,{"$f":"Lookups!X3","v":0.9},null,null,{"$f":"Lookups!Y3","v":1}]
[null,"25% - 50%",null,null,{"$f":"Lookups!X4","v":0.8},null,null,{"$f":"Lookups!Y4","v":0.9}]
[null,"50% - 75%",null,null,{"$f":"Lookups!X5","v":0.7},null,null,{"$f":"Lookups!Y5","v":0.8}]
[null,"75% - 100%",null,null,{"$f":"Lookups!X6","v":0.5},null,null,{"$f":"Lookups!Y6","v":0.6}]
[null,"100% - 150%",null,null,{"$f":"Lookups!X7","v":0.3},null,null,{"$f":"Lookups!Y7","v":0.4}]
[null,"150% - 200%",null,null,{"$f":"Lookups!X8","v":0.1},null,null,{"$f":"Lookups!Y8","v":0.2}]
[null,"> 200%",null,null,0,null,null,0]

{"sheet":"E13-Decay","index":23,"n_rows":24,"n_cols":5,"rows_kept":24,"cut":false,"hidden":true,"merged":[[23,1,23,6],[19,1,19,3],[19,4,19,6],[20,1,20,3],[20,4,20,6],[21,1,21,3],[21,4,21,6],[16,1,16,3],[16,4,16,6],[17,1,17,3],[17,4,17,6],[18,1,18,3],[18,4,18,6],[13,1,13,3],[13,4,13,6],[14,1,14,3],[14,4,14,6],[15,1,15,3],[15,4,15,6],[10,1,10,6],[11,1,11,3],[11,4,11,6],[12,1,12,3],[12,4,12,6],[3,1,3,12],[6,1,6,3],[6,4,6,6],[8,1,8,3],[8,4,8,6]]}
[null,null,"E13 - Decay Factor"]
[]
[{"$f":"LEFT(C1,1)","v":"E"},{"$f":"VLOOKUP(A3,EnergySourceLookup,2,FALSE)","v":"Electricity"},{"$f":"VLOOKUP(A3,EnergySourceLookup,3,FALSE)","v":"MWh"}]
[null,"Decay factor for forward creation"]
[]
[]
[{"$f":"AND(PSCalculationMethod=CalculationMethodNYES,E13DecayModelType=\"\")","v":false},"Model Type:"]
[]
[null,"Project lifetime (years):",null,null,10]
[]
[null,"Decay Factors Year by Year:"]
[null,"Year",null,null,"Decay Factor"]
[null,1,null,null,1]
[null,2,null,null,0.8]
[null,3,null,null,0.64]
[null,4,null,null,0.51]
[null,5,null,null,0.41]
[null,6,null,null,0.33]
[null,7,null,null,0.26]
[null,8,null,null,0.21]
[null,9,null,null,0.17]
[null,10,null,null,0.13]
[]
[null,"For forward creation method (NYES), you must choose a persistence model type."]

{"sheet":"E14-Energy Savings (MAES)","index":24,"n_rows":35,"n_cols":7,"rows_kept":35,"cut":false,"hidden":true,"merged":[[32,2,32,5],[32,6,32,7],[33,2,33,5],[33,6,33,7],[34,2,34,5],[34,6,34,7],[29,2,29,5],[29,6,29,7],[30,2,30,5],[30,6,30,7],[31,2,31,5],[31,6,31,7],[21,2,21,5],[21,6,21,7],[24,1,24,14],[26,1,26,12],[28,2,28,5],[28,6,28,7],[19,2,19,3],[19,4,19,5],[19,6,19,7],[20,2,20,3],[20,4,20,5],[20,6,20,7],[17,2,17,3],[17,4,17,5],[17,6,17,7],[18,2,18,3],[18,4,18,5],[18,6,18,7],[15,2,15,3],[15,4,15,5],[15,6,15,7],[16,2,16,3],[16,4,16,5],[16,6,16,7],[13,2,13,3],[13,4,13,5],[13,6,13,7],[14,2,14,3],[14,4,14,5],[14,6,14,7],[11,2,11,3],[11,4,11,5],[11,6,11,7],[12,2,12,3],[12,4,12,5],[12,6,12,7],[3,1,3,12],[5,1,5,3],[6,2,6,12],[8,1,8,12],[10,2,10,3],[10,4,10,5],[10,6,10,7]]}
[null,null,"E14 - Energy Savings (Annual creation)"]
[]
[{"$f":"LEFT(C1,1)","v":"E"},{"$f":"VLOOKUP(A3,EnergySourceLookup,2,FALSE)","v":"Electricity"},{"$f":"VLOOKUP(A3,EnergySourceLookup,3,FALSE)","v":"MWh"}]
[null,"Calculate Energy Savings based on Measured Annual Energy Savings"]
[]
[null,"Equation 3"]
[null,null,"energy savings = measured annual energy savings x AF ± previous energy savings"]
[]
[null,"Previous Energy Savings"]
[]
[null,"Reporting Year","Reporting\nYear From",null,"Reporting\nYear To",null,{"$f":"\"Previous Energy Savings (\"&C3& \")\"","v":"Previous Energy Savings (MWh)"}]
[null,1,{"$f":"'0-Project Summary'!D50","v":""},null,{"$f":"'0-Project Summary'!F50","v":""}]
[null,2,{"$f":"'0-Project Summary'!D51","v":""},null,{"$f":"'0-Project Summary'!F51","v":""}]
[null,3,{"$f":"'0-Project Summary'!D52","v":""},null,{"$f":"'0-Project Summary'!F52","v":""}]
[null,4,{"$f":"'0-Project Summary'!D53","v":""},null,{"$f":"'0-Project Summary'!F53","v":""}]
[null,5,{"$f":"'0-Project Summary'!D54","v":""},null,{"$f":"'0-Project Summary'!F54","v":""}]
[null,6,{"$f":"'0-Project Summary'!D55","v":""},null,{"$f":"'0-Project Summary'!F55","v":""}]
[null,7,{"$f":"'0-Project Summary'!D56","v":""},null,{"$f":"'0-Project Summary'!F56","v":""}]
[null,8,{"$f":"'0-Project Summary'!D57","v":""},null,{"$f":"'0-Project Summary'!F57","v":""}]
[null,9,{"$f":"'0-Project Summary'!D58","v":""},null,{"$f":"'0-Project Summary'!F58","v":""}]
[null,10,{"$f":"'0-Project Summary'!D59","v":""},null,{"$f":"'0-Project Summary'!F59","v":""}]
[null,null,{"$f":"\"Total Previous Energy Savings (\"&$C$3& \")\"","v":"Total Previous Energy Savings (MWh)"},null,null,null,{"$f":"SUM($G$10:$G$13)","v":0}]
[]
[]
[null,"Note: please input the Previous Energy Savings in the table above. \n\nPrevious energy savings is the total amount of energy savings calculated using this equation for the previous reporting period (if any), including negative energy savings (if any).\n\nThese savings will need to be accumulated over all previous reporting periods."]
[]
[null,"Energy Savings"]
[]
[null,null,"Reporting Year",null,null,null,{"$f":"'0-Project Summary'!$E$47","v":0}]
[null,null,"Reporting Year From",null,null,null,{"$f":"IFERROR(VLOOKUP(G29,$B$10:$F$19,2,FALSE),0)","v":"00:00:00"}]
[null,null,"Reporting Year To",null,null,null,{"$f":"IFERROR(VLOOKUP(G29,$B$10:$F$19,4,FALSE),0)","v":"00:00:00"}]
[null,null,{"$f":"\"Measured Annual Energy Savings (\"&$C$3& \")\"","v":"Measured Annual Energy Savings (MWh)"},null,null,null,{"$f":"E10MeasuredAnnualEnergySavings","v":0}]
[null,null,"Accuracy Factor (AF)",null,null,null,{"$f":"'E12-Accuracy'!D16","v":1}]
[null,null,{"$f":"C22","v":"Total Previous Energy Savings (MWh)"},null,null,null,{"$f":"E14PreviousEnergySavings","v":0}]
[null,null,"Energy Savings (MAES):",null,null,null,{"$f":"IFERROR(G32*G33+G34,0)","v":0}]

{"sheet":"E15-Energy Savings (NYES)","index":25,"n_rows":23,"n_cols":14,"rows_kept":23,"cut":false,"hidden":true,"merged":[[21,3,21,4],[19,3,19,4],[21,7,21,8],[13,3,13,4],[20,3,20,4],[14,3,14,4],[15,3,15,4],[16,3,16,4],[17,3,17,4],[18,3,18,4],[21,5,21,6],[13,5,13,6],[14,5,14,6],[15,5,15,6],[16,5,16,6],[17,5,17,6],[3,1,3,12],[7,1,7,3],[12,3,12,4],[10,3,11,4],[10,5,11,6],[12,5,12,6],[8,2,8,10],[10,1,11,2],[12,1,12,2],[20,9,20,10],[10,7,11,8],[16,7,16,8],[17,7,17,8],[22,11,22,12],[12,11,12,12],[13,11,13,12],[14,11,14,12],[19,11,19,12],[17,9,17,10],[18,9,18,10],[19,9,19,10],[20,11,20,12],[21,11,21,12],[15,11,15,12],[16,11,16,12],[18,5,18,6],[19,5,19,6],[20,5,20,6],[21,9,21,10],[12,7,12,8],[13,7,13,8],[14,7,14,8],[15,7,15,8],[18,7,18,8],[19,7,19,8],[20,7,20,8],[12,9,12,10],[13,9,13,10],[14,9,14,10],[15,9,15,10],[16,9,16,10],[17,11,17,12],[18,11,18,12],[22,13,22,14],[10,9,11,10],[10,11,11,12],[10,13,11,14],[17,13,17,14],[18,13,18,14],[19,13,19,14],[20,13,20,14],[21,13,21,14],[12,13,12,14],[13,13,13,14],[14,13,14,14],[15,13,15,14],[16,13,16,14],[18,1,18,2],[19,1,19,2],[20,1,20,2],[21,1,21,2],[13,1,13,2],[14,1,14,2],[15,1,15,2],[16,1,16,2],[17,1,17,2]]}
[null,null,"E15 - Energy Savings (Forward creation)"]
[]
[{"$f":"LEFT(C1,1)","v":"E"},{"$f":"VLOOKUP(A3,EnergySourceLookup,2,FALSE)","v":"Electricity"},{"$f":"VLOOKUP(A3,EnergySourceLookup,3,FALSE)","v":"MWh"}]
[null,{"$f":"\"Calculate Energy Savings for \" &VLOOKUP(LEFT($C$1,1),EnergySourceLookup,2,FALSE)","v":"Calculate Energy Savings for Electricity"}]
[]
[]
[]
[null,"Equation 2"]
[null,null,"energy savings = Σi (normal year savings x AF x DFi )"]
[]
[null,"Reporting Period (Year)",null,"Period From",null,"Period To",null,{"$f":"\"Normal Year Energy Savings (\" &$C$3& \")\"","v":"Normal Year Energy Savings (MWh)"},null,"Accuracy Factor (AF)",null,"Decay Factor (DFi)",null,{"$f":"\"Annual Energy Savings (\" & $C$3 &\")\"","v":"Annual Energy Savings (MWh)"}]
[]
[null,{"$f":"'0-Project Summary'!B50","v":1},null,{"$f":"'0-Project Summary'!D50","v":""},null,{"$f":"'0-Project Summary'!F50","v":""},null,{"$f":"IFERROR(E11NormalYearSavings,0)","v":0},null,{"$f":"E12AccuracyFactor","v":1},null,{"$f":"'E13-Decay'!E13","v":1},null,{"$f":"IFERROR(H13*IF(H13<0,1,L13)*J13,0)","v":0}]
[null,{"$f":"'0-Project Summary'!B51","v":2},null,{"$f":"'0-Project Summary'!D51","v":""},null,{"$f":"'0-Project Summary'!F51","v":""},null,0,null,1,null,{"$f":"'E13-Decay'!E14","v":0.8},null,{"$f":"IFERROR(H14*IF(H14<0,1,L14)*J14,0)","v":0}]
[null,{"$f":"'0-Project Summary'!B52","v":3},null,{"$f":"'0-Project Summary'!D52","v":""},null,{"$f":"'0-Project Summary'!F52","v":""},null,0,null,1,null,{"$f":"'E13-Decay'!E15","v":0.64},null,0]
[null,{"$f":"'0-Project Summary'!B53","v":4},null,{"$f":"'0-Project Summary'!D53","v":""},null,{"$f":"'0-Project Summary'!F53","v":""},null,0,null,1,null,{"$f":"'E13-Decay'!E16","v":0.51},null,0]
[null,{"$f":"'0-Project Summary'!B54","v":5},null,{"$f":"'0-Project Summary'!D54","v":""},null,{"$f":"'0-Project Summary'!F54","v":""},null,0,null,1,null,{"$f":"'E13-Decay'!E17","v":0.41},null,0]
[null,{"$f":"'0-Project Summary'!B55","v":6},null,{"$f":"'0-Project Summary'!D55","v":""},null,{"$f":"'0-Project Summary'!F55","v":""},null,0,null,1,null,{"$f":"'E13-Decay'!E18","v":0.33},null,0]
[null,{"$f":"'0-Project Summary'!B56","v":7},null,{"$f":"'0-Project Summary'!D56","v":""},null,{"$f":"'0-Project Summary'!F56","v":""},null,0,null,1,null,{"$f":"'E13-Decay'!E19","v":0.26},null,0]
[null,{"$f":"'0-Project Summary'!B57","v":8},null,{"$f":"'0-Project Summary'!D57","v":""},null,{"$f":"'0-Project Summary'!F57","v":""},null,0,null,1,null,{"$f":"'E13-Decay'!E20","v":0.21},null,0]
[null,{"$f":"'0-Project Summary'!B58","v":9},null,{"$f":"'0-Project Summary'!D58","v":""},null,{"$f":"'0-Project Summary'!F58","v":""},null,0,null,1,null,{"$f":"'E13-Decay'!E21","v":0.17},null,0]
[null,{"$f":"'0-Project Summary'!B59","v":10},null,{"$f":"'0-Project Summary'!D59","v":""},null,{"$f":"'0-Project Summary'!F59","v":""},null,0,null,1,null,{"$f":"'E13-Decay'!E22","v":0.13},null,0]
[null,null,null,null,null,null,null,null,null,null,null,"Energy Savings:",null,{"$f":"SUM(N13:N22)","v":0}]

{"sheet":"16-Counted Savings","index":26,"n_rows":43,"n_cols":6,"rows_kept":43,"cut":false,"hidden":true,"merged":[[21,1,22,4],[34,3,34,4],[35,3,35,4],[33,3,33,4],[32,1,32,2],[31,1,31,2],[31,3,31,4],[42,1,42,4],[23,1,23,4],[39,1,39,4],[37,3,37,4],[36,1,36,2],[36,3,36,4],[30,3,30,4],[33,1,33,2],[34,1,34,2],[35,1,35,2],[3,1,3,5],[5,1,5,5],[32,3,32,4],[7,1,8,3],[15,1,16,4],[26,1,26,2],[27,1,27,2],[28,1,28,2],[29,1,29,2],[30,1,30,2],[26,3,26,4],[27,3,27,4],[28,3,28,4],[29,3,29,4],[12,1,13,4],[18,1,19,4]]}
[null,null,"16 - Counted Savings"]
[]
[]
[null,"Account for GHG Savings for which Certificates have already been created"]
[]
[null,"NB: If Victorian Energy Efficiency Certificates (VEECs) have previously been created for the project in any Reporting Period (Year) yi, then the corresponding GHG Savings are denoted as Counted Savingsi"]
[]
[null,"Number of activities for which VEECs have been created.",null,null,0]
[]
[]
[null,null,null,null,null,"Activity #1"]
[]
[null,"Were these VEECs created under forward creation for: this project; or a different project?"]
[]
[]
[null,"Accreditation ID under which VEECs were created:"]
[]
[]
[null,"Victorian Energy Upgrades Regulation under which VEECs were created:"]
[]
[]
[null,"Implementation Start Time:"]
[]
[null,"Other details relevant to the Counted Savings:"]
[]
[null,"Counted Savings of greenhouse gases (GHG)"]
[null,"Reporting Period (Year) From",null,"Reporting Period (Year) To",null,"Activity #1\nCounted GHG Savings (tCO2-e)"]
[null,{"$f":"'0-Project Summary'!D50","v":""},null,{"$f":"'0-Project Summary'!F50","v":""},null,0]
[null,{"$f":"'0-Project Summary'!D51","v":""},null,{"$f":"'0-Project Summary'!F51","v":""},null,0]
[null,{"$f":"'0-Project Summary'!D52","v":""},null,{"$f":"'0-Project Summary'!F52","v":""},null,0]
[null,{"$f":"'0-Project Summary'!D53","v":""},null,{"$f":"'0-Project Summary'!F53","v":""},null,0]
[null,{"$f":"'0-Project Summary'!D54","v":""},null,{"$f":"'0-Project Summary'!F54","v":""},null,0]
[null,{"$f":"'0-Project Summary'!D55","v":""},null,{"$f":"'0-Project Summary'!F55","v":""},null,0]
[null,{"$f":"'0-Project Summary'!D56","v":""},null,{"$f":"'0-Project Summary'!F56","v":""},null,0]
[null,{"$f":"'0-Project Summary'!D57","v":""},null,{"$f":"'0-Project Summary'!F57","v":""},null,0]
[null,{"$f":"'0-Project Summary'!D58","v":""},null,{"$f":"'0-Project Summary'!F58","v":""},null,0]
[null,{"$f":"'0-Project Summary'!D59","v":""},null,{"$f":"'0-Project Summary'!F59","v":""},null,0]
[null,null,null,"Total:",null,{"$f":"SUM(F28:F37)","v":0}]
[]
[null,"Adjustment: Proportion (Number) of time intervals excluded from Normal Year",null,null,null,{"$f":"'E11-NYES'!F21:G21","v":0}]
[]
[]
[null,"Total Counted GHG Savings (tCO2-e): ",null,null,null,{"$f":"SUM($F$38)","v":0}]

{"sheet":"17-GHG savings","index":27,"n_rows":65,"n_cols":13,"rows_kept":65,"cut":false,"hidden":true,"merged":[[45,3,45,4],[47,1,47,14],[37,1,37,2],[37,3,37,4],[38,1,38,2],[38,3,38,4],[39,1,39,2],[39,3,39,4],[41,1,41,14],[43,1,43,2],[43,3,43,4],[44,1,44,2],[44,3,44,4],[45,1,45,2],[32,1,32,13],[8,1,8,2],[8,3,8,4],[8,7,8,8],[8,5,8,6],[16,1,16,5],[16,7,16,13],[15,1,15,5],[15,7,15,13],[10,11,10,12],[12,9,12,10],[12,11,12,12],[14,1,14,14],[10,7,10,8],[10,9,10,10],[17,1,17,5],[7,1,7,2],[7,3,7,4],[7,7,7,8],[7,5,7,6],[5,3,5,4],[5,7,5,8],[5,5,5,6],[6,1,6,2],[6,3,6,4],[6,7,6,8],[6,5,6,6],[35,1,35,14],[3,1,3,14],[49,1,49,3],[60,10,60,13],[62,1,62,14],[50,2,50,17],[54,1,54,2],[55,1,55,2],[56,1,56,2],[53,12,53,13],[54,12,54,13],[55,12,55,13],[56,12,56,13],[58,12,58,13],[53,10,53,11],[53,8,53,9],[60,6,60,9],[64,1,64,14],[53,6,53,7],[54,10,54,11],[54,8,54,9],[55,8,55,9],[56,8,56,9],[54,6,54,7],[55,6,55,7],[56,6,56,7],[58,10,58,11],[54,3,54,5],[55,3,55,5],[56,3,56,5],[5,9,5,10],[6,9,6,10],[7,9,7,10],[8,9,8,10],[5,11,5,12],[6,11,6,12],[7,11,7,12],[8,11,8,12],[17,7,17,13],[18,1,18,5],[18,7,18,13],[20,1,20,14],[21,1,21,5],[21,7,21,13],[22,1,22,5],[22,7,22,13],[23,1,23,5],[23,7,23,13],[24,1,24,5],[24,7,24,13],[29,1,29,5],[29,7,29,13],[30,1,30,5],[30,7,30,13],[26,1,26,14],[27,1,27,5],[27,7,27,13],[28,1,28,5],[28,7,28,13]]}
[null,null,"17 - GHG Savings"]
[]
[]
[null,"Total Interactive Energy Savings"]
[]
[null,null,null,"Interactive Energy savings (MWh or GJ)",null,{"$f":"IFERROR(VLOOKUP(PSCalculationMethod,Lookups!$H$3:$I$4,2,FALSE)&\" (MWh or GJ)\",\"\")","v":""},null,"Units",null,"Interactive Energy Savings (GJ)",null,{"$f":"IFERROR(VLOOKUP(PSCalculationMethod,Lookups!$H$3:$I$4,2,FALSE)&\" (GJ)\",\"\")","v":""}]
[null,"Electricity",null,{"$f":"E9AnnualInteractiveSavings","v":0},null,{"$f":"IF(PSCalculationMethod=CalculationMethodMAES,E10MeasuredAnnualEnergySavings,E11NormalYearSavings)","v":0},null,"MWh",null,{"$f":"D7*getsetting(\"MWhtoGJMultiplier\")","v":0},null,{"$f":"IFERROR(F7*getsetting(\"MWhtoGJMultiplier\"),0)","v":0}]
[null,"Gas",null,{"$f":"G9AnnualInteractiveSavings","v":0},null,{"$f":"IF(PSCalculationMethod=CalculationMethodMAES,G10MeasuredAnnualEnergySavings,G11NormalYearSavings)","v":0},null,"GJ",null,{"$f":"D8","v":0},null,{"$f":"F8","v":0}]
[null,"Renewable Energy",null,{"$f":"N9AnnualInteractiveSavings","v":0},null,{"$f":"IF(PSCalculationMethod=CalculationMethodMAES,N10MeasuredAnnualEnergySavings,N11NormalYearSavings)","v":0},null,"GJ",null,{"$f":"D9","v":0},null,{"$f":"F9","v":0}]
[]
[null,null,null,null,null,null,null,"Total (GJ)",null,{"$f":"SUM(J7:K9)","v":0},null,{"$f":"SUM(L7:M9)","v":0}]
[]
[null,null,null,null,null,null,null,null,null,"% interactive savings",null,{"$f":"IF(L11=0,0,J11/L11)","v":0}]
[]
[null,"Electricity model checks"]
[null,"Name",null,null,null,null,"Result","Action"]
[{"$f":"IF(GetVariableCount(\"E\",\"SC\")>0,TRUE,FALSE)","v":false},"At least one Site Constant must be included in energy modeling",null,null,null,null,{"$f":"IF(OR($A$17,$A$23,$A$29),\"PASS\",\"FAIL\")","v":"FAIL"},{"$f":"IF(G17=\"FAIL\",\"Include at least one Site Constant for project\",\"\")","v":"Include at least one Site Constant for project"}]
[]
[]
[]
[null,"Gas model checks"]
[null,"Name",null,null,null,null,"Result","Action"]
[{"$f":"IF(GetVariableCount(\"G\",\"SC\")>0,TRUE,FALSE)","v":false},"At least one Site Constant must be included in energy modeling",null,null,null,null,{"$f":"IF(OR($A$17,$A$23,$A$29),\"PASS\",\"FAIL\")","v":"FAIL"},{"$f":"IF(G23=\"FAIL\",\"Include at least one Site Constant for project\",\"\")","v":"Include at least one Site Constant for project"}]
[]
[]
[]
[null,"Renewable model checks"]
[null,"Name",null,null,null,null,"Result","Action"]
[{"$f":"IF(GetVariableCount(\"N\",\"SC\")>0,TRUE,FALSE)","v":false},"At least one Site Constant must be included in energy modeling",null,null,null,null,{"$f":"IF(OR($A$17,$A$23,$A$29),\"PASS\",\"FAIL\")","v":"FAIL"},{"$f":"IF(G29=\"FAIL\",\"Include at least one Site Constant for project\",\"\")","v":"Include at least one Site Constant for project"}]
[]
[]
[]
[null,"Warning: The errors above must be fixed before GHG Savings can be calculated."]
[]
[]
[null,"Time at which prescribed activity is undertaken"]
[]
[null,"Electricity",null,{"$f":"IF(PSCalculationMethod=CalculationMethodMAES,'E14-Energy Savings (MAES)'!$G$31,IF(PSCalculationMethod=CalculationMethodNYES,'E7-Operating Model'!$E$18,0))","v":"00:00:00"}]
[null,"Gas",null,{"$f":"IF(PSCalculationMethod=CalculationMethodMAES,'G14-Energy Savings (MAES)'!$G$31,IF(PSCalculationMethod=CalculationMethodNYES,'G7-Operating Model'!$E$18,0))","v":"00:00:00"}]
[null,"Renewable Energy",null,{"$f":"IF(PSCalculationMethod=CalculationMethodMAES,'N14-Energy Savings (MAES)'!$G$31,IF(PSCalculationMethod=CalculationMethodNYES,'N7-Operating Model'!$E$18,0))","v":"00:00:00"}]
[]
[null,"Time at which reduction in greenhouse gas emissions occurs"]
[]
[null,"Electricity",null,{"$f":"IFERROR(EDATE(D38,6),\"\")","v":"1900-06-30"}]
[null,"Gas",null,{"$f":"IFERROR(EDATE(D39,6),\"\")","v":"1900-06-30"}]
[null,"Renewable Energy",null,{"$f":"IFERROR(EDATE(D40,6),\"\")","v":"1900-06-30"}]
[]
[null,"Calculate Greenhouse Gas Emissions Savings"]
[]
[null,"Equation 1"]
[null,null,"carbon dioxide equivalent = electricity savings x electricity emissions factor x RF + gas savings x gas emissions factor + renewable energy savings x renewable emissions factor – counted savings"]
[]
[]
[null,null,null,null,null,null,"Energy savings (MWh or GJ)",null,"Emissions Factor",null,"Regional Factor (if applicable)",null,"GHG savings (CO2-equivalent)"]
[null,"Electricity",null,{"$f":"'0-Project Summary'!E29","v":0},null,null,null,null,{"$f":"VLOOKUP(ElectricitySource,ElectricityTypeLookup,2,FALSE)","v":{"$error":"#N/A"}},null,{"$f":"IFERROR(VLOOKUP(IFERROR(VLOOKUP(PostCode, VEETPostcodeLookup,2, FALSE), \"Metropolitan\"),VEETRegionalFactorLookup,2,FALSE),0)","v":0.98},null,{"$f":"IFERROR(G55*I55*K55,0)","v":0}]
[null,"Gas",null,{"$f":"'0-Project Summary'!E31","v":0},null,null,null,null,{"$f":"VLOOKUP(GasSource,VEETGasTypeLookup,2,FALSE)","v":{"$error":"#N/A"}},null,null,null,{"$f":"IFERROR(G56*I56,0)","v":0}]
[null,"Renewable Energy",null,{"$f":"'0-Project Summary'!E33","v":0},null,null,null,null,{"$f":"VLOOKUP(RenewablesSource,VEETBiofuelLookup,2,FALSE)","v":{"$error":"#N/A"}},null,null,null,{"$f":"IFERROR(G57*I57,0)","v":0}]
[]
[{"$f":"IFERROR(IF(GHGGasType<>\"\", IF((G55*G59)+(M55*M59)<0, FALSE, TRUE), TRUE), FALSE)","v":false},null,null,null,null,null,null,null,null,null,"Counted Savings",null,{"$f":"CSTotalCountedGHGSavings","v":0}]
[]
[null,null,null,null,null,null,"Greenhouse gas reduction (tCO2-e)",null,null,null,{"$f":"SUM(M55:M57)-M59","v":0}]
[]
[{"$f":"IFERROR(AND(\nIF(IsElectricityIncluded(), AND(E5COVIsValid, E7COVIsValid, IF(E5IsRegressionMethod, E5DataPointRatioIsValid, TRUE), IF(OEMIsRegressionMethod, E7DataPointRatioIsValid, TRUE), E5NonRoutineAdjustmentRatioIsValid, E7NonRoutineAdjustmentRatioIsValid), TRUE),\nIF(IsGasIncluded(), AND(BEMCOVIsValidGas, OEMCOVIsValidGas, IF(BEMIsRegressionMethodGas, BEMDataPointRatioIsValidGas, TRUE), IF(OEMIsRegressionMethodGas, OEMDataPointRatioIsValidGas, TRUE), BEMNonRoutineAdjustmentRatioIsValidGas, OEMNonRoutineAdjustmentRatioIsValidGas), TRUE),\n(E15EnergySavings+FESAnnualEnergySavingsGas)<=getsetting(\"MaxLifetimeEnergySavingsMWh\"),\nE9GreaterThanTotalSavingsPercCheck_delete,\nFuelSwitchingIsValid_delete\n), TRUE)","v":true},{"$f":"\"Error: The 'Number of Certificates' cannot be calculated because the following criteria has not been met.\"&CHAR(10)&CHAR(10)&\nIF(FuelSwitchingIsValid_delete,\"\",\"- Project Summary: The selected Fuel Switching activity produces an increase in GHG emissions.\"&CHAR(10))&\nIF(IsElectricityIncluded(), IF(E5COVIsValid,\"\",\"- Step 4b: Baseline Energy Model (Electricity) - Coefficient of Variation exceeds 15%.\"&CHAR(10)), \"\")&\nIF(IsGasIncluded(), IF(BEMCOVIsValidGas,\"\",\"- Step 4b: Baseline Energy Model (Gas) - Coefficient of Variation exceeds 15%.\"&CHAR(10)), \"\")&\nIF(IsElectricityIncluded(), IF(E7COVIsValid, \"\",\"- Step 4b: Operating Energy Model (Electricity) - Coefficient of Variation exceeds 15%.\"&CHAR(10)), \"\")&\nIF(IsGasIncluded(), IF(OEMCOVIsValidGas,\"\",\"- Step 4b: Operating Energy Model (Gas) - Coefficient of Variation exceeds 15%.\"&CHAR(10)), \"\")&\nIF(IsElectricityIncluded(), IF(E5IsRegressionMethod, IF(E5DataPointRatioIsValid,\"\",\"- Step 4b: Baseline Energy Model (Electricity) - Insufficient number of valid data points in relation to number of independent variables.\"&CHAR(10)), \"\"), \"\")&\nIF(IsGasIncluded(), IF(BEMIsRegressionMethodGas, IF(BEMDataPointRatioIsValidGas,\"\",\"- Step 4b: Baseline Energy Model (Gas) - Insufficient number of valid data points in relation to number of independent variables.\"&CHAR(10)), \"\"), \"\")&\nIF(IsElectricityIncluded(), IF(OEMIsRegressionMethod, IF(E7DataPointRatioIsValid,\"\",\"- Step 4b: Operating Energy Model (Electricity) - Insufficient number of valid data points in relation to number of independent variables.\"&CHAR(10)), \"\"), \"\")&\nIF(IsGasIncluded(), IF(OEMIsRegressionMethodGas, IF(OEMDataPointRatioIsValidGas,\"\",\"- Step 4b: Operating Energy Model (Gas) - Insufficient number of valid data points in relation to number of independent variables.\"&CHAR(10)), \"\"), \"\")&\nIF(IsElectricityIncluded(), IF(E5NonRoutineAdjustmentRatioIsValid,\"\",\"- Step 4b: Baseline Energy Model (Electricity) - The Non routine adjustment ratio check has failed in part 2.\"&CHAR(10)), \"\")&\nIF(IsGasIncluded(), IF(BEMNonRoutineAdjustmentRatioIsValidGas,\"\",\"- Step 4b: Baseline Energy Model (Gas) - The Non routine adjustment ratio check has failed in part 2.\"&CHAR(10)), \"\")&\nIF(IsElectricityIncluded(), IF(E7NonRoutineAdjustmentRatioIsValid,\"\",\"- Step 6b: Operating Energy Model (Electricity) - The Non routine adjustment ratio check has failed in part 2.\"&CHAR(10)), \"\")&\nIF(IsGasIncluded(), IF(OEMNonRoutineAdjustmentRatioIsValidGas,\"\",\"- Step 6b: Operating Energy Model (Gas) - The Non routine adjustment ratio check has failed in part 2.\"&CHAR(10)), \"\")&\nIF(E9GreaterThanTotalSavingsPercCheck_delete,\"\",\"- Step 7: Interactive Energy Savings - The Interactive Energy Savings cannot be greater than 10% of the total energy savings.\"&CHAR(10))&\nIF(E15EnergySavings<=getsetting(\"MaxLifetimeEnergySavingsMWh\"),\"\",\"- Step 12: Lifetime Energy Savings (MWh) cannot be greater than 50,000 MWh.\"&CHAR(10))","v":{"$error":"#REF!"}}]
[]
[{"$f":"IFERROR(AND(\nIF(IsElectricityIncluded(), AND(E5SiteConstantsIsValid, E7SiteConstantsIsValid, E5RegressionCheckFailedCount=0, E7RegressionCheckFailedCount=0, IF(E5IsRegressionMethod, E5StatisticalRequirementsIsValid, TRUE), IF(OEMIsRegressionMethod, E7StatisticalRequirementsIsValid, TRUE)), TRUE),\nIF(IsGasIncluded(), AND(BEMSiteConstantsIsValidGas, OEMSiteConstantsIsValidGas, BEMRegressionCheckFailedCountGas=0, OEMRegressionCheckFailedCountGas=0, IF(BEMIsRegressionMethodGas, BEMStatisticalRequirementsIsValidGas, TRUE), IF(OEMIsRegressionMethodGas, OEMStatisticalRequirementsIsValidGas, TRUE)), TRUE)\n), TRUE)","v":true},{"$f":"\"Warning: The following criteria does not stop ESC creation but is shown for review.\"&CHAR(10)&CHAR(10)&\nIF(IsElectricityIncluded(), IF(E5SiteConstantsIsValid, \"\", \"- Step 4a: Baseline Energy Model - Data (Electricity) - Some Site Constant values are different to the typical value.\"&CHAR(10)), \"\")&\nIF(IsGasIncluded(), IF(BEMSiteConstantsIsValidGas, \"\", \"- Step 4a: Baseline Energy Model - Data (Gas) - Some Site Constant values are different to the typical value.\"&CHAR(10)), \"\")&\nIF(IsElectricityIncluded(), IF(E7SiteConstantsIsValid, \"\", \"- Step 6a: Operating Energy Model - Data (Electricity) - Some Site Constant values are different to the typical value.\"&CHAR(10)), \"\")&\nIF(IsGasIncluded(), IF(OEMSiteConstantsIsValidGas, \"\", \"- Step 6a: Operating Energy Model - Data (Gas) - Some Site Constant values are different to the typical value.\"&CHAR(10)), \"\")&\nIF(IsElectricityIncluded(), IF(E5RegressionCheckFailedCount=0,\"\",\"- Step 4b: Baseline Energy Model (Electricity) - A check has failed in the minimum requirements analysis table.\"&CHAR(10)), \"\")&\nIF(IsGasIncluded(), IF(BEMRegressionCheckFailedCountGas=0,\"\",\"- Step 4b: Baseline Energy Model (Gas) - A check has failed in the minimum requirements analysis table.\"&CHAR(10)), \"\")&\nIF(IsElectricityIncluded(), IF(E7RegressionCheckFailedCount=0,\"\",\"- Step 6b: Operating Energy Model (Electricity) - A check has failed in the minimum requirements analysis table.\"&CHAR(10)), \"\")&\nIF(IsGasIncluded(), IF(OEMRegressionCheckFailedCountGas=0,\"\",\"- Step 6b: Operating Energy Model (Gas) - A check has failed in the minimum requirements analysis table.\"&CHAR(10)), \"\")&\nIF(IsElectricityIncluded(), IF(E5IsRegressionMethod, IF(E5StatisticalRequirementsIsValid,\"\",\"- Step 4b: Baseline Energy Model (Electricity) - Statistical requirements do not meet best practice benchmarks.\"&CHAR(10)), \"\"), \"\")&\nIF(IsGasIncluded(), IF(BEMIsRegressionMethodGas, IF(BEMStatisticalRequirementsIsValidGas,\"\",\"- Step 4b: Baseline Energy Model (Gas) - Statistical requirements do not meet best practice benchmarks.\"&CHAR(10)), \"\"), \"\")&\nIF(IsElectricityIncluded(), IF(OEMIsRegressionMethod, IF(E7StatisticalRequirementsIsValid,\"\",\"- Step 6b: Operating Energy Model (Electricity) - Statistical requirements do not meet best practice benchmarks.\"&CHAR(10)), \"\"), \"\")&\nIF(IsGasIncluded(), IF(OEMIsRegressionMethodGas, IF(OEMStatisticalRequirementsIsValidGas,\"\",\"- Step 6b: Operating Energy Model (Gas) - Statistical requirements do not meet best practice benchmarks.\"), \"\"), \"\")","v":{"$error":"#NAME?"}}]

{"sheet":"EWorkarea-Normal Year","index":28,"n_rows":4,"n_cols":3,"rows_kept":4,"cut":false,"hidden":true,"merged":[[3,1,3,12]]}
[null,null,"Normal Year Work Area"]
[]
[]
[null,"NB: To reference a cell on this sheet, use the formula and name “='NormalYearWorkArea'!...”"]

{"sheet":"EWorkarea-Baseline","index":29,"n_rows":4,"n_cols":3,"rows_kept":4,"cut":false,"hidden":true,"merged":[[3,1,3,12]]}
[null,null,"Baseline Work Area"]
[]
[]
[null,"NB: To reference a cell on this sheet, use the formula and name “='BaselineWorkArea'!...”"]

{"sheet":"EWorkarea-Operating","index":30,"n_rows":4,"n_cols":3,"rows_kept":4,"cut":false,"hidden":true,"merged":[[3,1,3,12]]}
[null,null,"Operating Work Area"]
[]
[]
[null,"NB: To reference a cell on this sheet, use the formula and name “='OperatingWorkArea'!...”"]

{"sheet":"EWorkarea-Reporting Year","index":31,"n_rows":4,"n_cols":3,"rows_kept":4,"cut":false,"hidden":true,"merged":[[3,1,3,12]]}
[null,null,"Reporting Year Work Area"]
[]
[]
[null,"NB: To reference a cell on this sheet, use the formula and name “='OperatingWorkArea'!...”"]

{"sheet":"G1-Measurements","index":32,"n_rows":84,"n_cols":13,"rows_kept":84,"cut":false,"hidden":true,"merged":[[13,1,13,12],[3,1,3,12],[5,1,5,12],[7,1,7,12],[9,1,9,12],[11,1,11,12],[15,1,15,12],[17,1,17,4],[17,5,17,7],[19,1,19,4],[19,5,19,7],[28,9,28,10],[30,3,30,4],[30,5,30,6],[30,7,30,8],[21,1,21,4],[21,5,21,7],[23,1,23,12],[25,1,25,12],[26,1,26,12],[28,1,29,1],[28,2,29,2],[28,3,29,4],[28,5,29,6],[28,7,29,8],[45,3,45,4],[45,5,45,6],[45,7,45,8],[43,9,43,10],[32,1,32,12],[36,1,36,12],[38,1,38,12],[40,1,40,12],[41,1,41,12],[43,1,44,1],[43,2,44,2],[43,3,44,4],[43,5,44,6],[43,7,44,8],[49,1,49,12],[51,1,51,12],[52,1,52,13],[53,1,54,1],[53,2,54,2],[53,3,54,4],[53,5,54,6],[53,7,54,8],[53,9,54,10],[53,11,53,12],[59,1,59,12],[55,3,55,4],[55,5,55,6],[55,7,55,8],[55,9,55,10],[57,1,57,12],[69,1,69,12],[60,1,60,10],[62,1,62,12],[64,2,64,3],[64,4,64,5],[64,6,64,7],[64,8,64,9],[65,2,65,3],[65,4,65,5],[65,6,65,7],[65,8,65,9],[67,1,67,12],[82,1,82,12],[83,1,83,12],[85,1,85,12],[70,1,70,12],[72,1,72,12],[74,1,74,12],[76,1,76,12],[77,1,77,12],[79,1,79,3],[79,4,79,10],[80,1,80,3],[80,4,80,10]]}
[null,null,"G1 - Measurements"]
[]
[{"$f":"LEFT(C1,1)","v":"G"},{"$f":"VLOOKUP(A3,EnergySourceLookup,2,FALSE)","v":"Gas"}]
[null,"Measurement Boundary"]
[]
[null,"Define Measurement Boundary - identify all meters and devices that will measure consumption of Electricity"]
[]
[null,"Note: The meters and measuring devices must include:\n(i) all energy consuming products installed or removed in implementing the project; and\n(ii) all energy consuming products for which energy consumption is affected by the project, unless it is able to be excluded (see below); and\n(iii) all energy generating products installed or removed in implementing the project.\n\nBecause each energy source uses different meters, each will have a different measurement boundary.\n\nAn energy consuming product or a component of an energy consuming product may be EXCLUDED from the measurement boundary if:\n(i) it is impractical or disproportionately costly to measure changes in the energy consumed by the product that result from implementation of the project and the change in the energy consumed is minor or trivial; or\n(ii) changes in the energy consumed by the product is accounted for in the interactive energy savings."]
[]
[]
[]
[null,"Measurement Frequency for Energy Model"]
[]
[null,"Note: This is the measurement frequency for the ENERGY MODEL, not the energy meter. Meter readings may be aggregated to create measurements for use with the model. All variables in an energy model must have the same frequency of data. However, different energy models (for different energy sources) do not have to have the same measurement frequency."]
[]
[null,"Note: Click the 'Update Tool' button in the navigation bar above after changing the measurement frequency."]
[]
[null,"Measurement frequency:"]
[]
[null,"Time interval length (days):",null,null,null,{"$f":"IFERROR(VLOOKUP(G1ModelFrequency,FrequencyLookup,7,FALSE),\"\")","v":""}]
[]
[null,"Number of time intervals per year:",null,null,null,{"$f":"IFERROR(IF(F20>0,ROUND(365/F20,0),\"\"),\"\")","v":""}]
[]
[null,"Energy Meters"]
[]
[null,"Identify and define how Energy Consumption will be calculated based on meter data:"]
[null,"Note: Please indicate in the \"How Measured / Calculated\" column if the measurements were based on sampling.\n\nSampling can only be used to determine measured energy consumption of an activity, if the project includes undertaking multiple similar activities at the same premises, and:\n(i) the measured energy consumption of each activity can be reasonably described by the same energy model; and \n(ii) the sampling methods used produce a random sample; and\n(iii) the calculation of the relative precision used to determine the accuracy factor includes quantification of the impact of the sampling."]
[]
[null,"Meter Identifier/ Name","Units","Description",null,"How Measured / Calculated",null,"Conversion to Model Frequency",null,"Measurement Accuracy"]
[null,null,null,null,null,null,null,null,null,"Accuracy\nType","Margin of Error"]
[null,null,{"$f":"getESUnits(StringToEnergySource($A$3))","v":"GJ"}]
[]
[null,"How will the energy meter readings be aggregated to provide a single value for energy consumption in each time interval?"]
[]
[]
[]
[]
[]
[null,"Independent Variables"]
[]
[null,"Identify and define p Independent Variables (not relevant if you use Estimate of the Mean), which vary over time under normal operating conditions, and must be measured during measurement periods:"]
[null,"Note: If both the baseline energy model and operating energy model (if NYES is chosen) use \"Estimate of the Mean\" to establish the energy model, then no independent variables are necessary."]
[]
[null,"Independent Variable Name","Units","Description",null,"How Measured / Calculated",null,"Conversion to Model Frequency",null,"Measurement Accuracy"]
[null,null,null,null,null,null,null,null,null,"Accuracy\nType","Margin of Error"]
[]
[]
[]
[]
[null,"Note: Click the 'Update Tool' button in the navigation bar above after adding an Independent Variable to the table."]
[]
[null,"Normal operating conditions"]
[null,"Identify and define at least one Site Constant. These do not vary over time for each site under normal operating conditions, but could change under extraordinary circumstances (such as unscheduled maintenance), and so must also be monitored and measured during measurement periods:"]
[null,"Site Constant Name","Units","Description",null,"How Measured / Calculated",null,"Conversion to Model Frequency",null,"Typical Value",null,"Measurement Accuracy"]
[false,null,null,null,null,null,null,null,null,null,null,"Accuracy\nType","Margin of Error"]
[]
[]
[null,"Note: Click the 'Update Tool' button in the navigation bar above after adding a Site Constant to the table."]
[]
[null,"Excluded variables"]
[null,"Other variables excluded from model:"]
[]
[null,"Note: These are variables for which data is available, but are either dependent on the other variables or don't have a strong influence on energy consumption and so have not been included in the model. Include a reason why they've been excluded from the model. "]
[]
[null,"Name","Description",null,"How Measured / Calculated",null,"Value (if constant and known)",null,"Reason Excluded from Model"]
[]
[]
[null,"Define Normal Year"]
[]
[null,"Describe how the normal year is defined:"]
[null,"Note: A normal year must reasonably represent the expected mean, range and variation of the independent variables used in the baseline energy model and operating energy model in an average year of the maximum time period for forward creation."]
[]
[]
[]
[null,"Data sources"]
[]
[null,"Define the data sources and how the data were manipulated (e.g. data gaps filled), if at all:"]
[null,"Note: These data sources may be the same as the data sources used to determine Independent Variables."]
[]
[null,"Data sources",null,null,"How were the data manipulated?"]
[]
[]
[null,"Describe how the sourced data is used to establish the normal year:"]
[null,"For example:\ni) How do the data sources correspond with the Independent Variables?\nii) If the business cycles captured are less than a year, how is that extended to a full year while maintaining natural variability?\niii) If multiple business cycles of data are available, how are those data sampled to construct a \"typical\" year of operation?"]

{"sheet":"G2-Normal Year Values","index":33,"n_rows":8,"n_cols":4,"rows_kept":8,"cut":false,"hidden":true,"merged":[[7,0,8,0],[9,5,9,6],[3,1,3,12],[5,1,5,12],[7,1,8,1],[7,2,8,2],[7,3,8,3]]}
[null,null,"G2 - Normal Year Values"]
[]
[{"$f":"LEFT(C1,1)","v":"G"},{"$f":"VLOOKUP(A3,EnergySourceLookup,2,FALSE)","v":"Gas"},{"$f":"VLOOKUP(A3,EnergySourceLookup,3,FALSE)","v":"GJ"}]
[null,"Enter Values for all Independent Variables under a Normal Year of Operating Conditions"]
[]
[null,{"$f":"\"Note: Click the 'Update Tool' button in the navigation bar above after entering the data. \" & IF(G1ModelFrequency<>\"\", \"This table should contain \" & VLOOKUP(G1ModelFrequency, FrequencyLookup,2,FALSE) & \" data points based on the selected \" & G1ModelFrequency & \" Measurement Frequency.\", \"\")","v":"Note: Click the 'Update Tool' button in the navigation bar above after entering the data. "}]
[]
[null,"Normal Year Date / Time","Exclude non-normal measurement? (Mark with 'Y')","Reason for exclusion"]

{"sheet":"GCharts-Normal Year","index":34,"n_rows":366,"n_cols":8,"rows_kept":366,"cut":false,"hidden":true,"merged":[]}
["Time period start","Lower bound","Upper bound","Independent Variable",null,"Minimum IV value","Maximum"]
[{"$f":"'G2-Normal Year Values'!$B$10","v":0},{"$f":"1.05*$F$2-0.05*$F$4","v":{"$error":"#REF!"}},{"$f":"1.05*$F$4-0.05*$F$2","v":{"$error":"#REF!"}},{"$f":"'G2-Normal Year Values'!#REF!","v":{"$error":"#REF!"}},null,{"$f":"MIN(D:D)","v":{"$error":"#REF!"}},{"$f":"MAX($D$2:$D$366)","v":{"$error":"#REF!"}},"(these formulas should adjust to ModelTimeIntervals value)"]
[{"$f":"'G2-Normal Year Values'!$B$11","v":0},{"$error":"#REF!"},{"$error":"#REF!"},{"$f":"'G2-Normal Year Values'!$D$11","v":0},null,"Maximum IV value"]
[{"$f":"'G2-Normal Year Values'!$B$12","v":0},{"$error":"#REF!"},{"$error":"#REF!"},{"$f":"'G2-Normal Year Values'!$D$12","v":0},null,{"$f":"MAX(D:D)","v":{"$error":"#REF!"}},null,"Actually, the minimum and maximum should come from the baseline and operating model effective ranges… will have to work this out later."]
[{"$f":"'G2-Normal Year Values'!$B$13","v":0},{"$error":"#REF!"},{"$error":"#REF!"},{"$f":"'G2-Normal Year Values'!$D$13","v":0}]
[{"$f":"'G2-Normal Year Values'!$B$14","v":0},{"$error":"#REF!"},{"$error":"#REF!"},{"$f":"'G2-Normal Year Values'!$D$14","v":0}]
[{"$f":"'G2-Normal Year Values'!$B$15","v":0},{"$error":"#REF!"},{"$error":"#REF!"},{"$f":"'G2-Normal Year Values'!$D$15","v":0}]
[{"$f":"'G2-Normal Year Values'!$B$16","v":0},{"$error":"#REF!"},{"$error":"#REF!"},{"$f":"'G2-Normal Year Values'!$D$16","v":0}]
[{"$f":"'G2-Normal Year Values'!$B$17","v":0},{"$error":"#REF!"},{"$error":"#REF!"},{"$f":"'G2-Normal Year Values'!$D$17","v":0}]
[{"$f":"'G2-Normal Year Values'!$B$18","v":0},{"$error":"#REF!"},{"$error":"#REF!"},{"$f":"'G2-Normal Year Values'!$D$18","v":0}]
[{"$f":"'G2-Normal Year Values'!$B$19","v":0},{"$error":"#REF!"},{"$error":"#REF!"},{"$f":"'G2-Normal Year Values'!$D$19","v":0}]
[{"$f":"'G2-Normal Year Values'!$B$20","v":0},{"$error":"#REF!"},{"$error":"#REF!"},{"$f":"'G2-Normal Year Values'!$D$20","v":0}]
[{"$f":"'G2-Normal Year Values'!$B$21","v":0},{"$error":"#REF!"},{"$error":"#REF!"},{"$f":"'G2-Normal Year Values'!$D$21","v":0}]
[{"$f":"'G2-Normal Year Values'!$B$22","v":0},{"$error":"#REF!"},{"$error":"#REF!"},{"$f":"'G2-Normal Year Values'!$D$22","v":0}]
[{"$f":"'G2-Normal Year Values'!$B$23","v":0},{"$error":"#REF!"},{"$error":"#REF!"},{"$f":"'G2-Normal Year Values'!$D$23","v":0}]
[{"$f":"'G2-Normal Year Values'!$B$24","v":0},{"$error":"#REF!"},{"$error":"#REF!"},{"$f":"'G2-Normal Year Values'!$D$24","v":0}]
[{"$f":"'G2-Normal Year Values'!$B$25","v":0},{"$error":"#REF!"},{"$error":"#REF!"},{"$f":"'G2-Normal Year Values'!$D$25","v":0}]
[{"$f":"'G2-Normal Year Values'!$B$26","v":0},{"$error":"#REF!"},{"$error":"#REF!"},{"$f":"'G2-Normal Year Values'!$D$26","v":0}]
[{"$f":"'G2-Normal Year Values'!$B$27","v":0},{"$error":"#REF!"},{"$error":"#REF!"},{"$f":"'G2-Normal Year Values'!$D$27","v":0}]
[{"$f":"'G2-Normal Year Values'!$B$28","v":0},{"$error":"#REF!"},{"$error":"#REF!"},{"$f":"'G2-Normal Year Values'!$D$28","v":0}]
[{"$f":"'G2-Normal Year Values'!$B$29","v":0},{"$error":"#REF!"},{"$error":"#REF!"},{"$f":"'G2-Normal Year Values'!$D$29","v":0}]
[{"$f":"'G2-Normal Year Values'!$B$30","v":0},{"$error":"#REF!"},{"$error":"#REF!"},{"$f":"'G2-Normal Year Values'!$D$30","v":0}]
[{"$f":"'G2-Normal Year Values'!$B$31","v":0},{"$error":"#REF!"},{"$error":"#REF!"},{"$f":"'G2-Normal Year Values'!$D$31","v":0}]
[{"$f":"'G2-Normal Year Values'!$B$32","v":0},{"$error":"#REF!"},{"$error":"#REF!"},{"$f":"'G2-Normal Year Values'!$D$32","v":0}]
[{"$f":"'G2-Normal Year Values'!$B$33","v":0},{"$error":"#REF!"},{"$error":"#REF!"},{"$f":"'G2-Normal Year Values'!$D$33","v":0}]
[{"$f":"'G2-Normal Year Values'!$B$34","v":0},{"$error":"#REF!"},{"$error":"#REF!"},{"$f":"'G2-Normal Year Values'!$D$34","v":0}]
[{"$f":"'G2-Normal Year Values'!$B$35","v":0},{"$error":"#REF!"},{"$error":"#REF!"},{"$f":"'G2-Normal Year Values'!$D$35","v":0}]
[{"$f":"'G2-Normal Year Values'!$B$36","v":0},{"$error":"#REF!"},{"$error":"#REF!"},{"$f":"'G2-Normal Year Values'!$D$36","v":0}]
[{"$f":"'G2-Normal Year Values'!$B$37","v":0},{"$error":"#REF!"},{"$error":"#REF!"},{"$f":"'G2-Normal Year Values'!$D$37","v":0}]
[{"$f":"'G2-Normal Year Values'!$B$38","v":0},{"$error":"#REF!"},{"$error":"#REF!"},{"$f":"'G2-Normal Year Values'!$D$38","v":0}]
[{"$f":"'G2-Normal Year Values'!$B$39","v":0},{"$error":"#REF!"},{"$error":"#REF!"},{"$f":"'G2-Normal Year Values'!$D$39","v":0}]
[{"$f":"'G2-Normal Year Values'!$B$40","v":0},{"$error":"#REF!"},{"$error":"#REF!"},{"$f":"'G2-Normal Year Values'!$D$40","v":0}]
[{"$f":"'G2-Normal Year Values'!$B$41","v":0},{"$error":"#REF!"},{"$error":"#REF!"},{"$f":"'G2-Normal Year Values'!$D$41","v":0}]
[{"$f":"'G2-Normal Year Values'!$B$42","v":0},{"$error":"#REF!"},{"$error":"#REF!"},{"$f":"'G2-Normal Year Values'!$D$42","v":0}]
[{"$f":"'G2-Normal Year Values'!$B$43","v":0},{"$error":"#REF!"},{"$error":"#REF!"},{"$f":"'G2-Normal Year Values'!$D$43","v":0}]
[{"$f":"'G2-Normal Year Values'!$B$44","v":0},{"$error":"#REF!"},{"$error":"#REF!"},{"$f":"'G2-Normal Year Values'!$D$44","v":0}]
[{"$f":"'G2-Normal Year Values'!$B$45","v":0},{"$error":"#REF!"},{"$error":"#REF!"},{"$f":"'G2-Normal Year Values'!$D$45","v":0}]
[{"$f":"'G2-Normal Year Values'!$B$46","v":0},{"$error":"#REF!"},{"$error":"#REF!"},{"$f":"'G2-Normal Year Values'!$D$46","v":0}]
[{"$f":"'G2-Normal Year Values'!$B$47","v":0},{"$error":"#REF!"},{"$error":"#REF!"},{"$f":"'G2-Normal Year Values'!$D$47","v":0}]
[{"$f":"'G2-Normal Year Values'!$B$48","v":0},{"$error":"#REF!"},{"$error":"#REF!"},{"$f":"'G2-Normal Year Values'!$D$48","v":0}]
[{"$f":"'G2-Normal Year Values'!$B$49","v":0},{"$error":"#REF!"},{"$error":"#REF!"},{"$f":"'G2-Normal Year Values'!$D$49","v":0}]
[{"$f":"'G2-Normal Year Values'!$B$50","v":0},{"$error":"#REF!"},{"$error":"#REF!"},{"$f":"'G2-Normal Year Values'!$D$50","v":0}]
[{"$f":"'G2-Normal Year Values'!$B$51","v":0},{"$error":"#REF!"},{"$error":"#REF!"},{"$f":"'G2-Normal Year Values'!$D$51","v":0}]
[{"$f":"'G2-Normal Year Values'!$B$52","v":0},{"$error":"#REF!"},{"$error":"#REF!"},{"$f":"'G2-Normal Year Values'!$D$52","v":0}]
[{"$f":"'G2-Normal Year Values'!$B$53","v":0},{"$error":"#REF!"},{"$error":"#REF!"},{"$f":"'G2-Normal Year Values'!$D$53","v":0}]
[{"$f":"'G2-Normal Year Values'!$B$54","v":0},{"$error":"#REF!"},{"$error":"#REF!"},{"$f":"'G2-Normal Year Values'!$D$54","v":0}]
[{"$f":"'G2-Normal Year Values'!$B$55","v":0},{"$error":"#REF!"},{"$error":"#REF!"},{"$f":"'G2-Normal Year Values'!$D$55","v":0}]
[{"$f":"'G2-Normal Year Values'!$B$56","v":0},{"$error":"#REF!"},{"$error":"#REF!"},{"$f":"'G2-Normal Year Values'!$D$56","v":0}]
[{"$f":"'G2-Normal Year Values'!$B$57","v":0},{"$error":"#REF!"},{"$error":"#REF!"},{"$f":"'G2-Normal Year Values'!$D$57","v":0}]
[{"$f":"'G2-Normal Year Values'!$B$58","v":0},{"$error":"#REF!"},{"$error":"#REF!"},{"$f":"'G2-Normal Year Values'!$D$58","v":0}]
[{"$f":"'G2-Normal Year Values'!$B$59","v":0},{"$error":"#REF!"},{"$error":"#REF!"},{"$f":"'G2-Normal Year Values'!$D$59","v":0}]
[{"$f":"'G2-Normal Year Values'!$B$60","v":0},{"$error":"#REF!"},{"$error":"#REF!"},{"$f":"'G2-Normal Year Values'!$D$60","v":0}]
[{"$f":"'G2-Normal Year Values'!$B$61","v":0},{"$error":"#REF!"},{"$error":"#REF!"},{"$f":"'G2-Normal Year Values'!$D$61","v":0}]
[{"$f":"'G2-Normal Year Values'!$B$62","v":0},{"$error":"#REF!"},{"$error":"#REF!"},{"$f":"'G2-Normal Year Values'!$D$62","v":0}]
[{"$f":"'G2-Normal Year Values'!$B$63","v":0},{"$error":"#REF!"},{"$error":"#REF!"},{"$f":"'G2-Normal Year Values'!$D$63","v":0}]
[{"$f":"'G2-Normal Year Values'!$B$64","v":0},{"$error":"#REF!"},{"$error":"#REF!"},{"$f":"'G2-Normal Year Values'!$D$64","v":0}]
[{"$f":"'G2-Normal Year Values'!$B$65","v":0},{"$error":"#REF!"},{"$error":"#REF!"},{"$f":"'G2-Normal Year Values'!$D$65","v":0}]
[{"$f":"'G2-Normal Year Values'!$B$66","v":0},{"$error":"#REF!"},{"$error":"#REF!"},{"$f":"'G2-Normal Year Values'!$D$66","v":0}]
[{"$f":"'G2-Normal Year Values'!$B$67","v":0},{"$error":"#REF!"},{"$error":"#REF!"},{"$f":"'G2-Normal Year Values'!$D$67","v":0}]
[{"$f":"'G2-Normal Year Values'!$B$68","v":0},{"$error":"#REF!"},{"$error":"#REF!"},{"$f":"'G2-Normal Year Values'!$D$68","v":0}]
[{"$f":"'G2-Normal Year Values'!$B$69","v":0},{"$error":"#REF!"},{"$error":"#REF!"},{"$f":"'G2-Normal Year Values'!$D$69","v":0}]
[{"$f":"'G2-Normal Year Values'!$B$70","v":0},{"$error":"#REF!"},{"$error":"#REF!"},{"$f":"'G2-Normal Year Values'!$D$70","v":0}]
[{"$f":"'G2-Normal Year Values'!$B$71","v":0},{"$error":"#REF!"},{"$error":"#REF!"},{"$f":"'G2-Normal Year Values'!$D$71","v":0}]
[{"$f":"'G2-Normal Year Values'!$B$72","v":0},{"$error":"#REF!"},{"$error":"#REF!"},{"$f":"'G2-Normal Year Values'!$D$72","v":0}]
[{"$f":"'G2-Normal Year Values'!$B$73","v":0},{"$error":"#REF!"},{"$error":"#REF!"},{"$f":"'G2-Normal Year Values'!$D$73","v":0}]
[{"$f":"'G2-Normal Year Values'!$B$74","v":0},{"$f":"1.05*$F$2-0.05*$F$4","v":{"$error":"#REF!"}},{"$f":"1.05*$F$4-0.05*$F$2","v":{"$error":"#REF!"}},{"$f":"'G2-Normal Year Values'!$D$74","v":0}]
[{"$f":"'G2-Normal Year Values'!$B$75","v":0},{"$error":"#REF!"},{"$error":"#REF!"},{"$f":"'G2-Normal Year Values'!$D$75","v":0}]
[{"$f":"'G2-Normal Year Values'!$B$76","v":0},{"$error":"#REF!"},{"$error":"#REF!"},{"$f":"'G2-Normal Year Values'!$D$76","v":0}]
[{"$f":"'G2-Normal Year Values'!$B$77","v":0},{"$error":"#REF!"},{"$error":"#REF!"},{"$f":"'G2-Normal Year Values'!$D$77","v":0}]
[{"$f":"'G2-Normal Year Values'!$B$78","v":0},{"$error":"#REF!"},{"$error":"#REF!"},{"$f":"'G2-Normal Year Values'!$D$78","v":0}]
[{"$f":"'G2-Normal Year Values'!$B$79","v":0},{"$error":"#REF!"},{"$error":"#REF!"},{"$f":"'G2-Normal Year Values'!$D$79","v":0}]
[{"$f":"'G2-Normal Year Values'!$B$80","v":0},{"$error":"#REF!"},{"$error":"#REF!"},{"$f":"'G2-Normal Year Values'!$D$80","v":0}]
[{"$f":"'G2-Normal Year Values'!$B$81","v":0},{"$error":"#REF!"},{"$error":"#REF!"},{"$f":"'G2-Normal Year Values'!$D$81","v":0}]
[{"$f":"'G2-Normal Year Values'!$B$82","v":0},{"$error":"#REF!"},{"$error":"#REF!"},{"$f":"'G2-Normal Year Values'!$D$82","v":0}]
[{"$f":"'G2-Normal Year Values'!$B$83","v":0},{"$error":"#REF!"},{"$error":"#REF!"},{"$f":"'G2-Normal Year Values'!$D$83","v":0}]
[{"$f":"'G2-Normal Year Values'!$B$84","v":0},{"$error":"#REF!"},{"$error":"#REF!"},{"$f":"'G2-Normal Year Values'!$D$84","v":0}]
[{"$f":"'G2-Normal Year Values'!$B$85","v":0},{"$error":"#REF!"},{"$error":"#REF!"},{"$f":"'G2-Normal Year Values'!$D$85","v":0}]
[{"$f":"'G2-Normal Year Values'!$B$86","v":0},{"$error":"#REF!"},{"$error":"#REF!"},{"$f":"'G2-Normal Year Values'!$D$86","v":0}]
[{"$f":"'G2-Normal Year Values'!$B$87","v":0},{"$error":"#REF!"},{"$error":"#REF!"},{"$f":"'G2-Normal Year Values'!$D$87","v":0}]
[{"$f":"'G2-Normal Year Values'!$B$88","v":0},{"$error":"#REF!"},{"$error":"#REF!"},{"$f":"'G2-Normal Year Values'!$D$88","v":0}]
[{"$f":"'G2-Normal Year Values'!$B$89","v":0},{"$error":"#REF!"},{"$error":"#REF!"},{"$f":"'G2-Normal Year Values'!$D$89","v":0}]
[{"$f":"'G2-Normal Year Values'!$B$90","v":0},{"$error":"#REF!"},{"$error":"#REF!"},{"$f":"'G2-Normal Year Values'!$D$90","v":0}]
[{"$f":"'G2-Normal Year Values'!$B$91","v":0},{"$error":"#REF!"},{"$error":"#REF!"},{"$f":"'G2-Normal Year Values'!$D$91","v":0}]
[{"$f":"'G2-Normal Year Values'!$B$92","v":0},{"$error":"#REF!"},{"$error":"#REF!"},{"$f":"'G2-Normal Year Values'!$D$92","v":0}]
[{"$f":"'G2-Normal Year Values'!$B$93","v":0},{"$error":"#REF!"},{"$error":"#REF!"},{"$f":"'G2-Normal Year Values'!$D$93","v":0}]
[{"$f":"'G2-Normal Year Values'!$B$94","v":0},{"$error":"#REF!"},{"$error":"#REF!"},{"$f":"'G2-Normal Year Values'!$D$94","v":0}]
[{"$f":"'G2-Normal Year Values'!$B$95","v":0},{"$error":"#REF!"},{"$error":"#REF!"},{"$f":"'G2-Normal Year Values'!$D$95","v":0}]
[{"$f":"'G2-Normal Year Values'!$B$96","v":0},{"$error":"#REF!"},{"$error":"#REF!"},{"$f":"'G2-Normal Year Values'!$D$96","v":0}]
[{"$f":"'G2-Normal Year Values'!$B$97","v":0},{"$error":"#REF!"},{"$error":"#REF!"},{"$f":"'G2-Normal Year Values'!$D$97","v":0}]
[{"$f":"'G2-Normal Year Values'!$B$98","v":0},{"$error":"#REF!"},{"$error":"#REF!"},{"$f":"'G2-Normal Year Values'!$D$98","v":0}]
[{"$f":"'G2-Normal Year Values'!$B$99","v":0},{"$error":"#REF!"},{"$error":"#REF!"},{"$f":"'G2-Normal Year Values'!$D$99","v":0}]
[{"$f":"'G2-Normal Year Values'!$B$100","v":0},{"$error":"#REF!"},{"$error":"#REF!"},{"$f":"'G2-Normal Year Values'!$D$100","v":0}]
[{"$f":"'G2-Normal Year Values'!$B$101","v":0},{"$error":"#REF!"},{"$error":"#REF!"},{"$f":"'G2-Normal Year Values'!$D$101","v":0}]
[{"$f":"'G2-Normal Year Values'!$B$102","v":0},{"$error":"#REF!"},{"$error":"#REF!"},{"$f":"'G2-Normal Year Values'!$D$102","v":0}]
[{"$f":"'G2-Normal Year Values'!$B$103","v":0},{"$error":"#REF!"},{"$error":"#REF!"},{"$f":"'G2-Normal Year Values'!$D$103","v":0}]
[{"$f":"'G2-Normal Year Values'!$B$104","v":0},{"$error":"#REF!"},{"$error":"#REF!"},{"$f":"'G2-Normal Year Values'!$D$104","v":0}]
[{"$f":"'G2-Normal Year Values'!$B$105","v":0},{"$error":"#REF!"},{"$error":"#REF!"},{"$f":"'G2-Normal Year Values'!$D$105","v":0}]
[{"$f":"'G2-Normal Year Values'!$B$106","v":0},{"$error":"#REF!"},{"$error":"#REF!"},{"$f":"'G2-Normal Year Values'!$D$106","v":0}]
[{"$f":"'G2-Normal Year Values'!$B$107","v":0},{"$error":"#REF!"},{"$error":"#REF!"},{"$f":"'G2-Normal Year Values'!$D$107","v":0}]
[{"$f":"'G2-Normal Year Values'!$B$108","v":0},{"$error":"#REF!"},{"$error":"#REF!"},{"$f":"'G2-Normal Year Values'!$D$108","v":0}]
[{"$f":"'G2-Normal Year Values'!$B$109","v":0},{"$error":"#REF!"},{"$error":"#REF!"},{"$f":"'G2-Normal Year Values'!$D$109","v":0}]
[{"$f":"'G2-Normal Year Values'!$B$110","v":0},{"$error":"#REF!"},{"$error":"#REF!"},{"$f":"'G2-Normal Year Values'!$D$110","v":0}]
[{"$f":"'G2-Normal Year Values'!$B$111","v":0},{"$error":"#REF!"},{"$error":"#REF!"},{"$f":"'G2-Normal Year Values'!$D$111","v":0}]
[{"$f":"'G2-Normal Year Values'!$B$112","v":0},{"$error":"#REF!"},{"$error":"#REF!"},{"$f":"'G2-Normal Year Values'!$D$112","v":0}]
[{"$f":"'G2-Normal Year Values'!$B$113","v":0},{"$error":"#REF!"},{"$error":"#REF!"},{"$f":"'G2-Normal Year Values'!$D$113","v":0}]
[{"$f":"'G2-Normal Year Values'!$B$114","v":0},{"$error":"#REF!"},{"$error":"#REF!"},{"$f":"'G2-Normal Year Values'!$D$114","v":0}]
[{"$f":"'G2-Normal Year Values'!$B$115","v":0},{"$error":"#REF!"},{"$error":"#REF!"},{"$f":"'G2-Normal Year Values'!$D$115","v":0}]
[{"$f":"'G2-Normal Year Values'!$B$116","v":0},{"$error":"#REF!"},{"$error":"#REF!"},{"$f":"'G2-Normal Year Values'!$D$116","v":0}]
[{"$f":"'G2-Normal Year Values'!$B$117","v":0},{"$error":"#REF!"},{"$error":"#REF!"},{"$f":"'G2-Normal Year Values'!$D$117","v":0}]
[{"$f":"'G2-Normal Year Values'!$B$118","v":0},{"$error":"#REF!"},{"$error":"#REF!"},{"$f":"'G2-Normal Year Values'!$D$118","v":0}]
[{"$f":"'G2-Normal Year Values'!$B$119","v":0},{"$error":"#REF!"},{"$error":"#REF!"},{"$f":"'G2-Normal Year Values'!$D$119","v":0}]
[{"$f":"'G2-Normal Year Values'!$B$120","v":0},{"$error":"#REF!"},{"$error":"#REF!"},{"$f":"'G2-Normal Year Values'!$D$120","v":0}]
[{"$f":"'G2-Normal Year Values'!$B$121","v":0},{"$error":"#REF!"},{"$error":"#REF!"},{"$f":"'G2-Normal Year Values'!$D$121","v":0}]
[{"$f":"'G2-Normal Year Values'!$B$122","v":0},{"$error":"#REF!"},{"$error":"#REF!"},{"$f":"'G2-Normal Year Values'!$D$122","v":0}]
[{"$f":"'G2-Normal Year Values'!$B$123","v":0},{"$error":"#REF!"},{"$error":"#REF!"},{"$f":"'G2-Normal Year Values'!$D$123","v":0}]
[{"$f":"'G2-Normal Year Values'!$B$124","v":0},{"$error":"#REF!"},{"$error":"#REF!"},{"$f":"'G2-Normal Year Values'!$D$124","v":0}]
[{"$f":"'G2-Normal Year Values'!$B$125","v":0},{"$error":"#REF!"},{"$error":"#REF!"},{"$f":"'G2-Normal Year Values'!$D$125","v":0}]
[{"$f":"'G2-Normal Year Values'!$B$126","v":0},{"$error":"#REF!"},{"$error":"#REF!"},{"$f":"'G2-Normal Year Values'!$D$126","v":0}]
[{"$f":"'G2-Normal Year Values'!$B$127","v":0},{"$error":"#REF!"},{"$error":"#REF!"},{"$f":"'G2-Normal Year Values'!$D$127","v":0}]
[{"$f":"'G2-Normal Year Values'!$B$128","v":0},{"$error":"#REF!"},{"$error":"#REF!"},{"$f":"'G2-Normal Year Values'!$D$128","v":0}]
[{"$f":"'G2-Normal Year Values'!$B$129","v":0},{"$error":"#REF!"},{"$error":"#REF!"},{"$f":"'G2-Normal Year Values'!$D$129","v":0}]
[{"$f":"'G2-Normal Year Values'!$B$130","v":0},{"$error":"#REF!"},{"$error":"#REF!"},{"$f":"'G2-Normal Year Values'!$D$130","v":0}]
[{"$f":"'G2-Normal Year Values'!$B$131","v":0},{"$error":"#REF!"},{"$error":"#REF!"},{"$f":"'G2-Normal Year Values'!$D$131","v":0}]
[{"$f":"'G2-Normal Year Values'!$B$132","v":0},{"$error":"#REF!"},{"$error":"#REF!"},{"$f":"'G2-Normal Year Values'!$D$132","v":0}]
[{"$f":"'G2-Normal Year Values'!$B$133","v":0},{"$error":"#REF!"},{"$error":"#REF!"},{"$f":"'G2-Normal Year Values'!$D$133","v":0}]
[{"$f":"'G2-Normal Year Values'!$B$134","v":0},{"$error":"#REF!"},{"$error":"#REF!"},{"$f":"'G2-Normal Year Values'!$D$134","v":0}]
[{"$f":"'G2-Normal Year Values'!$B$135","v":0},{"$error":"#REF!"},{"$error":"#REF!"},{"$f":"'G2-Normal Year Values'!$D$135","v":0}]
[{"$f":"'G2-Normal Year Values'!$B$136","v":0},{"$error":"#REF!"},{"$error":"#REF!"},{"$f":"'G2-Normal Year Values'!$D$136","v":0}]
[{"$f":"'G2-Normal Year Values'!$B$137","v":0},{"$error":"#REF!"},{"$error":"#REF!"},{"$f":"'G2-Normal Year Values'!$D$137","v":0}]
[{"$f":"'G2-Normal Year Values'!$B$138","v":0},{"$f":"1.05*$F$2-0.05*$F$4","v":{"$error":"#REF!"}},{"$f":"1.05*$F$4-0.05*$F$2","v":{"$error":"#REF!"}},{"$f":"'G2-Normal Year Values'!$D$138","v":0}]
[{"$f":"'G2-Normal Year Values'!$B$139","v":0},{"$error":"#REF!"},{"$error":"#REF!"},{"$f":"'G2-Normal Year Values'!$D$139","v":0}]
[{"$f":"'G2-Normal Year Values'!$B$140","v":0},{"$error":"#REF!"},{"$error":"#REF!"},{"$f":"'G2-Normal Year Values'!$D$140","v":0}]
[{"$f":"'G2-Normal Year Values'!$B$141","v":0},{"$error":"#REF!"},{"$error":"#REF!"},{"$f":"'G2-Normal Year Values'!$D$141","v":0}]
[{"$f":"'G2-Normal Year Values'!$B$142","v":0},{"$error":"#REF!"},{"$error":"#REF!"},{"$f":"'G2-Normal Year Values'!$D$142","v":0}]
[{"$f":"'G2-Normal Year Values'!$B$143","v":0},{"$error":"#REF!"},{"$error":"#REF!"},{"$f":"'G2-Normal Year Values'!$D$143","v":0}]
[{"$f":"'G2-Normal Year Values'!$B$144","v":0},{"$error":"#REF!"},{"$error":"#REF!"},{"$f":"'G2-Normal Year Values'!$D$144","v":0}]
[{"$f":"'G2-Normal Year Values'!$B$145","v":0},{"$error":"#REF!"},{"$error":"#REF!"},{"$f":"'G2-Normal Year Values'!$D$145","v":0}]
[{"$f":"'G2-Normal Year Values'!$B$146","v":0},{"$error":"#REF!"},{"$error":"#REF!"},{"$f":"'G2-Normal Year Values'!$D$146","v":0}]
[{"$f":"'G2-Normal Year Values'!$B$147","v":0},{"$error":"#REF!"},{"$error":"#REF!"},{"$f":"'G2-Normal Year Values'!$D$147","v":0}]
[{"$f":"'G2-Normal Year Values'!$B$148","v":0},{"$error":"#REF!"},{"$error":"#REF!"},{"$f":"'G2-Normal Year Values'!$D$148","v":0}]
[{"$f":"'G2-Normal Year Values'!$B$149","v":0},{"$error":"#REF!"},{"$error":"#REF!"},{"$f":"'G2-Normal Year Values'!$D$149","v":0}]
[{"$f":"'G2-Normal Year Values'!$B$150","v":0},{"$error":"#REF!"},{"$error":"#REF!"},{"$f":"'G2-Normal Year Values'!$D$150","v":0}]
[{"$f":"'G2-Normal Year Values'!$B$151","v":0},{"$error":"#REF!"},{"$error":"#REF!"},{"$f":"'G2-Normal Year Values'!$D$151","v":0}]
[{"$f":"'G2-Normal Year Values'!$B$152","v":0},{"$error":"#REF!"},{"$error":"#REF!"},{"$f":"'G2-Normal Year Values'!$D$152","v":0}]
[{"$f":"'G2-Normal Year Values'!$B$153","v":0},{"$error":"#REF!"},{"$error":"#REF!"},{"$f":"'G2-Normal Year Values'!$D$153","v":0}]
[{"$f":"'G2-Normal Year Values'!$B$154","v":0},{"$error":"#REF!"},{"$error":"#REF!"},{"$f":"'G2-Normal Year Values'!$D$154","v":0}]
[{"$f":"'G2-Normal Year Values'!$B$155","v":0},{"$error":"#REF!"},{"$error":"#REF!"},{"$f":"'G2-Normal Year Values'!$D$155","v":0}]
[{"$f":"'G2-Normal Year Values'!$B$156","v":0},{"$error":"#REF!"},{"$error":"#REF!"},{"$f":"'G2-Normal Year Values'!$D$156","v":0}]
[{"$f":"'G2-Normal Year Values'!$B$157","v":0},{"$error":"#REF!"},{"$error":"#REF!"},{"$f":"'G2-Normal Year Values'!$D$157","v":0}]
[{"$f":"'G2-Normal Year Values'!$B$158","v":0},{"$error":"#REF!"},{"$error":"#REF!"},{"$f":"'G2-Normal Year Values'!$D$158","v":0}]
[{"$f":"'G2-Normal Year Values'!$B$159","v":0},{"$error":"#REF!"},{"$error":"#REF!"},{"$f":"'G2-Normal Year Values'!$D$159","v":0}]
[{"$f":"'G2-Normal Year Values'!$B$160","v":0},{"$error":"#REF!"},{"$error":"#REF!"},{"$f":"'G2-Normal Year Values'!$D$160","v":0}]
[{"$f":"'G2-Normal Year Values'!$B$161","v":0},{"$error":"#REF!"},{"$error":"#REF!"},{"$f":"'G2-Normal Year Values'!$D$161","v":0}]
[{"$f":"'G2-Normal Year Values'!$B$162","v":0},{"$error":"#REF!"},{"$error":"#REF!"},{"$f":"'G2-Normal Year Values'!$D$162","v":0}]
[{"$f":"'G2-Normal Year Values'!$B$163","v":0},{"$error":"#REF!"},{"$error":"#REF!"},{"$f":"'G2-Normal Year Values'!$D$163","v":0}]
[{"$f":"'G2-Normal Year Values'!$B$164","v":0},{"$error":"#REF!"},{"$error":"#REF!"},{"$f":"'G2-Normal Year Values'!$D$164","v":0}]
[{"$f":"'G2-Normal Year Values'!$B$165","v":0},{"$error":"#REF!"},{"$error":"#REF!"},{"$f":"'G2-Normal Year Values'!$D$165","v":0}]
[{"$f":"'G2-Normal Year Values'!$B$166","v":0},{"$error":"#REF!"},{"$error":"#REF!"},{"$f":"'G2-Normal Year Values'!$D$166","v":0}]
[{"$f":"'G2-Normal Year Values'!$B$167","v":0},{"$error":"#REF!"},{"$error":"#REF!"},{"$f":"'G2-Normal Year Values'!$D$167","v":0}]
[{"$f":"'G2-Normal Year Values'!$B$168","v":0},{"$error":"#REF!"},{"$error":"#REF!"},{"$f":"'G2-Normal Year Values'!$D$168","v":0}]
[{"$f":"'G2-Normal Year Values'!$B$169","v":0},{"$error":"#REF!"},{"$error":"#REF!"},{"$f":"'G2-Normal Year Values'!$D$169","v":0}]
[{"$f":"'G2-Normal Year Values'!$B$170","v":0},{"$error":"#REF!"},{"$error":"#REF!"},{"$f":"'G2-Normal Year Values'!$D$170","v":0}]
[{"$f":"'G2-Normal Year Values'!$B$171","v":0},{"$error":"#REF!"},{"$error":"#REF!"},{"$f":"'G2-Normal Year Values'!$D$171","v":0}]
[{"$f":"'G2-Normal Year Values'!$B$172","v":0},{"$error":"#REF!"},{"$error":"#REF!"},{"$f":"'G2-Normal Year Values'!$D$172","v":0}]
[{"$f":"'G2-Normal Year Values'!$B$173","v":0},{"$error":"#REF!"},{"$error":"#REF!"},{"$f":"'G2-Normal Year Values'!$D$173","v":0}]
[{"$f":"'G2-Normal Year Values'!$B$174","v":0},{"$error":"#REF!"},{"$error":"#REF!"},{"$f":"'G2-Normal Year Values'!$D$174","v":0}]
[{"$f":"'G2-Normal Year Values'!$B$175","v":0},{"$error":"#REF!"},{"$error":"#REF!"},{"$f":"'G2-Normal Year Values'!$D$175","v":0}]
[{"$f":"'G2-Normal Year Values'!$B$176","v":0},{"$error":"#REF!"},{"$error":"#REF!"},{"$f":"'G2-Normal Year Values'!$D$176","v":0}]
[{"$f":"'G2-Normal Year Values'!$B$177","v":0},{"$error":"#REF!"},{"$error":"#REF!"},{"$f":"'G2-Normal Year Values'!$D$177","v":0}]
[{"$f":"'G2-Normal Year Values'!$B$178","v":0},{"$error":"#REF!"},{"$error":"#REF!"},{"$f":"'G2-Normal Year Values'!$D$178","v":0}]
[{"$f":"'G2-Normal Year Values'!$B$179","v":0},{"$error":"#REF!"},{"$error":"#REF!"},{"$f":"'G2-Normal Year Values'!$D$179","v":0}]
[{"$f":"'G2-Normal Year Values'!$B$180","v":0},{"$error":"#REF!"},{"$error":"#REF!"},{"$f":"'G2-Normal Year Values'!$D$180","v":0}]
[{"$f":"'G2-Normal Year Values'!$B$181","v":0},{"$error":"#REF!"},{"$error":"#REF!"},{"$f":"'G2-Normal Year Values'!$D$181","v":0}]
[{"$f":"'G2-Normal Year Values'!$B$182","v":0},{"$error":"#REF!"},{"$error":"#REF!"},{"$f":"'G2-Normal Year Values'!$D$182","v":0}]
[{"$f":"'G2-Normal Year Values'!$B$183","v":0},{"$error":"#REF!"},{"$error":"#REF!"},{"$f":"'G2-Normal Year Values'!$D$183","v":0}]
[{"$f":"'G2-Normal Year Values'!$B$184","v":0},{"$error":"#REF!"},{"$error":"#REF!"},{"$f":"'G2-Normal Year Values'!$D$184","v":0}]
[{"$f":"'G2-Normal Year Values'!$B$185","v":0},{"$error":"#REF!"},{"$error":"#REF!"},{"$f":"'G2-Normal Year Values'!$D$185","v":0}]
[{"$f":"'G2-Normal Year Values'!$B$186","v":0},{"$error":"#REF!"},{"$error":"#REF!"},{"$f":"'G2-Normal Year Values'!$D$186","v":0}]
[{"$f":"'G2-Normal Year Values'!$B$187","v":0},{"$error":"#REF!"},{"$error":"#REF!"},{"$f":"'G2-Normal Year Values'!$D$187","v":0}]
[{"$f":"'G2-Normal Year Values'!$B$188","v":0},{"$error":"#REF!"},{"$error":"#REF!"},{"$f":"'G2-Normal Year Values'!$D$188","v":0}]
[{"$f":"'G2-Normal Year Values'!$B$189","v":0},{"$error":"#REF!"},{"$error":"#REF!"},{"$f":"'G2-Normal Year Values'!$D$189","v":0}]
[{"$f":"'G2-Normal Year Values'!$B$190","v":0},{"$error":"#REF!"},{"$error":"#REF!"},{"$f":"'G2-Normal Year Values'!$D$190","v":0}]
[{"$f":"'G2-Normal Year Values'!$B$191","v":0},{"$error":"#REF!"},{"$error":"#REF!"},{"$f":"'G2-Normal Year Values'!$D$191","v":0}]
[{"$f":"'G2-Normal Year Values'!$B$192","v":0},{"$error":"#REF!"},{"$error":"#REF!"},{"$f":"'G2-Normal Year Values'!$D$192","v":0}]
[{"$f":"'G2-Normal Year Values'!$B$193","v":0},{"$error":"#REF!"},{"$error":"#REF!"},{"$f":"'G2-Normal Year Values'!$D$193","v":0}]
[{"$f":"'G2-Normal Year Values'!$B$194","v":0},{"$error":"#REF!"},{"$error":"#REF!"},{"$f":"'G2-Normal Year Values'!$D$194","v":0}]
[{"$f":"'G2-Normal Year Values'!$B$195","v":0},{"$error":"#REF!"},{"$error":"#REF!"},{"$f":"'G2-Normal Year Values'!$D$195","v":0}]
[{"$f":"'G2-Normal Year Values'!$B$196","v":0},{"$error":"#REF!"},{"$error":"#REF!"},{"$f":"'G2-Normal Year Values'!$D$196","v":0}]
[{"$f":"'G2-Normal Year Values'!$B$197","v":0},{"$error":"#REF!"},{"$error":"#REF!"},{"$f":"'G2-Normal Year Values'!$D$197","v":0}]
[{"$f":"'G2-Normal Year Values'!$B$198","v":0},{"$error":"#REF!"},{"$error":"#REF!"},{"$f":"'G2-Normal Year Values'!$D$198","v":0}]
[{"$f":"'G2-Normal Year Values'!$B$199","v":0},{"$error":"#REF!"},{"$error":"#REF!"},{"$f":"'G2-Normal Year Values'!$D$199","v":0}]
[{"$f":"'G2-Normal Year Values'!$B$200","v":0},{"$error":"#REF!"},{"$error":"#REF!"},{"$f":"'G2-Normal Year Values'!$D$200","v":0}]
[{"$f":"'G2-Normal Year Values'!$B$201","v":0},{"$error":"#REF!"},{"$error":"#REF!"},{"$f":"'G2-Normal Year Values'!$D$201","v":0}]
[{"$f":"'G2-Normal Year Values'!$B$202","v":0},{"$f":"1.05*$F$2-0.05*$F$4","v":{"$error":"#REF!"}},{"$f":"1.05*$F$4-0.05*$F$2","v":{"$error":"#REF!"}},{"$f":"'G2-Normal Year Values'!$D$202","v":0}]
[{"$f":"'G2-Normal Year Values'!$B$203","v":0},{"$error":"#REF!"},{"$error":"#REF!"},{"$f":"'G2-Normal Year Values'!$D$203","v":0}]
[{"$f":"'G2-Normal Year Values'!$B$204","v":0},{"$error":"#REF!"},{"$error":"#REF!"},{"$f":"'G2-Normal Year Values'!$D$204","v":0}]
[{"$f":"'G2-Normal Year Values'!$B$205","v":0},{"$error":"#REF!"},{"$error":"#REF!"},{"$f":"'G2-Normal Year Values'!$D$205","v":0}]
[{"$f":"'G2-Normal Year Values'!$B$206","v":0},{"$error":"#REF!"},{"$error":"#REF!"},{"$f":"'G2-Normal Year Values'!$D$206","v":0}]
[{"$f":"'G2-Normal Year Values'!$B$207","v":0},{"$error":"#REF!"},{"$error":"#REF!"},{"$f":"'G2-Normal Year Values'!$D$207","v":0}]
[{"$f":"'G2-Normal Year Values'!$B$208","v":0},{"$error":"#REF!"},{"$error":"#REF!"},{"$f":"'G2-Normal Year Values'!$D$208","v":0}]
[{"$f":"'G2-Normal Year Values'!$B$209","v":0},{"$error":"#REF!"},{"$error":"#REF!"},{"$f":"'G2-Normal Year Values'!$D$209","v":0}]
[{"$f":"'G2-Normal Year Values'!$B$210","v":0},{"$error":"#REF!"},{"$error":"#REF!"},{"$f":"'G2-Normal Year Values'!$D$210","v":0}]
[{"$f":"'G2-Normal Year Values'!$B$211","v":0},{"$error":"#REF!"},{"$error":"#REF!"},{"$f":"'G2-Normal Year Values'!$D$211","v":0}]
[{"$f":"'G2-Normal Year Values'!$B$212","v":0},{"$error":"#REF!"},{"$error":"#REF!"},{"$f":"'G2-Normal Year Values'!$D$212","v":0}]
[{"$f":"'G2-Normal Year Values'!$B$213","v":0},{"$error":"#REF!"},{"$error":"#REF!"},{"$f":"'G2-Normal Year Values'!$D$213","v":0}]
[{"$f":"'G2-Normal Year Values'!$B$214","v":0},{"$error":"#REF!"},{"$error":"#REF!"},{"$f":"'G2-Normal Year Values'!$D$214","v":0}]
[{"$f":"'G2-Normal Year Values'!$B$215","v":0},{"$error":"#REF!"},{"$error":"#REF!"},{"$f":"'G2-Normal Year Values'!$D$215","v":0}]
[{"$f":"'G2-Normal Year Values'!$B$216","v":0},{"$error":"#REF!"},{"$error":"#REF!"},{"$f":"'G2-Normal Year Values'!$D$216","v":0}]
[{"$f":"'G2-Normal Year Values'!$B$217","v":0},{"$error":"#REF!"},{"$error":"#REF!"},{"$f":"'G2-Normal Year Values'!$D$217","v":0}]
[{"$f":"'G2-Normal Year Values'!$B$218","v":0},{"$error":"#REF!"},{"$error":"#REF!"},{"$f":"'G2-Normal Year Values'!$D$218","v":0}]
[{"$f":"'G2-Normal Year Values'!$B$219","v":0},{"$error":"#REF!"},{"$error":"#REF!"},{"$f":"'G2-Normal Year Values'!$D$219","v":0}]
[{"$f":"'G2-Normal Year Values'!$B$220","v":0},{"$error":"#REF!"},{"$error":"#REF!"},{"$f":"'G2-Normal Year Values'!$D$220","v":0}]
[{"$f":"'G2-Normal Year Values'!$B$221","v":0},{"$error":"#REF!"},{"$error":"#REF!"},{"$f":"'G2-Normal Year Values'!$D$221","v":0}]
[{"$f":"'G2-Normal Year Values'!$B$222","v":0},{"$error":"#REF!"},{"$error":"#REF!"},{"$f":"'G2-Normal Year Values'!$D$222","v":0}]
[{"$f":"'G2-Normal Year Values'!$B$223","v":0},{"$error":"#REF!"},{"$error":"#REF!"},{"$f":"'G2-Normal Year Values'!$D$223","v":0}]
[{"$f":"'G2-Normal Year Values'!$B$224","v":0},{"$error":"#REF!"},{"$error":"#REF!"},{"$f":"'G2-Normal Year Values'!$D$224","v":0}]
[{"$f":"'G2-Normal Year Values'!$B$225","v":0},{"$error":"#REF!"},{"$error":"#REF!"},{"$f":"'G2-Normal Year Values'!$D$225","v":0}]
[{"$f":"'G2-Normal Year Values'!$B$226","v":0},{"$error":"#REF!"},{"$error":"#REF!"},{"$f":"'G2-Normal Year Values'!$D$226","v":0}]
[{"$f":"'G2-Normal Year Values'!$B$227","v":0},{"$error":"#REF!"},{"$error":"#REF!"},{"$f":"'G2-Normal Year Values'!$D$227","v":0}]
[{"$f":"'G2-Normal Year Values'!$B$228","v":0},{"$error":"#REF!"},{"$error":"#REF!"},{"$f":"'G2-Normal Year Values'!$D$228","v":0}]
[{"$f":"'G2-Normal Year Values'!$B$229","v":0},{"$error":"#REF!"},{"$error":"#REF!"},{"$f":"'G2-Normal Year Values'!$D$229","v":0}]
[{"$f":"'G2-Normal Year Values'!$B$230","v":0},{"$error":"#REF!"},{"$error":"#REF!"},{"$f":"'G2-Normal Year Values'!$D$230","v":0}]
[{"$f":"'G2-Normal Year Values'!$B$231","v":0},{"$error":"#REF!"},{"$error":"#REF!"},{"$f":"'G2-Normal Year Values'!$D$231","v":0}]
[{"$f":"'G2-Normal Year Values'!$B$232","v":0},{"$error":"#REF!"},{"$error":"#REF!"},{"$f":"'G2-Normal Year Values'!$D$232","v":0}]
[{"$f":"'G2-Normal Year Values'!$B$233","v":0},{"$error":"#REF!"},{"$error":"#REF!"},{"$f":"'G2-Normal Year Values'!$D$233","v":0}]
[{"$f":"'G2-Normal Year Values'!$B$234","v":0},{"$error":"#REF!"},{"$error":"#REF!"},{"$f":"'G2-Normal Year Values'!$D$234","v":0}]
[{"$f":"'G2-Normal Year Values'!$B$235","v":0},{"$error":"#REF!"},{"$error":"#REF!"},{"$f":"'G2-Normal Year Values'!$D$235","v":0}]
[{"$f":"'G2-Normal Year Values'!$B$236","v":0},{"$error":"#REF!"},{"$error":"#REF!"},{"$f":"'G2-Normal Year Values'!$D$236","v":0}]
[{"$f":"'G2-Normal Year Values'!$B$237","v":0},{"$error":"#REF!"},{"$error":"#REF!"},{"$f":"'G2-Normal Year Values'!$D$237","v":0}]
[{"$f":"'G2-Normal Year Values'!$B$238","v":0},{"$error":"#REF!"},{"$error":"#REF!"},{"$f":"'G2-Normal Year Values'!$D$238","v":0}]
[{"$f":"'G2-Normal Year Values'!$B$239","v":0},{"$error":"#REF!"},{"$error":"#REF!"},{"$f":"'G2-Normal Year Values'!$D$239","v":0}]
[{"$f":"'G2-Normal Year Values'!$B$240","v":0},{"$error":"#REF!"},{"$error":"#REF!"},{"$f":"'G2-Normal Year Values'!$D$240","v":0}]
[{"$f":"'G2-Normal Year Values'!$B$241","v":0},{"$error":"#REF!"},{"$error":"#REF!"},{"$f":"'G2-Normal Year Values'!$D$241","v":0}]
[{"$f":"'G2-Normal Year Values'!$B$242","v":0},{"$error":"#REF!"},{"$error":"#REF!"},{"$f":"'G2-Normal Year Values'!$D$242","v":0}]
[{"$f":"'G2-Normal Year Values'!$B$243","v":0},{"$error":"#REF!"},{"$error":"#REF!"},{"$f":"'G2-Normal Year Values'!$D$243","v":0}]
[{"$f":"'G2-Normal Year Values'!$B$244","v":0},{"$error":"#REF!"},{"$error":"#REF!"},{"$f":"'G2-Normal Year Values'!$D$244","v":0}]
[{"$f":"'G2-Normal Year Values'!$B$245","v":0},{"$error":"#REF!"},{"$error":"#REF!"},{"$f":"'G2-Normal Year Values'!$D$245","v":0}]
[{"$f":"'G2-Normal Year Values'!$B$246","v":0},{"$error":"#REF!"},{"$error":"#REF!"},{"$f":"'G2-Normal Year Values'!$D$246","v":0}]
[{"$f":"'G2-Normal Year Values'!$B$247","v":0},{"$error":"#REF!"},{"$error":"#REF!"},{"$f":"'G2-Normal Year Values'!$D$247","v":0}]
[{"$f":"'G2-Normal Year Values'!$B$248","v":0},{"$error":"#REF!"},{"$error":"#REF!"},{"$f":"'G2-Normal Year Values'!$D$248","v":0}]
[{"$f":"'G2-Normal Year Values'!$B$249","v":0},{"$error":"#REF!"},{"$error":"#REF!"},{"$f":"'G2-Normal Year Values'!$D$249","v":0}]
[{"$f":"'G2-Normal Year Values'!$B$250","v":0},{"$error":"#REF!"},{"$error":"#REF!"},{"$f":"'G2-Normal Year Values'!$D$250","v":0}]
[{"$f":"'G2-Normal Year Values'!$B$251","v":0},{"$error":"#REF!"},{"$error":"#REF!"},{"$f":"'G2-Normal Year Values'!$D$251","v":0}]
[{"$f":"'G2-Normal Year Values'!$B$252","v":0},{"$error":"#REF!"},{"$error":"#REF!"},{"$f":"'G2-Normal Year Values'!$D$252","v":0}]
[{"$f":"'G2-Normal Year Values'!$B$253","v":0},{"$error":"#REF!"},{"$error":"#REF!"},{"$f":"'G2-Normal Year Values'!$D$253","v":0}]
[{"$f":"'G2-Normal Year Values'!$B$254","v":0},{"$error":"#REF!"},{"$error":"#REF!"},{"$f":"'G2-Normal Year Values'!$D$254","v":0}]
[{"$f":"'G2-Normal Year Values'!$B$255","v":0},{"$error":"#REF!"},{"$error":"#REF!"},{"$f":"'G2-Normal Year Values'!$D$255","v":0}]
[{"$f":"'G2-Normal Year Values'!$B$256","v":0},{"$error":"#REF!"},{"$error":"#REF!"},{"$f":"'G2-Normal Year Values'!$D$256","v":0}]
[{"$f":"'G2-Normal Year Values'!$B$257","v":0},{"$error":"#REF!"},{"$error":"#REF!"},{"$f":"'G2-Normal Year Values'!$D$257","v":0}]
[{"$f":"'G2-Normal Year Values'!$B$258","v":0},{"$error":"#REF!"},{"$error":"#REF!"},{"$f":"'G2-Normal Year Values'!$D$258","v":0}]
[{"$f":"'G2-Normal Year Values'!$B$259","v":0},{"$error":"#REF!"},{"$error":"#REF!"},{"$f":"'G2-Normal Year Values'!$D$259","v":0}]
[{"$f":"'G2-Normal Year Values'!$B$260","v":0},{"$error":"#REF!"},{"$error":"#REF!"},{"$f":"'G2-Normal Year Values'!$D$260","v":0}]
[{"$f":"'G2-Normal Year Values'!$B$261","v":0},{"$error":"#REF!"},{"$error":"#REF!"},{"$f":"'G2-Normal Year Values'!$D$261","v":0}]
[{"$f":"'G2-Normal Year Values'!$B$262","v":0},{"$error":"#REF!"},{"$error":"#REF!"},{"$f":"'G2-Normal Year Values'!$D$262","v":0}]
[{"$f":"'G2-Normal Year Values'!$B$263","v":0},{"$error":"#REF!"},{"$error":"#REF!"},{"$f":"'G2-Normal Year Values'!$D$263","v":0}]
[{"$f":"'G2-Normal Year Values'!$B$264","v":0},{"$error":"#REF!"},{"$error":"#REF!"},{"$f":"'G2-Normal Year Values'!$D$264","v":0}]
[{"$f":"'G2-Normal Year Values'!$B$265","v":0},{"$error":"#REF!"},{"$error":"#REF!"},{"$f":"'G2-Normal Year Values'!$D$265","v":0}]
[{"$f":"'G2-Normal Year Values'!$B$266","v":0},{"$f":"1.05*$F$2-0.05*$F$4","v":{"$error":"#REF!"}},{"$f":"1.05*$F$4-0.05*$F$2","v":{"$error":"#REF!"}},{"$f":"'G2-Normal Year Values'!$D$266","v":0}]
[{"$f":"'G2-Normal Year Values'!$B$267","v":0},{"$error":"#REF!"},{"$error":"#REF!"},{"$f":"'G2-Normal Year Values'!$D$267","v":0}]
[{"$f":"'G2-Normal Year Values'!$B$268","v":0},{"$error":"#REF!"},{"$error":"#REF!"},{"$f":"'G2-Normal Year Values'!$D$268","v":0}]
[{"$f":"'G2-Normal Year Values'!$B$269","v":0},{"$error":"#REF!"},{"$error":"#REF!"},{"$f":"'G2-Normal Year Values'!$D$269","v":0}]
[{"$f":"'G2-Normal Year Values'!$B$270","v":0},{"$error":"#REF!"},{"$error":"#REF!"},{"$f":"'G2-Normal Year Values'!$D$270","v":0}]
[{"$f":"'G2-Normal Year Values'!$B$271","v":0},{"$error":"#REF!"},{"$error":"#REF!"},{"$f":"'G2-Normal Year Values'!$D$271","v":0}]
[{"$f":"'G2-Normal Year Values'!$B$272","v":0},{"$error":"#REF!"},{"$error":"#REF!"},{"$f":"'G2-Normal Year Values'!$D$272","v":0}]
[{"$f":"'G2-Normal Year Values'!$B$273","v":0},{"$error":"#REF!"},{"$error":"#REF!"},{"$f":"'G2-Normal Year Values'!$D$273","v":0}]
[{"$f":"'G2-Normal Year Values'!$B$274","v":0},{"$error":"#REF!"},{"$error":"#REF!"},{"$f":"'G2-Normal Year Values'!$D$274","v":0}]
[{"$f":"'G2-Normal Year Values'!$B$275","v":0},{"$error":"#REF!"},{"$error":"#REF!"},{"$f":"'G2-Normal Year Values'!$D$275","v":0}]
[{"$f":"'G2-Normal Year Values'!$B$276","v":0},{"$error":"#REF!"},{"$error":"#REF!"},{"$f":"'G2-Normal Year Values'!$D$276","v":0}]
[{"$f":"'G2-Normal Year Values'!$B$277","v":0},{"$error":"#REF!"},{"$error":"#REF!"},{"$f":"'G2-Normal Year Values'!$D$277","v":0}]
[{"$f":"'G2-Normal Year Values'!$B$278","v":0},{"$error":"#REF!"},{"$error":"#REF!"},{"$f":"'G2-Normal Year Values'!$D$278","v":0}]
[{"$f":"'G2-Normal Year Values'!$B$279","v":0},{"$error":"#REF!"},{"$error":"#REF!"},{"$f":"'G2-Normal Year Values'!$D$279","v":0}]
[{"$f":"'G2-Normal Year Values'!$B$280","v":0},{"$error":"#REF!"},{"$error":"#REF!"},{"$f":"'G2-Normal Year Values'!$D$280","v":0}]
[{"$f":"'G2-Normal Year Values'!$B$281","v":0},{"$error":"#REF!"},{"$error":"#REF!"},{"$f":"'G2-Normal Year Values'!$D$281","v":0}]
[{"$f":"'G2-Normal Year Values'!$B$282","v":0},{"$error":"#REF!"},{"$error":"#REF!"},{"$f":"'G2-Normal Year Values'!$D$282","v":0}]
[{"$f":"'G2-Normal Year Values'!$B$283","v":0},{"$error":"#REF!"},{"$error":"#REF!"},{"$f":"'G2-Normal Year Values'!$D$283","v":0}]
[{"$f":"'G2-Normal Year Values'!$B$284","v":0},{"$error":"#REF!"},{"$error":"#REF!"},{"$f":"'G2-Normal Year Values'!$D$284","v":0}]
[{"$f":"'G2-Normal Year Values'!$B$285","v":0},{"$error":"#REF!"},{"$error":"#REF!"},{"$f":"'G2-Normal Year Values'!$D$285","v":0}]
[{"$f":"'G2-Normal Year Values'!$B$286","v":0},{"$error":"#REF!"},{"$error":"#REF!"},{"$f":"'G2-Normal Year Values'!$D$286","v":0}]
[{"$f":"'G2-Normal Year Values'!$B$287","v":0},{"$error":"#REF!"},{"$error":"#REF!"},{"$f":"'G2-Normal Year Values'!$D$287","v":0}]
[{"$f":"'G2-Normal Year Values'!$B$288","v":0},{"$error":"#REF!"},{"$error":"#REF!"},{"$f":"'G2-Normal Year Values'!$D$288","v":0}]
[{"$f":"'G2-Normal Year Values'!$B$289","v":0},{"$error":"#REF!"},{"$error":"#REF!"},{"$f":"'G2-Normal Year Values'!$D$289","v":0}]
[{"$f":"'G2-Normal Year Values'!$B$290","v":0},{"$error":"#REF!"},{"$error":"#REF!"},{"$f":"'G2-Normal Year Values'!$D$290","v":0}]
[{"$f":"'G2-Normal Year Values'!$B$291","v":0},{"$error":"#REF!"},{"$error":"#REF!"},{"$f":"'G2-Normal Year Values'!$D$291","v":0}]
[{"$f":"'G2-Normal Year Values'!$B$292","v":0},{"$error":"#REF!"},{"$error":"#REF!"},{"$f":"'G2-Normal Year Values'!$D$292","v":0}]
[{"$f":"'G2-Normal Year Values'!$B$293","v":0},{"$error":"#REF!"},{"$error":"#REF!"},{"$f":"'G2-Normal Year Values'!$D$293","v":0}]
[{"$f":"'G2-Normal Year Values'!$B$294","v":0},{"$error":"#REF!"},{"$error":"#REF!"},{"$f":"'G2-Normal Year Values'!$D$294","v":0}]
[{"$f":"'G2-Normal Year Values'!$B$295","v":0},{"$error":"#REF!"},{"$error":"#REF!"},{"$f":"'G2-Normal Year Values'!$D$295","v":0}]
[{"$f":"'G2-Normal Year Values'!$B$296","v":0},{"$error":"#REF!"},{"$error":"#REF!"},{"$f":"'G2-Normal Year Values'!$D$296","v":0}]
[{"$f":"'G2-Normal Year Values'!$B$297","v":0},{"$error":"#REF!"},{"$error":"#REF!"},{"$f":"'G2-Normal Year Values'!$D$297","v":0}]
[{"$f":"'G2-Normal Year Values'!$B$298","v":0},{"$error":"#REF!"},{"$error":"#REF!"},{"$f":"'G2-Normal Year Values'!$D$298","v":0}]
[{"$f":"'G2-Normal Year Values'!$B$299","v":0},{"$error":"#REF!"},{"$error":"#REF!"},{"$f":"'G2-Normal Year Values'!$D$299","v":0}]
[{"$f":"'G2-Normal Year Values'!$B$300","v":0},{"$error":"#REF!"},{"$error":"#REF!"},{"$f":"'G2-Normal Year Values'!$D$300","v":0}]
[{"$f":"'G2-Normal Year Values'!$B$301","v":0},{"$error":"#REF!"},{"$error":"#REF!"},{"$f":"'G2-Normal Year Values'!$D$301","v":0}]
[{"$f":"'G2-Normal Year Values'!$B$302","v":0},{"$error":"#REF!"},{"$error":"#REF!"},{"$f":"'G2-Normal Year Values'!$D$302","v":0}]
[{"$f":"'G2-Normal Year Values'!$B$303","v":0},{"$error":"#REF!"},{"$error":"#REF!"},{"$f":"'G2-Normal Year Values'!$D$303","v":0}]
[{"$f":"'G2-Normal Year Values'!$B$304","v":0},{"$error":"#REF!"},{"$error":"#REF!"},{"$f":"'G2-Normal Year Values'!$D$304","v":0}]
[{"$f":"'G2-Normal Year Values'!$B$305","v":0},{"$error":"#REF!"},{"$error":"#REF!"},{"$f":"'G2-Normal Year Values'!$D$305","v":0}]
[{"$f":"'G2-Normal Year Values'!$B$306","v":0},{"$error":"#REF!"},{"$error":"#REF!"},{"$f":"'G2-Normal Year Values'!$D$306","v":0}]
[{"$f":"'G2-Normal Year Values'!$B$307","v":0},{"$error":"#REF!"},{"$error":"#REF!"},{"$f":"'G2-Normal Year Values'!$D$307","v":0}]
[{"$f":"'G2-Normal Year Values'!$B$308","v":0},{"$error":"#REF!"},{"$error":"#REF!"},{"$f":"'G2-Normal Year Values'!$D$308","v":0}]
[{"$f":"'G2-Normal Year Values'!$B$309","v":0},{"$error":"#REF!"},{"$error":"#REF!"},{"$f":"'G2-Normal Year Values'!$D$309","v":0}]
[{"$f":"'G2-Normal Year Values'!$B$310","v":0},{"$error":"#REF!"},{"$error":"#REF!"},{"$f":"'G2-Normal Year Values'!$D$310","v":0}]
[{"$f":"'G2-Normal Year Values'!$B$311","v":0},{"$error":"#REF!"},{"$error":"#REF!"},{"$f":"'G2-Normal Year Values'!$D$311","v":0}]
[{"$f":"'G2-Normal Year Values'!$B$312","v":0},{"$error":"#REF!"},{"$error":"#REF!"},{"$f":"'G2-Normal Year Values'!$D$312","v":0}]
[{"$f":"'G2-Normal Year Values'!$B$313","v":0},{"$error":"#REF!"},{"$error":"#REF!"},{"$f":"'G2-Normal Year Values'!$D$313","v":0}]
[{"$f":"'G2-Normal Year Values'!$B$314","v":0},{"$error":"#REF!"},{"$error":"#REF!"},{"$f":"'G2-Normal Year Values'!$D$314","v":0}]
[{"$f":"'G2-Normal Year Values'!$B$315","v":0},{"$error":"#REF!"},{"$error":"#REF!"},{"$f":"'G2-Normal Year Values'!$D$315","v":0}]
[{"$f":"'G2-Normal Year Values'!$B$316","v":0},{"$error":"#REF!"},{"$error":"#REF!"},{"$f":"'G2-Normal Year Values'!$D$316","v":0}]
[{"$f":"'G2-Normal Year Values'!$B$317","v":0},{"$error":"#REF!"},{"$error":"#REF!"},{"$f":"'G2-Normal Year Values'!$D$317","v":0}]
[{"$f":"'G2-Normal Year Values'!$B$318","v":0},{"$error":"#REF!"},{"$error":"#REF!"},{"$f":"'G2-Normal Year Values'!$D$318","v":0}]
[{"$f":"'G2-Normal Year Values'!$B$319","v":0},{"$error":"#REF!"},{"$error":"#REF!"},{"$f":"'G2-Normal Year Values'!$D$319","v":0}]
[{"$f":"'G2-Normal Year Values'!$B$320","v":0},{"$error":"#REF!"},{"$error":"#REF!"},{"$f":"'G2-Normal Year Values'!$D$320","v":0}]
[{"$f":"'G2-Normal Year Values'!$B$321","v":0},{"$error":"#REF!"},{"$error":"#REF!"},{"$f":"'G2-Normal Year Values'!$D$321","v":0}]
[{"$f":"'G2-Normal Year Values'!$B$322","v":0},{"$error":"#REF!"},{"$error":"#REF!"},{"$f":"'G2-Normal Year Values'!$D$322","v":0}]
[{"$f":"'G2-Normal Year Values'!$B$323","v":0},{"$error":"#REF!"},{"$error":"#REF!"},{"$f":"'G2-Normal Year Values'!$D$323","v":0}]
[{"$f":"'G2-Normal Year Values'!$B$324","v":0},{"$error":"#REF!"},{"$error":"#REF!"},{"$f":"'G2-Normal Year Values'!$D$324","v":0}]
[{"$f":"'G2-Normal Year Values'!$B$325","v":0},{"$error":"#REF!"},{"$error":"#REF!"},{"$f":"'G2-Normal Year Values'!$D$325","v":0}]
[{"$f":"'G2-Normal Year Values'!$B$326","v":0},{"$error":"#REF!"},{"$error":"#REF!"},{"$f":"'G2-Normal Year Values'!$D$326","v":0}]
[{"$f":"'G2-Normal Year Values'!$B$327","v":0},{"$error":"#REF!"},{"$error":"#REF!"},{"$f":"'G2-Normal Year Values'!$D$327","v":0}]
[{"$f":"'G2-Normal Year Values'!$B$328","v":0},{"$error":"#REF!"},{"$error":"#REF!"},{"$f":"'G2-Normal Year Values'!$D$328","v":0}]
[{"$f":"'G2-Normal Year Values'!$B$329","v":0},{"$error":"#REF!"},{"$error":"#REF!"},{"$f":"'G2-Normal Year Values'!$D$329","v":0}]
[{"$f":"'G2-Normal Year Values'!$B$330","v":0},{"$f":"1.05*$F$2-0.05*$F$4","v":{"$error":"#REF!"}},{"$f":"1.05*$F$4-0.05*$F$2","v":{"$error":"#REF!"}},{"$f":"'G2-Normal Year Values'!$D$330","v":0}]
[{"$f":"'G2-Normal Year Values'!$B$331","v":0},{"$error":"#REF!"},{"$error":"#REF!"},{"$f":"'G2-Normal Year Values'!$D$331","v":0}]
[{"$f":"'G2-Normal Year Values'!$B$332","v":0},{"$error":"#REF!"},{"$error":"#REF!"},{"$f":"'G2-Normal Year Values'!$D$332","v":0}]
[{"$f":"'G2-Normal Year Values'!$B$333","v":0},{"$error":"#REF!"},{"$error":"#REF!"},{"$f":"'G2-Normal Year Values'!$D$333","v":0}]
[{"$f":"'G2-Normal Year Values'!$B$334","v":0},{"$error":"#REF!"},{"$error":"#REF!"},{"$f":"'G2-Normal Year Values'!$D$334","v":0}]
[{"$f":"'G2-Normal Year Values'!$B$335","v":0},{"$error":"#REF!"},{"$error":"#REF!"},{"$f":"'G2-Normal Year Values'!$D$335","v":0}]
[{"$f":"'G2-Normal Year Values'!$B$336","v":0},{"$error":"#REF!"},{"$error":"#REF!"},{"$f":"'G2-Normal Year Values'!$D$336","v":0}]
[{"$f":"'G2-Normal Year Values'!$B$337","v":0},{"$error":"#REF!"},{"$error":"#REF!"},{"$f":"'G2-Normal Year Values'!$D$337","v":0}]
[{"$f":"'G2-Normal Year Values'!$B$338","v":0},{"$error":"#REF!"},{"$error":"#REF!"},{"$f":"'G2-Normal Year Values'!$D$338","v":0}]
[{"$f":"'G2-Normal Year Values'!$B$339","v":0},{"$error":"#REF!"},{"$error":"#REF!"},{"$f":"'G2-Normal Year Values'!$D$339","v":0}]
[{"$f":"'G2-Normal Year Values'!$B$340","v":0},{"$error":"#REF!"},{"$error":"#REF!"},{"$f":"'G2-Normal Year Values'!$D$340","v":0}]
[{"$f":"'G2-Normal Year Values'!$B$341","v":0},{"$error":"#REF!"},{"$error":"#REF!"},{"$f":"'G2-Normal Year Values'!$D$341","v":0}]
[{"$f":"'G2-Normal Year Values'!$B$342","v":0},{"$error":"#REF!"},{"$error":"#REF!"},{"$f":"'G2-Normal Year Values'!$D$342","v":0}]
[{"$f":"'G2-Normal Year Values'!$B$343","v":0},{"$error":"#REF!"},{"$error":"#REF!"},{"$f":"'G2-Normal Year Values'!$D$343","v":0}]
[{"$f":"'G2-Normal Year Values'!$B$344","v":0},{"$error":"#REF!"},{"$error":"#REF!"},{"$f":"'G2-Normal Year Values'!$D$344","v":0}]
[{"$f":"'G2-Normal Year Values'!$B$345","v":0},{"$error":"#REF!"},{"$error":"#REF!"},{"$f":"'G2-Normal Year Values'!$D$345","v":0}]
[{"$f":"'G2-Normal Year Values'!$B$346","v":0},{"$error":"#REF!"},{"$error":"#REF!"},{"$f":"'G2-Normal Year Values'!$D$346","v":0}]
[{"$f":"'G2-Normal Year Values'!$B$347","v":0},{"$error":"#REF!"},{"$error":"#REF!"},{"$f":"'G2-Normal Year Values'!$D$347","v":0}]
[{"$f":"'G2-Normal Year Values'!$B$348","v":0},{"$error":"#REF!"},{"$error":"#REF!"},{"$f":"'G2-Normal Year Values'!$D$348","v":0}]
[{"$f":"'G2-Normal Year Values'!$B$349","v":0},{"$error":"#REF!"},{"$error":"#REF!"},{"$f":"'G2-Normal Year Values'!$D$349","v":0}]
[{"$f":"'G2-Normal Year Values'!$B$350","v":0},{"$error":"#REF!"},{"$error":"#REF!"},{"$f":"'G2-Normal Year Values'!$D$350","v":0}]
[{"$f":"'G2-Normal Year Values'!$B$351","v":0},{"$error":"#REF!"},{"$error":"#REF!"},{"$f":"'G2-Normal Year Values'!$D$351","v":0}]
[{"$f":"'G2-Normal Year Values'!$B$352","v":0},{"$error":"#REF!"},{"$error":"#REF!"},{"$f":"'G2-Normal Year Values'!$D$352","v":0}]
[{"$f":"'G2-Normal Year Values'!$B$353","v":0},{"$error":"#REF!"},{"$error":"#REF!"},{"$f":"'G2-Normal Year Values'!$D$353","v":0}]
[{"$f":"'G2-Normal Year Values'!$B$354","v":0},{"$error":"#REF!"},{"$error":"#REF!"},{"$f":"'G2-Normal Year Values'!$D$354","v":0}]
[{"$f":"'G2-Normal Year Values'!$B$355","v":0},{"$error":"#REF!"},{"$error":"#REF!"},{"$f":"'G2-Normal Year Values'!$D$355","v":0}]
[{"$f":"'G2-Normal Year Values'!$B$356","v":0},{"$error":"#REF!"},{"$error":"#REF!"},{"$f":"'G2-Normal Year Values'!$D$356","v":0}]
[{"$f":"'G2-Normal Year Values'!$B$357","v":0},{"$error":"#REF!"},{"$error":"#REF!"},{"$f":"'G2-Normal Year Values'!$D$357","v":0}]
[{"$f":"'G2-Normal Year Values'!$B$358","v":0},{"$error":"#REF!"},{"$error":"#REF!"},{"$f":"'G2-Normal Year Values'!$D$358","v":0}]
[{"$f":"'G2-Normal Year Values'!$B$359","v":0},{"$error":"#REF!"},{"$error":"#REF!"},{"$f":"'G2-Normal Year Values'!$D$359","v":0}]
[{"$f":"'G2-Normal Year Values'!$B$360","v":0},{"$error":"#REF!"},{"$error":"#REF!"},{"$f":"'G2-Normal Year Values'!$D$360","v":0}]
[{"$f":"'G2-Normal Year Values'!$B$361","v":0},{"$error":"#REF!"},{"$error":"#REF!"},{"$f":"'G2-Normal Year Values'!$D$361","v":0}]
[{"$f":"'G2-Normal Year Values'!$B$362","v":0},{"$error":"#REF!"},{"$error":"#REF!"},{"$f":"'G2-Normal Year Values'!$D$362","v":0}]
[{"$f":"'G2-Normal Year Values'!$B$363","v":0},{"$error":"#REF!"},{"$error":"#REF!"},{"$f":"'G2-Normal Year Values'!$D$363","v":0}]
[{"$f":"'G2-Normal Year Values'!$B$364","v":0},{"$error":"#REF!"},{"$error":"#REF!"},{"$f":"'G2-Normal Year Values'!$D$364","v":0}]
[{"$f":"'G2-Normal Year Values'!$B$365","v":0},{"$error":"#REF!"},{"$error":"#REF!"},{"$f":"'G2-Normal Year Values'!$D$365","v":0}]
[{"$f":"'G2-Normal Year Values'!$B$366","v":0},{"$error":"#REF!"},{"$error":"#REF!"},{"$f":"'G2-Normal Year Values'!$D$366","v":0}]
[{"$f":"'G2-Normal Year Values'!$B$367","v":0},{"$error":"#REF!"},{"$error":"#REF!"},{"$f":"'G2-Normal Year Values'!$D$367","v":0}]
[{"$f":"'G2-Normal Year Values'!$B$368","v":0},{"$error":"#REF!"},{"$error":"#REF!"},{"$f":"'G2-Normal Year Values'!$D$368","v":0}]
[{"$f":"'G2-Normal Year Values'!$B$369","v":0},{"$error":"#REF!"},{"$error":"#REF!"},{"$f":"'G2-Normal Year Values'!$D$369","v":0}]
[{"$f":"'G2-Normal Year Values'!$B$370","v":0},{"$error":"#REF!"},{"$error":"#REF!"},{"$f":"'G2-Normal Year Values'!$D$370","v":0}]
[{"$f":"'G2-Normal Year Values'!$B$371","v":0},{"$error":"#REF!"},{"$error":"#REF!"},{"$f":"'G2-Normal Year Values'!$D$371","v":0}]
[{"$f":"'G2-Normal Year Values'!$B$372","v":0},{"$error":"#REF!"},{"$error":"#REF!"},{"$f":"'G2-Normal Year Values'!$D$372","v":0}]
[{"$f":"'G2-Normal Year Values'!$B$373","v":0},{"$error":"#REF!"},{"$error":"#REF!"},{"$f":"'G2-Normal Year Values'!$D$373","v":0}]
[{"$f":"'G2-Normal Year Values'!$B$374","v":0},{"$error":"#REF!"},{"$error":"#REF!"},{"$f":"'G2-Normal Year Values'!$D$374","v":0}]

{"sheet":"G3-Normal Year","index":35,"n_rows":17,"n_cols":21,"rows_kept":17,"cut":false,"hidden":true,"merged":[[3,1,3,12],[5,1,5,12],[7,1,7,3],[7,4,7,6],[9,1,9,6],[16,1,16,2],[10,1,10,2],[10,3,10,4],[10,5,10,6],[12,1,12,12],[14,1,14,3],[14,4,14,6]]}
[null,null,"G3 - Normal Year"]
[]
[{"$f":"LEFT(C1,1)","v":"G"},{"$f":"VLOOKUP(A3,EnergySourceLookup,2,FALSE)","v":"Gas"},{"$f":"VLOOKUP(A3,EnergySourceLookup,3,FALSE)","v":"GJ"}]
[null,"Statistical analysis of normal year values"]
[]
[null,{"$f":"\"Warning: The sheet '\" &LEFT($C$1,1) & \"2-Normal Year Values' does not contain the correct number of data points. \" & IF(G1ModelFrequency<>\"\", \"This table should contain \" & VLOOKUP(G1ModelFrequency, FrequencyLookup,2,FALSE) & \" data points based on the selected \" & G1ModelFrequency & \" Measurement Frequency.\", \"\")","v":"Warning: The sheet 'G2-Normal Year Values' does not contain the correct number of data points. "}]
[]
[null,"Number of data points:",null,null,{"$f":"COUNT(INDEX(G2DataTable,0,1))","v":0}]
[]
[null,"Calculated range of normal year operating conditions:",null,null,null,null,null,null,null,null,null,null,null,null,null,null,null,null,null,"Normal Without Excluded Values"]
[null,"Variable",null,"Minimum",null,"Maximum",null,null,null,null,null,null,null,null,null,null,null,null,null,"Min","Max"]
[]
[null,"Chart of normal year for each independent variable"]
[]
[null,"Independent variable:"]
[]
[null,"Chart"]

{"sheet":"G4-Baseline Measurements","index":36,"n_rows":8,"n_cols":5,"rows_kept":8,"cut":false,"hidden":true,"merged":[[3,1,3,12],[7,1,8,1],[7,2,8,2],[7,3,8,3],[7,4,8,4]]}
[null,null,"G4 - Baseline Measurements"]
[]
[{"$f":"LEFT(C1,1)","v":"G"},{"$f":"VLOOKUP(A3,EnergySourceLookup,2,FALSE)","v":"Gas"},{"$f":"VLOOKUP(A3,EnergySourceLookup,3,FALSE)","v":"GJ"}]
[null,{"$f":"\"Measure and Convert Baseline Period (\" & VLOOKUP(LEFT($C$1,1),EnergySourceLookup,2,FALSE) & \") Measurements\"","v":"Measure and Convert Baseline Period (Gas) Measurements"}]
[]
[]
[]
[null,"Date / Time","Energy","Exclude non-normal measurement? (Mark with 'Y')","Reason for exclusion"]

{"sheet":"GCharts-Baseline","index":37,"n_rows":366,"n_cols":21,"rows_kept":366,"cut":false,"hidden":true,"merged":[]}
["Time period start","Lower bound","Upper bound","Independent Variable",null,"Minimum IV value",null,"Time interval","Excluded?","Measured baseline energy","Modelled baseline energy","Residual Rank","Residual",null,"Count",{"$f":"COUNT(M:M)","v":0},null,"Cumulative distribution","z-value","Actual residuals","Expect residual value if normal distribution"]
[{"$f":"'E4-Baseline Measurements'!$B$10","v":"00:00:00"},{"$f":"1.05*$F$2-0.05*$F$4","v":{"$error":"#REF!"}},{"$f":"1.05*$F$4-0.05*$F$2","v":{"$error":"#REF!"}},{"$f":"'E4-Baseline Measurements'!#REF!","v":{"$error":"#REF!"}},null,{"$f":"MIN(D:D)","v":{"$error":"#REF!"}},null,null,null,null,null,null,null,null,"Mean",{"$f":"AVERAGE(M:M)","v":{"$error":"#DIV/0!"}}]
[{"$f":"'E4-Baseline Measurements'!$B$11","v":"00:00:00"},{"$error":"#REF!"},{"$error":"#REF!"},{"$f":"'E4-Baseline Measurements'!#REF!","v":{"$error":"#REF!"}},null,"Maximum IV value",null,null,null,null,null,null,null,null,"StDev",{"$f":"_xlfn.STDEV.S(M:M)","v":{"$error":"#DIV/0!"}}]
[{"$f":"'E4-Baseline Measurements'!$B$12","v":"00:00:00"},{"$error":"#REF!"},{"$error":"#REF!"},{"$f":"'E4-Baseline Measurements'!#REF!","v":{"$error":"#REF!"}},null,{"$f":"MAX(D:D)","v":{"$error":"#REF!"}}]
[{"$f":"'E4-Baseline Measurements'!$B$13","v":"00:00:00"},{"$error":"#REF!"},{"$error":"#REF!"},{"$f":"'E4-Baseline Measurements'!#REF!","v":{"$error":"#REF!"}},null,null,null,null,null,null,null,null,null,null,"Measured"]
[{"$f":"'E4-Baseline Measurements'!$B$14","v":"00:00:00"},{"$error":"#REF!"},{"$error":"#REF!"},{"$f":"'E4-Baseline Measurements'!#REF!","v":{"$error":"#REF!"}},null,null,null,null,null,null,null,null,null,null,"Count",{"$f":"COUNT(J:J)","v":0}]
[{"$f":"'E4-Baseline Measurements'!$B$15","v":"00:00:00"},{"$error":"#REF!"},{"$error":"#REF!"},{"$f":"'E4-Baseline Measurements'!#REF!","v":{"$error":"#REF!"}},null,null,null,null,null,null,null,null,null,null,"Mean",{"$f":"AVERAGE(J:J)","v":{"$error":"#DIV/0!"}}]
[{"$f":"'E4-Baseline Measurements'!$B$16","v":"00:00:00"},{"$error":"#REF!"},{"$error":"#REF!"},{"$f":"'E4-Baseline Measurements'!#REF!","v":{"$error":"#REF!"}},null,null,null,null,null,null,null,null,null,null,"StDev",{"$f":"_xlfn.STDEV.S(J:J)","v":{"$error":"#DIV/0!"}}]
[{"$f":"'E4-Baseline Measurements'!$B$17","v":"00:00:00"},{"$error":"#REF!"},{"$error":"#REF!"},{"$f":"'E4-Baseline Measurements'!#REF!","v":{"$error":"#REF!"}},null,null,null,null,null,null,null,null,null,null,"IV count",{"$f":"GetVariableCount(MID(CELL(\"filename\"),FIND(\"]\",CELL(\"filename\"))+1,1),\"IV\")","v":0}]
[{"$f":"'E4-Baseline Measurements'!$B$18","v":"00:00:00"},{"$error":"#REF!"},{"$error":"#REF!"},{"$f":"'E4-Baseline Measurements'!#REF!","v":{"$error":"#REF!"}},null,null,null,null,null,null,null,null,null,null,"COV",{"$f":"IFERROR(P8/P7,\"\")","v":""}]
[{"$f":"'E4-Baseline Measurements'!$B$19","v":"00:00:00"},{"$error":"#REF!"},{"$error":"#REF!"},{"$f":"'E4-Baseline Measurements'!#REF!","v":{"$error":"#REF!"}}]
[{"$f":"'E4-Baseline Measurements'!$B$20","v":"00:00:00"},{"$error":"#REF!"},{"$error":"#REF!"},{"$f":"'E4-Baseline Measurements'!#REF!","v":{"$error":"#REF!"}},null,null,null,null,null,null,null,null,null,null,"Standard Error",{"$f":"IF(P9=0,P8/SQRT(P6),SQRT(SUMSQ(M:M)/(P6-2)))","v":{"$error":"#DIV/0!"}}]
[{"$f":"'E4-Baseline Measurements'!$B$21","v":"00:00:00"},{"$error":"#REF!"},{"$error":"#REF!"},{"$f":"'E4-Baseline Measurements'!#REF!","v":{"$error":"#REF!"}}]
[{"$f":"'E4-Baseline Measurements'!$B$22","v":"00:00:00"},{"$error":"#REF!"},{"$error":"#REF!"},{"$f":"'E4-Baseline Measurements'!#REF!","v":{"$error":"#REF!"}},null,null,null,null,null,null,null,null,null,null,"R2",{"$f":"1-_xlfn.VAR.S(M:M)/_xlfn.VAR.S(J:J)","v":{"$error":"#DIV/0!"}}]
[{"$f":"'E4-Baseline Measurements'!$B$23","v":"00:00:00"},{"$error":"#REF!"},{"$error":"#REF!"},{"$f":"'E4-Baseline Measurements'!#REF!","v":{"$error":"#REF!"}},null,null,null,null,null,null,null,null,null,null,"Adjusted R2",{"$f":"1-(1-P14)*(P6-1)/(P6-P9-1)","v":{"$error":"#DIV/0!"}}]
[{"$f":"'E4-Baseline Measurements'!$B$24","v":"00:00:00"},{"$error":"#REF!"},{"$error":"#REF!"},{"$f":"'E4-Baseline Measurements'!#REF!","v":{"$error":"#REF!"}}]
[{"$f":"'E4-Baseline Measurements'!$B$25","v":"00:00:00"},{"$error":"#REF!"},{"$error":"#REF!"},{"$f":"'E4-Baseline Measurements'!#REF!","v":{"$error":"#REF!"}}]
[{"$f":"'E4-Baseline Measurements'!$B$26","v":"00:00:00"},{"$error":"#REF!"},{"$error":"#REF!"},{"$f":"'E4-Baseline Measurements'!#REF!","v":{"$error":"#REF!"}}]
[{"$f":"'E4-Baseline Measurements'!$B$27","v":"00:00:00"},{"$error":"#REF!"},{"$error":"#REF!"},{"$f":"'E4-Baseline Measurements'!#REF!","v":{"$error":"#REF!"}}]
[{"$f":"'E4-Baseline Measurements'!$B$28","v":"00:00:00"},{"$error":"#REF!"},{"$error":"#REF!"},{"$f":"'E4-Baseline Measurements'!#REF!","v":{"$error":"#REF!"}}]
[{"$f":"'E4-Baseline Measurements'!$B$29","v":"00:00:00"},{"$error":"#REF!"},{"$error":"#REF!"},{"$f":"'E4-Baseline Measurements'!#REF!","v":{"$error":"#REF!"}}]
[{"$f":"'E4-Baseline Measurements'!$B$30","v":"00:00:00"},{"$error":"#REF!"},{"$error":"#REF!"},{"$f":"'E4-Baseline Measurements'!#REF!","v":{"$error":"#REF!"}}]
[{"$f":"'E4-Baseline Measurements'!$B$31","v":"00:00:00"},{"$error":"#REF!"},{"$error":"#REF!"},{"$f":"'E4-Baseline Measurements'!#REF!","v":{"$error":"#REF!"}}]
[{"$f":"'E4-Baseline Measurements'!$B$32","v":"00:00:00"},{"$error":"#REF!"},{"$error":"#REF!"},{"$f":"'E4-Baseline Measurements'!#REF!","v":{"$error":"#REF!"}}]
[{"$f":"'E4-Baseline Measurements'!$B$33","v":"00:00:00"},{"$error":"#REF!"},{"$error":"#REF!"},{"$f":"'E4-Baseline Measurements'!#REF!","v":{"$error":"#REF!"}}]
[{"$f":"'E4-Baseline Measurements'!$B$34","v":"00:00:00"},{"$error":"#REF!"},{"$error":"#REF!"},{"$f":"'E4-Baseline Measurements'!#REF!","v":{"$error":"#REF!"}}]
[{"$f":"'E4-Baseline Measurements'!$B$35","v":"00:00:00"},{"$error":"#REF!"},{"$error":"#REF!"},{"$f":"'E4-Baseline Measurements'!#REF!","v":{"$error":"#REF!"}}]
[{"$f":"'E4-Baseline Measurements'!$B$36","v":"00:00:00"},{"$error":"#REF!"},{"$error":"#REF!"},{"$f":"'E4-Baseline Measurements'!#REF!","v":{"$error":"#REF!"}}]
[{"$f":"'E4-Baseline Measurements'!$B$37","v":"00:00:00"},{"$error":"#REF!"},{"$error":"#REF!"},{"$f":"'E4-Baseline Measurements'!#REF!","v":{"$error":"#REF!"}}]
[{"$f":"'E4-Baseline Measurements'!$B$38","v":"00:00:00"},{"$error":"#REF!"},{"$error":"#REF!"},{"$f":"'E4-Baseline Measurements'!#REF!","v":{"$error":"#REF!"}}]
[{"$f":"'E4-Baseline Measurements'!$B$39","v":"00:00:00"},{"$error":"#REF!"},{"$error":"#REF!"},{"$f":"'E4-Baseline Measurements'!#REF!","v":{"$error":"#REF!"}}]
[{"$f":"'E4-Baseline Measurements'!$B$40","v":"00:00:00"},{"$error":"#REF!"},{"$error":"#REF!"},{"$f":"'E4-Baseline Measurements'!#REF!","v":{"$error":"#REF!"}}]
[{"$f":"'E4-Baseline Measurements'!$B$41","v":"00:00:00"},{"$error":"#REF!"},{"$error":"#REF!"},{"$f":"'E4-Baseline Measurements'!#REF!","v":{"$error":"#REF!"}}]
[{"$f":"'E4-Baseline Measurements'!$B$42","v":"00:00:00"},{"$error":"#REF!"},{"$error":"#REF!"},{"$f":"'E4-Baseline Measurements'!#REF!","v":{"$error":"#REF!"}}]
[{"$f":"'E4-Baseline Measurements'!$B$43","v":"00:00:00"},{"$error":"#REF!"},{"$error":"#REF!"},{"$f":"'E4-Baseline Measurements'!#REF!","v":{"$error":"#REF!"}}]
[{"$f":"'E4-Baseline Measurements'!$B$44","v":"00:00:00"},{"$error":"#REF!"},{"$error":"#REF!"},{"$f":"'E4-Baseline Measurements'!#REF!","v":{"$error":"#REF!"}}]
[{"$f":"'E4-Baseline Measurements'!$B$45","v":"00:00:00"},{"$error":"#REF!"},{"$error":"#REF!"},{"$f":"'E4-Baseline Measurements'!#REF!","v":{"$error":"#REF!"}}]
[{"$f":"'E4-Baseline Measurements'!$B$46","v":"00:00:00"},{"$error":"#REF!"},{"$error":"#REF!"},{"$f":"'E4-Baseline Measurements'!#REF!","v":{"$error":"#REF!"}}]
[{"$f":"'E4-Baseline Measurements'!$B$47","v":"00:00:00"},{"$error":"#REF!"},{"$error":"#REF!"},{"$f":"'E4-Baseline Measurements'!#REF!","v":{"$error":"#REF!"}}]
[{"$f":"'E4-Baseline Measurements'!$B$48","v":"00:00:00"},{"$error":"#REF!"},{"$error":"#REF!"},{"$f":"'E4-Baseline Measurements'!#REF!","v":{"$error":"#REF!"}}]
[{"$f":"'E4-Baseline Measurements'!$B$49","v":"00:00:00"},{"$error":"#REF!"},{"$error":"#REF!"},{"$f":"'E4-Baseline Measurements'!#REF!","v":{"$error":"#REF!"}}]
[{"$f":"'E4-Baseline Measurements'!$B$50","v":"00:00:00"},{"$error":"#REF!"},{"$error":"#REF!"},{"$f":"'E4-Baseline Measurements'!#REF!","v":{"$error":"#REF!"}}]
[{"$f":"'E4-Baseline Measurements'!$B$51","v":"00:00:00"},{"$error":"#REF!"},{"$error":"#REF!"},{"$f":"'E4-Baseline Measurements'!#REF!","v":{"$error":"#REF!"}}]
[{"$f":"'E4-Baseline Measurements'!$B$52","v":"00:00:00"},{"$error":"#REF!"},{"$error":"#REF!"},{"$f":"'E4-Baseline Measurements'!#REF!","v":{"$error":"#REF!"}}]
[{"$f":"'E4-Baseline Measurements'!$B$53","v":"00:00:00"},{"$error":"#REF!"},{"$error":"#REF!"},{"$f":"'E4-Baseline Measurements'!#REF!","v":{"$error":"#REF!"}}]
[{"$f":"'E4-Baseline Measurements'!$B$54","v":"00:00:00"},{"$error":"#REF!"},{"$error":"#REF!"},{"$f":"'E4-Baseline Measurements'!#REF!","v":{"$error":"#REF!"}}]
[{"$f":"'E4-Baseline Measurements'!$B$55","v":"00:00:00"},{"$error":"#REF!"},{"$error":"#REF!"},{"$f":"'E4-Baseline Measurements'!#REF!","v":{"$error":"#REF!"}}]
[{"$f":"'E4-Baseline Measurements'!$B$56","v":"00:00:00"},{"$error":"#REF!"},{"$error":"#REF!"},{"$f":"'E4-Baseline Measurements'!#REF!","v":{"$error":"#REF!"}}]
[{"$f":"'E4-Baseline Measurements'!$B$57","v":"00:00:00"},{"$error":"#REF!"},{"$error":"#REF!"},{"$f":"'E4-Baseline Measurements'!#REF!","v":{"$error":"#REF!"}}]
[{"$f":"'E4-Baseline Measurements'!$B$58","v":"00:00:00"},{"$error":"#REF!"},{"$error":"#REF!"},{"$f":"'E4-Baseline Measurements'!#REF!","v":{"$error":"#REF!"}}]
[{"$f":"'E4-Baseline Measurements'!$B$59","v":"00:00:00"},{"$error":"#REF!"},{"$error":"#REF!"},{"$f":"'E4-Baseline Measurements'!#REF!","v":{"$error":"#REF!"}}]
[{"$f":"'E4-Baseline Measurements'!$B$60","v":"00:00:00"},{"$error":"#REF!"},{"$error":"#REF!"},{"$f":"'E4-Baseline Measurements'!#REF!","v":{"$error":"#REF!"}}]
[{"$f":"'E4-Baseline Measurements'!$B$61","v":"00:00:00"},{"$error":"#REF!"},{"$error":"#REF!"},{"$f":"'E4-Baseline Measurements'!#REF!","v":{"$error":"#REF!"}}]
[{"$f":"'E4-Baseline Measurements'!$B$62","v":"00:00:00"},{"$error":"#REF!"},{"$error":"#REF!"},{"$f":"'E4-Baseline Measurements'!#REF!","v":{"$error":"#REF!"}}]
[{"$f":"'E4-Baseline Measurements'!$B$63","v":"00:00:00"},{"$error":"#REF!"},{"$error":"#REF!"},{"$f":"'E4-Baseline Measurements'!#REF!","v":{"$error":"#REF!"}}]
[{"$f":"'E4-Baseline Measurements'!$B$64","v":"00:00:00"},{"$error":"#REF!"},{"$error":"#REF!"},{"$f":"'E4-Baseline Measurements'!#REF!","v":{"$error":"#REF!"}}]
[{"$f":"'E4-Baseline Measurements'!$B$65","v":"00:00:00"},{"$error":"#REF!"},{"$error":"#REF!"},{"$f":"'E4-Baseline Measurements'!#REF!","v":{"$error":"#REF!"}}]
[{"$f":"'E4-Baseline Measurements'!$B$66","v":"00:00:00"},{"$error":"#REF!"},{"$error":"#REF!"},{"$f":"'E4-Baseline Measurements'!#REF!","v":{"$error":"#REF!"}}]
[{"$f":"'E4-Baseline Measurements'!$B$67","v":"00:00:00"},{"$error":"#REF!"},{"$error":"#REF!"},{"$f":"'E4-Baseline Measurements'!#REF!","v":{"$error":"#REF!"}}]
[{"$f":"'E4-Baseline Measurements'!$B$68","v":"00:00:00"},{"$error":"#REF!"},{"$error":"#REF!"},{"$f":"'E4-Baseline Measurements'!#REF!","v":{"$error":"#REF!"}}]
[{"$f":"'E4-Baseline Measurements'!$B$69","v":"00:00:00"},{"$error":"#REF!"},{"$error":"#REF!"},{"$f":"'E4-Baseline Measurements'!#REF!","v":{"$error":"#REF!"}}]
[{"$f":"'E4-Baseline Measurements'!$B$70","v":"00:00:00"},{"$error":"#REF!"},{"$error":"#REF!"},{"$f":"'E4-Baseline Measurements'!#REF!","v":{"$error":"#REF!"}}]
[{"$f":"'E4-Baseline Measurements'!$B$71","v":"00:00:00"},{"$error":"#REF!"},{"$error":"#REF!"},{"$f":"'E4-Baseline Measurements'!#REF!","v":{"$error":"#REF!"}}]
[{"$f":"'E4-Baseline Measurements'!$B$72","v":"00:00:00"},{"$error":"#REF!"},{"$error":"#REF!"},{"$f":"'E4-Baseline Measurements'!#REF!","v":{"$error":"#REF!"}}]
[{"$f":"'E4-Baseline Measurements'!$B$73","v":"00:00:00"},{"$error":"#REF!"},{"$error":"#REF!"},{"$f":"'E4-Baseline Measurements'!#REF!","v":{"$error":"#REF!"}}]
[{"$f":"'E4-Baseline Measurements'!$B$74","v":"00:00:00"},{"$f":"1.05*$F$2-0.05*$F$4","v":{"$error":"#REF!"}},{"$f":"1.05*$F$4-0.05*$F$2","v":{"$error":"#REF!"}},{"$f":"'E4-Baseline Measurements'!#REF!","v":{"$error":"#REF!"}}]
[{"$f":"'E4-Baseline Measurements'!$B$75","v":"00:00:00"},{"$error":"#REF!"},{"$error":"#REF!"},{"$f":"'E4-Baseline Measurements'!#REF!","v":{"$error":"#REF!"}}]
[{"$f":"'E4-Baseline Measurements'!$B$76","v":"00:00:00"},{"$error":"#REF!"},{"$error":"#REF!"},{"$f":"'E4-Baseline Measurements'!#REF!","v":{"$error":"#REF!"}}]
[{"$f":"'E4-Baseline Measurements'!$B$77","v":"00:00:00"},{"$error":"#REF!"},{"$error":"#REF!"},{"$f":"'E4-Baseline Measurements'!#REF!","v":{"$error":"#REF!"}}]
[{"$f":"'E4-Baseline Measurements'!$B$78","v":"00:00:00"},{"$error":"#REF!"},{"$error":"#REF!"},{"$f":"'E4-Baseline Measurements'!#REF!","v":{"$error":"#REF!"}}]
[{"$f":"'E4-Baseline Measurements'!$B$79","v":"00:00:00"},{"$error":"#REF!"},{"$error":"#REF!"},{"$f":"'E4-Baseline Measurements'!#REF!","v":{"$error":"#REF!"}}]
[{"$f":"'E4-Baseline Measurements'!$B$80","v":"00:00:00"},{"$error":"#REF!"},{"$error":"#REF!"},{"$f":"'E4-Baseline Measurements'!#REF!","v":{"$error":"#REF!"}}]
[{"$f":"'E4-Baseline Measurements'!$B$81","v":"00:00:00"},{"$error":"#REF!"},{"$error":"#REF!"},{"$f":"'E4-Baseline Measurements'!#REF!","v":{"$error":"#REF!"}}]
[{"$f":"'E4-Baseline Measurements'!$B$82","v":"00:00:00"},{"$error":"#REF!"},{"$error":"#REF!"},{"$f":"'E4-Baseline Measurements'!#REF!","v":{"$error":"#REF!"}}]
[{"$f":"'E4-Baseline Measurements'!$B$83","v":"00:00:00"},{"$error":"#REF!"},{"$error":"#REF!"},{"$f":"'E4-Baseline Measurements'!#REF!","v":{"$error":"#REF!"}}]
[{"$f":"'E4-Baseline Measurements'!$B$84","v":"00:00:00"},{"$error":"#REF!"},{"$error":"#REF!"},{"$f":"'E4-Baseline Measurements'!#REF!","v":{"$error":"#REF!"}}]
[{"$f":"'E4-Baseline Measurements'!$B$85","v":"00:00:00"},{"$error":"#REF!"},{"$error":"#REF!"},{"$f":"'E4-Baseline Measurements'!#REF!","v":{"$error":"#REF!"}}]
[{"$f":"'E4-Baseline Measurements'!$B$86","v":"00:00:00"},{"$error":"#REF!"},{"$error":"#REF!"},{"$f":"'E4-Baseline Measurements'!#REF!","v":{"$error":"#REF!"}}]
[{"$f":"'E4-Baseline Measurements'!$B$87","v":"00:00:00"},{"$error":"#REF!"},{"$error":"#REF!"},{"$f":"'E4-Baseline Measurements'!#REF!","v":{"$error":"#REF!"}}]
[{"$f":"'E4-Baseline Measurements'!$B$88","v":"00:00:00"},{"$error":"#REF!"},{"$error":"#REF!"},{"$f":"'E4-Baseline Measurements'!#REF!","v":{"$error":"#REF!"}}]
[{"$f":"'E4-Baseline Measurements'!$B$89","v":"00:00:00"},{"$error":"#REF!"},{"$error":"#REF!"},{"$f":"'E4-Baseline Measurements'!#REF!","v":{"$error":"#REF!"}}]
[{"$f":"'E4-Baseline Measurements'!$B$90","v":"00:00:00"},{"$error":"#REF!"},{"$error":"#REF!"},{"$f":"'E4-Baseline Measurements'!#REF!","v":{"$error":"#REF!"}}]
[{"$f":"'E4-Baseline Measurements'!$B$91","v":"00:00:00"},{"$error":"#REF!"},{"$error":"#REF!"},{"$f":"'E4-Baseline Measurements'!#REF!","v":{"$error":"#REF!"}}]
[{"$f":"'E4-Baseline Measurements'!$B$92","v":"00:00:00"},{"$error":"#REF!"},{"$error":"#REF!"},{"$f":"'E4-Baseline Measurements'!#REF!","v":{"$error":"#REF!"}}]
[{"$f":"'E4-Baseline Measurements'!$B$93","v":"00:00:00"},{"$error":"#REF!"},{"$error":"#REF!"},{"$f":"'E4-Baseline Measurements'!#REF!","v":{"$error":"#REF!"}}]
[{"$f":"'E4-Baseline Measurements'!$B$94","v":"00:00:00"},{"$error":"#REF!"},{"$error":"#REF!"},{"$f":"'E4-Baseline Measurements'!#REF!","v":{"$error":"#REF!"}}]
[{"$f":"'E4-Baseline Measurements'!$B$95","v":"00:00:00"},{"$error":"#REF!"},{"$error":"#REF!"},{"$f":"'E4-Baseline Measurements'!#REF!","v":{"$error":"#REF!"}}]
[{"$f":"'E4-Baseline Measurements'!$B$96","v":"00:00:00"},{"$error":"#REF!"},{"$error":"#REF!"},{"$f":"'E4-Baseline Measurements'!#REF!","v":{"$error":"#REF!"}}]
[{"$f":"'E4-Baseline Measurements'!$B$97","v":"00:00:00"},{"$error":"#REF!"},{"$error":"#REF!"},{"$f":"'E4-Baseline Measurements'!#REF!","v":{"$error":"#REF!"}}]
[{"$f":"'E4-Baseline Measurements'!$B$98","v":"00:00:00"},{"$error":"#REF!"},{"$error":"#REF!"},{"$f":"'E4-Baseline Measurements'!#REF!","v":{"$error":"#REF!"}}]
[{"$f":"'E4-Baseline Measurements'!$B$99","v":"00:00:00"},{"$error":"#REF!"},{"$error":"#REF!"},{"$f":"'E4-Baseline Measurements'!#REF!","v":{"$error":"#REF!"}}]
[{"$f":"'E4-Baseline Measurements'!$B$100","v":"00:00:00"},{"$error":"#REF!"},{"$error":"#REF!"},{"$f":"'E4-Baseline Measurements'!#REF!","v":{"$error":"#REF!"}}]
[{"$f":"'E4-Baseline Measurements'!$B$101","v":"00:00:00"},{"$error":"#REF!"},{"$error":"#REF!"},{"$f":"'E4-Baseline Measurements'!#REF!","v":{"$error":"#REF!"}}]
[{"$f":"'E4-Baseline Measurements'!$B$102","v":"00:00:00"},{"$error":"#REF!"},{"$error":"#REF!"},{"$f":"'E4-Baseline Measurements'!#REF!","v":{"$error":"#REF!"}}]
[{"$f":"'E4-Baseline Measurements'!$B$103","v":"00:00:00"},{"$error":"#REF!"},{"$error":"#REF!"},{"$f":"'E4-Baseline Measurements'!#REF!","v":{"$error":"#REF!"}}]
[{"$f":"'E4-Baseline Measurements'!$B$104","v":"00:00:00"},{"$error":"#REF!"},{"$error":"#REF!"},{"$f":"'E4-Baseline Measurements'!#REF!","v":{"$error":"#REF!"}}]
[{"$f":"'E4-Baseline Measurements'!$B$105","v":"00:00:00"},{"$error":"#REF!"},{"$error":"#REF!"},{"$f":"'E4-Baseline Measurements'!#REF!","v":{"$error":"#REF!"}}]
[{"$f":"'E4-Baseline Measurements'!$B$106","v":"00:00:00"},{"$error":"#REF!"},{"$error":"#REF!"},{"$f":"'E4-Baseline Measurements'!#REF!","v":{"$error":"#REF!"}}]
[{"$f":"'E4-Baseline Measurements'!$B$107","v":"00:00:00"},{"$error":"#REF!"},{"$error":"#REF!"},{"$f":"'E4-Baseline Measurements'!#REF!","v":{"$error":"#REF!"}}]
[{"$f":"'E4-Baseline Measurements'!$B$108","v":"00:00:00"},{"$error":"#REF!"},{"$error":"#REF!"},{"$f":"'E4-Baseline Measurements'!#REF!","v":{"$error":"#REF!"}}]
[{"$f":"'E4-Baseline Measurements'!$B$109","v":"00:00:00"},{"$error":"#REF!"},{"$error":"#REF!"},{"$f":"'E4-Baseline Measurements'!#REF!","v":{"$error":"#REF!"}}]
[{"$f":"'E4-Baseline Measurements'!$B$110","v":"00:00:00"},{"$error":"#REF!"},{"$error":"#REF!"},{"$f":"'E4-Baseline Measurements'!#REF!","v":{"$error":"#REF!"}}]
[{"$f":"'E4-Baseline Measurements'!$B$111","v":"00:00:00"},{"$error":"#REF!"},{"$error":"#REF!"},{"$f":"'E4-Baseline Measurements'!#REF!","v":{"$error":"#REF!"}}]
[{"$f":"'E4-Baseline Measurements'!$B$112","v":"00:00:00"},{"$error":"#REF!"},{"$error":"#REF!"},{"$f":"'E4-Baseline Measurements'!#REF!","v":{"$error":"#REF!"}}]
[{"$f":"'E4-Baseline Measurements'!$B$113","v":"00:00:00"},{"$error":"#REF!"},{"$error":"#REF!"},{"$f":"'E4-Baseline Measurements'!#REF!","v":{"$error":"#REF!"}}]
[{"$f":"'E4-Baseline Measurements'!#REF!","v":{"$error":"#REF!"}},{"$error":"#REF!"},{"$error":"#REF!"},{"$f":"'E4-Baseline Measurements'!#REF!","v":{"$error":"#REF!"}}]
[{"$f":"'E4-Baseline Measurements'!#REF!","v":{"$error":"#REF!"}},{"$error":"#REF!"},{"$error":"#REF!"},{"$f":"'E4-Baseline Measurements'!#REF!","v":{"$error":"#REF!"}}]
[{"$f":"'E4-Baseline Measurements'!#REF!","v":{"$error":"#REF!"}},{"$error":"#REF!"},{"$error":"#REF!"},{"$f":"'E4-Baseline Measurements'!#REF!","v":{"$error":"#REF!"}}]
[{"$f":"'E4-Baseline Measurements'!#REF!","v":{"$error":"#REF!"}},{"$error":"#REF!"},{"$error":"#REF!"},{"$f":"'E4-Baseline Measurements'!#REF!","v":{"$error":"#REF!"}}]
[{"$f":"'E4-Baseline Measurements'!#REF!","v":{"$error":"#REF!"}},{"$error":"#REF!"},{"$error":"#REF!"},{"$f":"'E4-Baseline Measurements'!#REF!","v":{"$error":"#REF!"}}]
[{"$f":"'E4-Baseline Measurements'!#REF!","v":{"$error":"#REF!"}},{"$error":"#REF!"},{"$error":"#REF!"},{"$f":"'E4-Baseline Measurements'!#REF!","v":{"$error":"#REF!"}}]
[{"$f":"'E4-Baseline Measurements'!#REF!","v":{"$error":"#REF!"}},{"$error":"#REF!"},{"$error":"#REF!"},{"$f":"'E4-Baseline Measurements'!#REF!","v":{"$error":"#REF!"}}]
[{"$f":"'E4-Baseline Measurements'!#REF!","v":{"$error":"#REF!"}},{"$error":"#REF!"},{"$error":"#REF!"},{"$f":"'E4-Baseline Measurements'!#REF!","v":{"$error":"#REF!"}}]
[{"$f":"'E4-Baseline Measurements'!#REF!","v":{"$error":"#REF!"}},{"$error":"#REF!"},{"$error":"#REF!"},{"$f":"'E4-Baseline Measurements'!#REF!","v":{"$error":"#REF!"}}]
[{"$f":"'E4-Baseline Measurements'!#REF!","v":{"$error":"#REF!"}},{"$error":"#REF!"},{"$error":"#REF!"},{"$f":"'E4-Baseline Measurements'!#REF!","v":{"$error":"#REF!"}}]
[{"$f":"'E4-Baseline Measurements'!#REF!","v":{"$error":"#REF!"}},{"$error":"#REF!"},{"$error":"#REF!"},{"$f":"'E4-Baseline Measurements'!#REF!","v":{"$error":"#REF!"}}]
[{"$f":"'E4-Baseline Measurements'!#REF!","v":{"$error":"#REF!"}},{"$error":"#REF!"},{"$error":"#REF!"},{"$f":"'E4-Baseline Measurements'!#REF!","v":{"$error":"#REF!"}}]
[{"$f":"'E4-Baseline Measurements'!#REF!","v":{"$error":"#REF!"}},{"$error":"#REF!"},{"$error":"#REF!"},{"$f":"'E4-Baseline Measurements'!#REF!","v":{"$error":"#REF!"}}]
[{"$f":"'E4-Baseline Measurements'!#REF!","v":{"$error":"#REF!"}},{"$error":"#REF!"},{"$error":"#REF!"},{"$f":"'E4-Baseline Measurements'!#REF!","v":{"$error":"#REF!"}}]
[{"$f":"'E4-Baseline Measurements'!#REF!","v":{"$error":"#REF!"}},{"$error":"#REF!"},{"$error":"#REF!"},{"$f":"'E4-Baseline Measurements'!#REF!","v":{"$error":"#REF!"}}]
[{"$f":"'E4-Baseline Measurements'!#REF!","v":{"$error":"#REF!"}},{"$error":"#REF!"},{"$error":"#REF!"},{"$f":"'E4-Baseline Measurements'!#REF!","v":{"$error":"#REF!"}}]
[{"$f":"'E4-Baseline Measurements'!#REF!","v":{"$error":"#REF!"}},{"$error":"#REF!"},{"$error":"#REF!"},{"$f":"'E4-Baseline Measurements'!#REF!","v":{"$error":"#REF!"}}]
[{"$f":"'E4-Baseline Measurements'!#REF!","v":{"$error":"#REF!"}},{"$error":"#REF!"},{"$error":"#REF!"},{"$f":"'E4-Baseline Measurements'!#REF!","v":{"$error":"#REF!"}}]
[{"$f":"'E4-Baseline Measurements'!#REF!","v":{"$error":"#REF!"}},{"$error":"#REF!"},{"$error":"#REF!"},{"$f":"'E4-Baseline Measurements'!#REF!","v":{"$error":"#REF!"}}]
[{"$f":"'E4-Baseline Measurements'!#REF!","v":{"$error":"#REF!"}},{"$error":"#REF!"},{"$error":"#REF!"},{"$f":"'E4-Baseline Measurements'!#REF!","v":{"$error":"#REF!"}}]
[{"$f":"'E4-Baseline Measurements'!#REF!","v":{"$error":"#REF!"}},{"$error":"#REF!"},{"$error":"#REF!"},{"$f":"'E4-Baseline Measurements'!#REF!","v":{"$error":"#REF!"}}]
[{"$f":"'E4-Baseline Measurements'!#REF!","v":{"$error":"#REF!"}},{"$error":"#REF!"},{"$error":"#REF!"},{"$f":"'E4-Baseline Measurements'!#REF!","v":{"$error":"#REF!"}}]
[{"$f":"'E4-Baseline Measurements'!#REF!","v":{"$error":"#REF!"}},{"$error":"#REF!"},{"$error":"#REF!"},{"$f":"'E4-Baseline Measurements'!#REF!","v":{"$error":"#REF!"}}]
[{"$f":"'E4-Baseline Measurements'!#REF!","v":{"$error":"#REF!"}},{"$error":"#REF!"},{"$error":"#REF!"},{"$f":"'E4-Baseline Measurements'!#REF!","v":{"$error":"#REF!"}}]
[{"$f":"'E4-Baseline Measurements'!#REF!","v":{"$error":"#REF!"}},{"$f":"1.05*$F$2-0.05*$F$4","v":{"$error":"#REF!"}},{"$f":"1.05*$F$4-0.05*$F$2","v":{"$error":"#REF!"}},{"$f":"'E4-Baseline Measurements'!#REF!","v":{"$error":"#REF!"}}]
[{"$f":"'E4-Baseline Measurements'!#REF!","v":{"$error":"#REF!"}},{"$error":"#REF!"},{"$error":"#REF!"},{"$f":"'E4-Baseline Measurements'!#REF!","v":{"$error":"#REF!"}}]
[{"$f":"'E4-Baseline Measurements'!#REF!","v":{"$error":"#REF!"}},{"$error":"#REF!"},{"$error":"#REF!"},{"$f":"'E4-Baseline Measurements'!#REF!","v":{"$error":"#REF!"}}]
[{"$f":"'E4-Baseline Measurements'!#REF!","v":{"$error":"#REF!"}},{"$error":"#REF!"},{"$error":"#REF!"},{"$f":"'E4-Baseline Measurements'!#REF!","v":{"$error":"#REF!"}}]
[{"$f":"'E4-Baseline Measurements'!#REF!","v":{"$error":"#REF!"}},{"$error":"#REF!"},{"$error":"#REF!"},{"$f":"'E4-Baseline Measurements'!#REF!","v":{"$error":"#REF!"}}]
[{"$f":"'E4-Baseline Measurements'!#REF!","v":{"$error":"#REF!"}},{"$error":"#REF!"},{"$error":"#REF!"},{"$f":"'E4-Baseline Measurements'!#REF!","v":{"$error":"#REF!"}}]
[{"$f":"'E4-Baseline Measurements'!#REF!","v":{"$error":"#REF!"}},{"$error":"#REF!"},{"$error":"#REF!"},{"$f":"'E4-Baseline Measurements'!#REF!","v":{"$error":"#REF!"}}]
[{"$f":"'E4-Baseline Measurements'!#REF!","v":{"$error":"#REF!"}},{"$error":"#REF!"},{"$error":"#REF!"},{"$f":"'E4-Baseline Measurements'!#REF!","v":{"$error":"#REF!"}}]
[{"$f":"'E4-Baseline Measurements'!#REF!","v":{"$error":"#REF!"}},{"$error":"#REF!"},{"$error":"#REF!"},{"$f":"'E4-Baseline Measurements'!#REF!","v":{"$error":"#REF!"}}]
[{"$f":"'E4-Baseline Measurements'!#REF!","v":{"$error":"#REF!"}},{"$error":"#REF!"},{"$error":"#REF!"},{"$f":"'E4-Baseline Measurements'!#REF!","v":{"$error":"#REF!"}}]
[{"$f":"'E4-Baseline Measurements'!#REF!","v":{"$error":"#REF!"}},{"$error":"#REF!"},{"$error":"#REF!"},{"$f":"'E4-Baseline Measurements'!#REF!","v":{"$error":"#REF!"}}]
[{"$f":"'E4-Baseline Measurements'!#REF!","v":{"$error":"#REF!"}},{"$error":"#REF!"},{"$error":"#REF!"},{"$f":"'E4-Baseline Measurements'!#REF!","v":{"$error":"#REF!"}}]
[{"$f":"'E4-Baseline Measurements'!#REF!","v":{"$error":"#REF!"}},{"$error":"#REF!"},{"$error":"#REF!"},{"$f":"'E4-Baseline Measurements'!#REF!","v":{"$error":"#REF!"}}]
[{"$f":"'E4-Baseline Measurements'!#REF!","v":{"$error":"#REF!"}},{"$error":"#REF!"},{"$error":"#REF!"},{"$f":"'E4-Baseline Measurements'!#REF!","v":{"$error":"#REF!"}}]
[{"$f":"'E4-Baseline Measurements'!#REF!","v":{"$error":"#REF!"}},{"$error":"#REF!"},{"$error":"#REF!"},{"$f":"'E4-Baseline Measurements'!#REF!","v":{"$error":"#REF!"}}]
[{"$f":"'E4-Baseline Measurements'!#REF!","v":{"$error":"#REF!"}},{"$error":"#REF!"},{"$error":"#REF!"},{"$f":"'E4-Baseline Measurements'!#REF!","v":{"$error":"#REF!"}}]
[{"$f":"'E4-Baseline Measurements'!#REF!","v":{"$error":"#REF!"}},{"$error":"#REF!"},{"$error":"#REF!"},{"$f":"'E4-Baseline Measurements'!#REF!","v":{"$error":"#REF!"}}]
[{"$f":"'E4-Baseline Measurements'!#REF!","v":{"$error":"#REF!"}},{"$error":"#REF!"},{"$error":"#REF!"},{"$f":"'E4-Baseline Measurements'!#REF!","v":{"$error":"#REF!"}}]
[{"$f":"'E4-Baseline Measurements'!#REF!","v":{"$error":"#REF!"}},{"$error":"#REF!"},{"$error":"#REF!"},{"$f":"'E4-Baseline Measurements'!#REF!","v":{"$error":"#REF!"}}]
[{"$f":"'E4-Baseline Measurements'!#REF!","v":{"$error":"#REF!"}},{"$error":"#REF!"},{"$error":"#REF!"},{"$f":"'E4-Baseline Measurements'!#REF!","v":{"$error":"#REF!"}}]
[{"$f":"'E4-Baseline Measurements'!#REF!","v":{"$error":"#REF!"}},{"$error":"#REF!"},{"$error":"#REF!"},{"$f":"'E4-Baseline Measurements'!#REF!","v":{"$error":"#REF!"}}]
[{"$f":"'E4-Baseline Measurements'!#REF!","v":{"$error":"#REF!"}},{"$error":"#REF!"},{"$error":"#REF!"},{"$f":"'E4-Baseline Measurements'!#REF!","v":{"$error":"#REF!"}}]
[{"$f":"'E4-Baseline Measurements'!#REF!","v":{"$error":"#REF!"}},{"$error":"#REF!"},{"$error":"#REF!"},{"$f":"'E4-Baseline Measurements'!#REF!","v":{"$error":"#REF!"}}]
[{"$f":"'E4-Baseline Measurements'!#REF!","v":{"$error":"#REF!"}},{"$error":"#REF!"},{"$error":"#REF!"},{"$f":"'E4-Baseline Measurements'!#REF!","v":{"$error":"#REF!"}}]
[{"$f":"'E4-Baseline Measurements'!#REF!","v":{"$error":"#REF!"}},{"$error":"#REF!"},{"$error":"#REF!"},{"$f":"'E4-Baseline Measurements'!#REF!","v":{"$error":"#REF!"}}]
[{"$f":"'E4-Baseline Measurements'!#REF!","v":{"$error":"#REF!"}},{"$error":"#REF!"},{"$error":"#REF!"},{"$f":"'E4-Baseline Measurements'!#REF!","v":{"$error":"#REF!"}}]
[{"$f":"'E4-Baseline Measurements'!#REF!","v":{"$error":"#REF!"}},{"$error":"#REF!"},{"$error":"#REF!"},{"$f":"'E4-Baseline Measurements'!#REF!","v":{"$error":"#REF!"}}]
[{"$f":"'E4-Baseline Measurements'!#REF!","v":{"$error":"#REF!"}},{"$error":"#REF!"},{"$error":"#REF!"},{"$f":"'E4-Baseline Measurements'!#REF!","v":{"$error":"#REF!"}}]
[{"$f":"'E4-Baseline Measurements'!#REF!","v":{"$error":"#REF!"}},{"$error":"#REF!"},{"$error":"#REF!"},{"$f":"'E4-Baseline Measurements'!#REF!","v":{"$error":"#REF!"}}]
[{"$f":"'E4-Baseline Measurements'!#REF!","v":{"$error":"#REF!"}},{"$error":"#REF!"},{"$error":"#REF!"},{"$f":"'E4-Baseline Measurements'!#REF!","v":{"$error":"#REF!"}}]
[{"$f":"'E4-Baseline Measurements'!#REF!","v":{"$error":"#REF!"}},{"$error":"#REF!"},{"$error":"#REF!"},{"$f":"'E4-Baseline Measurements'!#REF!","v":{"$error":"#REF!"}}]
[{"$f":"'E4-Baseline Measurements'!#REF!","v":{"$error":"#REF!"}},{"$error":"#REF!"},{"$error":"#REF!"},{"$f":"'E4-Baseline Measurements'!#REF!","v":{"$error":"#REF!"}}]
[{"$f":"'E4-Baseline Measurements'!#REF!","v":{"$error":"#REF!"}},{"$error":"#REF!"},{"$error":"#REF!"},{"$f":"'E4-Baseline Measurements'!#REF!","v":{"$error":"#REF!"}}]
[{"$f":"'E4-Baseline Measurements'!#REF!","v":{"$error":"#REF!"}},{"$error":"#REF!"},{"$error":"#REF!"},{"$f":"'E4-Baseline Measurements'!#REF!","v":{"$error":"#REF!"}}]
[{"$f":"'E4-Baseline Measurements'!#REF!","v":{"$error":"#REF!"}},{"$error":"#REF!"},{"$error":"#REF!"},{"$f":"'E4-Baseline Measurements'!#REF!","v":{"$error":"#REF!"}}]
[{"$f":"'E4-Baseline Measurements'!#REF!","v":{"$error":"#REF!"}},{"$error":"#REF!"},{"$error":"#REF!"},{"$f":"'E4-Baseline Measurements'!#REF!","v":{"$error":"#REF!"}}]
[{"$f":"'E4-Baseline Measurements'!#REF!","v":{"$error":"#REF!"}},{"$error":"#REF!"},{"$error":"#REF!"},{"$f":"'E4-Baseline Measurements'!#REF!","v":{"$error":"#REF!"}}]
[{"$f":"'E4-Baseline Measurements'!#REF!","v":{"$error":"#REF!"}},{"$error":"#REF!"},{"$error":"#REF!"},{"$f":"'E4-Baseline Measurements'!#REF!","v":{"$error":"#REF!"}}]
[{"$f":"'E4-Baseline Measurements'!#REF!","v":{"$error":"#REF!"}},{"$error":"#REF!"},{"$error":"#REF!"},{"$f":"'E4-Baseline Measurements'!#REF!","v":{"$error":"#REF!"}}]
[{"$f":"'E4-Baseline Measurements'!#REF!","v":{"$error":"#REF!"}},{"$error":"#REF!"},{"$error":"#REF!"},{"$f":"'E4-Baseline Measurements'!#REF!","v":{"$error":"#REF!"}}]
[{"$f":"'E4-Baseline Measurements'!#REF!","v":{"$error":"#REF!"}},{"$error":"#REF!"},{"$error":"#REF!"},{"$f":"'E4-Baseline Measurements'!#REF!","v":{"$error":"#REF!"}}]
[{"$f":"'E4-Baseline Measurements'!#REF!","v":{"$error":"#REF!"}},{"$error":"#REF!"},{"$error":"#REF!"},{"$f":"'E4-Baseline Measurements'!#REF!","v":{"$error":"#REF!"}}]
[{"$f":"'E4-Baseline Measurements'!#REF!","v":{"$error":"#REF!"}},{"$error":"#REF!"},{"$error":"#REF!"},{"$f":"'E4-Baseline Measurements'!#REF!","v":{"$error":"#REF!"}}]
[{"$f":"'E4-Baseline Measurements'!#REF!","v":{"$error":"#REF!"}},{"$error":"#REF!"},{"$error":"#REF!"},{"$f":"'E4-Baseline Measurements'!#REF!","v":{"$error":"#REF!"}}]
[{"$f":"'E4-Baseline Measurements'!#REF!","v":{"$error":"#REF!"}},{"$error":"#REF!"},{"$error":"#REF!"},{"$f":"'E4-Baseline Measurements'!#REF!","v":{"$error":"#REF!"}}]
[{"$f":"'E4-Baseline Measurements'!#REF!","v":{"$error":"#REF!"}},{"$error":"#REF!"},{"$error":"#REF!"},{"$f":"'E4-Baseline Measurements'!#REF!","v":{"$error":"#REF!"}}]
[{"$f":"'E4-Baseline Measurements'!#REF!","v":{"$error":"#REF!"}},{"$error":"#REF!"},{"$error":"#REF!"},{"$f":"'E4-Baseline Measurements'!#REF!","v":{"$error":"#REF!"}}]
[{"$f":"'E4-Baseline Measurements'!#REF!","v":{"$error":"#REF!"}},{"$error":"#REF!"},{"$error":"#REF!"},{"$f":"'E4-Baseline Measurements'!#REF!","v":{"$error":"#REF!"}}]
[{"$f":"'E4-Baseline Measurements'!#REF!","v":{"$error":"#REF!"}},{"$error":"#REF!"},{"$error":"#REF!"},{"$f":"'E4-Baseline Measurements'!#REF!","v":{"$error":"#REF!"}}]
[{"$f":"'E4-Baseline Measurements'!#REF!","v":{"$error":"#REF!"}},{"$error":"#REF!"},{"$error":"#REF!"},{"$f":"'E4-Baseline Measurements'!#REF!","v":{"$error":"#REF!"}}]
[{"$f":"'E4-Baseline Measurements'!#REF!","v":{"$error":"#REF!"}},{"$error":"#REF!"},{"$error":"#REF!"},{"$f":"'E4-Baseline Measurements'!#REF!","v":{"$error":"#REF!"}}]
[{"$f":"'E4-Baseline Measurements'!#REF!","v":{"$error":"#REF!"}},{"$error":"#REF!"},{"$error":"#REF!"},{"$f":"'E4-Baseline Measurements'!#REF!","v":{"$error":"#REF!"}}]
[{"$f":"'E4-Baseline Measurements'!#REF!","v":{"$error":"#REF!"}},{"$error":"#REF!"},{"$error":"#REF!"},{"$f":"'E4-Baseline Measurements'!#REF!","v":{"$error":"#REF!"}}]
[{"$f":"'E4-Baseline Measurements'!#REF!","v":{"$error":"#REF!"}},{"$error":"#REF!"},{"$error":"#REF!"},{"$f":"'E4-Baseline Measurements'!#REF!","v":{"$error":"#REF!"}}]
[{"$f":"'E4-Baseline Measurements'!#REF!","v":{"$error":"#REF!"}},{"$error":"#REF!"},{"$error":"#REF!"},{"$f":"'E4-Baseline Measurements'!#REF!","v":{"$error":"#REF!"}}]
[{"$f":"'E4-Baseline Measurements'!#REF!","v":{"$error":"#REF!"}},{"$error":"#REF!"},{"$error":"#REF!"},{"$f":"'E4-Baseline Measurements'!#REF!","v":{"$error":"#REF!"}}]
[{"$f":"'E4-Baseline Measurements'!#REF!","v":{"$error":"#REF!"}},{"$error":"#REF!"},{"$error":"#REF!"},{"$f":"'E4-Baseline Measurements'!#REF!","v":{"$error":"#REF!"}}]
[{"$f":"'E4-Baseline Measurements'!#REF!","v":{"$error":"#REF!"}},{"$error":"#REF!"},{"$error":"#REF!"},{"$f":"'E4-Baseline Measurements'!#REF!","v":{"$error":"#REF!"}}]
[{"$f":"'E4-Baseline Measurements'!#REF!","v":{"$error":"#REF!"}},{"$error":"#REF!"},{"$error":"#REF!"},{"$f":"'E4-Baseline Measurements'!#REF!","v":{"$error":"#REF!"}}]
[{"$f":"'E4-Baseline Measurements'!#REF!","v":{"$error":"#REF!"}},{"$error":"#REF!"},{"$error":"#REF!"},{"$f":"'E4-Baseline Measurements'!#REF!","v":{"$error":"#REF!"}}]
[{"$f":"'E4-Baseline Measurements'!#REF!","v":{"$error":"#REF!"}},{"$error":"#REF!"},{"$error":"#REF!"},{"$f":"'E4-Baseline Measurements'!#REF!","v":{"$error":"#REF!"}}]
[{"$f":"'E4-Baseline Measurements'!#REF!","v":{"$error":"#REF!"}},{"$error":"#REF!"},{"$error":"#REF!"},{"$f":"'E4-Baseline Measurements'!#REF!","v":{"$error":"#REF!"}}]
[{"$f":"'E4-Baseline Measurements'!#REF!","v":{"$error":"#REF!"}},{"$error":"#REF!"},{"$error":"#REF!"},{"$f":"'E4-Baseline Measurements'!#REF!","v":{"$error":"#REF!"}}]
[{"$f":"'E4-Baseline Measurements'!#REF!","v":{"$error":"#REF!"}},{"$error":"#REF!"},{"$error":"#REF!"},{"$f":"'E4-Baseline Measurements'!#REF!","v":{"$error":"#REF!"}}]
[{"$f":"'E4-Baseline Measurements'!#REF!","v":{"$error":"#REF!"}},{"$f":"1.05*$F$2-0.05*$F$4","v":{"$error":"#REF!"}},{"$f":"1.05*$F$4-0.05*$F$2","v":{"$error":"#REF!"}},{"$f":"'E4-Baseline Measurements'!#REF!","v":{"$error":"#REF!"}}]
[{"$f":"'E4-Baseline Measurements'!#REF!","v":{"$error":"#REF!"}},{"$error":"#REF!"},{"$error":"#REF!"},{"$f":"'E4-Baseline Measurements'!#REF!","v":{"$error":"#REF!"}}]
[{"$f":"'E4-Baseline Measurements'!#REF!","v":{"$error":"#REF!"}},{"$error":"#REF!"},{"$error":"#REF!"},{"$f":"'E4-Baseline Measurements'!#REF!","v":{"$error":"#REF!"}}]
[{"$f":"'E4-Baseline Measurements'!#REF!","v":{"$error":"#REF!"}},{"$error":"#REF!"},{"$error":"#REF!"},{"$f":"'E4-Baseline Measurements'!#REF!","v":{"$error":"#REF!"}}]
[{"$f":"'E4-Baseline Measurements'!#REF!","v":{"$error":"#REF!"}},{"$error":"#REF!"},{"$error":"#REF!"},{"$f":"'E4-Baseline Measurements'!#REF!","v":{"$error":"#REF!"}}]
[{"$f":"'E4-Baseline Measurements'!#REF!","v":{"$error":"#REF!"}},{"$error":"#REF!"},{"$error":"#REF!"},{"$f":"'E4-Baseline Measurements'!#REF!","v":{"$error":"#REF!"}}]
[{"$f":"'E4-Baseline Measurements'!#REF!","v":{"$error":"#REF!"}},{"$error":"#REF!"},{"$error":"#REF!"},{"$f":"'E4-Baseline Measurements'!#REF!","v":{"$error":"#REF!"}}]
[{"$f":"'E4-Baseline Measurements'!#REF!","v":{"$error":"#REF!"}},{"$error":"#REF!"},{"$error":"#REF!"},{"$f":"'E4-Baseline Measurements'!#REF!","v":{"$error":"#REF!"}}]
[{"$f":"'E4-Baseline Measurements'!#REF!","v":{"$error":"#REF!"}},{"$error":"#REF!"},{"$error":"#REF!"},{"$f":"'E4-Baseline Measurements'!#REF!","v":{"$error":"#REF!"}}]
[{"$f":"'E4-Baseline Measurements'!#REF!","v":{"$error":"#REF!"}},{"$error":"#REF!"},{"$error":"#REF!"},{"$f":"'E4-Baseline Measurements'!#REF!","v":{"$error":"#REF!"}}]
[{"$f":"'E4-Baseline Measurements'!#REF!","v":{"$error":"#REF!"}},{"$error":"#REF!"},{"$error":"#REF!"},{"$f":"'E4-Baseline Measurements'!#REF!","v":{"$error":"#REF!"}}]
[{"$f":"'E4-Baseline Measurements'!#REF!","v":{"$error":"#REF!"}},{"$error":"#REF!"},{"$error":"#REF!"},{"$f":"'E4-Baseline Measurements'!#REF!","v":{"$error":"#REF!"}}]
[{"$f":"'E4-Baseline Measurements'!#REF!","v":{"$error":"#REF!"}},{"$error":"#REF!"},{"$error":"#REF!"},{"$f":"'E4-Baseline Measurements'!#REF!","v":{"$error":"#REF!"}}]
[{"$f":"'E4-Baseline Measurements'!#REF!","v":{"$error":"#REF!"}},{"$error":"#REF!"},{"$error":"#REF!"},{"$f":"'E4-Baseline Measurements'!#REF!","v":{"$error":"#REF!"}}]
[{"$f":"'E4-Baseline Measurements'!#REF!","v":{"$error":"#REF!"}},{"$error":"#REF!"},{"$error":"#REF!"},{"$f":"'E4-Baseline Measurements'!#REF!","v":{"$error":"#REF!"}}]
[{"$f":"'E4-Baseline Measurements'!#REF!","v":{"$error":"#REF!"}},{"$error":"#REF!"},{"$error":"#REF!"},{"$f":"'E4-Baseline Measurements'!#REF!","v":{"$error":"#REF!"}}]
[{"$f":"'E4-Baseline Measurements'!#REF!","v":{"$error":"#REF!"}},{"$error":"#REF!"},{"$error":"#REF!"},{"$f":"'E4-Baseline Measurements'!#REF!","v":{"$error":"#REF!"}}]
[{"$f":"'E4-Baseline Measurements'!#REF!","v":{"$error":"#REF!"}},{"$error":"#REF!"},{"$error":"#REF!"},{"$f":"'E4-Baseline Measurements'!#REF!","v":{"$error":"#REF!"}}]
[{"$f":"'E4-Baseline Measurements'!#REF!","v":{"$error":"#REF!"}},{"$error":"#REF!"},{"$error":"#REF!"},{"$f":"'E4-Baseline Measurements'!#REF!","v":{"$error":"#REF!"}}]
[{"$f":"'E4-Baseline Measurements'!#REF!","v":{"$error":"#REF!"}},{"$error":"#REF!"},{"$error":"#REF!"},{"$f":"'E4-Baseline Measurements'!#REF!","v":{"$error":"#REF!"}}]
[{"$f":"'E4-Baseline Measurements'!#REF!","v":{"$error":"#REF!"}},{"$error":"#REF!"},{"$error":"#REF!"},{"$f":"'E4-Baseline Measurements'!#REF!","v":{"$error":"#REF!"}}]
[{"$f":"'E4-Baseline Measurements'!#REF!","v":{"$error":"#REF!"}},{"$error":"#REF!"},{"$error":"#REF!"},{"$f":"'E4-Baseline Measurements'!#REF!","v":{"$error":"#REF!"}}]
[{"$f":"'E4-Baseline Measurements'!#REF!","v":{"$error":"#REF!"}},{"$error":"#REF!"},{"$error":"#REF!"},{"$f":"'E4-Baseline Measurements'!#REF!","v":{"$error":"#REF!"}}]
[{"$f":"'E4-Baseline Measurements'!#REF!","v":{"$error":"#REF!"}},{"$error":"#REF!"},{"$error":"#REF!"},{"$f":"'E4-Baseline Measurements'!#REF!","v":{"$error":"#REF!"}}]
[{"$f":"'E4-Baseline Measurements'!#REF!","v":{"$error":"#REF!"}},{"$error":"#REF!"},{"$error":"#REF!"},{"$f":"'E4-Baseline Measurements'!#REF!","v":{"$error":"#REF!"}}]
[{"$f":"'E4-Baseline Measurements'!#REF!","v":{"$error":"#REF!"}},{"$error":"#REF!"},{"$error":"#REF!"},{"$f":"'E4-Baseline Measurements'!#REF!","v":{"$error":"#REF!"}}]
[{"$f":"'E4-Baseline Measurements'!#REF!","v":{"$error":"#REF!"}},{"$error":"#REF!"},{"$error":"#REF!"},{"$f":"'E4-Baseline Measurements'!#REF!","v":{"$error":"#REF!"}}]
[{"$f":"'E4-Baseline Measurements'!#REF!","v":{"$error":"#REF!"}},{"$error":"#REF!"},{"$error":"#REF!"},{"$f":"'E4-Baseline Measurements'!#REF!","v":{"$error":"#REF!"}}]
[{"$f":"'E4-Baseline Measurements'!#REF!","v":{"$error":"#REF!"}},{"$error":"#REF!"},{"$error":"#REF!"},{"$f":"'E4-Baseline Measurements'!#REF!","v":{"$error":"#REF!"}}]
[{"$f":"'E4-Baseline Measurements'!#REF!","v":{"$error":"#REF!"}},{"$error":"#REF!"},{"$error":"#REF!"},{"$f":"'E4-Baseline Measurements'!#REF!","v":{"$error":"#REF!"}}]
[{"$f":"'E4-Baseline Measurements'!#REF!","v":{"$error":"#REF!"}},{"$error":"#REF!"},{"$error":"#REF!"},{"$f":"'E4-Baseline Measurements'!#REF!","v":{"$error":"#REF!"}}]
[{"$f":"'E4-Baseline Measurements'!#REF!","v":{"$error":"#REF!"}},{"$error":"#REF!"},{"$error":"#REF!"},{"$f":"'E4-Baseline Measurements'!#REF!","v":{"$error":"#REF!"}}]
[{"$f":"'E4-Baseline Measurements'!#REF!","v":{"$error":"#REF!"}},{"$error":"#REF!"},{"$error":"#REF!"},{"$f":"'E4-Baseline Measurements'!#REF!","v":{"$error":"#REF!"}}]
[{"$f":"'E4-Baseline Measurements'!#REF!","v":{"$error":"#REF!"}},{"$error":"#REF!"},{"$error":"#REF!"},{"$f":"'E4-Baseline Measurements'!#REF!","v":{"$error":"#REF!"}}]
[{"$f":"'E4-Baseline Measurements'!#REF!","v":{"$error":"#REF!"}},{"$error":"#REF!"},{"$error":"#REF!"},{"$f":"'E4-Baseline Measurements'!#REF!","v":{"$error":"#REF!"}}]
[{"$f":"'E4-Baseline Measurements'!#REF!","v":{"$error":"#REF!"}},{"$error":"#REF!"},{"$error":"#REF!"},{"$f":"'E4-Baseline Measurements'!#REF!","v":{"$error":"#REF!"}}]
[{"$f":"'E4-Baseline Measurements'!#REF!","v":{"$error":"#REF!"}},{"$error":"#REF!"},{"$error":"#REF!"},{"$f":"'E4-Baseline Measurements'!#REF!","v":{"$error":"#REF!"}}]
[{"$f":"'E4-Baseline Measurements'!#REF!","v":{"$error":"#REF!"}},{"$error":"#REF!"},{"$error":"#REF!"},{"$f":"'E4-Baseline Measurements'!#REF!","v":{"$error":"#REF!"}}]
[{"$f":"'E4-Baseline Measurements'!#REF!","v":{"$error":"#REF!"}},{"$error":"#REF!"},{"$error":"#REF!"},{"$f":"'E4-Baseline Measurements'!#REF!","v":{"$error":"#REF!"}}]
[{"$f":"'E4-Baseline Measurements'!#REF!","v":{"$error":"#REF!"}},{"$error":"#REF!"},{"$error":"#REF!"},{"$f":"'E4-Baseline Measurements'!#REF!","v":{"$error":"#REF!"}}]
[{"$f":"'E4-Baseline Measurements'!#REF!","v":{"$error":"#REF!"}},{"$error":"#REF!"},{"$error":"#REF!"},{"$f":"'E4-Baseline Measurements'!#REF!","v":{"$error":"#REF!"}}]
[{"$f":"'E4-Baseline Measurements'!#REF!","v":{"$error":"#REF!"}},{"$error":"#REF!"},{"$error":"#REF!"},{"$f":"'E4-Baseline Measurements'!#REF!","v":{"$error":"#REF!"}}]
[{"$f":"'E4-Baseline Measurements'!#REF!","v":{"$error":"#REF!"}},{"$error":"#REF!"},{"$error":"#REF!"},{"$f":"'E4-Baseline Measurements'!#REF!","v":{"$error":"#REF!"}}]
[{"$f":"'E4-Baseline Measurements'!#REF!","v":{"$error":"#REF!"}},{"$error":"#REF!"},{"$error":"#REF!"},{"$f":"'E4-Baseline Measurements'!#REF!","v":{"$error":"#REF!"}}]
[{"$f":"'E4-Baseline Measurements'!#REF!","v":{"$error":"#REF!"}},{"$error":"#REF!"},{"$error":"#REF!"},{"$f":"'E4-Baseline Measurements'!#REF!","v":{"$error":"#REF!"}}]
[{"$f":"'E4-Baseline Measurements'!#REF!","v":{"$error":"#REF!"}},{"$error":"#REF!"},{"$error":"#REF!"},{"$f":"'E4-Baseline Measurements'!#REF!","v":{"$error":"#REF!"}}]
[{"$f":"'E4-Baseline Measurements'!#REF!","v":{"$error":"#REF!"}},{"$error":"#REF!"},{"$error":"#REF!"},{"$f":"'E4-Baseline Measurements'!#REF!","v":{"$error":"#REF!"}}]
[{"$f":"'E4-Baseline Measurements'!#REF!","v":{"$error":"#REF!"}},{"$error":"#REF!"},{"$error":"#REF!"},{"$f":"'E4-Baseline Measurements'!#REF!","v":{"$error":"#REF!"}}]
[{"$f":"'E4-Baseline Measurements'!#REF!","v":{"$error":"#REF!"}},{"$error":"#REF!"},{"$error":"#REF!"},{"$f":"'E4-Baseline Measurements'!#REF!","v":{"$error":"#REF!"}}]
[{"$f":"'E4-Baseline Measurements'!#REF!","v":{"$error":"#REF!"}},{"$error":"#REF!"},{"$error":"#REF!"},{"$f":"'E4-Baseline Measurements'!#REF!","v":{"$error":"#REF!"}}]
[{"$f":"'E4-Baseline Measurements'!#REF!","v":{"$error":"#REF!"}},{"$error":"#REF!"},{"$error":"#REF!"},{"$f":"'E4-Baseline Measurements'!#REF!","v":{"$error":"#REF!"}}]
[{"$f":"'E4-Baseline Measurements'!#REF!","v":{"$error":"#REF!"}},{"$error":"#REF!"},{"$error":"#REF!"},{"$f":"'E4-Baseline Measurements'!#REF!","v":{"$error":"#REF!"}}]
[{"$f":"'E4-Baseline Measurements'!#REF!","v":{"$error":"#REF!"}},{"$error":"#REF!"},{"$error":"#REF!"},{"$f":"'E4-Baseline Measurements'!#REF!","v":{"$error":"#REF!"}}]
[{"$f":"'E4-Baseline Measurements'!#REF!","v":{"$error":"#REF!"}},{"$error":"#REF!"},{"$error":"#REF!"},{"$f":"'E4-Baseline Measurements'!#REF!","v":{"$error":"#REF!"}}]
[{"$f":"'E4-Baseline Measurements'!#REF!","v":{"$error":"#REF!"}},{"$error":"#REF!"},{"$error":"#REF!"},{"$f":"'E4-Baseline Measurements'!#REF!","v":{"$error":"#REF!"}}]
[{"$f":"'E4-Baseline Measurements'!#REF!","v":{"$error":"#REF!"}},{"$error":"#REF!"},{"$error":"#REF!"},{"$f":"'E4-Baseline Measurements'!#REF!","v":{"$error":"#REF!"}}]
[{"$f":"'E4-Baseline Measurements'!#REF!","v":{"$error":"#REF!"}},{"$error":"#REF!"},{"$error":"#REF!"},{"$f":"'E4-Baseline Measurements'!#REF!","v":{"$error":"#REF!"}}]
[{"$f":"'E4-Baseline Measurements'!#REF!","v":{"$error":"#REF!"}},{"$error":"#REF!"},{"$error":"#REF!"},{"$f":"'E4-Baseline Measurements'!#REF!","v":{"$error":"#REF!"}}]
[{"$f":"'E4-Baseline Measurements'!#REF!","v":{"$error":"#REF!"}},{"$error":"#REF!"},{"$error":"#REF!"},{"$f":"'E4-Baseline Measurements'!#REF!","v":{"$error":"#REF!"}}]
[{"$f":"'E4-Baseline Measurements'!#REF!","v":{"$error":"#REF!"}},{"$error":"#REF!"},{"$error":"#REF!"},{"$f":"'E4-Baseline Measurements'!#REF!","v":{"$error":"#REF!"}}]
[{"$f":"'E4-Baseline Measurements'!#REF!","v":{"$error":"#REF!"}},{"$error":"#REF!"},{"$error":"#REF!"},{"$f":"'E4-Baseline Measurements'!#REF!","v":{"$error":"#REF!"}}]
[{"$f":"'E4-Baseline Measurements'!#REF!","v":{"$error":"#REF!"}},{"$error":"#REF!"},{"$error":"#REF!"},{"$f":"'E4-Baseline Measurements'!#REF!","v":{"$error":"#REF!"}}]
[{"$f":"'E4-Baseline Measurements'!#REF!","v":{"$error":"#REF!"}},{"$error":"#REF!"},{"$error":"#REF!"},{"$f":"'E4-Baseline Measurements'!#REF!","v":{"$error":"#REF!"}}]
[{"$f":"'E4-Baseline Measurements'!#REF!","v":{"$error":"#REF!"}},{"$error":"#REF!"},{"$error":"#REF!"},{"$f":"'E4-Baseline Measurements'!#REF!","v":{"$error":"#REF!"}}]
[{"$f":"'E4-Baseline Measurements'!#REF!","v":{"$error":"#REF!"}},{"$f":"1.05*$F$2-0.05*$F$4","v":{"$error":"#REF!"}},{"$f":"1.05*$F$4-0.05*$F$2","v":{"$error":"#REF!"}},{"$f":"'E4-Baseline Measurements'!#REF!","v":{"$error":"#REF!"}}]
[{"$f":"'E4-Baseline Measurements'!#REF!","v":{"$error":"#REF!"}},{"$error":"#REF!"},{"$error":"#REF!"},{"$f":"'E4-Baseline Measurements'!#REF!","v":{"$error":"#REF!"}}]
[{"$f":"'E4-Baseline Measurements'!#REF!","v":{"$error":"#REF!"}},{"$error":"#REF!"},{"$error":"#REF!"},{"$f":"'E4-Baseline Measurements'!#REF!","v":{"$error":"#REF!"}}]
[{"$f":"'E4-Baseline Measurements'!#REF!","v":{"$error":"#REF!"}},{"$error":"#REF!"},{"$error":"#REF!"},{"$f":"'E4-Baseline Measurements'!#REF!","v":{"$error":"#REF!"}}]
[{"$f":"'E4-Baseline Measurements'!#REF!","v":{"$error":"#REF!"}},{"$error":"#REF!"},{"$error":"#REF!"},{"$f":"'E4-Baseline Measurements'!#REF!","v":{"$error":"#REF!"}}]
[{"$f":"'E4-Baseline Measurements'!#REF!","v":{"$error":"#REF!"}},{"$error":"#REF!"},{"$error":"#REF!"},{"$f":"'E4-Baseline Measurements'!#REF!","v":{"$error":"#REF!"}}]
[{"$f":"'E4-Baseline Measurements'!#REF!","v":{"$error":"#REF!"}},{"$error":"#REF!"},{"$error":"#REF!"},{"$f":"'E4-Baseline Measurements'!#REF!","v":{"$error":"#REF!"}}]
[{"$f":"'E4-Baseline Measurements'!#REF!","v":{"$error":"#REF!"}},{"$error":"#REF!"},{"$error":"#REF!"},{"$f":"'E4-Baseline Measurements'!#REF!","v":{"$error":"#REF!"}}]
[{"$f":"'E4-Baseline Measurements'!#REF!","v":{"$error":"#REF!"}},{"$error":"#REF!"},{"$error":"#REF!"},{"$f":"'E4-Baseline Measurements'!#REF!","v":{"$error":"#REF!"}}]
[{"$f":"'E4-Baseline Measurements'!#REF!","v":{"$error":"#REF!"}},{"$error":"#REF!"},{"$error":"#REF!"},{"$f":"'E4-Baseline Measurements'!#REF!","v":{"$error":"#REF!"}}]
[{"$f":"'E4-Baseline Measurements'!#REF!","v":{"$error":"#REF!"}},{"$error":"#REF!"},{"$error":"#REF!"},{"$f":"'E4-Baseline Measurements'!#REF!","v":{"$error":"#REF!"}}]
[{"$f":"'E4-Baseline Measurements'!#REF!","v":{"$error":"#REF!"}},{"$error":"#REF!"},{"$error":"#REF!"},{"$f":"'E4-Baseline Measurements'!#REF!","v":{"$error":"#REF!"}}]
[{"$f":"'E4-Baseline Measurements'!#REF!","v":{"$error":"#REF!"}},{"$error":"#REF!"},{"$error":"#REF!"},{"$f":"'E4-Baseline Measurements'!#REF!","v":{"$error":"#REF!"}}]
[{"$f":"'E4-Baseline Measurements'!#REF!","v":{"$error":"#REF!"}},{"$error":"#REF!"},{"$error":"#REF!"},{"$f":"'E4-Baseline Measurements'!#REF!","v":{"$error":"#REF!"}}]
[{"$f":"'E4-Baseline Measurements'!#REF!","v":{"$error":"#REF!"}},{"$error":"#REF!"},{"$error":"#REF!"},{"$f":"'E4-Baseline Measurements'!#REF!","v":{"$error":"#REF!"}}]
[{"$f":"'E4-Baseline Measurements'!#REF!","v":{"$error":"#REF!"}},{"$error":"#REF!"},{"$error":"#REF!"},{"$f":"'E4-Baseline Measurements'!#REF!","v":{"$error":"#REF!"}}]
[{"$f":"'E4-Baseline Measurements'!#REF!","v":{"$error":"#REF!"}},{"$error":"#REF!"},{"$error":"#REF!"},{"$f":"'E4-Baseline Measurements'!#REF!","v":{"$error":"#REF!"}}]
[{"$f":"'E4-Baseline Measurements'!#REF!","v":{"$error":"#REF!"}},{"$error":"#REF!"},{"$error":"#REF!"},{"$f":"'E4-Baseline Measurements'!#REF!","v":{"$error":"#REF!"}}]
[{"$f":"'E4-Baseline Measurements'!#REF!","v":{"$error":"#REF!"}},{"$error":"#REF!"},{"$error":"#REF!"},{"$f":"'E4-Baseline Measurements'!#REF!","v":{"$error":"#REF!"}}]
[{"$f":"'E4-Baseline Measurements'!#REF!","v":{"$error":"#REF!"}},{"$error":"#REF!"},{"$error":"#REF!"},{"$f":"'E4-Baseline Measurements'!#REF!","v":{"$error":"#REF!"}}]
[{"$f":"'E4-Baseline Measurements'!#REF!","v":{"$error":"#REF!"}},{"$error":"#REF!"},{"$error":"#REF!"},{"$f":"'E4-Baseline Measurements'!#REF!","v":{"$error":"#REF!"}}]
[{"$f":"'E4-Baseline Measurements'!#REF!","v":{"$error":"#REF!"}},{"$error":"#REF!"},{"$error":"#REF!"},{"$f":"'E4-Baseline Measurements'!#REF!","v":{"$error":"#REF!"}}]
[{"$f":"'E4-Baseline Measurements'!#REF!","v":{"$error":"#REF!"}},{"$error":"#REF!"},{"$error":"#REF!"},{"$f":"'E4-Baseline Measurements'!#REF!","v":{"$error":"#REF!"}}]
[{"$f":"'E4-Baseline Measurements'!#REF!","v":{"$error":"#REF!"}},{"$error":"#REF!"},{"$error":"#REF!"},{"$f":"'E4-Baseline Measurements'!#REF!","v":{"$error":"#REF!"}}]
[{"$f":"'E4-Baseline Measurements'!#REF!","v":{"$error":"#REF!"}},{"$error":"#REF!"},{"$error":"#REF!"},{"$f":"'E4-Baseline Measurements'!#REF!","v":{"$error":"#REF!"}}]
[{"$f":"'E4-Baseline Measurements'!#REF!","v":{"$error":"#REF!"}},{"$error":"#REF!"},{"$error":"#REF!"},{"$f":"'E4-Baseline Measurements'!#REF!","v":{"$error":"#REF!"}}]
[{"$f":"'E4-Baseline Measurements'!#REF!","v":{"$error":"#REF!"}},{"$error":"#REF!"},{"$error":"#REF!"},{"$f":"'E4-Baseline Measurements'!#REF!","v":{"$error":"#REF!"}}]
[{"$f":"'E4-Baseline Measurements'!#REF!","v":{"$error":"#REF!"}},{"$error":"#REF!"},{"$error":"#REF!"},{"$f":"'E4-Baseline Measurements'!#REF!","v":{"$error":"#REF!"}}]
[{"$f":"'E4-Baseline Measurements'!#REF!","v":{"$error":"#REF!"}},{"$error":"#REF!"},{"$error":"#REF!"},{"$f":"'E4-Baseline Measurements'!#REF!","v":{"$error":"#REF!"}}]
[{"$f":"'E4-Baseline Measurements'!#REF!","v":{"$error":"#REF!"}},{"$error":"#REF!"},{"$error":"#REF!"},{"$f":"'E4-Baseline Measurements'!#REF!","v":{"$error":"#REF!"}}]
[{"$f":"'E4-Baseline Measurements'!#REF!","v":{"$error":"#REF!"}},{"$error":"#REF!"},{"$error":"#REF!"},{"$f":"'E4-Baseline Measurements'!#REF!","v":{"$error":"#REF!"}}]
[{"$f":"'E4-Baseline Measurements'!#REF!","v":{"$error":"#REF!"}},{"$error":"#REF!"},{"$error":"#REF!"},{"$f":"'E4-Baseline Measurements'!#REF!","v":{"$error":"#REF!"}}]
[{"$f":"'E4-Baseline Measurements'!#REF!","v":{"$error":"#REF!"}},{"$error":"#REF!"},{"$error":"#REF!"},{"$f":"'E4-Baseline Measurements'!#REF!","v":{"$error":"#REF!"}}]
[{"$f":"'E4-Baseline Measurements'!#REF!","v":{"$error":"#REF!"}},{"$error":"#REF!"},{"$error":"#REF!"},{"$f":"'E4-Baseline Measurements'!#REF!","v":{"$error":"#REF!"}}]
[{"$f":"'E4-Baseline Measurements'!#REF!","v":{"$error":"#REF!"}},{"$error":"#REF!"},{"$error":"#REF!"},{"$f":"'E4-Baseline Measurements'!#REF!","v":{"$error":"#REF!"}}]
[{"$f":"'E4-Baseline Measurements'!#REF!","v":{"$error":"#REF!"}},{"$error":"#REF!"},{"$error":"#REF!"},{"$f":"'E4-Baseline Measurements'!#REF!","v":{"$error":"#REF!"}}]
[{"$f":"'E4-Baseline Measurements'!#REF!","v":{"$error":"#REF!"}},{"$error":"#REF!"},{"$error":"#REF!"},{"$f":"'E4-Baseline Measurements'!#REF!","v":{"$error":"#REF!"}}]
[{"$f":"'E4-Baseline Measurements'!#REF!","v":{"$error":"#REF!"}},{"$error":"#REF!"},{"$error":"#REF!"},{"$f":"'E4-Baseline Measurements'!#REF!","v":{"$error":"#REF!"}}]
[{"$f":"'E4-Baseline Measurements'!#REF!","v":{"$error":"#REF!"}},{"$error":"#REF!"},{"$error":"#REF!"},{"$f":"'E4-Baseline Measurements'!#REF!","v":{"$error":"#REF!"}}]
[{"$f":"'E4-Baseline Measurements'!#REF!","v":{"$error":"#REF!"}},{"$error":"#REF!"},{"$error":"#REF!"},{"$f":"'E4-Baseline Measurements'!#REF!","v":{"$error":"#REF!"}}]
[{"$f":"'E4-Baseline Measurements'!#REF!","v":{"$error":"#REF!"}},{"$error":"#REF!"},{"$error":"#REF!"},{"$f":"'E4-Baseline Measurements'!#REF!","v":{"$error":"#REF!"}}]
[{"$f":"'E4-Baseline Measurements'!#REF!","v":{"$error":"#REF!"}},{"$error":"#REF!"},{"$error":"#REF!"},{"$f":"'E4-Baseline Measurements'!#REF!","v":{"$error":"#REF!"}}]
[{"$f":"'E4-Baseline Measurements'!#REF!","v":{"$error":"#REF!"}},{"$error":"#REF!"},{"$error":"#REF!"},{"$f":"'E4-Baseline Measurements'!#REF!","v":{"$error":"#REF!"}}]
[{"$f":"'E4-Baseline Measurements'!#REF!","v":{"$error":"#REF!"}},{"$error":"#REF!"},{"$error":"#REF!"},{"$f":"'E4-Baseline Measurements'!#REF!","v":{"$error":"#REF!"}}]
[{"$f":"'E4-Baseline Measurements'!#REF!","v":{"$error":"#REF!"}},{"$error":"#REF!"},{"$error":"#REF!"},{"$f":"'E4-Baseline Measurements'!#REF!","v":{"$error":"#REF!"}}]
[{"$f":"'E4-Baseline Measurements'!#REF!","v":{"$error":"#REF!"}},{"$error":"#REF!"},{"$error":"#REF!"},{"$f":"'E4-Baseline Measurements'!#REF!","v":{"$error":"#REF!"}}]
[{"$f":"'E4-Baseline Measurements'!#REF!","v":{"$error":"#REF!"}},{"$error":"#REF!"},{"$error":"#REF!"},{"$f":"'E4-Baseline Measurements'!#REF!","v":{"$error":"#REF!"}}]
[{"$f":"'E4-Baseline Measurements'!#REF!","v":{"$error":"#REF!"}},{"$error":"#REF!"},{"$error":"#REF!"},{"$f":"'E4-Baseline Measurements'!#REF!","v":{"$error":"#REF!"}}]
[{"$f":"'E4-Baseline Measurements'!#REF!","v":{"$error":"#REF!"}},{"$error":"#REF!"},{"$error":"#REF!"},{"$f":"'E4-Baseline Measurements'!#REF!","v":{"$error":"#REF!"}}]
[{"$f":"'E4-Baseline Measurements'!#REF!","v":{"$error":"#REF!"}},{"$error":"#REF!"},{"$error":"#REF!"},{"$f":"'E4-Baseline Measurements'!#REF!","v":{"$error":"#REF!"}}]
[{"$f":"'E4-Baseline Measurements'!#REF!","v":{"$error":"#REF!"}},{"$error":"#REF!"},{"$error":"#REF!"},{"$f":"'E4-Baseline Measurements'!#REF!","v":{"$error":"#REF!"}}]
[{"$f":"'E4-Baseline Measurements'!#REF!","v":{"$error":"#REF!"}},{"$error":"#REF!"},{"$error":"#REF!"},{"$f":"'E4-Baseline Measurements'!#REF!","v":{"$error":"#REF!"}}]
[{"$f":"'E4-Baseline Measurements'!#REF!","v":{"$error":"#REF!"}},{"$error":"#REF!"},{"$error":"#REF!"},{"$f":"'E4-Baseline Measurements'!#REF!","v":{"$error":"#REF!"}}]
[{"$f":"'E4-Baseline Measurements'!#REF!","v":{"$error":"#REF!"}},{"$error":"#REF!"},{"$error":"#REF!"},{"$f":"'E4-Baseline Measurements'!#REF!","v":{"$error":"#REF!"}}]
[{"$f":"'E4-Baseline Measurements'!#REF!","v":{"$error":"#REF!"}},{"$error":"#REF!"},{"$error":"#REF!"},{"$f":"'E4-Baseline Measurements'!#REF!","v":{"$error":"#REF!"}}]
[{"$f":"'E4-Baseline Measurements'!#REF!","v":{"$error":"#REF!"}},{"$error":"#REF!"},{"$error":"#REF!"},{"$f":"'E4-Baseline Measurements'!#REF!","v":{"$error":"#REF!"}}]
[{"$f":"'E4-Baseline Measurements'!#REF!","v":{"$error":"#REF!"}},{"$error":"#REF!"},{"$error":"#REF!"},{"$f":"'E4-Baseline Measurements'!#REF!","v":{"$error":"#REF!"}}]
[{"$f":"'E4-Baseline Measurements'!#REF!","v":{"$error":"#REF!"}},{"$error":"#REF!"},{"$error":"#REF!"},{"$f":"'E4-Baseline Measurements'!#REF!","v":{"$error":"#REF!"}}]
[{"$f":"'E4-Baseline Measurements'!#REF!","v":{"$error":"#REF!"}},{"$error":"#REF!"},{"$error":"#REF!"},{"$f":"'E4-Baseline Measurements'!#REF!","v":{"$error":"#REF!"}}]
[{"$f":"'E4-Baseline Measurements'!#REF!","v":{"$error":"#REF!"}},{"$error":"#REF!"},{"$error":"#REF!"},{"$f":"'E4-Baseline Measurements'!#REF!","v":{"$error":"#REF!"}}]
[{"$f":"'E4-Baseline Measurements'!#REF!","v":{"$error":"#REF!"}},{"$error":"#REF!"},{"$error":"#REF!"},{"$f":"'E4-Baseline Measurements'!#REF!","v":{"$error":"#REF!"}}]
[{"$f":"'E4-Baseline Measurements'!#REF!","v":{"$error":"#REF!"}},{"$error":"#REF!"},{"$error":"#REF!"},{"$f":"'E4-Baseline Measurements'!#REF!","v":{"$error":"#REF!"}}]
[{"$f":"'E4-Baseline Measurements'!#REF!","v":{"$error":"#REF!"}},{"$error":"#REF!"},{"$error":"#REF!"},{"$f":"'E4-Baseline Measurements'!#REF!","v":{"$error":"#REF!"}}]
[{"$f":"'E4-Baseline Measurements'!#REF!","v":{"$error":"#REF!"}},{"$error":"#REF!"},{"$error":"#REF!"},{"$f":"'E4-Baseline Measurements'!#REF!","v":{"$error":"#REF!"}}]
[{"$f":"'E4-Baseline Measurements'!#REF!","v":{"$error":"#REF!"}},{"$f":"1.05*$F$2-0.05*$F$4","v":{"$error":"#REF!"}},{"$f":"1.05*$F$4-0.05*$F$2","v":{"$error":"#REF!"}},{"$f":"'E4-Baseline Measurements'!#REF!","v":{"$error":"#REF!"}}]
[{"$f":"'E4-Baseline Measurements'!#REF!","v":{"$error":"#REF!"}},{"$error":"#REF!"},{"$error":"#REF!"},{"$f":"'E4-Baseline Measurements'!#REF!","v":{"$error":"#REF!"}}]
[{"$f":"'E4-Baseline Measurements'!#REF!","v":{"$error":"#REF!"}},{"$error":"#REF!"},{"$error":"#REF!"},{"$f":"'E4-Baseline Measurements'!#REF!","v":{"$error":"#REF!"}}]
[{"$f":"'E4-Baseline Measurements'!#REF!","v":{"$error":"#REF!"}},{"$error":"#REF!"},{"$error":"#REF!"},{"$f":"'E4-Baseline Measurements'!#REF!","v":{"$error":"#REF!"}}]
[{"$f":"'E4-Baseline Measurements'!#REF!","v":{"$error":"#REF!"}},{"$error":"#REF!"},{"$error":"#REF!"},{"$f":"'E4-Baseline Measurements'!#REF!","v":{"$error":"#REF!"}}]
[{"$f":"'E4-Baseline Measurements'!#REF!","v":{"$error":"#REF!"}},{"$error":"#REF!"},{"$error":"#REF!"},{"$f":"'E4-Baseline Measurements'!#REF!","v":{"$error":"#REF!"}}]
[{"$f":"'E4-Baseline Measurements'!#REF!","v":{"$error":"#REF!"}},{"$error":"#REF!"},{"$error":"#REF!"},{"$f":"'E4-Baseline Measurements'!#REF!","v":{"$error":"#REF!"}}]
[{"$f":"'E4-Baseline Measurements'!#REF!","v":{"$error":"#REF!"}},{"$error":"#REF!"},{"$error":"#REF!"},{"$f":"'E4-Baseline Measurements'!#REF!","v":{"$error":"#REF!"}}]
[{"$f":"'E4-Baseline Measurements'!#REF!","v":{"$error":"#REF!"}},{"$error":"#REF!"},{"$error":"#REF!"},{"$f":"'E4-Baseline Measurements'!#REF!","v":{"$error":"#REF!"}}]
[{"$f":"'E4-Baseline Measurements'!#REF!","v":{"$error":"#REF!"}},{"$error":"#REF!"},{"$error":"#REF!"},{"$f":"'E4-Baseline Measurements'!#REF!","v":{"$error":"#REF!"}}]
[{"$f":"'E4-Baseline Measurements'!#REF!","v":{"$error":"#REF!"}},{"$error":"#REF!"},{"$error":"#REF!"},{"$f":"'E4-Baseline Measurements'!#REF!","v":{"$error":"#REF!"}}]
[{"$f":"'E4-Baseline Measurements'!#REF!","v":{"$error":"#REF!"}},{"$error":"#REF!"},{"$error":"#REF!"},{"$f":"'E4-Baseline Measurements'!#REF!","v":{"$error":"#REF!"}}]
[{"$f":"'E4-Baseline Measurements'!#REF!","v":{"$error":"#REF!"}},{"$error":"#REF!"},{"$error":"#REF!"},{"$f":"'E4-Baseline Measurements'!#REF!","v":{"$error":"#REF!"}}]
[{"$f":"'E4-Baseline Measurements'!#REF!","v":{"$error":"#REF!"}},{"$error":"#REF!"},{"$error":"#REF!"},{"$f":"'E4-Baseline Measurements'!#REF!","v":{"$error":"#REF!"}}]
[{"$f":"'E4-Baseline Measurements'!#REF!","v":{"$error":"#REF!"}},{"$error":"#REF!"},{"$error":"#REF!"},{"$f":"'E4-Baseline Measurements'!#REF!","v":{"$error":"#REF!"}}]
[{"$f":"'E4-Baseline Measurements'!#REF!","v":{"$error":"#REF!"}},{"$error":"#REF!"},{"$error":"#REF!"},{"$f":"'E4-Baseline Measurements'!#REF!","v":{"$error":"#REF!"}}]
[{"$f":"'E4-Baseline Measurements'!#REF!","v":{"$error":"#REF!"}},{"$error":"#REF!"},{"$error":"#REF!"},{"$f":"'E4-Baseline Measurements'!#REF!","v":{"$error":"#REF!"}}]
[{"$f":"'E4-Baseline Measurements'!#REF!","v":{"$error":"#REF!"}},{"$error":"#REF!"},{"$error":"#REF!"},{"$f":"'E4-Baseline Measurements'!#REF!","v":{"$error":"#REF!"}}]
[{"$f":"'E4-Baseline Measurements'!#REF!","v":{"$error":"#REF!"}},{"$error":"#REF!"},{"$error":"#REF!"},{"$f":"'E4-Baseline Measurements'!#REF!","v":{"$error":"#REF!"}}]
[{"$f":"'E4-Baseline Measurements'!#REF!","v":{"$error":"#REF!"}},{"$error":"#REF!"},{"$error":"#REF!"},{"$f":"'E4-Baseline Measurements'!#REF!","v":{"$error":"#REF!"}}]
[{"$f":"'E4-Baseline Measurements'!#REF!","v":{"$error":"#REF!"}},{"$error":"#REF!"},{"$error":"#REF!"},{"$f":"'E4-Baseline Measurements'!#REF!","v":{"$error":"#REF!"}}]
[{"$f":"'E4-Baseline Measurements'!#REF!","v":{"$error":"#REF!"}},{"$error":"#REF!"},{"$error":"#REF!"},{"$f":"'E4-Baseline Measurements'!#REF!","v":{"$error":"#REF!"}}]
[{"$f":"'E4-Baseline Measurements'!#REF!","v":{"$error":"#REF!"}},{"$error":"#REF!"},{"$error":"#REF!"},{"$f":"'E4-Baseline Measurements'!#REF!","v":{"$error":"#REF!"}}]
[{"$f":"'E4-Baseline Measurements'!#REF!","v":{"$error":"#REF!"}},{"$error":"#REF!"},{"$error":"#REF!"},{"$f":"'E4-Baseline Measurements'!#REF!","v":{"$error":"#REF!"}}]
[{"$f":"'E4-Baseline Measurements'!#REF!","v":{"$error":"#REF!"}},{"$error":"#REF!"},{"$error":"#REF!"},{"$f":"'E4-Baseline Measurements'!#REF!","v":{"$error":"#REF!"}}]
[{"$f":"'E4-Baseline Measurements'!#REF!","v":{"$error":"#REF!"}},{"$error":"#REF!"},{"$error":"#REF!"},{"$f":"'E4-Baseline Measurements'!#REF!","v":{"$error":"#REF!"}}]
[{"$f":"'E4-Baseline Measurements'!#REF!","v":{"$error":"#REF!"}},{"$error":"#REF!"},{"$error":"#REF!"},{"$f":"'E4-Baseline Measurements'!#REF!","v":{"$error":"#REF!"}}]
[{"$f":"'E4-Baseline Measurements'!#REF!","v":{"$error":"#REF!"}},{"$error":"#REF!"},{"$error":"#REF!"},{"$f":"'E4-Baseline Measurements'!#REF!","v":{"$error":"#REF!"}}]
[{"$f":"'E4-Baseline Measurements'!#REF!","v":{"$error":"#REF!"}},{"$error":"#REF!"},{"$error":"#REF!"},{"$f":"'E4-Baseline Measurements'!#REF!","v":{"$error":"#REF!"}}]
[{"$f":"'E4-Baseline Measurements'!#REF!","v":{"$error":"#REF!"}},{"$error":"#REF!"},{"$error":"#REF!"},{"$f":"'E4-Baseline Measurements'!#REF!","v":{"$error":"#REF!"}}]
[{"$f":"'E4-Baseline Measurements'!#REF!","v":{"$error":"#REF!"}},{"$error":"#REF!"},{"$error":"#REF!"},{"$f":"'E4-Baseline Measurements'!#REF!","v":{"$error":"#REF!"}}]
[{"$f":"'E4-Baseline Measurements'!#REF!","v":{"$error":"#REF!"}},{"$error":"#REF!"},{"$error":"#REF!"},{"$f":"'E4-Baseline Measurements'!#REF!","v":{"$error":"#REF!"}}]
[{"$f":"'E4-Baseline Measurements'!#REF!","v":{"$error":"#REF!"}},{"$error":"#REF!"},{"$error":"#REF!"},{"$f":"'E4-Baseline Measurements'!#REF!","v":{"$error":"#REF!"}}]
[{"$f":"'E4-Baseline Measurements'!#REF!","v":{"$error":"#REF!"}},{"$error":"#REF!"},{"$error":"#REF!"},{"$f":"'E4-Baseline Measurements'!#REF!","v":{"$error":"#REF!"}}]
[{"$f":"'E4-Baseline Measurements'!#REF!","v":{"$error":"#REF!"}},{"$error":"#REF!"},{"$error":"#REF!"},{"$f":"'E4-Baseline Measurements'!#REF!","v":{"$error":"#REF!"}}]
[{"$f":"'E4-Baseline Measurements'!#REF!","v":{"$error":"#REF!"}},{"$error":"#REF!"},{"$error":"#REF!"},{"$f":"'E4-Baseline Measurements'!#REF!","v":{"$error":"#REF!"}}]
[{"$f":"'E4-Baseline Measurements'!#REF!","v":{"$error":"#REF!"}},{"$error":"#REF!"},{"$error":"#REF!"},{"$f":"'E4-Baseline Measurements'!#REF!","v":{"$error":"#REF!"}}]
[{"$f":"'E4-Baseline Measurements'!#REF!","v":{"$error":"#REF!"}},{"$error":"#REF!"},{"$error":"#REF!"},{"$f":"'E4-Baseline Measurements'!#REF!","v":{"$error":"#REF!"}}]
[{"$f":"'E4-Baseline Measurements'!#REF!","v":{"$error":"#REF!"}},{"$error":"#REF!"},{"$error":"#REF!"},{"$f":"'E4-Baseline Measurements'!#REF!","v":{"$error":"#REF!"}}]
[{"$f":"'E4-Baseline Measurements'!#REF!","v":{"$error":"#REF!"}},{"$error":"#REF!"},{"$error":"#REF!"},{"$f":"'E4-Baseline Measurements'!#REF!","v":{"$error":"#REF!"}}]
[{"$f":"'E4-Baseline Measurements'!#REF!","v":{"$error":"#REF!"}},{"$error":"#REF!"},{"$error":"#REF!"},{"$f":"'E4-Baseline Measurements'!#REF!","v":{"$error":"#REF!"}}]
[{"$f":"'E4-Baseline Measurements'!#REF!","v":{"$error":"#REF!"}},{"$error":"#REF!"},{"$error":"#REF!"},{"$f":"'E4-Baseline Measurements'!#REF!","v":{"$error":"#REF!"}}]
[{"$f":"'E4-Baseline Measurements'!#REF!","v":{"$error":"#REF!"}},{"$error":"#REF!"},{"$error":"#REF!"},{"$f":"'E4-Baseline Measurements'!#REF!","v":{"$error":"#REF!"}}]
[{"$f":"'E4-Baseline Measurements'!#REF!","v":{"$error":"#REF!"}},{"$error":"#REF!"},{"$error":"#REF!"},{"$f":"'E4-Baseline Measurements'!#REF!","v":{"$error":"#REF!"}}]
[{"$f":"'E4-Baseline Measurements'!#REF!","v":{"$error":"#REF!"}},{"$error":"#REF!"},{"$error":"#REF!"},{"$f":"'E4-Baseline Measurements'!#REF!","v":{"$error":"#REF!"}}]

{"sheet":"G5-Baseline Model","index":38,"n_rows":122,"n_cols":23,"rows_kept":122,"cut":false,"hidden":true,"merged":[[47,13,47,14],[47,1,47,2],[47,3,47,4],[47,5,47,6],[67,1,67,2],[67,3,67,4],[67,5,67,6],[61,1,61,12],[63,1,64,3],[63,4,63,6],[66,1,66,2],[66,3,66,4],[66,5,66,6],[47,7,47,8],[47,9,47,10],[47,11,47,12],[54,1,54,12],[56,1,56,2],[56,3,56,4],[59,1,59,2],[59,3,59,4],[57,1,57,2],[57,3,57,4],[58,1,58,2],[26,1,26,4],[26,5,26,6],[38,1,38,3],[41,1,41,11],[43,1,43,12],[45,1,45,10],[46,3,46,6],[46,7,46,10],[46,11,46,14],[27,1,27,4],[27,5,27,6],[29,1,29,12],[31,4,31,6],[33,1,33,2],[36,1,36,12],[3,1,3,12],[5,1,5,12],[7,1,7,12],[9,1,9,12],[12,1,12,12],[14,1,14,6],[24,1,24,4],[24,5,24,6],[25,1,25,4],[25,5,25,6],[18,1,18,3],[18,4,18,6],[19,1,19,3],[19,4,19,6],[21,1,21,12],[23,1,23,4],[23,5,23,6],[15,1,15,3],[15,4,15,6],[16,1,16,3],[16,4,16,6],[17,1,17,3],[17,4,17,6],[58,3,58,4],[49,1,50,3],[49,4,49,6],[87,1,87,2],[87,3,87,4],[88,1,88,2],[88,3,88,4],[78,1,78,2],[76,1,76,2],[76,5,76,6],[81,1,81,2],[85,1,85,12],[68,1,68,2],[68,3,68,4],[68,5,68,6],[70,1,70,12],[72,1,72,7],[73,1,73,6],[75,1,75,2],[75,5,75,6],[52,1,52,10],[92,1,92,2],[92,3,92,4],[93,1,93,2],[93,3,93,4],[94,1,94,2],[94,3,94,4],[89,1,89,2],[89,3,89,4],[90,1,90,2],[90,3,90,4],[91,1,91,2],[91,3,91,4],[102,1,102,2],[102,3,102,4],[102,5,102,6],[102,7,102,8],[103,1,103,2],[103,3,103,4],[103,5,103,6],[103,7,103,8],[99,1,99,12],[100,1,100,2],[100,3,100,4],[100,5,100,6],[100,7,100,8],[101,1,101,2],[101,3,101,4],[101,5,101,6],[101,7,101,8],[118,1,118,2],[118,3,118,4],[119,1,119,2],[119,3,119,4],[121,2,121,12],[115,1,115,2],[115,3,115,4],[116,1,116,2],[116,3,116,4],[117,1,117,2],[117,3,117,4],[112,1,112,2],[112,3,112,4],[113,1,113,2],[113,3,113,4],[114,1,114,2],[114,3,114,4],[105,1,105,12],[107,1,107,12],[109,1,109,12],[110,1,110,2],[110,3,110,4],[111,1,111,2],[111,3,111,4]]}
[null,null,"G5-Baseline Energy Model"]
[]
[{"$f":"LEFT(C1,1)","v":"G"},{"$f":"VLOOKUP(A3,EnergySourceLookup,2,FALSE)","v":"Gas"},{"$f":"VLOOKUP(A3,EnergySourceLookup,3,FALSE)","v":"GJ"}]
[null,{"$f":"\"Warning: The 'Baseline Energy Model - Data (\" & VLOOKUP(LEFT($C$1,1),EnergySourceLookup,2,FALSE) & \")' is not continuous or covers a short period. Please ensure that the M&V Professional has examined your data and approved your M&V Plan.\"","v":"Warning: The 'Baseline Energy Model - Data (Gas)' is not continuous or covers a short period. Please ensure that the M&V Professional has examined your data and approved your M&V Plan."}]
[]
[true,{"$f":"\"Warning: The 'Baseline Energy Model - Data (\"&VLOOKUP(LEFT($C$1,1),EnergySourceLookup,2,FALSE)&\")' contains site constant values that are different to the typical value specified on the 'Boundaries and Variables (\"&VLOOKUP(LEFT($C$1,1),EnergySourceLookup,2,FALSE)&\")' step and have not be excluded as a non-normal measurement.\nNote: Please ensure you mark excluded values with the letter 'Y'.\"","v":"Warning: The 'Baseline Energy Model - Data (Gas)' contains site constant values that are different to the typical value specified on the 'Boundaries and Variables (Gas)' step and have not be excluded as a non-normal measurement.\nNote: Please ensure you mark excluded values with the letter 'Y'."}]
[]
[null,{"$f":"\"Baseline Energy Model (\" & VLOOKUP(LEFT($C$1,1),EnergySourceLookup,2,FALSE) & \")\"","v":"Baseline Energy Model (Gas)"}]
[]
[null,"This tool requires multi-linear regression and energy models in the form: \nEBaseline( x1, x2, … xp) = a0 + a1x1 + a2x2 + a3x3 + … + apxp (where a0, a1, …, ap are constants determined by the regression analysis)."]
[]
[]
[null,"Measurement period"]
[]
[null,"Measurement period:"]
[null,"Item Name",null,null,"Item Value",null,null,null,null,null,null,null,null,null,null,null,null,null,null,"Array Formulas"]
[null,"Start time",null,null,{"$f":"MIN(INDEX(G4DataTable,0,1))","v":"00:00:00"},null,null,null,null,null,null,null,null,null,null,null,null,null,null,{"$f":"MIN(IF(INDEX(G4DataTable,0,COLUMNS(G4DataTable)-1)<>\"Y\",IF(INDEX(G4DataTable,0,1)>0,INDEX(G4DataTable,0,1))))","v":0}]
[null,"End time",null,null,{"$f":"MAX(INDEX(G4DataTable,0,1))","v":"00:00:00"},null,null,null,null,null,null,null,null,null,null,null,null,null,null,{"$f":"MAX(IF(INDEX(G4DataTable,0,COLUMNS(G4DataTable)-1)<>\"Y\",IF(INDEX(G4DataTable,0,1)>0,INDEX(G4DataTable,0,1))))","v":0}]
[null,"Measurement Period (years)",null,null,{"$f":"(E18-E17)/365","v":0}]
[null,"Gross # time intervals",null,null,{"$f":"COUNT(INDEX(G4DataTable,0,1))","v":0}]
[]
[null,"Excluded time intervals"]
[]
[null,"Item Name",null,null,null,"Item Value"]
[null,"Number of time intervals excluded",null,null,null,{"$f":"COUNTIFS(INDEX(G4DataTable,0,COLUMNS(G4DataTable)-1),\"Y\")","v":0}]
[null,"Remaining # of time intervals",null,null,null,{"$f":"IFERROR(E20-F25,0)","v":0}]
[null,"Proportion of time intervals remaining",null,null,null,{"$f":"IFERROR(F26/E20,0)","v":0}]
[{"$f":"IF(F28=\"Pass\", TRUE, FALSE)","v":false},"Test for sufficient time intervals (>= 80%)",null,null,null,{"$f":"IF(F27>=80%, \"Pass\", \"Fail\")","v":"Fail"}]
[]
[null,"Chart of Independent Variable values over baseline measurement period"]
[]
[null,"Independent variable:"]
[]
[null,"Chart"]
[]
[]
[null,"Analysis: Test for Correlation between Independent Variables"]
[]
[null,"Correlation coefficient:"]
[]
[]
[null,"Note: Review any variables that are strongly correlated (highlighted in red) and consider refining your regression equation."]
[]
[null,"Effective range of baseline measurements"]
[]
[null,"Analysis - Effective range of measurements used to establish baseline energy model:"]
[null,null,null,"Normal Year Range",null,null,null,"Baseline Measurement Period Effective Range",null,null,null,"# of Normal Year Values Outside of Baseline Effective Range",null,null,null,null,null,null,null,"Normal Without Excluded Values",null,"Without Excluded Values"]
[null,"Variable",null,"Minimum",null,"Maximum",null,"Minimum",null,"Maximum",null,"< Minimum",null,"> Maximum",null,null,null,null,null,"Min","Max","Min","Max"]
[]
[null,"% of Normal Year Values within Baseline Measurements Effective Range:",null,null,{"$f":"COUNTIFS('G2-Normal Year Values'!$C$10,\"<>Y\")/COUNTIFS('G2-Normal Year Values'!$C$10,\"<>Y\")","v":1}]
[]
[]
[null,"Note: If less than 100% then consider extending the baseline measurement period to increase the Baseline Measurement Range. This will avoid the Energy Savings being reduced."]
[]
[null,"Degrees of freedom"]
[]
[null,"Item Name",null,"Item Value"]
[null,"# of valid data points",null,{"$f":"F26","v":0}]
[null,"# of independent variables",null,{"$f":"GetVariableCount($C$1,\"IV\")","v":0}]
[{"$f":"'GCharts-Baseline'!$P$10","v":""},"Degrees of freedom",null,{"$f":"D58-D59-1","v":-1}]
[]
[null,"Calculation Method"]
[]
[{"$f":"(EBEMMethodType_deprecated=ModelMethodRegressionAnalysis)","v":true},"Method for developing baseline energy model:"]
[]
[]
[null,"Statistical test",null,"Test value",null,"Result"]
[{"$f":"IF(F68=\"Pass\", TRUE,FALSE)","v":false},"Coefficient of Variation (≤15%) (only relevant if Estimate of the Mean)",null,{"$f":"G5COV","v":""},null,{"$f":"IF(D68>=0.15, \"Fail\", \"Pass\")","v":"Fail"}]
[{"$f":"IF(F69=\"Pass\", TRUE,FALSE)","v":true},"Ratio # valid data points to # independent variables (only relevant if Regression Analysis)",null,{"$f":"IFERROR(D58/D59,\"\")","v":""},null,{"$f":"IF(D69<getsetting(\"IndependentVariablesDataPointMultiplier\"),\"Fail\",\"Pass\")","v":"Pass"}]
[]
[null,"Build Baseline Energy Model"]
[]
[null,"What software/tool was used to generate your regression equation (if relevant):"]
[]
[{"$f":"IFERROR(AVERAGEIF(INDEX(G4DataTable,0,COLUMNS(G4DataTable)-1), \"<>Y\", INDEX(G4DataTable,0,2)), 0)","v":0}]
[{"$f":"IFERROR(COUNTIF(INDEX(G5RegressionEquationCoefficientList,0,7), \"Warning\"),0)","v":0},"Variable",null,"Coefficient","t-statistic","Check"]
[null,"Intercept",null,null,null,"N/A"]
[]
[null,"Regression equation:"]
[null,"E(baseline)  = "]
[]
[null,"Chart"]
[]
[]
[]
[null,"Statistical analysis of energy model"]
[]
[null,"Item",null,"Value"]
[{"$f":"'GCharts-Baseline'!$P$14","v":{"$error":"#DIV/0!"}},"Coefficient of determination (R2)",null,{"$f":"G5R2","v":{"$error":"#DIV/0!"}}]
[{"$f":"'GCharts-Baseline'!$P$15","v":{"$error":"#DIV/0!"}},"Adjusted R2",null,{"$f":"G5AdjR2","v":{"$error":"#DIV/0!"}}]
[{"$f":"'GCharts-Baseline'!$P$12","v":{"$error":"#DIV/0!"}},"Standard error (SE)"]
[null,"t-value (at 90% confidence level)",null,{"$f":"IFERROR(TINV(VLOOKUP(\"tValueConfidenceMultiplier\",SettingsList,2,FALSE),D60),\"\")","v":""}]
[null,"Baseline average modelled energy",null,{"$f":"IFERROR(VLOOKUP(\"Intercept\",G5RegressionEquationCoefficientList, 3, FALSE), \"\")","v":0}]
[null,"Absolute modelling precision",null,{"$f":"IFERROR(D92*D91,\"\")","v":""}]
[null,"Relative modelling precision (based on mean value)",null,{"$f":"IFERROR(D94/D93,0)","v":0}]
[]
[]
[]
[]
[null,"Analysis - Check the baseline energy model meets best practice benchmarks:"]
[{"$f":"IF(IFERROR(COUNTIF(OFFSET(G5StatisticalRequirementsStartCell,1,6,3,2), \"Warning\"),0)=0, TRUE,FALSE)","v":true},"Modelling Criteria",null,"Best Practice Benchmark",null,"Baseline Energy Model Value",null,"Result"]
[null,"t-statistics of independent variables",null,"> 2",null,"N/A",null,{"$f":"IF(COUNTIF(INDEX(G5RegressionEquationCoefficientList,0,5),\"Warning\")>0, \"Warning\", \"Pass\")","v":"Pass"}]
[{"$f":"(F103>0.75)","v":{"$error":"#DIV/0!"}},"Lesser of R2 or adjusted R2 (only relevant for regression analysis)",null,"> 0.75",null,{"$f":"MIN(D89:E90)","v":{"$error":"#DIV/0!"}},null,{"$f":"IF(F103>0.75, \"Pass\", \"Warning\")","v":{"$error":"#DIV/0!"}}]
[null,"Relative precision calculated at 90% confidence level",null,"within ± 100%",null,{"$f":"D95","v":0},null,{"$f":"IF(F104<1, \"Pass\", \"Fail\")","v":"Pass"}]
[]
[null,"Warning: Value does not meet best practice benchmark. Ensure review included in M&V Professional reasoning."]
[]
[null,"Estimated Accuracy Factor"]
[]
[null,"Analysis - Estimated accuracy factor:"]
[null,"Item",null,"Value"]
[null,"Baseline model standard error",null,{"$f":"D91","v":0}]
[null,"Estimated operating model standard error"]
[null,"Estimated average gross annual energy savings %"]
[null,"Number of baseline measurement periods in 1 year",null,{"$f":"IFERROR(VLOOKUP(G1ModelFrequency, FrequencyLookup, 2, FALSE),\"\")","v":""}]
[null,"Estimated average annual energy savings",null,{"$f":"IFERROR(G5AvgModelledEnergy*D114*D115,\"\")","v":""}]
[null,"Estimated standard error of annual savings",null,{"$f":"IFERROR(SQRT(D115)*SQRT(D112^2+D113^2),\"\")","v":""}]
[null,"Estimated absolute precision of savings",null,{"$f":"IFERROR(D117*D92,\"\")","v":""}]
[null,"Estimated relative precision of savings",null,{"$f":"IFERROR(D118/D116,0)","v":0}]
[null,"Estimated ACCURACY FACTOR ",null,{"$f":"GetAccuracyFactor(D119, FALSE)","v":1}]
[]
[null,null,"Note: The estimated Accuracy Factor has no impact on the final Accuracy Factor applied."]

{"sheet":"G6-Operating Measurements","index":39,"n_rows":9,"n_cols":5,"rows_kept":9,"cut":false,"hidden":true,"merged":[[3,1,3,11],[5,1,5,11],[7,1,8,1],[7,2,8,2],[7,3,8,3],[7,4,8,4]]}
[null,null,"G6 - Operating Period Measurements"]
[]
[{"$f":"LEFT(C1,1)","v":"G"},{"$f":"VLOOKUP(A3,EnergySourceLookup,2,FALSE)","v":"Gas"},{"$f":"VLOOKUP(A3,EnergySourceLookup,3,FALSE)","v":"GJ"}]
[null,"Measure and Convert Operating Period Measurements"]
[]
[null,"Note: Click the 'Update Tool' button in the navigation bar above after entering the data."]
[]
[null,"Date / Time","Energy","Exclude non-normal measurement? (Mark with 'Y')","Reason for exclusion"]
["Modelled Operating Energy"]

{"sheet":"GCharts-Operating","index":40,"n_rows":366,"n_cols":21,"rows_kept":366,"cut":false,"hidden":true,"merged":[]}
["Time period start","Lower bound","Upper bound","Independent Variable",null,"Minimum IV value",null,"Time interval","Excluded?","Measured operating energy","Modelled operating energy","Residual Rank","Residual",null,"Count",{"$f":"COUNT(M:M)","v":0},null,"Cumulative distribution","z-value","Actual residuals","Expect residual value if normal distribution"]
[{"$f":"'E6-Operating Measurements'!$B$10","v":"00:00:00"},{"$f":"1.05*$F$2-0.05*$F$4","v":{"$error":"#REF!"}},{"$f":"1.05*$F$4-0.05*$F$2","v":{"$error":"#REF!"}},{"$f":"'E6-Operating Measurements'!#REF!","v":{"$error":"#REF!"}},null,{"$f":"MIN($D$2:$D$366)","v":{"$error":"#REF!"}},null,null,null,null,null,null,null,null,"Mean",{"$f":"AVERAGE(M:M)","v":{"$error":"#DIV/0!"}}]
[{"$f":"'E6-Operating Measurements'!$B$11","v":"00:00:00"},{"$error":"#REF!"},{"$error":"#REF!"},{"$f":"'E6-Operating Measurements'!#REF!","v":{"$error":"#REF!"}},null,"Maximum IV value",null,null,null,null,null,null,null,null,"StDev",{"$f":"_xlfn.STDEV.S(M:M)","v":{"$error":"#DIV/0!"}}]
[{"$f":"'E6-Operating Measurements'!$B$12","v":"00:00:00"},{"$error":"#REF!"},{"$error":"#REF!"},{"$f":"'E6-Operating Measurements'!#REF!","v":{"$error":"#REF!"}},null,{"$f":"MAX($D$2:$D$366)","v":{"$error":"#REF!"}}]
[{"$f":"'E6-Operating Measurements'!$B$13","v":"00:00:00"},{"$error":"#REF!"},{"$error":"#REF!"},{"$f":"'E6-Operating Measurements'!#REF!","v":{"$error":"#REF!"}},null,null,null,null,null,null,null,null,null,null,"Measured"]
[{"$f":"'E6-Operating Measurements'!$B$14","v":"00:00:00"},{"$error":"#REF!"},{"$error":"#REF!"},{"$f":"'E6-Operating Measurements'!#REF!","v":{"$error":"#REF!"}},null,null,null,null,null,null,null,null,null,null,"Count",{"$f":"COUNT(J:J)","v":0}]
[{"$f":"'E6-Operating Measurements'!$B$15","v":"00:00:00"},{"$error":"#REF!"},{"$error":"#REF!"},{"$f":"'E6-Operating Measurements'!#REF!","v":{"$error":"#REF!"}},null,null,null,null,null,null,null,null,null,null,"Mean",{"$f":"AVERAGE(J:J)","v":{"$error":"#DIV/0!"}}]
[{"$f":"'E6-Operating Measurements'!$B$16","v":"00:00:00"},{"$error":"#REF!"},{"$error":"#REF!"},{"$f":"'E6-Operating Measurements'!#REF!","v":{"$error":"#REF!"}},null,null,null,null,null,null,null,null,null,null,"StDev",{"$f":"_xlfn.STDEV.S(J:J)","v":{"$error":"#DIV/0!"}}]
[{"$f":"'E6-Operating Measurements'!$B$17","v":"00:00:00"},{"$error":"#REF!"},{"$error":"#REF!"},{"$f":"'E6-Operating Measurements'!#REF!","v":{"$error":"#REF!"}},null,null,null,null,null,null,null,null,null,null,"IV count",{"$f":"GetVariableCount(MID(CELL(\"filename\"),FIND(\"]\",CELL(\"filename\"))+1,1),\"IV\")","v":0}]
[{"$f":"'E6-Operating Measurements'!$B$18","v":"00:00:00"},{"$error":"#REF!"},{"$error":"#REF!"},{"$f":"'E6-Operating Measurements'!#REF!","v":{"$error":"#REF!"}},null,null,null,null,null,null,null,null,null,null,"COV",{"$f":"IFERROR(P8/P7,\"\")","v":""}]
[{"$f":"'E6-Operating Measurements'!$B$19","v":"00:00:00"},{"$error":"#REF!"},{"$error":"#REF!"},{"$f":"'E6-Operating Measurements'!#REF!","v":{"$error":"#REF!"}}]
[{"$f":"'E6-Operating Measurements'!$B$20","v":"00:00:00"},{"$error":"#REF!"},{"$error":"#REF!"},{"$f":"'E6-Operating Measurements'!#REF!","v":{"$error":"#REF!"}},null,null,null,null,null,null,null,null,null,null,"Standard Error",{"$f":"IF(P9=0,P8/SQRT(P6),SQRT(SUMSQ(M:M)/(P6-2)))","v":{"$error":"#DIV/0!"}}]
[{"$f":"'E6-Operating Measurements'!$B$21","v":"00:00:00"},{"$error":"#REF!"},{"$error":"#REF!"},{"$f":"'E6-Operating Measurements'!#REF!","v":{"$error":"#REF!"}}]
[{"$f":"'E6-Operating Measurements'!$B$22","v":"00:00:00"},{"$error":"#REF!"},{"$error":"#REF!"},{"$f":"'E6-Operating Measurements'!#REF!","v":{"$error":"#REF!"}},null,null,null,null,null,null,null,null,null,null,"R2",{"$f":"1-_xlfn.VAR.S(M:M)/_xlfn.VAR.S(J:J)","v":{"$error":"#DIV/0!"}}]
[{"$f":"'E6-Operating Measurements'!$B$23","v":"00:00:00"},{"$error":"#REF!"},{"$error":"#REF!"},{"$f":"'E6-Operating Measurements'!#REF!","v":{"$error":"#REF!"}},null,null,null,null,null,null,null,null,null,null,"Adjusted R2",{"$f":"1-(1-P14)*(P6-1)/(P6-P9-1)","v":{"$error":"#DIV/0!"}}]
[{"$f":"'E6-Operating Measurements'!$B$24","v":"00:00:00"},{"$error":"#REF!"},{"$error":"#REF!"},{"$f":"'E6-Operating Measurements'!#REF!","v":{"$error":"#REF!"}}]
[{"$f":"'E6-Operating Measurements'!$B$25","v":"00:00:00"},{"$error":"#REF!"},{"$error":"#REF!"},{"$f":"'E6-Operating Measurements'!#REF!","v":{"$error":"#REF!"}}]
[{"$f":"'E6-Operating Measurements'!$B$26","v":"00:00:00"},{"$error":"#REF!"},{"$error":"#REF!"},{"$f":"'E6-Operating Measurements'!#REF!","v":{"$error":"#REF!"}}]
[{"$f":"'E6-Operating Measurements'!$B$27","v":"00:00:00"},{"$error":"#REF!"},{"$error":"#REF!"},{"$f":"'E6-Operating Measurements'!#REF!","v":{"$error":"#REF!"}}]
[{"$f":"'E6-Operating Measurements'!$B$28","v":"00:00:00"},{"$error":"#REF!"},{"$error":"#REF!"},{"$f":"'E6-Operating Measurements'!#REF!","v":{"$error":"#REF!"}}]
[{"$f":"'E6-Operating Measurements'!$B$29","v":"00:00:00"},{"$error":"#REF!"},{"$error":"#REF!"},{"$f":"'E6-Operating Measurements'!#REF!","v":{"$error":"#REF!"}}]
[{"$f":"'E6-Operating Measurements'!$B$30","v":"00:00:00"},{"$error":"#REF!"},{"$error":"#REF!"},{"$f":"'E6-Operating Measurements'!#REF!","v":{"$error":"#REF!"}}]
[{"$f":"'E6-Operating Measurements'!$B$31","v":"00:00:00"},{"$error":"#REF!"},{"$error":"#REF!"},{"$f":"'E6-Operating Measurements'!#REF!","v":{"$error":"#REF!"}}]
[{"$f":"'E6-Operating Measurements'!$B$32","v":"00:00:00"},{"$error":"#REF!"},{"$error":"#REF!"},{"$f":"'E6-Operating Measurements'!#REF!","v":{"$error":"#REF!"}}]
[{"$f":"'E6-Operating Measurements'!$B$33","v":"00:00:00"},{"$error":"#REF!"},{"$error":"#REF!"},{"$f":"'E6-Operating Measurements'!#REF!","v":{"$error":"#REF!"}}]
[{"$f":"'E6-Operating Measurements'!$B$34","v":"00:00:00"},{"$error":"#REF!"},{"$error":"#REF!"},{"$f":"'E6-Operating Measurements'!#REF!","v":{"$error":"#REF!"}}]
[{"$f":"'E6-Operating Measurements'!$B$35","v":"00:00:00"},{"$error":"#REF!"},{"$error":"#REF!"},{"$f":"'E6-Operating Measurements'!#REF!","v":{"$error":"#REF!"}}]
[{"$f":"'E6-Operating Measurements'!$B$36","v":"00:00:00"},{"$error":"#REF!"},{"$error":"#REF!"},{"$f":"'E6-Operating Measurements'!#REF!","v":{"$error":"#REF!"}}]
[{"$f":"'E6-Operating Measurements'!$B$37","v":"00:00:00"},{"$error":"#REF!"},{"$error":"#REF!"},{"$f":"'E6-Operating Measurements'!#REF!","v":{"$error":"#REF!"}}]
[{"$f":"'E6-Operating Measurements'!$B$38","v":"00:00:00"},{"$error":"#REF!"},{"$error":"#REF!"},{"$f":"'E6-Operating Measurements'!#REF!","v":{"$error":"#REF!"}}]
[{"$f":"'E6-Operating Measurements'!$B$39","v":"00:00:00"},{"$error":"#REF!"},{"$error":"#REF!"},{"$f":"'E6-Operating Measurements'!#REF!","v":{"$error":"#REF!"}}]
[{"$f":"'E6-Operating Measurements'!$B$40","v":"00:00:00"},{"$error":"#REF!"},{"$error":"#REF!"},{"$f":"'E6-Operating Measurements'!#REF!","v":{"$error":"#REF!"}}]
[{"$f":"'E6-Operating Measurements'!$B$41","v":"00:00:00"},{"$error":"#REF!"},{"$error":"#REF!"},{"$f":"'E6-Operating Measurements'!#REF!","v":{"$error":"#REF!"}}]
[{"$f":"'E6-Operating Measurements'!$B$42","v":"00:00:00"},{"$error":"#REF!"},{"$error":"#REF!"},{"$f":"'E6-Operating Measurements'!#REF!","v":{"$error":"#REF!"}}]
[{"$f":"'E6-Operating Measurements'!$B$43","v":"00:00:00"},{"$error":"#REF!"},{"$error":"#REF!"},{"$f":"'E6-Operating Measurements'!#REF!","v":{"$error":"#REF!"}}]
[{"$f":"'E6-Operating Measurements'!$B$44","v":"00:00:00"},{"$error":"#REF!"},{"$error":"#REF!"},{"$f":"'E6-Operating Measurements'!#REF!","v":{"$error":"#REF!"}}]
[{"$f":"'E6-Operating Measurements'!$B$45","v":"00:00:00"},{"$error":"#REF!"},{"$error":"#REF!"},{"$f":"'E6-Operating Measurements'!#REF!","v":{"$error":"#REF!"}}]
[{"$f":"'E6-Operating Measurements'!$B$46","v":"00:00:00"},{"$error":"#REF!"},{"$error":"#REF!"},{"$f":"'E6-Operating Measurements'!#REF!","v":{"$error":"#REF!"}}]
[{"$f":"'E6-Operating Measurements'!$B$47","v":"00:00:00"},{"$error":"#REF!"},{"$error":"#REF!"},{"$f":"'E6-Operating Measurements'!#REF!","v":{"$error":"#REF!"}}]
[{"$f":"'E6-Operating Measurements'!$B$48","v":"00:00:00"},{"$error":"#REF!"},{"$error":"#REF!"},{"$f":"'E6-Operating Measurements'!#REF!","v":{"$error":"#REF!"}}]
[{"$f":"'E6-Operating Measurements'!$B$49","v":"00:00:00"},{"$error":"#REF!"},{"$error":"#REF!"},{"$f":"'E6-Operating Measurements'!#REF!","v":{"$error":"#REF!"}}]
[{"$f":"'E6-Operating Measurements'!$B$50","v":"00:00:00"},{"$error":"#REF!"},{"$error":"#REF!"},{"$f":"'E6-Operating Measurements'!#REF!","v":{"$error":"#REF!"}}]
[{"$f":"'E6-Operating Measurements'!$B$51","v":"00:00:00"},{"$error":"#REF!"},{"$error":"#REF!"},{"$f":"'E6-Operating Measurements'!#REF!","v":{"$error":"#REF!"}}]
[{"$f":"'E6-Operating Measurements'!$B$52","v":"00:00:00"},{"$error":"#REF!"},{"$error":"#REF!"},{"$f":"'E6-Operating Measurements'!#REF!","v":{"$error":"#REF!"}}]
[{"$f":"'E6-Operating Measurements'!$B$53","v":"00:00:00"},{"$error":"#REF!"},{"$error":"#REF!"},{"$f":"'E6-Operating Measurements'!#REF!","v":{"$error":"#REF!"}}]
[{"$f":"'E6-Operating Measurements'!$B$54","v":"00:00:00"},{"$error":"#REF!"},{"$error":"#REF!"},{"$f":"'E6-Operating Measurements'!#REF!","v":{"$error":"#REF!"}}]
[{"$f":"'E6-Operating Measurements'!$B$55","v":"00:00:00"},{"$error":"#REF!"},{"$error":"#REF!"},{"$f":"'E6-Operating Measurements'!#REF!","v":{"$error":"#REF!"}}]
[{"$f":"'E6-Operating Measurements'!$B$56","v":"00:00:00"},{"$error":"#REF!"},{"$error":"#REF!"},{"$f":"'E6-Operating Measurements'!#REF!","v":{"$error":"#REF!"}}]
[{"$f":"'E6-Operating Measurements'!$B$57","v":"00:00:00"},{"$error":"#REF!"},{"$error":"#REF!"},{"$f":"'E6-Operating Measurements'!#REF!","v":{"$error":"#REF!"}}]
[{"$f":"'E6-Operating Measurements'!$B$58","v":"00:00:00"},{"$error":"#REF!"},{"$error":"#REF!"},{"$f":"'E6-Operating Measurements'!#REF!","v":{"$error":"#REF!"}}]
[{"$f":"'E6-Operating Measurements'!$B$59","v":"00:00:00"},{"$error":"#REF!"},{"$error":"#REF!"},{"$f":"'E6-Operating Measurements'!#REF!","v":{"$error":"#REF!"}}]
[{"$f":"'E6-Operating Measurements'!$B$60","v":"00:00:00"},{"$error":"#REF!"},{"$error":"#REF!"},{"$f":"'E6-Operating Measurements'!#REF!","v":{"$error":"#REF!"}}]
[{"$f":"'E6-Operating Measurements'!$B$61","v":"00:00:00"},{"$error":"#REF!"},{"$error":"#REF!"},{"$f":"'E6-Operating Measurements'!#REF!","v":{"$error":"#REF!"}}]
[{"$f":"'E6-Operating Measurements'!$B$62","v":"00:00:00"},{"$error":"#REF!"},{"$error":"#REF!"},{"$f":"'E6-Operating Measurements'!#REF!","v":{"$error":"#REF!"}}]
[{"$f":"'E6-Operating Measurements'!$B$63","v":"00:00:00"},{"$error":"#REF!"},{"$error":"#REF!"},{"$f":"'E6-Operating Measurements'!#REF!","v":{"$error":"#REF!"}}]
[{"$f":"'E6-Operating Measurements'!$B$64","v":"00:00:00"},{"$error":"#REF!"},{"$error":"#REF!"},{"$f":"'E6-Operating Measurements'!#REF!","v":{"$error":"#REF!"}}]
[{"$f":"'E6-Operating Measurements'!$B$65","v":"00:00:00"},{"$error":"#REF!"},{"$error":"#REF!"},{"$f":"'E6-Operating Measurements'!#REF!","v":{"$error":"#REF!"}}]
[{"$f":"'E6-Operating Measurements'!$B$66","v":"00:00:00"},{"$error":"#REF!"},{"$error":"#REF!"},{"$f":"'E6-Operating Measurements'!#REF!","v":{"$error":"#REF!"}}]
[{"$f":"'E6-Operating Measurements'!$B$67","v":"00:00:00"},{"$error":"#REF!"},{"$error":"#REF!"},{"$f":"'E6-Operating Measurements'!#REF!","v":{"$error":"#REF!"}}]
[{"$f":"'E6-Operating Measurements'!$B$68","v":"00:00:00"},{"$error":"#REF!"},{"$error":"#REF!"},{"$f":"'E6-Operating Measurements'!#REF!","v":{"$error":"#REF!"}}]
[{"$f":"'E6-Operating Measurements'!$B$69","v":"00:00:00"},{"$error":"#REF!"},{"$error":"#REF!"},{"$f":"'E6-Operating Measurements'!#REF!","v":{"$error":"#REF!"}}]
[{"$f":"'E6-Operating Measurements'!$B$70","v":"00:00:00"},{"$error":"#REF!"},{"$error":"#REF!"},{"$f":"'E6-Operating Measurements'!#REF!","v":{"$error":"#REF!"}}]
[{"$f":"'E6-Operating Measurements'!$B$71","v":"00:00:00"},{"$error":"#REF!"},{"$error":"#REF!"},{"$f":"'E6-Operating Measurements'!#REF!","v":{"$error":"#REF!"}}]
[{"$f":"'E6-Operating Measurements'!$B$72","v":"00:00:00"},{"$error":"#REF!"},{"$error":"#REF!"},{"$f":"'E6-Operating Measurements'!#REF!","v":{"$error":"#REF!"}}]
[{"$f":"'E6-Operating Measurements'!$B$73","v":"00:00:00"},{"$error":"#REF!"},{"$error":"#REF!"},{"$f":"'E6-Operating Measurements'!#REF!","v":{"$error":"#REF!"}}]
[{"$f":"'E6-Operating Measurements'!$B$74","v":"00:00:00"},{"$f":"1.05*$F$2-0.05*$F$4","v":{"$error":"#REF!"}},{"$f":"1.05*$F$4-0.05*$F$2","v":{"$error":"#REF!"}},{"$f":"'E6-Operating Measurements'!#REF!","v":{"$error":"#REF!"}}]
[{"$f":"'E6-Operating Measurements'!$B$75","v":"00:00:00"},{"$error":"#REF!"},{"$error":"#REF!"},{"$f":"'E6-Operating Measurements'!#REF!","v":{"$error":"#REF!"}}]
[{"$f":"'E6-Operating Measurements'!$B$76","v":"00:00:00"},{"$error":"#REF!"},{"$error":"#REF!"},{"$f":"'E6-Operating Measurements'!#REF!","v":{"$error":"#REF!"}}]
[{"$f":"'E6-Operating Measurements'!$B$77","v":"00:00:00"},{"$error":"#REF!"},{"$error":"#REF!"},{"$f":"'E6-Operating Measurements'!#REF!","v":{"$error":"#REF!"}}]
[{"$f":"'E6-Operating Measurements'!$B$78","v":"00:00:00"},{"$error":"#REF!"},{"$error":"#REF!"},{"$f":"'E6-Operating Measurements'!#REF!","v":{"$error":"#REF!"}}]
[{"$f":"'E6-Operating Measurements'!$B$79","v":"00:00:00"},{"$error":"#REF!"},{"$error":"#REF!"},{"$f":"'E6-Operating Measurements'!#REF!","v":{"$error":"#REF!"}}]
[{"$f":"'E6-Operating Measurements'!$B$80","v":"00:00:00"},{"$error":"#REF!"},{"$error":"#REF!"},{"$f":"'E6-Operating Measurements'!#REF!","v":{"$error":"#REF!"}}]
[{"$f":"'E6-Operating Measurements'!$B$81","v":"00:00:00"},{"$error":"#REF!"},{"$error":"#REF!"},{"$f":"'E6-Operating Measurements'!#REF!","v":{"$error":"#REF!"}}]
[{"$f":"'E6-Operating Measurements'!$B$82","v":"00:00:00"},{"$error":"#REF!"},{"$error":"#REF!"},{"$f":"'E6-Operating Measurements'!#REF!","v":{"$error":"#REF!"}}]
[{"$f":"'E6-Operating Measurements'!$B$83","v":"00:00:00"},{"$error":"#REF!"},{"$error":"#REF!"},{"$f":"'E6-Operating Measurements'!#REF!","v":{"$error":"#REF!"}}]
[{"$f":"'E6-Operating Measurements'!$B$84","v":"00:00:00"},{"$error":"#REF!"},{"$error":"#REF!"},{"$f":"'E6-Operating Measurements'!#REF!","v":{"$error":"#REF!"}}]
[{"$f":"'E6-Operating Measurements'!$B$85","v":"00:00:00"},{"$error":"#REF!"},{"$error":"#REF!"},{"$f":"'E6-Operating Measurements'!#REF!","v":{"$error":"#REF!"}}]
[{"$f":"'E6-Operating Measurements'!$B$86","v":"00:00:00"},{"$error":"#REF!"},{"$error":"#REF!"},{"$f":"'E6-Operating Measurements'!#REF!","v":{"$error":"#REF!"}}]
[{"$f":"'E6-Operating Measurements'!$B$87","v":"00:00:00"},{"$error":"#REF!"},{"$error":"#REF!"},{"$f":"'E6-Operating Measurements'!#REF!","v":{"$error":"#REF!"}}]
[{"$f":"'E6-Operating Measurements'!$B$88","v":"00:00:00"},{"$error":"#REF!"},{"$error":"#REF!"},{"$f":"'E6-Operating Measurements'!#REF!","v":{"$error":"#REF!"}}]
[{"$f":"'E6-Operating Measurements'!$B$89","v":"00:00:00"},{"$error":"#REF!"},{"$error":"#REF!"},{"$f":"'E6-Operating Measurements'!#REF!","v":{"$error":"#REF!"}}]
[{"$f":"'E6-Operating Measurements'!$B$90","v":"00:00:00"},{"$error":"#REF!"},{"$error":"#REF!"},{"$f":"'E6-Operating Measurements'!#REF!","v":{"$error":"#REF!"}}]
[{"$f":"'E6-Operating Measurements'!$B$91","v":"00:00:00"},{"$error":"#REF!"},{"$error":"#REF!"},{"$f":"'E6-Operating Measurements'!#REF!","v":{"$error":"#REF!"}}]
[{"$f":"'E6-Operating Measurements'!$B$92","v":"00:00:00"},{"$error":"#REF!"},{"$error":"#REF!"},{"$f":"'E6-Operating Measurements'!#REF!","v":{"$error":"#REF!"}}]
[{"$f":"'E6-Operating Measurements'!$B$93","v":"00:00:00"},{"$error":"#REF!"},{"$error":"#REF!"},{"$f":"'E6-Operating Measurements'!#REF!","v":{"$error":"#REF!"}}]
[{"$f":"'E6-Operating Measurements'!$B$94","v":"00:00:00"},{"$error":"#REF!"},{"$error":"#REF!"},{"$f":"'E6-Operating Measurements'!#REF!","v":{"$error":"#REF!"}}]
[{"$f":"'E6-Operating Measurements'!$B$95","v":"00:00:00"},{"$error":"#REF!"},{"$error":"#REF!"},{"$f":"'E6-Operating Measurements'!#REF!","v":{"$error":"#REF!"}}]
[{"$f":"'E6-Operating Measurements'!$B$96","v":"00:00:00"},{"$error":"#REF!"},{"$error":"#REF!"},{"$f":"'E6-Operating Measurements'!#REF!","v":{"$error":"#REF!"}}]
[{"$f":"'E6-Operating Measurements'!$B$97","v":"00:00:00"},{"$error":"#REF!"},{"$error":"#REF!"},{"$f":"'E6-Operating Measurements'!#REF!","v":{"$error":"#REF!"}}]
[{"$f":"'E6-Operating Measurements'!$B$98","v":"00:00:00"},{"$error":"#REF!"},{"$error":"#REF!"},{"$f":"'E6-Operating Measurements'!#REF!","v":{"$error":"#REF!"}}]
[{"$f":"'E6-Operating Measurements'!$B$99","v":"00:00:00"},{"$error":"#REF!"},{"$error":"#REF!"},{"$f":"'E6-Operating Measurements'!#REF!","v":{"$error":"#REF!"}}]
[{"$f":"'E6-Operating Measurements'!$B$100","v":"00:00:00"},{"$error":"#REF!"},{"$error":"#REF!"},{"$f":"'E6-Operating Measurements'!#REF!","v":{"$error":"#REF!"}}]
[{"$f":"'E6-Operating Measurements'!$B$101","v":"00:00:00"},{"$error":"#REF!"},{"$error":"#REF!"},{"$f":"'E6-Operating Measurements'!#REF!","v":{"$error":"#REF!"}}]
[{"$f":"'E6-Operating Measurements'!$B$102","v":"00:00:00"},{"$error":"#REF!"},{"$error":"#REF!"},{"$f":"'E6-Operating Measurements'!#REF!","v":{"$error":"#REF!"}}]
[{"$f":"'E6-Operating Measurements'!$B$103","v":"00:00:00"},{"$error":"#REF!"},{"$error":"#REF!"},{"$f":"'E6-Operating Measurements'!#REF!","v":{"$error":"#REF!"}}]
[{"$f":"'E6-Operating Measurements'!$B$104","v":"00:00:00"},{"$error":"#REF!"},{"$error":"#REF!"},{"$f":"'E6-Operating Measurements'!#REF!","v":{"$error":"#REF!"}}]
[{"$f":"'E6-Operating Measurements'!$B$105","v":"00:00:00"},{"$error":"#REF!"},{"$error":"#REF!"},{"$f":"'E6-Operating Measurements'!#REF!","v":{"$error":"#REF!"}}]
[{"$f":"'E6-Operating Measurements'!$B$106","v":"00:00:00"},{"$error":"#REF!"},{"$error":"#REF!"},{"$f":"'E6-Operating Measurements'!#REF!","v":{"$error":"#REF!"}}]
[{"$f":"'E6-Operating Measurements'!$B$107","v":"00:00:00"},{"$error":"#REF!"},{"$error":"#REF!"},{"$f":"'E6-Operating Measurements'!#REF!","v":{"$error":"#REF!"}}]
[{"$f":"'E6-Operating Measurements'!$B$108","v":"00:00:00"},{"$error":"#REF!"},{"$error":"#REF!"},{"$f":"'E6-Operating Measurements'!#REF!","v":{"$error":"#REF!"}}]
[{"$f":"'E6-Operating Measurements'!$B$109","v":"00:00:00"},{"$error":"#REF!"},{"$error":"#REF!"},{"$f":"'E6-Operating Measurements'!#REF!","v":{"$error":"#REF!"}}]
[{"$f":"'E6-Operating Measurements'!$B$110","v":"00:00:00"},{"$error":"#REF!"},{"$error":"#REF!"},{"$f":"'E6-Operating Measurements'!#REF!","v":{"$error":"#REF!"}}]
[{"$f":"'E6-Operating Measurements'!$B$111","v":"00:00:00"},{"$error":"#REF!"},{"$error":"#REF!"},{"$f":"'E6-Operating Measurements'!#REF!","v":{"$error":"#REF!"}}]
[{"$f":"'E6-Operating Measurements'!$B$112","v":"00:00:00"},{"$error":"#REF!"},{"$error":"#REF!"},{"$f":"'E6-Operating Measurements'!#REF!","v":{"$error":"#REF!"}}]
[{"$f":"'E6-Operating Measurements'!$B$113","v":"00:00:00"},{"$error":"#REF!"},{"$error":"#REF!"},{"$f":"'E6-Operating Measurements'!#REF!","v":{"$error":"#REF!"}}]
[{"$f":"'E6-Operating Measurements'!$B$114","v":"00:00:00"},{"$error":"#REF!"},{"$error":"#REF!"},{"$f":"'E6-Operating Measurements'!#REF!","v":{"$error":"#REF!"}}]
[{"$f":"'E6-Operating Measurements'!$B$115","v":"00:00:00"},{"$error":"#REF!"},{"$error":"#REF!"},{"$f":"'E6-Operating Measurements'!#REF!","v":{"$error":"#REF!"}}]
[{"$f":"'E6-Operating Measurements'!$B$116","v":"00:00:00"},{"$error":"#REF!"},{"$error":"#REF!"},{"$f":"'E6-Operating Measurements'!#REF!","v":{"$error":"#REF!"}}]
[{"$f":"'E6-Operating Measurements'!$B$117","v":"00:00:00"},{"$error":"#REF!"},{"$error":"#REF!"},{"$f":"'E6-Operating Measurements'!#REF!","v":{"$error":"#REF!"}}]
[{"$f":"'E6-Operating Measurements'!$B$118","v":"00:00:00"},{"$error":"#REF!"},{"$error":"#REF!"},{"$f":"'E6-Operating Measurements'!#REF!","v":{"$error":"#REF!"}}]
[{"$f":"'E6-Operating Measurements'!$B$119","v":"00:00:00"},{"$error":"#REF!"},{"$error":"#REF!"},{"$f":"'E6-Operating Measurements'!#REF!","v":{"$error":"#REF!"}}]
[{"$f":"'E6-Operating Measurements'!$B$120","v":"00:00:00"},{"$error":"#REF!"},{"$error":"#REF!"},{"$f":"'E6-Operating Measurements'!#REF!","v":{"$error":"#REF!"}}]
[{"$f":"'E6-Operating Measurements'!$B$121","v":"00:00:00"},{"$error":"#REF!"},{"$error":"#REF!"},{"$f":"'E6-Operating Measurements'!#REF!","v":{"$error":"#REF!"}}]
[{"$f":"'E6-Operating Measurements'!$B$122","v":"00:00:00"},{"$error":"#REF!"},{"$error":"#REF!"},{"$f":"'E6-Operating Measurements'!#REF!","v":{"$error":"#REF!"}}]
[{"$f":"'E6-Operating Measurements'!$B$123","v":"00:00:00"},{"$error":"#REF!"},{"$error":"#REF!"},{"$f":"'E6-Operating Measurements'!#REF!","v":{"$error":"#REF!"}}]
[{"$f":"'E6-Operating Measurements'!$B$124","v":"00:00:00"},{"$error":"#REF!"},{"$error":"#REF!"},{"$f":"'E6-Operating Measurements'!#REF!","v":{"$error":"#REF!"}}]
[{"$f":"'E6-Operating Measurements'!$B$125","v":"00:00:00"},{"$error":"#REF!"},{"$error":"#REF!"},{"$f":"'E6-Operating Measurements'!#REF!","v":{"$error":"#REF!"}}]
[{"$f":"'E6-Operating Measurements'!$B$126","v":"00:00:00"},{"$error":"#REF!"},{"$error":"#REF!"},{"$f":"'E6-Operating Measurements'!#REF!","v":{"$error":"#REF!"}}]
[{"$f":"'E6-Operating Measurements'!$B$127","v":"00:00:00"},{"$error":"#REF!"},{"$error":"#REF!"},{"$f":"'E6-Operating Measurements'!#REF!","v":{"$error":"#REF!"}}]
[{"$f":"'E6-Operating Measurements'!$B$128","v":"00:00:00"},{"$error":"#REF!"},{"$error":"#REF!"},{"$f":"'E6-Operating Measurements'!#REF!","v":{"$error":"#REF!"}}]
[{"$f":"'E6-Operating Measurements'!$B$129","v":"00:00:00"},{"$error":"#REF!"},{"$error":"#REF!"},{"$f":"'E6-Operating Measurements'!#REF!","v":{"$error":"#REF!"}}]
[{"$f":"'E6-Operating Measurements'!$B$130","v":"00:00:00"},{"$error":"#REF!"},{"$error":"#REF!"},{"$f":"'E6-Operating Measurements'!#REF!","v":{"$error":"#REF!"}}]
[{"$f":"'E6-Operating Measurements'!$B$131","v":"00:00:00"},{"$error":"#REF!"},{"$error":"#REF!"},{"$f":"'E6-Operating Measurements'!#REF!","v":{"$error":"#REF!"}}]
[{"$f":"'E6-Operating Measurements'!$B$132","v":"00:00:00"},{"$error":"#REF!"},{"$error":"#REF!"},{"$f":"'E6-Operating Measurements'!#REF!","v":{"$error":"#REF!"}}]
[{"$f":"'E6-Operating Measurements'!$B$133","v":"00:00:00"},{"$error":"#REF!"},{"$error":"#REF!"},{"$f":"'E6-Operating Measurements'!#REF!","v":{"$error":"#REF!"}}]
[{"$f":"'E6-Operating Measurements'!$B$134","v":"00:00:00"},{"$error":"#REF!"},{"$error":"#REF!"},{"$f":"'E6-Operating Measurements'!#REF!","v":{"$error":"#REF!"}}]
[{"$f":"'E6-Operating Measurements'!$B$135","v":"00:00:00"},{"$error":"#REF!"},{"$error":"#REF!"},{"$f":"'E6-Operating Measurements'!#REF!","v":{"$error":"#REF!"}}]
[{"$f":"'E6-Operating Measurements'!$B$136","v":"00:00:00"},{"$error":"#REF!"},{"$error":"#REF!"},{"$f":"'E6-Operating Measurements'!#REF!","v":{"$error":"#REF!"}}]
[{"$f":"'E6-Operating Measurements'!$B$137","v":"00:00:00"},{"$error":"#REF!"},{"$error":"#REF!"},{"$f":"'E6-Operating Measurements'!#REF!","v":{"$error":"#REF!"}}]
[{"$f":"'E6-Operating Measurements'!$B$138","v":"00:00:00"},{"$f":"1.05*$F$2-0.05*$F$4","v":{"$error":"#REF!"}},{"$f":"1.05*$F$4-0.05*$F$2","v":{"$error":"#REF!"}},{"$f":"'E6-Operating Measurements'!#REF!","v":{"$error":"#REF!"}}]
[{"$f":"'E6-Operating Measurements'!$B$139","v":"00:00:00"},{"$error":"#REF!"},{"$error":"#REF!"},{"$f":"'E6-Operating Measurements'!#REF!","v":{"$error":"#REF!"}}]
[{"$f":"'E6-Operating Measurements'!$B$140","v":"00:00:00"},{"$error":"#REF!"},{"$error":"#REF!"},{"$f":"'E6-Operating Measurements'!#REF!","v":{"$error":"#REF!"}}]
[{"$f":"'E6-Operating Measurements'!$B$141","v":"00:00:00"},{"$error":"#REF!"},{"$error":"#REF!"},{"$f":"'E6-Operating Measurements'!#REF!","v":{"$error":"#REF!"}}]
[{"$f":"'E6-Operating Measurements'!$B$142","v":"00:00:00"},{"$error":"#REF!"},{"$error":"#REF!"},{"$f":"'E6-Operating Measurements'!#REF!","v":{"$error":"#REF!"}}]
[{"$f":"'E6-Operating Measurements'!$B$143","v":"00:00:00"},{"$error":"#REF!"},{"$error":"#REF!"},{"$f":"'E6-Operating Measurements'!#REF!","v":{"$error":"#REF!"}}]
[{"$f":"'E6-Operating Measurements'!$B$144","v":"00:00:00"},{"$error":"#REF!"},{"$error":"#REF!"},{"$f":"'E6-Operating Measurements'!#REF!","v":{"$error":"#REF!"}}]
[{"$f":"'E6-Operating Measurements'!$B$145","v":"00:00:00"},{"$error":"#REF!"},{"$error":"#REF!"},{"$f":"'E6-Operating Measurements'!#REF!","v":{"$error":"#REF!"}}]
[{"$f":"'E6-Operating Measurements'!$B$146","v":"00:00:00"},{"$error":"#REF!"},{"$error":"#REF!"},{"$f":"'E6-Operating Measurements'!#REF!","v":{"$error":"#REF!"}}]
[{"$f":"'E6-Operating Measurements'!$B$147","v":"00:00:00"},{"$error":"#REF!"},{"$error":"#REF!"},{"$f":"'E6-Operating Measurements'!#REF!","v":{"$error":"#REF!"}}]
[{"$f":"'E6-Operating Measurements'!$B$148","v":"00:00:00"},{"$error":"#REF!"},{"$error":"#REF!"},{"$f":"'E6-Operating Measurements'!#REF!","v":{"$error":"#REF!"}}]
[{"$f":"'E6-Operating Measurements'!$B$149","v":"00:00:00"},{"$error":"#REF!"},{"$error":"#REF!"},{"$f":"'E6-Operating Measurements'!#REF!","v":{"$error":"#REF!"}}]
[{"$f":"'E6-Operating Measurements'!$B$150","v":"00:00:00"},{"$error":"#REF!"},{"$error":"#REF!"},{"$f":"'E6-Operating Measurements'!#REF!","v":{"$error":"#REF!"}}]
[{"$f":"'E6-Operating Measurements'!$B$151","v":"00:00:00"},{"$error":"#REF!"},{"$error":"#REF!"},{"$f":"'E6-Operating Measurements'!#REF!","v":{"$error":"#REF!"}}]
[{"$f":"'E6-Operating Measurements'!$B$152","v":"00:00:00"},{"$error":"#REF!"},{"$error":"#REF!"},{"$f":"'E6-Operating Measurements'!#REF!","v":{"$error":"#REF!"}}]
[{"$f":"'E6-Operating Measurements'!$B$153","v":"00:00:00"},{"$error":"#REF!"},{"$error":"#REF!"},{"$f":"'E6-Operating Measurements'!#REF!","v":{"$error":"#REF!"}}]
[{"$f":"'E6-Operating Measurements'!$B$154","v":"00:00:00"},{"$error":"#REF!"},{"$error":"#REF!"},{"$f":"'E6-Operating Measurements'!#REF!","v":{"$error":"#REF!"}}]
[{"$f":"'E6-Operating Measurements'!$B$155","v":"00:00:00"},{"$error":"#REF!"},{"$error":"#REF!"},{"$f":"'E6-Operating Measurements'!#REF!","v":{"$error":"#REF!"}}]
[{"$f":"'E6-Operating Measurements'!$B$156","v":"00:00:00"},{"$error":"#REF!"},{"$error":"#REF!"},{"$f":"'E6-Operating Measurements'!#REF!","v":{"$error":"#REF!"}}]
[{"$f":"'E6-Operating Measurements'!$B$157","v":"00:00:00"},{"$error":"#REF!"},{"$error":"#REF!"},{"$f":"'E6-Operating Measurements'!#REF!","v":{"$error":"#REF!"}}]
[{"$f":"'E6-Operating Measurements'!$B$158","v":"00:00:00"},{"$error":"#REF!"},{"$error":"#REF!"},{"$f":"'E6-Operating Measurements'!#REF!","v":{"$error":"#REF!"}}]
[{"$f":"'E6-Operating Measurements'!$B$159","v":"00:00:00"},{"$error":"#REF!"},{"$error":"#REF!"},{"$f":"'E6-Operating Measurements'!#REF!","v":{"$error":"#REF!"}}]
[{"$f":"'E6-Operating Measurements'!$B$160","v":"00:00:00"},{"$error":"#REF!"},{"$error":"#REF!"},{"$f":"'E6-Operating Measurements'!#REF!","v":{"$error":"#REF!"}}]
[{"$f":"'E6-Operating Measurements'!$B$161","v":"00:00:00"},{"$error":"#REF!"},{"$error":"#REF!"},{"$f":"'E6-Operating Measurements'!#REF!","v":{"$error":"#REF!"}}]
[{"$f":"'E6-Operating Measurements'!$B$162","v":"00:00:00"},{"$error":"#REF!"},{"$error":"#REF!"},{"$f":"'E6-Operating Measurements'!#REF!","v":{"$error":"#REF!"}}]
[{"$f":"'E6-Operating Measurements'!$B$163","v":"00:00:00"},{"$error":"#REF!"},{"$error":"#REF!"},{"$f":"'E6-Operating Measurements'!#REF!","v":{"$error":"#REF!"}}]
[{"$f":"'E6-Operating Measurements'!$B$164","v":"00:00:00"},{"$error":"#REF!"},{"$error":"#REF!"},{"$f":"'E6-Operating Measurements'!#REF!","v":{"$error":"#REF!"}}]
[{"$f":"'E6-Operating Measurements'!$B$165","v":"00:00:00"},{"$error":"#REF!"},{"$error":"#REF!"},{"$f":"'E6-Operating Measurements'!#REF!","v":{"$error":"#REF!"}}]
[{"$f":"'E6-Operating Measurements'!$B$166","v":"00:00:00"},{"$error":"#REF!"},{"$error":"#REF!"},{"$f":"'E6-Operating Measurements'!#REF!","v":{"$error":"#REF!"}}]
[{"$f":"'E6-Operating Measurements'!$B$167","v":"00:00:00"},{"$error":"#REF!"},{"$error":"#REF!"},{"$f":"'E6-Operating Measurements'!#REF!","v":{"$error":"#REF!"}}]
[{"$f":"'E6-Operating Measurements'!$B$168","v":"00:00:00"},{"$error":"#REF!"},{"$error":"#REF!"},{"$f":"'E6-Operating Measurements'!#REF!","v":{"$error":"#REF!"}}]
[{"$f":"'E6-Operating Measurements'!$B$169","v":"00:00:00"},{"$error":"#REF!"},{"$error":"#REF!"},{"$f":"'E6-Operating Measurements'!#REF!","v":{"$error":"#REF!"}}]
[{"$f":"'E6-Operating Measurements'!$B$170","v":"00:00:00"},{"$error":"#REF!"},{"$error":"#REF!"},{"$f":"'E6-Operating Measurements'!#REF!","v":{"$error":"#REF!"}}]
[{"$f":"'E6-Operating Measurements'!$B$171","v":"00:00:00"},{"$error":"#REF!"},{"$error":"#REF!"},{"$f":"'E6-Operating Measurements'!#REF!","v":{"$error":"#REF!"}}]
[{"$f":"'E6-Operating Measurements'!$B$172","v":"00:00:00"},{"$error":"#REF!"},{"$error":"#REF!"},{"$f":"'E6-Operating Measurements'!#REF!","v":{"$error":"#REF!"}}]
[{"$f":"'E6-Operating Measurements'!$B$173","v":"00:00:00"},{"$error":"#REF!"},{"$error":"#REF!"},{"$f":"'E6-Operating Measurements'!#REF!","v":{"$error":"#REF!"}}]
[{"$f":"'E6-Operating Measurements'!$B$174","v":"00:00:00"},{"$error":"#REF!"},{"$error":"#REF!"},{"$f":"'E6-Operating Measurements'!#REF!","v":{"$error":"#REF!"}}]
[{"$f":"'E6-Operating Measurements'!$B$175","v":"00:00:00"},{"$error":"#REF!"},{"$error":"#REF!"},{"$f":"'E6-Operating Measurements'!#REF!","v":{"$error":"#REF!"}}]
[{"$f":"'E6-Operating Measurements'!$B$176","v":"00:00:00"},{"$error":"#REF!"},{"$error":"#REF!"},{"$f":"'E6-Operating Measurements'!#REF!","v":{"$error":"#REF!"}}]
[{"$f":"'E6-Operating Measurements'!$B$177","v":"00:00:00"},{"$error":"#REF!"},{"$error":"#REF!"},{"$f":"'E6-Operating Measurements'!#REF!","v":{"$error":"#REF!"}}]
[{"$f":"'E6-Operating Measurements'!$B$178","v":"00:00:00"},{"$error":"#REF!"},{"$error":"#REF!"},{"$f":"'E6-Operating Measurements'!#REF!","v":{"$error":"#REF!"}}]
[{"$f":"'E6-Operating Measurements'!$B$179","v":"00:00:00"},{"$error":"#REF!"},{"$error":"#REF!"},{"$f":"'E6-Operating Measurements'!#REF!","v":{"$error":"#REF!"}}]
[{"$f":"'E6-Operating Measurements'!$B$180","v":"00:00:00"},{"$error":"#REF!"},{"$error":"#REF!"},{"$f":"'E6-Operating Measurements'!#REF!","v":{"$error":"#REF!"}}]
[{"$f":"'E6-Operating Measurements'!$B$181","v":"00:00:00"},{"$error":"#REF!"},{"$error":"#REF!"},{"$f":"'E6-Operating Measurements'!#REF!","v":{"$error":"#REF!"}}]
[{"$f":"'E6-Operating Measurements'!$B$182","v":"00:00:00"},{"$error":"#REF!"},{"$error":"#REF!"},{"$f":"'E6-Operating Measurements'!#REF!","v":{"$error":"#REF!"}}]
[{"$f":"'E6-Operating Measurements'!$B$183","v":"00:00:00"},{"$error":"#REF!"},{"$error":"#REF!"},{"$f":"'E6-Operating Measurements'!#REF!","v":{"$error":"#REF!"}}]
[{"$f":"'E6-Operating Measurements'!$B$184","v":"00:00:00"},{"$error":"#REF!"},{"$error":"#REF!"},{"$f":"'E6-Operating Measurements'!#REF!","v":{"$error":"#REF!"}}]
[{"$f":"'E6-Operating Measurements'!$B$185","v":"00:00:00"},{"$error":"#REF!"},{"$error":"#REF!"},{"$f":"'E6-Operating Measurements'!#REF!","v":{"$error":"#REF!"}}]
[{"$f":"'E6-Operating Measurements'!$B$186","v":"00:00:00"},{"$error":"#REF!"},{"$error":"#REF!"},{"$f":"'E6-Operating Measurements'!#REF!","v":{"$error":"#REF!"}}]
[{"$f":"'E6-Operating Measurements'!$B$187","v":"00:00:00"},{"$error":"#REF!"},{"$error":"#REF!"},{"$f":"'E6-Operating Measurements'!#REF!","v":{"$error":"#REF!"}}]
[{"$f":"'E6-Operating Measurements'!$B$188","v":"00:00:00"},{"$error":"#REF!"},{"$error":"#REF!"},{"$f":"'E6-Operating Measurements'!#REF!","v":{"$error":"#REF!"}}]
[{"$f":"'E6-Operating Measurements'!$B$189","v":"00:00:00"},{"$error":"#REF!"},{"$error":"#REF!"},{"$f":"'E6-Operating Measurements'!#REF!","v":{"$error":"#REF!"}}]
[{"$f":"'E6-Operating Measurements'!$B$190","v":"00:00:00"},{"$error":"#REF!"},{"$error":"#REF!"},{"$f":"'E6-Operating Measurements'!#REF!","v":{"$error":"#REF!"}}]
[{"$f":"'E6-Operating Measurements'!$B$191","v":"00:00:00"},{"$error":"#REF!"},{"$error":"#REF!"},{"$f":"'E6-Operating Measurements'!#REF!","v":{"$error":"#REF!"}}]
[{"$f":"'E6-Operating Measurements'!$B$192","v":"00:00:00"},{"$error":"#REF!"},{"$error":"#REF!"},{"$f":"'E6-Operating Measurements'!#REF!","v":{"$error":"#REF!"}}]
[{"$f":"'E6-Operating Measurements'!$B$193","v":"00:00:00"},{"$error":"#REF!"},{"$error":"#REF!"},{"$f":"'E6-Operating Measurements'!#REF!","v":{"$error":"#REF!"}}]
[{"$f":"'E6-Operating Measurements'!$B$194","v":"00:00:00"},{"$error":"#REF!"},{"$error":"#REF!"},{"$f":"'E6-Operating Measurements'!#REF!","v":{"$error":"#REF!"}}]
[{"$f":"'E6-Operating Measurements'!$B$195","v":"00:00:00"},{"$error":"#REF!"},{"$error":"#REF!"},{"$f":"'E6-Operating Measurements'!#REF!","v":{"$error":"#REF!"}}]
[{"$f":"'E6-Operating Measurements'!$B$196","v":"00:00:00"},{"$error":"#REF!"},{"$error":"#REF!"},{"$f":"'E6-Operating Measurements'!#REF!","v":{"$error":"#REF!"}}]
[{"$f":"'E6-Operating Measurements'!$B$197","v":"00:00:00"},{"$error":"#REF!"},{"$error":"#REF!"},{"$f":"'E6-Operating Measurements'!#REF!","v":{"$error":"#REF!"}}]
[{"$f":"'E6-Operating Measurements'!$B$198","v":"00:00:00"},{"$error":"#REF!"},{"$error":"#REF!"},{"$f":"'E6-Operating Measurements'!#REF!","v":{"$error":"#REF!"}}]
[{"$f":"'E6-Operating Measurements'!$B$199","v":"00:00:00"},{"$error":"#REF!"},{"$error":"#REF!"},{"$f":"'E6-Operating Measurements'!#REF!","v":{"$error":"#REF!"}}]
[{"$f":"'E6-Operating Measurements'!$B$200","v":"00:00:00"},{"$error":"#REF!"},{"$error":"#REF!"},{"$f":"'E6-Operating Measurements'!#REF!","v":{"$error":"#REF!"}}]
[{"$f":"'E6-Operating Measurements'!$B$201","v":"00:00:00"},{"$error":"#REF!"},{"$error":"#REF!"},{"$f":"'E6-Operating Measurements'!#REF!","v":{"$error":"#REF!"}}]
[{"$f":"'E6-Operating Measurements'!$B$202","v":"00:00:00"},{"$f":"1.05*$F$2-0.05*$F$4","v":{"$error":"#REF!"}},{"$f":"1.05*$F$4-0.05*$F$2","v":{"$error":"#REF!"}},{"$f":"'E6-Operating Measurements'!#REF!","v":{"$error":"#REF!"}}]
[{"$f":"'E6-Operating Measurements'!$B$203","v":"00:00:00"},{"$error":"#REF!"},{"$error":"#REF!"},{"$f":"'E6-Operating Measurements'!#REF!","v":{"$error":"#REF!"}}]
[{"$f":"'E6-Operating Measurements'!$B$204","v":"00:00:00"},{"$error":"#REF!"},{"$error":"#REF!"},{"$f":"'E6-Operating Measurements'!#REF!","v":{"$error":"#REF!"}}]
[{"$f":"'E6-Operating Measurements'!$B$205","v":"00:00:00"},{"$error":"#REF!"},{"$error":"#REF!"},{"$f":"'E6-Operating Measurements'!#REF!","v":{"$error":"#REF!"}}]
[{"$f":"'E6-Operating Measurements'!$B$206","v":"00:00:00"},{"$error":"#REF!"},{"$error":"#REF!"},{"$f":"'E6-Operating Measurements'!#REF!","v":{"$error":"#REF!"}}]
[{"$f":"'E6-Operating Measurements'!$B$207","v":"00:00:00"},{"$error":"#REF!"},{"$error":"#REF!"},{"$f":"'E6-Operating Measurements'!#REF!","v":{"$error":"#REF!"}}]
[{"$f":"'E6-Operating Measurements'!$B$208","v":"00:00:00"},{"$error":"#REF!"},{"$error":"#REF!"},{"$f":"'E6-Operating Measurements'!#REF!","v":{"$error":"#REF!"}}]
[{"$f":"'E6-Operating Measurements'!$B$209","v":"00:00:00"},{"$error":"#REF!"},{"$error":"#REF!"},{"$f":"'E6-Operating Measurements'!#REF!","v":{"$error":"#REF!"}}]
[{"$f":"'E6-Operating Measurements'!$B$210","v":"00:00:00"},{"$error":"#REF!"},{"$error":"#REF!"},{"$f":"'E6-Operating Measurements'!#REF!","v":{"$error":"#REF!"}}]
[{"$f":"'E6-Operating Measurements'!$B$211","v":"00:00:00"},{"$error":"#REF!"},{"$error":"#REF!"},{"$f":"'E6-Operating Measurements'!#REF!","v":{"$error":"#REF!"}}]
[{"$f":"'E6-Operating Measurements'!$B$212","v":"00:00:00"},{"$error":"#REF!"},{"$error":"#REF!"},{"$f":"'E6-Operating Measurements'!#REF!","v":{"$error":"#REF!"}}]
[{"$f":"'E6-Operating Measurements'!$B$213","v":"00:00:00"},{"$error":"#REF!"},{"$error":"#REF!"},{"$f":"'E6-Operating Measurements'!#REF!","v":{"$error":"#REF!"}}]
[{"$f":"'E6-Operating Measurements'!$B$214","v":"00:00:00"},{"$error":"#REF!"},{"$error":"#REF!"},{"$f":"'E6-Operating Measurements'!#REF!","v":{"$error":"#REF!"}}]
[{"$f":"'E6-Operating Measurements'!$B$215","v":"00:00:00"},{"$error":"#REF!"},{"$error":"#REF!"},{"$f":"'E6-Operating Measurements'!#REF!","v":{"$error":"#REF!"}}]
[{"$f":"'E6-Operating Measurements'!$B$216","v":"00:00:00"},{"$error":"#REF!"},{"$error":"#REF!"},{"$f":"'E6-Operating Measurements'!#REF!","v":{"$error":"#REF!"}}]
[{"$f":"'E6-Operating Measurements'!$B$217","v":"00:00:00"},{"$error":"#REF!"},{"$error":"#REF!"},{"$f":"'E6-Operating Measurements'!#REF!","v":{"$error":"#REF!"}}]
[{"$f":"'E6-Operating Measurements'!$B$218","v":"00:00:00"},{"$error":"#REF!"},{"$error":"#REF!"},{"$f":"'E6-Operating Measurements'!#REF!","v":{"$error":"#REF!"}}]
[{"$f":"'E6-Operating Measurements'!$B$219","v":"00:00:00"},{"$error":"#REF!"},{"$error":"#REF!"},{"$f":"'E6-Operating Measurements'!#REF!","v":{"$error":"#REF!"}}]
[{"$f":"'E6-Operating Measurements'!$B$220","v":"00:00:00"},{"$error":"#REF!"},{"$error":"#REF!"},{"$f":"'E6-Operating Measurements'!#REF!","v":{"$error":"#REF!"}}]
[{"$f":"'E6-Operating Measurements'!$B$221","v":"00:00:00"},{"$error":"#REF!"},{"$error":"#REF!"},{"$f":"'E6-Operating Measurements'!#REF!","v":{"$error":"#REF!"}}]
[{"$f":"'E6-Operating Measurements'!$B$222","v":"00:00:00"},{"$error":"#REF!"},{"$error":"#REF!"},{"$f":"'E6-Operating Measurements'!#REF!","v":{"$error":"#REF!"}}]
[{"$f":"'E6-Operating Measurements'!$B$223","v":"00:00:00"},{"$error":"#REF!"},{"$error":"#REF!"},{"$f":"'E6-Operating Measurements'!#REF!","v":{"$error":"#REF!"}}]
[{"$f":"'E6-Operating Measurements'!$B$224","v":"00:00:00"},{"$error":"#REF!"},{"$error":"#REF!"},{"$f":"'E6-Operating Measurements'!#REF!","v":{"$error":"#REF!"}}]
[{"$f":"'E6-Operating Measurements'!$B$225","v":"00:00:00"},{"$error":"#REF!"},{"$error":"#REF!"},{"$f":"'E6-Operating Measurements'!#REF!","v":{"$error":"#REF!"}}]
[{"$f":"'E6-Operating Measurements'!$B$226","v":"00:00:00"},{"$error":"#REF!"},{"$error":"#REF!"},{"$f":"'E6-Operating Measurements'!#REF!","v":{"$error":"#REF!"}}]
[{"$f":"'E6-Operating Measurements'!$B$227","v":"00:00:00"},{"$error":"#REF!"},{"$error":"#REF!"},{"$f":"'E6-Operating Measurements'!#REF!","v":{"$error":"#REF!"}}]
[{"$f":"'E6-Operating Measurements'!$B$228","v":"00:00:00"},{"$error":"#REF!"},{"$error":"#REF!"},{"$f":"'E6-Operating Measurements'!#REF!","v":{"$error":"#REF!"}}]
[{"$f":"'E6-Operating Measurements'!$B$229","v":"00:00:00"},{"$error":"#REF!"},{"$error":"#REF!"},{"$f":"'E6-Operating Measurements'!#REF!","v":{"$error":"#REF!"}}]
[{"$f":"'E6-Operating Measurements'!$B$230","v":"00:00:00"},{"$error":"#REF!"},{"$error":"#REF!"},{"$f":"'E6-Operating Measurements'!#REF!","v":{"$error":"#REF!"}}]
[{"$f":"'E6-Operating Measurements'!$B$231","v":"00:00:00"},{"$error":"#REF!"},{"$error":"#REF!"},{"$f":"'E6-Operating Measurements'!#REF!","v":{"$error":"#REF!"}}]
[{"$f":"'E6-Operating Measurements'!$B$232","v":"00:00:00"},{"$error":"#REF!"},{"$error":"#REF!"},{"$f":"'E6-Operating Measurements'!#REF!","v":{"$error":"#REF!"}}]
[{"$f":"'E6-Operating Measurements'!$B$233","v":"00:00:00"},{"$error":"#REF!"},{"$error":"#REF!"},{"$f":"'E6-Operating Measurements'!#REF!","v":{"$error":"#REF!"}}]
[{"$f":"'E6-Operating Measurements'!$B$234","v":"00:00:00"},{"$error":"#REF!"},{"$error":"#REF!"},{"$f":"'E6-Operating Measurements'!#REF!","v":{"$error":"#REF!"}}]
[{"$f":"'E6-Operating Measurements'!$B$235","v":"00:00:00"},{"$error":"#REF!"},{"$error":"#REF!"},{"$f":"'E6-Operating Measurements'!#REF!","v":{"$error":"#REF!"}}]
[{"$f":"'E6-Operating Measurements'!$B$236","v":"00:00:00"},{"$error":"#REF!"},{"$error":"#REF!"},{"$f":"'E6-Operating Measurements'!#REF!","v":{"$error":"#REF!"}}]
[{"$f":"'E6-Operating Measurements'!$B$237","v":"00:00:00"},{"$error":"#REF!"},{"$error":"#REF!"},{"$f":"'E6-Operating Measurements'!#REF!","v":{"$error":"#REF!"}}]
[{"$f":"'E6-Operating Measurements'!$B$238","v":"00:00:00"},{"$error":"#REF!"},{"$error":"#REF!"},{"$f":"'E6-Operating Measurements'!#REF!","v":{"$error":"#REF!"}}]
[{"$f":"'E6-Operating Measurements'!$B$239","v":"00:00:00"},{"$error":"#REF!"},{"$error":"#REF!"},{"$f":"'E6-Operating Measurements'!#REF!","v":{"$error":"#REF!"}}]
[{"$f":"'E6-Operating Measurements'!$B$240","v":"00:00:00"},{"$error":"#REF!"},{"$error":"#REF!"},{"$f":"'E6-Operating Measurements'!#REF!","v":{"$error":"#REF!"}}]
[{"$f":"'E6-Operating Measurements'!$B$241","v":"00:00:00"},{"$error":"#REF!"},{"$error":"#REF!"},{"$f":"'E6-Operating Measurements'!#REF!","v":{"$error":"#REF!"}}]
[{"$f":"'E6-Operating Measurements'!$B$242","v":"00:00:00"},{"$error":"#REF!"},{"$error":"#REF!"},{"$f":"'E6-Operating Measurements'!#REF!","v":{"$error":"#REF!"}}]
[{"$f":"'E6-Operating Measurements'!$B$243","v":"00:00:00"},{"$error":"#REF!"},{"$error":"#REF!"},{"$f":"'E6-Operating Measurements'!#REF!","v":{"$error":"#REF!"}}]
[{"$f":"'E6-Operating Measurements'!$B$244","v":"00:00:00"},{"$error":"#REF!"},{"$error":"#REF!"},{"$f":"'E6-Operating Measurements'!#REF!","v":{"$error":"#REF!"}}]
[{"$f":"'E6-Operating Measurements'!$B$245","v":"00:00:00"},{"$error":"#REF!"},{"$error":"#REF!"},{"$f":"'E6-Operating Measurements'!#REF!","v":{"$error":"#REF!"}}]
[{"$f":"'E6-Operating Measurements'!$B$246","v":"00:00:00"},{"$error":"#REF!"},{"$error":"#REF!"},{"$f":"'E6-Operating Measurements'!#REF!","v":{"$error":"#REF!"}}]
[{"$f":"'E6-Operating Measurements'!$B$247","v":"00:00:00"},{"$error":"#REF!"},{"$error":"#REF!"},{"$f":"'E6-Operating Measurements'!#REF!","v":{"$error":"#REF!"}}]
[{"$f":"'E6-Operating Measurements'!$B$248","v":"00:00:00"},{"$error":"#REF!"},{"$error":"#REF!"},{"$f":"'E6-Operating Measurements'!#REF!","v":{"$error":"#REF!"}}]
[{"$f":"'E6-Operating Measurements'!$B$249","v":"00:00:00"},{"$error":"#REF!"},{"$error":"#REF!"},{"$f":"'E6-Operating Measurements'!#REF!","v":{"$error":"#REF!"}}]
[{"$f":"'E6-Operating Measurements'!$B$250","v":"00:00:00"},{"$error":"#REF!"},{"$error":"#REF!"},{"$f":"'E6-Operating Measurements'!#REF!","v":{"$error":"#REF!"}}]
[{"$f":"'E6-Operating Measurements'!$B$251","v":"00:00:00"},{"$error":"#REF!"},{"$error":"#REF!"},{"$f":"'E6-Operating Measurements'!#REF!","v":{"$error":"#REF!"}}]
[{"$f":"'E6-Operating Measurements'!$B$252","v":"00:00:00"},{"$error":"#REF!"},{"$error":"#REF!"},{"$f":"'E6-Operating Measurements'!#REF!","v":{"$error":"#REF!"}}]
[{"$f":"'E6-Operating Measurements'!$B$253","v":"00:00:00"},{"$error":"#REF!"},{"$error":"#REF!"},{"$f":"'E6-Operating Measurements'!#REF!","v":{"$error":"#REF!"}}]
[{"$f":"'E6-Operating Measurements'!$B$254","v":"00:00:00"},{"$error":"#REF!"},{"$error":"#REF!"},{"$f":"'E6-Operating Measurements'!#REF!","v":{"$error":"#REF!"}}]
[{"$f":"'E6-Operating Measurements'!$B$255","v":"00:00:00"},{"$error":"#REF!"},{"$error":"#REF!"},{"$f":"'E6-Operating Measurements'!#REF!","v":{"$error":"#REF!"}}]
[{"$f":"'E6-Operating Measurements'!$B$256","v":"00:00:00"},{"$error":"#REF!"},{"$error":"#REF!"},{"$f":"'E6-Operating Measurements'!#REF!","v":{"$error":"#REF!"}}]
[{"$f":"'E6-Operating Measurements'!$B$257","v":"00:00:00"},{"$error":"#REF!"},{"$error":"#REF!"},{"$f":"'E6-Operating Measurements'!#REF!","v":{"$error":"#REF!"}}]
[{"$f":"'E6-Operating Measurements'!$B$258","v":"00:00:00"},{"$error":"#REF!"},{"$error":"#REF!"},{"$f":"'E6-Operating Measurements'!#REF!","v":{"$error":"#REF!"}}]
[{"$f":"'E6-Operating Measurements'!$B$259","v":"00:00:00"},{"$error":"#REF!"},{"$error":"#REF!"},{"$f":"'E6-Operating Measurements'!#REF!","v":{"$error":"#REF!"}}]
[{"$f":"'E6-Operating Measurements'!$B$260","v":"00:00:00"},{"$error":"#REF!"},{"$error":"#REF!"},{"$f":"'E6-Operating Measurements'!#REF!","v":{"$error":"#REF!"}}]
[{"$f":"'E6-Operating Measurements'!$B$261","v":"00:00:00"},{"$error":"#REF!"},{"$error":"#REF!"},{"$f":"'E6-Operating Measurements'!#REF!","v":{"$error":"#REF!"}}]
[{"$f":"'E6-Operating Measurements'!$B$262","v":"00:00:00"},{"$error":"#REF!"},{"$error":"#REF!"},{"$f":"'E6-Operating Measurements'!#REF!","v":{"$error":"#REF!"}}]
[{"$f":"'E6-Operating Measurements'!$B$263","v":"00:00:00"},{"$error":"#REF!"},{"$error":"#REF!"},{"$f":"'E6-Operating Measurements'!#REF!","v":{"$error":"#REF!"}}]
[{"$f":"'E6-Operating Measurements'!$B$264","v":"00:00:00"},{"$error":"#REF!"},{"$error":"#REF!"},{"$f":"'E6-Operating Measurements'!#REF!","v":{"$error":"#REF!"}}]
[{"$f":"'E6-Operating Measurements'!$B$265","v":"00:00:00"},{"$error":"#REF!"},{"$error":"#REF!"},{"$f":"'E6-Operating Measurements'!#REF!","v":{"$error":"#REF!"}}]
[{"$f":"'E6-Operating Measurements'!$B$266","v":"00:00:00"},{"$f":"1.05*$F$2-0.05*$F$4","v":{"$error":"#REF!"}},{"$f":"1.05*$F$4-0.05*$F$2","v":{"$error":"#REF!"}},{"$f":"'E6-Operating Measurements'!#REF!","v":{"$error":"#REF!"}}]
[{"$f":"'E6-Operating Measurements'!$B$267","v":"00:00:00"},{"$error":"#REF!"},{"$error":"#REF!"},{"$f":"'E6-Operating Measurements'!#REF!","v":{"$error":"#REF!"}}]
[{"$f":"'E6-Operating Measurements'!$B$268","v":"00:00:00"},{"$error":"#REF!"},{"$error":"#REF!"},{"$f":"'E6-Operating Measurements'!#REF!","v":{"$error":"#REF!"}}]
[{"$f":"'E6-Operating Measurements'!$B$269","v":"00:00:00"},{"$error":"#REF!"},{"$error":"#REF!"},{"$f":"'E6-Operating Measurements'!#REF!","v":{"$error":"#REF!"}}]
[{"$f":"'E6-Operating Measurements'!$B$270","v":"00:00:00"},{"$error":"#REF!"},{"$error":"#REF!"},{"$f":"'E6-Operating Measurements'!#REF!","v":{"$error":"#REF!"}}]
[{"$f":"'E6-Operating Measurements'!$B$271","v":"00:00:00"},{"$error":"#REF!"},{"$error":"#REF!"},{"$f":"'E6-Operating Measurements'!#REF!","v":{"$error":"#REF!"}}]
[{"$f":"'E6-Operating Measurements'!$B$272","v":"00:00:00"},{"$error":"#REF!"},{"$error":"#REF!"},{"$f":"'E6-Operating Measurements'!#REF!","v":{"$error":"#REF!"}}]
[{"$f":"'E6-Operating Measurements'!$B$273","v":"00:00:00"},{"$error":"#REF!"},{"$error":"#REF!"},{"$f":"'E6-Operating Measurements'!#REF!","v":{"$error":"#REF!"}}]
[{"$f":"'E6-Operating Measurements'!$B$274","v":"00:00:00"},{"$error":"#REF!"},{"$error":"#REF!"},{"$f":"'E6-Operating Measurements'!#REF!","v":{"$error":"#REF!"}}]
[{"$f":"'E6-Operating Measurements'!$B$275","v":"00:00:00"},{"$error":"#REF!"},{"$error":"#REF!"},{"$f":"'E6-Operating Measurements'!#REF!","v":{"$error":"#REF!"}}]
[{"$f":"'E6-Operating Measurements'!$B$276","v":"00:00:00"},{"$error":"#REF!"},{"$error":"#REF!"},{"$f":"'E6-Operating Measurements'!#REF!","v":{"$error":"#REF!"}}]
[{"$f":"'E6-Operating Measurements'!$B$277","v":"00:00:00"},{"$error":"#REF!"},{"$error":"#REF!"},{"$f":"'E6-Operating Measurements'!#REF!","v":{"$error":"#REF!"}}]
[{"$f":"'E6-Operating Measurements'!$B$278","v":"00:00:00"},{"$error":"#REF!"},{"$error":"#REF!"},{"$f":"'E6-Operating Measurements'!#REF!","v":{"$error":"#REF!"}}]
[{"$f":"'E6-Operating Measurements'!$B$279","v":"00:00:00"},{"$error":"#REF!"},{"$error":"#REF!"},{"$f":"'E6-Operating Measurements'!#REF!","v":{"$error":"#REF!"}}]
[{"$f":"'E6-Operating Measurements'!$B$280","v":"00:00:00"},{"$error":"#REF!"},{"$error":"#REF!"},{"$f":"'E6-Operating Measurements'!#REF!","v":{"$error":"#REF!"}}]
[{"$f":"'E6-Operating Measurements'!$B$281","v":"00:00:00"},{"$error":"#REF!"},{"$error":"#REF!"},{"$f":"'E6-Operating Measurements'!#REF!","v":{"$error":"#REF!"}}]
[{"$f":"'E6-Operating Measurements'!$B$282","v":"00:00:00"},{"$error":"#REF!"},{"$error":"#REF!"},{"$f":"'E6-Operating Measurements'!#REF!","v":{"$error":"#REF!"}}]
[{"$f":"'E6-Operating Measurements'!$B$283","v":"00:00:00"},{"$error":"#REF!"},{"$error":"#REF!"},{"$f":"'E6-Operating Measurements'!#REF!","v":{"$error":"#REF!"}}]
[{"$f":"'E6-Operating Measurements'!$B$284","v":"00:00:00"},{"$error":"#REF!"},{"$error":"#REF!"},{"$f":"'E6-Operating Measurements'!#REF!","v":{"$error":"#REF!"}}]
[{"$f":"'E6-Operating Measurements'!$B$285","v":"00:00:00"},{"$error":"#REF!"},{"$error":"#REF!"},{"$f":"'E6-Operating Measurements'!#REF!","v":{"$error":"#REF!"}}]
[{"$f":"'E6-Operating Measurements'!$B$286","v":"00:00:00"},{"$error":"#REF!"},{"$error":"#REF!"},{"$f":"'E6-Operating Measurements'!#REF!","v":{"$error":"#REF!"}}]
[{"$f":"'E6-Operating Measurements'!$B$287","v":"00:00:00"},{"$error":"#REF!"},{"$error":"#REF!"},{"$f":"'E6-Operating Measurements'!#REF!","v":{"$error":"#REF!"}}]
[{"$f":"'E6-Operating Measurements'!$B$288","v":"00:00:00"},{"$error":"#REF!"},{"$error":"#REF!"},{"$f":"'E6-Operating Measurements'!#REF!","v":{"$error":"#REF!"}}]
[{"$f":"'E6-Operating Measurements'!$B$289","v":"00:00:00"},{"$error":"#REF!"},{"$error":"#REF!"},{"$f":"'E6-Operating Measurements'!#REF!","v":{"$error":"#REF!"}}]
[{"$f":"'E6-Operating Measurements'!$B$290","v":"00:00:00"},{"$error":"#REF!"},{"$error":"#REF!"},{"$f":"'E6-Operating Measurements'!#REF!","v":{"$error":"#REF!"}}]
[{"$f":"'E6-Operating Measurements'!$B$291","v":"00:00:00"},{"$error":"#REF!"},{"$error":"#REF!"},{"$f":"'E6-Operating Measurements'!#REF!","v":{"$error":"#REF!"}}]
[{"$f":"'E6-Operating Measurements'!$B$292","v":"00:00:00"},{"$error":"#REF!"},{"$error":"#REF!"},{"$f":"'E6-Operating Measurements'!#REF!","v":{"$error":"#REF!"}}]
[{"$f":"'E6-Operating Measurements'!$B$293","v":"00:00:00"},{"$error":"#REF!"},{"$error":"#REF!"},{"$f":"'E6-Operating Measurements'!#REF!","v":{"$error":"#REF!"}}]
[{"$f":"'E6-Operating Measurements'!$B$294","v":"00:00:00"},{"$error":"#REF!"},{"$error":"#REF!"},{"$f":"'E6-Operating Measurements'!#REF!","v":{"$error":"#REF!"}}]
[{"$f":"'E6-Operating Measurements'!$B$295","v":"00:00:00"},{"$error":"#REF!"},{"$error":"#REF!"},{"$f":"'E6-Operating Measurements'!#REF!","v":{"$error":"#REF!"}}]
[{"$f":"'E6-Operating Measurements'!$B$296","v":"00:00:00"},{"$error":"#REF!"},{"$error":"#REF!"},{"$f":"'E6-Operating Measurements'!#REF!","v":{"$error":"#REF!"}}]
[{"$f":"'E6-Operating Measurements'!$B$297","v":"00:00:00"},{"$error":"#REF!"},{"$error":"#REF!"},{"$f":"'E6-Operating Measurements'!#REF!","v":{"$error":"#REF!"}}]
[{"$f":"'E6-Operating Measurements'!$B$298","v":"00:00:00"},{"$error":"#REF!"},{"$error":"#REF!"},{"$f":"'E6-Operating Measurements'!#REF!","v":{"$error":"#REF!"}}]
[{"$f":"'E6-Operating Measurements'!$B$299","v":"00:00:00"},{"$error":"#REF!"},{"$error":"#REF!"},{"$f":"'E6-Operating Measurements'!#REF!","v":{"$error":"#REF!"}}]
[{"$f":"'E6-Operating Measurements'!$B$300","v":"00:00:00"},{"$error":"#REF!"},{"$error":"#REF!"},{"$f":"'E6-Operating Measurements'!#REF!","v":{"$error":"#REF!"}}]
[{"$f":"'E6-Operating Measurements'!$B$301","v":"00:00:00"},{"$error":"#REF!"},{"$error":"#REF!"},{"$f":"'E6-Operating Measurements'!#REF!","v":{"$error":"#REF!"}}]
[{"$f":"'E6-Operating Measurements'!$B$302","v":"00:00:00"},{"$error":"#REF!"},{"$error":"#REF!"},{"$f":"'E6-Operating Measurements'!#REF!","v":{"$error":"#REF!"}}]
[{"$f":"'E6-Operating Measurements'!$B$303","v":"00:00:00"},{"$error":"#REF!"},{"$error":"#REF!"},{"$f":"'E6-Operating Measurements'!#REF!","v":{"$error":"#REF!"}}]
[{"$f":"'E6-Operating Measurements'!$B$304","v":"00:00:00"},{"$error":"#REF!"},{"$error":"#REF!"},{"$f":"'E6-Operating Measurements'!#REF!","v":{"$error":"#REF!"}}]
[{"$f":"'E6-Operating Measurements'!$B$305","v":"00:00:00"},{"$error":"#REF!"},{"$error":"#REF!"},{"$f":"'E6-Operating Measurements'!#REF!","v":{"$error":"#REF!"}}]
[{"$f":"'E6-Operating Measurements'!$B$306","v":"00:00:00"},{"$error":"#REF!"},{"$error":"#REF!"},{"$f":"'E6-Operating Measurements'!#REF!","v":{"$error":"#REF!"}}]
[{"$f":"'E6-Operating Measurements'!$B$307","v":"00:00:00"},{"$error":"#REF!"},{"$error":"#REF!"},{"$f":"'E6-Operating Measurements'!#REF!","v":{"$error":"#REF!"}}]
[{"$f":"'E6-Operating Measurements'!$B$308","v":"00:00:00"},{"$error":"#REF!"},{"$error":"#REF!"},{"$f":"'E6-Operating Measurements'!#REF!","v":{"$error":"#REF!"}}]
[{"$f":"'E6-Operating Measurements'!$B$309","v":"00:00:00"},{"$error":"#REF!"},{"$error":"#REF!"},{"$f":"'E6-Operating Measurements'!#REF!","v":{"$error":"#REF!"}}]
[{"$f":"'E6-Operating Measurements'!$B$310","v":"00:00:00"},{"$error":"#REF!"},{"$error":"#REF!"},{"$f":"'E6-Operating Measurements'!#REF!","v":{"$error":"#REF!"}}]
[{"$f":"'E6-Operating Measurements'!$B$311","v":"00:00:00"},{"$error":"#REF!"},{"$error":"#REF!"},{"$f":"'E6-Operating Measurements'!#REF!","v":{"$error":"#REF!"}}]
[{"$f":"'E6-Operating Measurements'!$B$312","v":"00:00:00"},{"$error":"#REF!"},{"$error":"#REF!"},{"$f":"'E6-Operating Measurements'!#REF!","v":{"$error":"#REF!"}}]
[{"$f":"'E6-Operating Measurements'!$B$313","v":"00:00:00"},{"$error":"#REF!"},{"$error":"#REF!"},{"$f":"'E6-Operating Measurements'!#REF!","v":{"$error":"#REF!"}}]
[{"$f":"'E6-Operating Measurements'!$B$314","v":"00:00:00"},{"$error":"#REF!"},{"$error":"#REF!"},{"$f":"'E6-Operating Measurements'!#REF!","v":{"$error":"#REF!"}}]
[{"$f":"'E6-Operating Measurements'!$B$315","v":"00:00:00"},{"$error":"#REF!"},{"$error":"#REF!"},{"$f":"'E6-Operating Measurements'!#REF!","v":{"$error":"#REF!"}}]
[{"$f":"'E6-Operating Measurements'!$B$316","v":"00:00:00"},{"$error":"#REF!"},{"$error":"#REF!"},{"$f":"'E6-Operating Measurements'!#REF!","v":{"$error":"#REF!"}}]
[{"$f":"'E6-Operating Measurements'!$B$317","v":"00:00:00"},{"$error":"#REF!"},{"$error":"#REF!"},{"$f":"'E6-Operating Measurements'!#REF!","v":{"$error":"#REF!"}}]
[{"$f":"'E6-Operating Measurements'!$B$318","v":"00:00:00"},{"$error":"#REF!"},{"$error":"#REF!"},{"$f":"'E6-Operating Measurements'!#REF!","v":{"$error":"#REF!"}}]
[{"$f":"'E6-Operating Measurements'!$B$319","v":"00:00:00"},{"$error":"#REF!"},{"$error":"#REF!"},{"$f":"'E6-Operating Measurements'!#REF!","v":{"$error":"#REF!"}}]
[{"$f":"'E6-Operating Measurements'!$B$320","v":"00:00:00"},{"$error":"#REF!"},{"$error":"#REF!"},{"$f":"'E6-Operating Measurements'!#REF!","v":{"$error":"#REF!"}}]
[{"$f":"'E6-Operating Measurements'!$B$321","v":"00:00:00"},{"$error":"#REF!"},{"$error":"#REF!"},{"$f":"'E6-Operating Measurements'!#REF!","v":{"$error":"#REF!"}}]
[{"$f":"'E6-Operating Measurements'!$B$322","v":"00:00:00"},{"$error":"#REF!"},{"$error":"#REF!"},{"$f":"'E6-Operating Measurements'!#REF!","v":{"$error":"#REF!"}}]
[{"$f":"'E6-Operating Measurements'!$B$323","v":"00:00:00"},{"$error":"#REF!"},{"$error":"#REF!"},{"$f":"'E6-Operating Measurements'!#REF!","v":{"$error":"#REF!"}}]
[{"$f":"'E6-Operating Measurements'!$B$324","v":"00:00:00"},{"$error":"#REF!"},{"$error":"#REF!"},{"$f":"'E6-Operating Measurements'!#REF!","v":{"$error":"#REF!"}}]
[{"$f":"'E6-Operating Measurements'!$B$325","v":"00:00:00"},{"$error":"#REF!"},{"$error":"#REF!"},{"$f":"'E6-Operating Measurements'!#REF!","v":{"$error":"#REF!"}}]
[{"$f":"'E6-Operating Measurements'!$B$326","v":"00:00:00"},{"$error":"#REF!"},{"$error":"#REF!"},{"$f":"'E6-Operating Measurements'!#REF!","v":{"$error":"#REF!"}}]
[{"$f":"'E6-Operating Measurements'!$B$327","v":"00:00:00"},{"$error":"#REF!"},{"$error":"#REF!"},{"$f":"'E6-Operating Measurements'!#REF!","v":{"$error":"#REF!"}}]
[{"$f":"'E6-Operating Measurements'!$B$328","v":"00:00:00"},{"$error":"#REF!"},{"$error":"#REF!"},{"$f":"'E6-Operating Measurements'!#REF!","v":{"$error":"#REF!"}}]
[{"$f":"'E6-Operating Measurements'!$B$329","v":"00:00:00"},{"$error":"#REF!"},{"$error":"#REF!"},{"$f":"'E6-Operating Measurements'!#REF!","v":{"$error":"#REF!"}}]
[{"$f":"'E6-Operating Measurements'!$B$330","v":"00:00:00"},{"$f":"1.05*$F$2-0.05*$F$4","v":{"$error":"#REF!"}},{"$f":"1.05*$F$4-0.05*$F$2","v":{"$error":"#REF!"}},{"$f":"'E6-Operating Measurements'!#REF!","v":{"$error":"#REF!"}}]
[{"$f":"'E6-Operating Measurements'!$B$331","v":"00:00:00"},{"$error":"#REF!"},{"$error":"#REF!"},{"$f":"'E6-Operating Measurements'!#REF!","v":{"$error":"#REF!"}}]
[{"$f":"'E6-Operating Measurements'!$B$332","v":"00:00:00"},{"$error":"#REF!"},{"$error":"#REF!"},{"$f":"'E6-Operating Measurements'!#REF!","v":{"$error":"#REF!"}}]
[{"$f":"'E6-Operating Measurements'!$B$333","v":"00:00:00"},{"$error":"#REF!"},{"$error":"#REF!"},{"$f":"'E6-Operating Measurements'!#REF!","v":{"$error":"#REF!"}}]
[{"$f":"'E6-Operating Measurements'!$B$334","v":"00:00:00"},{"$error":"#REF!"},{"$error":"#REF!"},{"$f":"'E6-Operating Measurements'!#REF!","v":{"$error":"#REF!"}}]
[{"$f":"'E6-Operating Measurements'!$B$335","v":"00:00:00"},{"$error":"#REF!"},{"$error":"#REF!"},{"$f":"'E6-Operating Measurements'!#REF!","v":{"$error":"#REF!"}}]
[{"$f":"'E6-Operating Measurements'!$B$336","v":"00:00:00"},{"$error":"#REF!"},{"$error":"#REF!"},{"$f":"'E6-Operating Measurements'!#REF!","v":{"$error":"#REF!"}}]
[{"$f":"'E6-Operating Measurements'!$B$337","v":"00:00:00"},{"$error":"#REF!"},{"$error":"#REF!"},{"$f":"'E6-Operating Measurements'!#REF!","v":{"$error":"#REF!"}}]
[{"$f":"'E6-Operating Measurements'!$B$338","v":"00:00:00"},{"$error":"#REF!"},{"$error":"#REF!"},{"$f":"'E6-Operating Measurements'!#REF!","v":{"$error":"#REF!"}}]
[{"$f":"'E6-Operating Measurements'!$B$339","v":"00:00:00"},{"$error":"#REF!"},{"$error":"#REF!"},{"$f":"'E6-Operating Measurements'!#REF!","v":{"$error":"#REF!"}}]
[{"$f":"'E6-Operating Measurements'!$B$340","v":"00:00:00"},{"$error":"#REF!"},{"$error":"#REF!"},{"$f":"'E6-Operating Measurements'!#REF!","v":{"$error":"#REF!"}}]
[{"$f":"'E6-Operating Measurements'!$B$341","v":"00:00:00"},{"$error":"#REF!"},{"$error":"#REF!"},{"$f":"'E6-Operating Measurements'!#REF!","v":{"$error":"#REF!"}}]
[{"$f":"'E6-Operating Measurements'!$B$342","v":"00:00:00"},{"$error":"#REF!"},{"$error":"#REF!"},{"$f":"'E6-Operating Measurements'!#REF!","v":{"$error":"#REF!"}}]
[{"$f":"'E6-Operating Measurements'!$B$343","v":"00:00:00"},{"$error":"#REF!"},{"$error":"#REF!"},{"$f":"'E6-Operating Measurements'!#REF!","v":{"$error":"#REF!"}}]
[{"$f":"'E6-Operating Measurements'!$B$344","v":"00:00:00"},{"$error":"#REF!"},{"$error":"#REF!"},{"$f":"'E6-Operating Measurements'!#REF!","v":{"$error":"#REF!"}}]
[{"$f":"'E6-Operating Measurements'!$B$345","v":"00:00:00"},{"$error":"#REF!"},{"$error":"#REF!"},{"$f":"'E6-Operating Measurements'!#REF!","v":{"$error":"#REF!"}}]
[{"$f":"'E6-Operating Measurements'!$B$346","v":"00:00:00"},{"$error":"#REF!"},{"$error":"#REF!"},{"$f":"'E6-Operating Measurements'!#REF!","v":{"$error":"#REF!"}}]
[{"$f":"'E6-Operating Measurements'!$B$347","v":"00:00:00"},{"$error":"#REF!"},{"$error":"#REF!"},{"$f":"'E6-Operating Measurements'!#REF!","v":{"$error":"#REF!"}}]
[{"$f":"'E6-Operating Measurements'!$B$348","v":"00:00:00"},{"$error":"#REF!"},{"$error":"#REF!"},{"$f":"'E6-Operating Measurements'!#REF!","v":{"$error":"#REF!"}}]
[{"$f":"'E6-Operating Measurements'!$B$349","v":"00:00:00"},{"$error":"#REF!"},{"$error":"#REF!"},{"$f":"'E6-Operating Measurements'!#REF!","v":{"$error":"#REF!"}}]
[{"$f":"'E6-Operating Measurements'!$B$350","v":"00:00:00"},{"$error":"#REF!"},{"$error":"#REF!"},{"$f":"'E6-Operating Measurements'!#REF!","v":{"$error":"#REF!"}}]
[{"$f":"'E6-Operating Measurements'!$B$351","v":"00:00:00"},{"$error":"#REF!"},{"$error":"#REF!"},{"$f":"'E6-Operating Measurements'!#REF!","v":{"$error":"#REF!"}}]
[{"$f":"'E6-Operating Measurements'!$B$352","v":"00:00:00"},{"$error":"#REF!"},{"$error":"#REF!"},{"$f":"'E6-Operating Measurements'!#REF!","v":{"$error":"#REF!"}}]
[{"$f":"'E6-Operating Measurements'!$B$353","v":"00:00:00"},{"$error":"#REF!"},{"$error":"#REF!"},{"$f":"'E6-Operating Measurements'!#REF!","v":{"$error":"#REF!"}}]
[{"$f":"'E6-Operating Measurements'!$B$354","v":"00:00:00"},{"$error":"#REF!"},{"$error":"#REF!"},{"$f":"'E6-Operating Measurements'!#REF!","v":{"$error":"#REF!"}}]
[{"$f":"'E6-Operating Measurements'!$B$355","v":"00:00:00"},{"$error":"#REF!"},{"$error":"#REF!"},{"$f":"'E6-Operating Measurements'!#REF!","v":{"$error":"#REF!"}}]
[{"$f":"'E6-Operating Measurements'!$B$356","v":"00:00:00"},{"$error":"#REF!"},{"$error":"#REF!"},{"$f":"'E6-Operating Measurements'!#REF!","v":{"$error":"#REF!"}}]
[{"$f":"'E6-Operating Measurements'!$B$357","v":"00:00:00"},{"$error":"#REF!"},{"$error":"#REF!"},{"$f":"'E6-Operating Measurements'!#REF!","v":{"$error":"#REF!"}}]
[{"$f":"'E6-Operating Measurements'!$B$358","v":"00:00:00"},{"$error":"#REF!"},{"$error":"#REF!"},{"$f":"'E6-Operating Measurements'!#REF!","v":{"$error":"#REF!"}}]
[{"$f":"'E6-Operating Measurements'!$B$359","v":"00:00:00"},{"$error":"#REF!"},{"$error":"#REF!"},{"$f":"'E6-Operating Measurements'!#REF!","v":{"$error":"#REF!"}}]
[{"$f":"'E6-Operating Measurements'!$B$360","v":"00:00:00"},{"$error":"#REF!"},{"$error":"#REF!"},{"$f":"'E6-Operating Measurements'!#REF!","v":{"$error":"#REF!"}}]
[{"$f":"'E6-Operating Measurements'!$B$361","v":"00:00:00"},{"$error":"#REF!"},{"$error":"#REF!"},{"$f":"'E6-Operating Measurements'!#REF!","v":{"$error":"#REF!"}}]
[{"$f":"'E6-Operating Measurements'!$B$362","v":"00:00:00"},{"$error":"#REF!"},{"$error":"#REF!"},{"$f":"'E6-Operating Measurements'!#REF!","v":{"$error":"#REF!"}}]
[{"$f":"'E6-Operating Measurements'!$B$363","v":"00:00:00"},{"$error":"#REF!"},{"$error":"#REF!"},{"$f":"'E6-Operating Measurements'!#REF!","v":{"$error":"#REF!"}}]
[{"$f":"'E6-Operating Measurements'!$B$364","v":"00:00:00"},{"$error":"#REF!"},{"$error":"#REF!"},{"$f":"'E6-Operating Measurements'!#REF!","v":{"$error":"#REF!"}}]
[{"$f":"'E6-Operating Measurements'!$B$365","v":"00:00:00"},{"$error":"#REF!"},{"$error":"#REF!"},{"$f":"'E6-Operating Measurements'!#REF!","v":{"$error":"#REF!"}}]
[{"$f":"'E6-Operating Measurements'!$B$366","v":"00:00:00"},{"$error":"#REF!"},{"$error":"#REF!"},{"$f":"'E6-Operating Measurements'!#REF!","v":{"$error":"#REF!"}}]
[{"$f":"'E6-Operating Measurements'!$B$367","v":"00:00:00"},{"$error":"#REF!"},{"$error":"#REF!"},{"$f":"'E6-Operating Measurements'!#REF!","v":{"$error":"#REF!"}}]
[{"$f":"'E6-Operating Measurements'!$B$368","v":"00:00:00"},{"$error":"#REF!"},{"$error":"#REF!"},{"$f":"'E6-Operating Measurements'!#REF!","v":{"$error":"#REF!"}}]
[{"$f":"'E6-Operating Measurements'!$B$369","v":"00:00:00"},{"$error":"#REF!"},{"$error":"#REF!"},{"$f":"'E6-Operating Measurements'!#REF!","v":{"$error":"#REF!"}}]
[{"$f":"'E6-Operating Measurements'!$B$370","v":"00:00:00"},{"$error":"#REF!"},{"$error":"#REF!"},{"$f":"'E6-Operating Measurements'!#REF!","v":{"$error":"#REF!"}}]
[{"$f":"'E6-Operating Measurements'!$B$371","v":"00:00:00"},{"$error":"#REF!"},{"$error":"#REF!"},{"$f":"'E6-Operating Measurements'!#REF!","v":{"$error":"#REF!"}}]
[{"$f":"'E6-Operating Measurements'!$B$372","v":"00:00:00"},{"$error":"#REF!"},{"$error":"#REF!"},{"$f":"'E6-Operating Measurements'!#REF!","v":{"$error":"#REF!"}}]
[{"$f":"'E6-Operating Measurements'!$B$373","v":"00:00:00"},{"$error":"#REF!"},{"$error":"#REF!"},{"$f":"'E6-Operating Measurements'!#REF!","v":{"$error":"#REF!"}}]
[{"$f":"'E6-Operating Measurements'!$B$374","v":"00:00:00"},{"$error":"#REF!"},{"$error":"#REF!"},{"$f":"'E6-Operating Measurements'!#REF!","v":{"$error":"#REF!"}}]

{"sheet":"G7-Operating Model","index":41,"n_rows":106,"n_cols":23,"rows_kept":106,"cut":false,"hidden":true,"merged":[[61,1,61,12],[63,1,64,3],[63,4,63,6],[66,1,66,2],[66,3,66,4],[66,5,66,6],[26,1,26,4],[26,5,26,6],[38,1,38,3],[41,1,41,12],[43,1,43,12],[45,1,45,10],[46,3,46,6],[46,7,46,10],[46,11,46,14],[27,1,27,4],[27,5,27,6],[29,1,29,12],[31,4,31,6],[33,1,33,2],[36,1,36,12],[47,13,47,14],[47,1,47,2],[47,3,47,4],[3,1,3,12],[5,1,5,12],[7,1,7,12],[9,1,9,12],[12,1,12,12],[14,1,14,12],[24,1,24,4],[24,5,24,6],[25,1,25,4],[25,5,25,6],[18,1,18,3],[18,4,18,6],[19,1,19,3],[19,4,19,6],[21,1,21,12],[23,1,23,4],[23,5,23,6],[15,1,15,3],[15,4,15,6],[16,1,16,3],[16,4,16,6],[17,1,17,3],[17,4,17,6],[47,5,47,6],[47,7,47,8],[47,9,47,10],[47,11,47,12],[81,1,81,2],[85,1,85,12],[54,1,54,12],[56,1,56,2],[56,3,56,4],[59,1,59,2],[59,3,59,4],[57,1,57,2],[57,3,57,4],[58,1,58,2],[58,3,58,4],[49,1,50,3],[49,4,49,6],[52,1,52,12],[67,1,67,2],[67,3,67,4],[67,5,67,6],[68,1,68,2],[68,3,68,4],[68,5,68,6],[100,7,100,8],[101,1,101,2],[101,3,101,4],[87,1,87,2],[87,3,87,4],[88,1,88,2],[88,3,88,4],[78,1,78,2],[76,1,76,2],[76,5,76,6],[93,1,93,2],[93,3,93,4],[101,5,101,6],[101,7,101,8],[92,1,92,2],[92,3,92,4],[99,1,99,12],[100,1,100,2],[100,3,100,4],[100,5,100,6],[105,1,105,12],[102,1,102,2],[102,3,102,4],[102,5,102,6],[102,7,102,8],[103,1,103,2],[103,3,103,4],[103,5,103,6],[103,7,103,8],[70,1,70,12],[72,1,72,7],[73,1,73,6],[75,1,75,2],[75,5,75,6],[94,1,94,2],[94,3,94,4],[89,1,89,2],[89,3,89,4],[90,1,90,2],[90,3,90,4],[91,1,91,2],[91,3,91,4]]}
[null,null,"G7 - Operating Energy Model"]
[]
[{"$f":"LEFT(C1,1)","v":"G"},{"$f":"VLOOKUP(A3,EnergySourceLookup,2,FALSE)","v":"Gas"},{"$f":"VLOOKUP(A3,EnergySourceLookup,3,FALSE)","v":"GJ"}]
[null,{"$f":"\"Warning: The 'Operating Energy Model - Data (\" & VLOOKUP(LEFT($C$1,1),EnergySourceLookup,2,FALSE) & \")' is not continuous or covers a short period. Please ensure that the M&V Professional has examined your data and approved your M&V Plan.\"","v":"Warning: The 'Operating Energy Model - Data (Gas)' is not continuous or covers a short period. Please ensure that the M&V Professional has examined your data and approved your M&V Plan."}]
[]
[false,{"$f":"\"Warning: The 'Operating Energy Model - Data (\"&VLOOKUP(LEFT($C$1,1),EnergySourceLookup,2,FALSE)&\")' contains site constant values that are different to the typical value specified on the 'Boundaries and Variables (\"&VLOOKUP(LEFT($C$1,1),EnergySourceLookup,2,FALSE)&\")' step and have not be excluded as a non-normal measurement.\nNote: Please ensure you mark excluded values with the letter 'Y'.\"","v":"Warning: The 'Operating Energy Model - Data (Gas)' contains site constant values that are different to the typical value specified on the 'Boundaries and Variables (Gas)' step and have not be excluded as a non-normal measurement.\nNote: Please ensure you mark excluded values with the letter 'Y'."}]
[]
[null,{"$f":"\"Operating Energy Model (\" & VLOOKUP(LEFT($C$1,1),EnergySourceLookup,2,FALSE) & \")\"","v":"Operating Energy Model (Gas)"}]
[]
[null,"This tool requires multi-linear regression and energy models in the form: \nEOperating( x1, x2, … xp) = a0 + a1x1 + a2x2 + a3x3 + … + apxp (where a0, a1, …, ap are constants determined by the regression analysis)."]
[]
[]
[null,"Measurement period"]
[]
[null,"Measurement period:"]
[null,"Item Name",null,null,"Item Value"]
[null,"Start date",null,null,{"$f":"MIN(INDEX(G6DataTable,0,1))","v":"00:00:00"}]
[null,"End date",null,null,{"$f":"MAX(INDEX(G6DataTable,0,1))","v":"00:00:00"}]
[null,"Measurement Period (years)",null,null,{"$f":"(E18-E17)/365","v":0}]
[null,"Gross # time intervals",null,null,{"$f":"COUNT(INDEX(G6DataTable,0,1))","v":0}]
[]
[null,"Excluded time intervals"]
[]
[null,"Item Name",null,null,null,"Item Value"]
[null,"Number of time intervals excluded",null,null,null,{"$f":"COUNTIFS(INDEX(G6DataTable,0,COLUMNS(G6DataTable)-1),\"Y\")","v":0}]
[null,"Remaining # of time intervals",null,null,null,{"$f":"IFERROR(E20-F25,0)","v":0}]
[null,"Proportion of time intervals remaining",null,null,null,{"$f":"IFERROR(F26/E20,0)","v":0}]
[{"$f":"IF(F28=\"Pass\", TRUE, FALSE)","v":false},"Test for sufficient time intervals (>= 80%)",null,null,null,{"$f":"IF(F27>=80%, \"Pass\", \"Fail\")","v":"Fail"}]
[]
[null,"Chart of Independent Variable values over operating measurement period"]
[]
[null,"Independent variable:"]
[]
[null,"Chart"]
[]
[]
[null,"Analysis: Test for Correlation between Independent Variables"]
[]
[null,"Correlation coefficient:"]
[]
[]
[null,"Note: Review any variables that are strongly correlated (highlighted in red) and consider refining your regression equation."]
[]
[null,"Effective range"]
[]
[null,"Analysis - Effective range of measurements used to establish operating energy model:"]
[null,null,null,"Normal Year Range",null,null,null,"Operating Measurement Period Effective Range",null,null,null,"# of Normal Year Values Outside of Operating Effective Range",null,null,null,null,null,null,null,"Normal Without Excluded Values",null,"Without Excluded Values"]
[null,"Variable",null,"Minimum",null,"Maximum",null,"Minimum",null,"Maximum",null,"< Minimum",null,"> Maximum",null,null,null,null,null,"Min","Max","Min","Max"]
[]
[null,"% of Normal Range within Operating Measurement Range:",null,null,{"$f":"COUNTIFS('G2-Normal Year Values'!$C$10,\"<>Y\")/COUNTIFS('G2-Normal Year Values'!$C$10,\"<>Y\")","v":1}]
[]
[]
[null,"NB: If less than 100% then consider extending the operating measurement period to increase the Operating Measurement Range. This will avoid the Energy Savings being reduced."]
[]
[null,"Degrees of freedom"]
[]
[null,"Item Name",null,"Item Value"]
[null,"# of valid data points",null,{"$f":"F26","v":0}]
[null,"# of independent variables",null,{"$f":"GetVariableCount($C$1,\"IV\")","v":0}]
[{"$f":"'GCharts-Operating'!$P$10","v":""},"Degrees of freedom",null,{"$f":"D58-D59-1","v":-1}]
[]
[null,"Calculation Method"]
[]
[null,"Method for developing operating energy model:"]
[]
[]
[null,"Statistical test",null,"Test value",null,"Result"]
[{"$f":"IF(F68=\"Pass\", TRUE,FALSE)","v":false},"Coefficient of Variation (≤15%) (only relevant if Estimate of the Mean)",null,{"$f":"G7COV","v":""},null,{"$f":"IF(D68>=0.15, \"Fail\", \"Pass\")","v":"Fail"}]
[{"$f":"IF(F69=\"Pass\", TRUE,FALSE)","v":true},"Ratio # valid data points to # independent variables",null,{"$f":"IFERROR(D58/D59,\"\")","v":""},null,{"$f":"IF(D69<getsetting(\"IndependentVariablesDataPointMultiplier\"),\"Fail\",\"Pass\")","v":"Pass"}]
[]
[null,"Build Operating Energy Model"]
[]
[null,"What software/tool was used to generate your regression equation (if relevant):"]
[]
[{"$f":"IFERROR(AVERAGEIF(INDEX(G6DataTable,0,COLUMNS(G6DataTable)-1), \"<>Y\", INDEX(G6DataTable,0,2)), 0)","v":0}]
[{"$f":"IFERROR(COUNTIF(INDEX(G7RegressionEquationCoefficientList,0,7), \"Warning\"),0)","v":0},"Variable",null,"Coefficient","t-statistic","Check"]
[null,"Intercept",null,null,null,"N/A"]
[]
[null,"Working Formula:"]
[null,"E(operating)  = "]
[]
[null,"Chart"]
[]
[]
[]
[null,"Statistical analysis of energy model"]
[]
[null,"Item",null,"Value"]
[{"$f":"IFERROR('GCharts-Operating'!$P$14,\"\")","v":""},"Coefficient of determination (R2)",null,{"$f":"G7R2","v":""}]
[{"$f":"IFERROR('GCharts-Operating'!$P$15,\"\")","v":""},"Adjusted R2",null,{"$f":"G7AdjR2","v":""}]
[{"$f":"'GCharts-Operating'!$P$12","v":{"$error":"#DIV/0!"}},"Standard error (SE)"]
[null,"t-value (at 90% confidence level)",null,{"$f":"IFERROR(TINV(VLOOKUP(\"tValueConfidenceMultiplier\",SettingsList,2,FALSE),D60),\"\")","v":""}]
[null,"Operating average modelled energy",null,{"$f":"IFERROR(VLOOKUP(\"Intercept\",G7RegressionEquationCoefficientList, 3, FALSE), \"\")","v":0}]
[null,"Absolute modelling precision",null,{"$f":"IFERROR(D92*D91,\"\")","v":""}]
[null,"Relative modelling precision (based on mean value)",null,{"$f":"IFERROR(D94/D93,0)","v":0}]
[]
[]
[]
[]
[null,"Analysis - Check the operating energy model meets best practice benchmarks:"]
[{"$f":"IF(IFERROR(COUNTIF(H102:I104, \"Warning\"),0)=0, TRUE,FALSE)","v":false},"Modelling Criteria",null,"Best Practice Benchmark",null,"Operating Energy Model Value",null,"Result"]
[null,"t-statistics of independent variables",null,"> 2",null,"N/A",null,{"$f":"IF(COUNTIF(INDEX(G7RegressionEquationCoefficientList,0,5),\"Warning\")>0, \"Warning\", \"Pass\")","v":"Pass"}]
[null,"Lesser of R2 or adjusted R2 (only relevant for regression analysis)",null,"> 0.75",null,{"$f":"MIN(D88:E89)","v":0},null,{"$f":"IF(F103>0.75, \"Pass\", \"Warning\")","v":"Warning"}]
[null,"Relative precision calculated at 90% confidence level",null,"within ± 100%",null,{"$f":"D95","v":0},null,{"$f":"IF(F104<1, \"Pass\", \"Fail\")","v":"Pass"}]
[]
[null,"Warning: Value does not meet best practice benchmark. Ensure review included in M&V Professional reasoning."]

{"sheet":"G8-Reporting Period Values","index":42,"n_rows":8,"n_cols":5,"rows_kept":8,"cut":false,"hidden":true,"merged":[[3,1,3,12],[5,1,5,12],[7,1,8,1],[7,2,8,2],[7,3,8,3],[7,4,8,4]]}
[null,null,"G8 - Reporting Period Values"]
[]
[{"$f":"LEFT(C1,1)","v":"G"},{"$f":"VLOOKUP(A3,EnergySourceLookup,2,FALSE)","v":"Gas"},{"$f":"VLOOKUP(A3,EnergySourceLookup,3,FALSE)","v":"GJ"}]
[null,"Establish Values for all Independent Variables during the Reporting Period"]
[]
[null,{"$f":"\"Note: Click the 'Update Tool' button in the navigation bar above after entering the data. \" & IF(G1ModelFrequency<>\"\", \"This step should contain \" & VLOOKUP(G1ModelFrequency, FrequencyLookup,2,FALSE) & \" data points based on the selected \" & G1ModelFrequency & \" Measurement Frequency.\", \"\")","v":"Note: Click the 'Update Tool' button in the navigation bar above after entering the data. "}]
[]
[null,"Date / Time","Energy","Exclude non-normal measurement? (Mark with 'Y')","Reason for exclusion"]

{"sheet":"G9-Interactive Savings","index":43,"n_rows":15,"n_cols":5,"rows_kept":15,"cut":false,"hidden":true,"merged":[[6,8,7,13],[7,1,7,6],[9,1,9,6],[11,1,12,3],[11,4,11,6],[14,1,14,6],[3,1,3,6],[4,1,4,6],[5,1,5,3],[6,1,6,6]]}
[null,null,"G9 - Interactive Energy Savings"]
[]
[{"$f":"LEFT(C1,1)","v":"G"},{"$f":"VLOOKUP(A3,EnergySourceLookup,2,FALSE)","v":"Gas"},{"$f":"VLOOKUP(A3,EnergySourceLookup,3,FALSE)","v":"GJ"}]
[null,"Identify and define the effects of the project on the performance of energy consuming products outside the Measurement Boundary (interactive effects):"]
[]
[]
[null,"Describe how the Interactive Energy Savings due to those interactive effects were calculated:"]
[]
[]
[null,"Note: Interactive energy savings must be estimated in accordance with a repeatable method that:\n(i) uses data recorded for the premises where the project is undertaken; or\n(ii) is consistent with generally accepted estimation approaches in the science and engineering field applicable to the kind of effects being estimated. \n\nFor example, Schedule 34 of the Victorian Energy Upgrades Prescribed Activities includes an air-conditioning multiplier for lighting projects."]
[]
[{"$f":"IFERROR(IF(IESEndUseInAirConSpace=\"Yes\",TRUE,IF(E11BaselineConsumption-E11OperatingConsumption<>0, E9AnnualInteractiveSavings/(E11BaselineConsumption-E11OperatingConsumption),0)<=getsetting(\"IESAirConSpaceMaxPerc\")), FALSE)","v":false},{"$f":"\"Specify the ANNUAL Interactive Energy Savings (\"&$C$3&\"/yr):\"","v":"Specify the ANNUAL Interactive Energy Savings (GJ/yr):"}]
[null,null,null,null,{"$f":"IF(PSCalculationMethod=CalculationMethodNYES,\"Normal Year Value (same for each year)\",IF(PSCalculationMethod=CalculationMethodMAES,\"Savings for the single reporting year.\",\"\"))","v":""}]
[]
[null,"ERROR: The total Interactive Energy Savings are greater than 10% of Total Energy Savings. You will need to change your measurement boundary."]

{"sheet":"GCharts-Savings","index":44,"n_rows":366,"n_cols":12,"rows_kept":366,"cut":false,"hidden":true,"merged":[]}
["Time period start","CDD","isSaturday","isSunday","isPublicHoliday","Is within Baseline Model effective range?","Is within Operating Model effective range?","Within all ranges?","Baseline energy consumption","Operating Year energy consumption","Normal Year / Reporting Period energy consumption","Energy savings"]
[42736,8.85,0,0,1,true,true,{"$f":"IF(PSCalculationMethod=CalculationMethodMAES,F2,IF(PSCalculationMethod=CalculationMethodNYES,AND(F2,G2),FALSE))","v":false},{"$f":"'E5-Baseline Model'!#REF!+SUMPRODUCT(B2:E2,TRANSPOSE('E5-Baseline Model'!#REF!))","v":{"$error":"#REF!"}},{"$f":"'E5-Baseline Model'!#REF!+SUMPRODUCT(B2:E2,TRANSPOSE('E5-Baseline Model'!#REF!))+RAND()-0.5","v":{"$error":"#REF!"}},{"$f":"IF(PSCalculationMethod=CalculationMethodNYES,J2,IF(PSCalculationMethod=CalculationMethodNYES,'E8-Reporting Period Values'!#REF!,\"\"))","v":""},{"$f":"IF(H2,I2-K2,0)","v":0}]
[42737,9.9499999999999993,0,0,1,true,true,false,{"$f":"'E5-Baseline Model'!#REF!+SUMPRODUCT(B3:E3,TRANSPOSE('E5-Baseline Model'!#REF!))","v":{"$error":"#REF!"}},{"$f":"'E5-Baseline Model'!#REF!+SUMPRODUCT(B3:E3,TRANSPOSE('E5-Baseline Model'!#REF!))+RAND()-0.5","v":{"$error":"#REF!"}},{"$f":"IF(PSCalculationMethod=CalculationMethodNYES,J3,IF(PSCalculationMethod=CalculationMethodNYES,'E8-Reporting Period Values'!#REF!,\"\"))","v":""},{"$f":"IF(H3,I3-K3,0)","v":0}]
[42738,9.65,0,0,0,true,true,false,{"$f":"'E5-Baseline Model'!#REF!+SUMPRODUCT(B4:E4,TRANSPOSE('E5-Baseline Model'!#REF!))","v":{"$error":"#REF!"}},{"$f":"'E5-Baseline Model'!#REF!+SUMPRODUCT(B4:E4,TRANSPOSE('E5-Baseline Model'!#REF!))+RAND()-0.5","v":{"$error":"#REF!"}},{"$f":"IF(PSCalculationMethod=CalculationMethodNYES,J4,IF(PSCalculationMethod=CalculationMethodNYES,'E8-Reporting Period Values'!#REF!,\"\"))","v":""},0]
[42739,9.1999999999999993,0,0,0,true,true,false,{"$f":"'E5-Baseline Model'!#REF!+SUMPRODUCT(B5:E5,TRANSPOSE('E5-Baseline Model'!#REF!))","v":{"$error":"#REF!"}},{"$f":"'E5-Baseline Model'!#REF!+SUMPRODUCT(B5:E5,TRANSPOSE('E5-Baseline Model'!#REF!))+RAND()-0.5","v":{"$error":"#REF!"}},{"$f":"IF(PSCalculationMethod=CalculationMethodNYES,J5,IF(PSCalculationMethod=CalculationMethodNYES,'E8-Reporting Period Values'!#REF!,\"\"))","v":""},0]
[42740,10.7,0,0,0,true,true,false,{"$f":"'E5-Baseline Model'!#REF!+SUMPRODUCT(B6:E6,TRANSPOSE('E5-Baseline Model'!#REF!))","v":{"$error":"#REF!"}},{"$f":"'E5-Baseline Model'!#REF!+SUMPRODUCT(B6:E6,TRANSPOSE('E5-Baseline Model'!#REF!))+RAND()-0.5","v":{"$error":"#REF!"}},{"$f":"IF(PSCalculationMethod=CalculationMethodNYES,J6,IF(PSCalculationMethod=CalculationMethodNYES,'E8-Reporting Period Values'!#REF!,\"\"))","v":""},0]
[42741,10.4,0,0,0,true,true,false,{"$f":"'E5-Baseline Model'!#REF!+SUMPRODUCT(B7:E7,TRANSPOSE('E5-Baseline Model'!#REF!))","v":{"$error":"#REF!"}},{"$f":"'E5-Baseline Model'!#REF!+SUMPRODUCT(B7:E7,TRANSPOSE('E5-Baseline Model'!#REF!))+RAND()-0.5","v":{"$error":"#REF!"}},{"$f":"IF(PSCalculationMethod=CalculationMethodNYES,J7,IF(PSCalculationMethod=CalculationMethodNYES,'E8-Reporting Period Values'!#REF!,\"\"))","v":""},0]
[42742,8.9,1,0,0,true,true,false,{"$f":"'E5-Baseline Model'!#REF!+SUMPRODUCT(B8:E8,TRANSPOSE('E5-Baseline Model'!#REF!))","v":{"$error":"#REF!"}},{"$f":"'E5-Baseline Model'!#REF!+SUMPRODUCT(B8:E8,TRANSPOSE('E5-Baseline Model'!#REF!))+RAND()-0.5","v":{"$error":"#REF!"}},{"$f":"IF(PSCalculationMethod=CalculationMethodNYES,J8,IF(PSCalculationMethod=CalculationMethodNYES,'E8-Reporting Period Values'!#REF!,\"\"))","v":""},0]
[42743,10.65,0,1,0,true,true,false,{"$f":"'E5-Baseline Model'!#REF!+SUMPRODUCT(B9:E9,TRANSPOSE('E5-Baseline Model'!#REF!))","v":{"$error":"#REF!"}},{"$f":"'E5-Baseline Model'!#REF!+SUMPRODUCT(B9:E9,TRANSPOSE('E5-Baseline Model'!#REF!))+RAND()-0.5","v":{"$error":"#REF!"}},{"$f":"IF(PSCalculationMethod=CalculationMethodNYES,J9,IF(PSCalculationMethod=CalculationMethodNYES,'E8-Reporting Period Values'!#REF!,\"\"))","v":""},0]
[42744,10.5,0,0,0,true,true,false,{"$f":"'E5-Baseline Model'!#REF!+SUMPRODUCT(B10:E10,TRANSPOSE('E5-Baseline Model'!#REF!))","v":{"$error":"#REF!"}},{"$f":"'E5-Baseline Model'!#REF!+SUMPRODUCT(B10:E10,TRANSPOSE('E5-Baseline Model'!#REF!))+RAND()-0.5","v":{"$error":"#REF!"}},{"$f":"IF(PSCalculationMethod=CalculationMethodNYES,J10,IF(PSCalculationMethod=CalculationMethodNYES,'E8-Reporting Period Values'!#REF!,\"\"))","v":""},0]
[42745,9.85,0,0,0,true,true,false,{"$f":"'E5-Baseline Model'!#REF!+SUMPRODUCT(B11:E11,TRANSPOSE('E5-Baseline Model'!#REF!))","v":{"$error":"#REF!"}},{"$f":"'E5-Baseline Model'!#REF!+SUMPRODUCT(B11:E11,TRANSPOSE('E5-Baseline Model'!#REF!))+RAND()-0.5","v":{"$error":"#REF!"}},{"$f":"IF(PSCalculationMethod=CalculationMethodNYES,J11,IF(PSCalculationMethod=CalculationMethodNYES,'E8-Reporting Period Values'!#REF!,\"\"))","v":""},0]
[42746,9.9499999999999993,0,0,0,true,true,false,{"$f":"'E5-Baseline Model'!#REF!+SUMPRODUCT(B12:E12,TRANSPOSE('E5-Baseline Model'!#REF!))","v":{"$error":"#REF!"}},{"$f":"'E5-Baseline Model'!#REF!+SUMPRODUCT(B12:E12,TRANSPOSE('E5-Baseline Model'!#REF!))+RAND()-0.5","v":{"$error":"#REF!"}},{"$f":"IF(PSCalculationMethod=CalculationMethodNYES,J12,IF(PSCalculationMethod=CalculationMethodNYES,'E8-Reporting Period Values'!#REF!,\"\"))","v":""},0]
[42747,12.25,0,0,0,true,true,false,{"$f":"'E5-Baseline Model'!#REF!+SUMPRODUCT(B13:E13,TRANSPOSE('E5-Baseline Model'!#REF!))","v":{"$error":"#REF!"}},{"$f":"'E5-Baseline Model'!#REF!+SUMPRODUCT(B13:E13,TRANSPOSE('E5-Baseline Model'!#REF!))+RAND()-0.5","v":{"$error":"#REF!"}},{"$f":"IF(PSCalculationMethod=CalculationMethodNYES,J13,IF(PSCalculationMethod=CalculationMethodNYES,'E8-Reporting Period Values'!#REF!,\"\"))","v":""},0]
[42748,6.85,0,0,0,true,true,false,{"$f":"'E5-Baseline Model'!#REF!+SUMPRODUCT(B14:E14,TRANSPOSE('E5-Baseline Model'!#REF!))","v":{"$error":"#REF!"}},{"$f":"'E5-Baseline Model'!#REF!+SUMPRODUCT(B14:E14,TRANSPOSE('E5-Baseline Model'!#REF!))+RAND()-0.5","v":{"$error":"#REF!"}},{"$f":"IF(PSCalculationMethod=CalculationMethodNYES,J14,IF(PSCalculationMethod=CalculationMethodNYES,'E8-Reporting Period Values'!#REF!,\"\"))","v":""},0]
[42749,8.25,1,0,0,true,true,false,{"$f":"'E5-Baseline Model'!#REF!+SUMPRODUCT(B15:E15,TRANSPOSE('E5-Baseline Model'!#REF!))","v":{"$error":"#REF!"}},{"$f":"'E5-Baseline Model'!#REF!+SUMPRODUCT(B15:E15,TRANSPOSE('E5-Baseline Model'!#REF!))+RAND()-0.5","v":{"$error":"#REF!"}},{"$f":"IF(PSCalculationMethod=CalculationMethodNYES,J15,IF(PSCalculationMethod=CalculationMethodNYES,'E8-Reporting Period Values'!#REF!,\"\"))","v":""},0]
[42750,11.2,0,1,0,true,true,false,{"$f":"'E5-Baseline Model'!#REF!+SUMPRODUCT(B16:E16,TRANSPOSE('E5-Baseline Model'!#REF!))","v":{"$error":"#REF!"}},{"$f":"'E5-Baseline Model'!#REF!+SUMPRODUCT(B16:E16,TRANSPOSE('E5-Baseline Model'!#REF!))+RAND()-0.5","v":{"$error":"#REF!"}},{"$f":"IF(PSCalculationMethod=CalculationMethodNYES,J16,IF(PSCalculationMethod=CalculationMethodNYES,'E8-Reporting Period Values'!#REF!,\"\"))","v":""},0]
[42751,7.6,0,0,0,true,true,false,{"$f":"'E5-Baseline Model'!#REF!+SUMPRODUCT(B17:E17,TRANSPOSE('E5-Baseline Model'!#REF!))","v":{"$error":"#REF!"}},{"$f":"'E5-Baseline Model'!#REF!+SUMPRODUCT(B17:E17,TRANSPOSE('E5-Baseline Model'!#REF!))+RAND()-0.5","v":{"$error":"#REF!"}},{"$f":"IF(PSCalculationMethod=CalculationMethodNYES,J17,IF(PSCalculationMethod=CalculationMethodNYES,'E8-Reporting Period Values'!#REF!,\"\"))","v":""},0]
[42752,7.25,0,0,0,true,true,false,{"$f":"'E5-Baseline Model'!#REF!+SUMPRODUCT(B18:E18,TRANSPOSE('E5-Baseline Model'!#REF!))","v":{"$error":"#REF!"}},{"$f":"'E5-Baseline Model'!#REF!+SUMPRODUCT(B18:E18,TRANSPOSE('E5-Baseline Model'!#REF!))+RAND()-0.5","v":{"$error":"#REF!"}},{"$f":"IF(PSCalculationMethod=CalculationMethodNYES,J18,IF(PSCalculationMethod=CalculationMethodNYES,'E8-Reporting Period Values'!#REF!,\"\"))","v":""},0]
[42753,7.3,0,0,0,true,true,false,{"$f":"'E5-Baseline Model'!#REF!+SUMPRODUCT(B19:E19,TRANSPOSE('E5-Baseline Model'!#REF!))","v":{"$error":"#REF!"}},{"$f":"'E5-Baseline Model'!#REF!+SUMPRODUCT(B19:E19,TRANSPOSE('E5-Baseline Model'!#REF!))+RAND()-0.5","v":{"$error":"#REF!"}},{"$f":"IF(PSCalculationMethod=CalculationMethodNYES,J19,IF(PSCalculationMethod=CalculationMethodNYES,'E8-Reporting Period Values'!#REF!,\"\"))","v":""},0]
[42754,10.15,0,0,0,true,true,false,{"$f":"'E5-Baseline Model'!#REF!+SUMPRODUCT(B20:E20,TRANSPOSE('E5-Baseline Model'!#REF!))","v":{"$error":"#REF!"}},{"$f":"'E5-Baseline Model'!#REF!+SUMPRODUCT(B20:E20,TRANSPOSE('E5-Baseline Model'!#REF!))+RAND()-0.5","v":{"$error":"#REF!"}},{"$f":"IF(PSCalculationMethod=CalculationMethodNYES,J20,IF(PSCalculationMethod=CalculationMethodNYES,'E8-Reporting Period Values'!#REF!,\"\"))","v":""},0]
[42755,7.5,0,0,0,true,true,false,{"$f":"'E5-Baseline Model'!#REF!+SUMPRODUCT(B21:E21,TRANSPOSE('E5-Baseline Model'!#REF!))","v":{"$error":"#REF!"}},{"$f":"'E5-Baseline Model'!#REF!+SUMPRODUCT(B21:E21,TRANSPOSE('E5-Baseline Model'!#REF!))+RAND()-0.5","v":{"$error":"#REF!"}},{"$f":"IF(PSCalculationMethod=CalculationMethodNYES,J21,IF(PSCalculationMethod=CalculationMethodNYES,'E8-Reporting Period Values'!#REF!,\"\"))","v":""},0]
[42756,6.4,1,0,0,true,true,false,{"$f":"'E5-Baseline Model'!#REF!+SUMPRODUCT(B22:E22,TRANSPOSE('E5-Baseline Model'!#REF!))","v":{"$error":"#REF!"}},{"$f":"'E5-Baseline Model'!#REF!+SUMPRODUCT(B22:E22,TRANSPOSE('E5-Baseline Model'!#REF!))+RAND()-0.5","v":{"$error":"#REF!"}},{"$f":"IF(PSCalculationMethod=CalculationMethodNYES,J22,IF(PSCalculationMethod=CalculationMethodNYES,'E8-Reporting Period Values'!#REF!,\"\"))","v":""},0]
[42757,6.7,0,1,0,true,true,false,{"$f":"'E5-Baseline Model'!#REF!+SUMPRODUCT(B23:E23,TRANSPOSE('E5-Baseline Model'!#REF!))","v":{"$error":"#REF!"}},{"$f":"'E5-Baseline Model'!#REF!+SUMPRODUCT(B23:E23,TRANSPOSE('E5-Baseline Model'!#REF!))+RAND()-0.5","v":{"$error":"#REF!"}},{"$f":"IF(PSCalculationMethod=CalculationMethodNYES,J23,IF(PSCalculationMethod=CalculationMethodNYES,'E8-Reporting Period Values'!#REF!,\"\"))","v":""},0]
[42758,6.65,0,0,0,true,true,false,{"$f":"'E5-Baseline Model'!#REF!+SUMPRODUCT(B24:E24,TRANSPOSE('E5-Baseline Model'!#REF!))","v":{"$error":"#REF!"}},{"$f":"'E5-Baseline Model'!#REF!+SUMPRODUCT(B24:E24,TRANSPOSE('E5-Baseline Model'!#REF!))+RAND()-0.5","v":{"$error":"#REF!"}},{"$f":"IF(PSCalculationMethod=CalculationMethodNYES,J24,IF(PSCalculationMethod=CalculationMethodNYES,'E8-Reporting Period Values'!#REF!,\"\"))","v":""},0]
[42759,8,0,0,0,true,true,false,{"$f":"'E5-Baseline Model'!#REF!+SUMPRODUCT(B25:E25,TRANSPOSE('E5-Baseline Model'!#REF!))","v":{"$error":"#REF!"}},{"$f":"'E5-Baseline Model'!#REF!+SUMPRODUCT(B25:E25,TRANSPOSE('E5-Baseline Model'!#REF!))+RAND()-0.5","v":{"$error":"#REF!"}},{"$f":"IF(PSCalculationMethod=CalculationMethodNYES,J25,IF(PSCalculationMethod=CalculationMethodNYES,'E8-Reporting Period Values'!#REF!,\"\"))","v":""},0]
[42760,8.3000000000000007,0,0,0,true,true,false,{"$f":"'E5-Baseline Model'!#REF!+SUMPRODUCT(B26:E26,TRANSPOSE('E5-Baseline Model'!#REF!))","v":{"$error":"#REF!"}},{"$f":"'E5-Baseline Model'!#REF!+SUMPRODUCT(B26:E26,TRANSPOSE('E5-Baseline Model'!#REF!))+RAND()-0.5","v":{"$error":"#REF!"}},{"$f":"IF(PSCalculationMethod=CalculationMethodNYES,J26,IF(PSCalculationMethod=CalculationMethodNYES,'E8-Reporting Period Values'!#REF!,\"\"))","v":""},0]
[42761,8.6999999999999993,0,0,1,true,true,false,{"$f":"'E5-Baseline Model'!#REF!+SUMPRODUCT(B27:E27,TRANSPOSE('E5-Baseline Model'!#REF!))","v":{"$error":"#REF!"}},{"$f":"'E5-Baseline Model'!#REF!+SUMPRODUCT(B27:E27,TRANSPOSE('E5-Baseline Model'!#REF!))+RAND()-0.5","v":{"$error":"#REF!"}},{"$f":"IF(PSCalculationMethod=CalculationMethodNYES,J27,IF(PSCalculationMethod=CalculationMethodNYES,'E8-Reporting Period Values'!#REF!,\"\"))","v":""},0]
[42762,10.25,0,0,0,true,true,false,{"$f":"'E5-Baseline Model'!#REF!+SUMPRODUCT(B28:E28,TRANSPOSE('E5-Baseline Model'!#REF!))","v":{"$error":"#REF!"}},{"$f":"'E5-Baseline Model'!#REF!+SUMPRODUCT(B28:E28,TRANSPOSE('E5-Baseline Model'!#REF!))+RAND()-0.5","v":{"$error":"#REF!"}},{"$f":"IF(PSCalculationMethod=CalculationMethodNYES,J28,IF(PSCalculationMethod=CalculationMethodNYES,'E8-Reporting Period Values'!#REF!,\"\"))","v":""},0]
[42763,10.199999999999999,1,0,0,true,true,false,{"$f":"'E5-Baseline Model'!#REF!+SUMPRODUCT(B29:E29,TRANSPOSE('E5-Baseline Model'!#REF!))","v":{"$error":"#REF!"}},{"$f":"'E5-Baseline Model'!#REF!+SUMPRODUCT(B29:E29,TRANSPOSE('E5-Baseline Model'!#REF!))+RAND()-0.5","v":{"$error":"#REF!"}},{"$f":"IF(PSCalculationMethod=CalculationMethodNYES,J29,IF(PSCalculationMethod=CalculationMethodNYES,'E8-Reporting Period Values'!#REF!,\"\"))","v":""},0]
[42764,11.5,0,1,0,true,true,false,{"$f":"'E5-Baseline Model'!#REF!+SUMPRODUCT(B30:E30,TRANSPOSE('E5-Baseline Model'!#REF!))","v":{"$error":"#REF!"}},{"$f":"'E5-Baseline Model'!#REF!+SUMPRODUCT(B30:E30,TRANSPOSE('E5-Baseline Model'!#REF!))+RAND()-0.5","v":{"$error":"#REF!"}},{"$f":"IF(PSCalculationMethod=CalculationMethodNYES,J30,IF(PSCalculationMethod=CalculationMethodNYES,'E8-Reporting Period Values'!#REF!,\"\"))","v":""},0]
[42765,11.25,0,0,0,true,true,false,{"$f":"'E5-Baseline Model'!#REF!+SUMPRODUCT(B31:E31,TRANSPOSE('E5-Baseline Model'!#REF!))","v":{"$error":"#REF!"}},{"$f":"'E5-Baseline Model'!#REF!+SUMPRODUCT(B31:E31,TRANSPOSE('E5-Baseline Model'!#REF!))+RAND()-0.5","v":{"$error":"#REF!"}},{"$f":"IF(PSCalculationMethod=CalculationMethodNYES,J31,IF(PSCalculationMethod=CalculationMethodNYES,'E8-Reporting Period Values'!#REF!,\"\"))","v":""},0]
[42766,6.95,0,0,0,true,true,false,{"$f":"'E5-Baseline Model'!#REF!+SUMPRODUCT(B32:E32,TRANSPOSE('E5-Baseline Model'!#REF!))","v":{"$error":"#REF!"}},{"$f":"'E5-Baseline Model'!#REF!+SUMPRODUCT(B32:E32,TRANSPOSE('E5-Baseline Model'!#REF!))+RAND()-0.5","v":{"$error":"#REF!"}},{"$f":"IF(PSCalculationMethod=CalculationMethodNYES,J32,IF(PSCalculationMethod=CalculationMethodNYES,'E8-Reporting Period Values'!#REF!,\"\"))","v":""},0]
[42767,3.7,0,0,0,true,true,false,{"$f":"'E5-Baseline Model'!#REF!+SUMPRODUCT(B33:E33,TRANSPOSE('E5-Baseline Model'!#REF!))","v":{"$error":"#REF!"}},{"$f":"'E5-Baseline Model'!#REF!+SUMPRODUCT(B33:E33,TRANSPOSE('E5-Baseline Model'!#REF!))+RAND()-0.5","v":{"$error":"#REF!"}},{"$f":"IF(PSCalculationMethod=CalculationMethodNYES,J33,IF(PSCalculationMethod=CalculationMethodNYES,'E8-Reporting Period Values'!#REF!,\"\"))","v":""},0]
[42768,5,0,0,0,true,true,false,{"$f":"'E5-Baseline Model'!#REF!+SUMPRODUCT(B34:E34,TRANSPOSE('E5-Baseline Model'!#REF!))","v":{"$error":"#REF!"}},{"$f":"'E5-Baseline Model'!#REF!+SUMPRODUCT(B34:E34,TRANSPOSE('E5-Baseline Model'!#REF!))+RAND()-0.5","v":{"$error":"#REF!"}},{"$f":"IF(PSCalculationMethod=CalculationMethodNYES,J34,IF(PSCalculationMethod=CalculationMethodNYES,'E8-Reporting Period Values'!#REF!,\"\"))","v":""},0]
[42769,6.85,0,0,0,true,true,false,{"$f":"'E5-Baseline Model'!#REF!+SUMPRODUCT(B35:E35,TRANSPOSE('E5-Baseline Model'!#REF!))","v":{"$error":"#REF!"}},{"$f":"'E5-Baseline Model'!#REF!+SUMPRODUCT(B35:E35,TRANSPOSE('E5-Baseline Model'!#REF!))+RAND()-0.5","v":{"$error":"#REF!"}},{"$f":"IF(PSCalculationMethod=CalculationMethodNYES,J35,IF(PSCalculationMethod=CalculationMethodNYES,'E8-Reporting Period Values'!#REF!,\"\"))","v":""},0]
[42770,7.3,1,0,0,true,true,false,{"$f":"'E5-Baseline Model'!#REF!+SUMPRODUCT(B36:E36,TRANSPOSE('E5-Baseline Model'!#REF!))","v":{"$error":"#REF!"}},{"$f":"'E5-Baseline Model'!#REF!+SUMPRODUCT(B36:E36,TRANSPOSE('E5-Baseline Model'!#REF!))+RAND()-0.5","v":{"$error":"#REF!"}},{"$f":"IF(PSCalculationMethod=CalculationMethodNYES,J36,IF(PSCalculationMethod=CalculationMethodNYES,'E8-Reporting Period Values'!#REF!,\"\"))","v":""},0]
[42771,8.4,0,1,0,true,true,false,{"$f":"'E5-Baseline Model'!#REF!+SUMPRODUCT(B37:E37,TRANSPOSE('E5-Baseline Model'!#REF!))","v":{"$error":"#REF!"}},{"$f":"'E5-Baseline Model'!#REF!+SUMPRODUCT(B37:E37,TRANSPOSE('E5-Baseline Model'!#REF!))+RAND()-0.5","v":{"$error":"#REF!"}},{"$f":"IF(PSCalculationMethod=CalculationMethodNYES,J37,IF(PSCalculationMethod=CalculationMethodNYES,'E8-Reporting Period Values'!#REF!,\"\"))","v":""},0]
[42772,9.15,0,0,0,true,true,false,{"$f":"'E5-Baseline Model'!#REF!+SUMPRODUCT(B38:E38,TRANSPOSE('E5-Baseline Model'!#REF!))","v":{"$error":"#REF!"}},{"$f":"'E5-Baseline Model'!#REF!+SUMPRODUCT(B38:E38,TRANSPOSE('E5-Baseline Model'!#REF!))+RAND()-0.5","v":{"$error":"#REF!"}},{"$f":"IF(PSCalculationMethod=CalculationMethodNYES,J38,IF(PSCalculationMethod=CalculationMethodNYES,'E8-Reporting Period Values'!#REF!,\"\"))","v":""},0]
[42773,10.25,0,0,0,true,true,false,{"$f":"'E5-Baseline Model'!#REF!+SUMPRODUCT(B39:E39,TRANSPOSE('E5-Baseline Model'!#REF!))","v":{"$error":"#REF!"}},{"$f":"'E5-Baseline Model'!#REF!+SUMPRODUCT(B39:E39,TRANSPOSE('E5-Baseline Model'!#REF!))+RAND()-0.5","v":{"$error":"#REF!"}},{"$f":"IF(PSCalculationMethod=CalculationMethodNYES,J39,IF(PSCalculationMethod=CalculationMethodNYES,'E8-Reporting Period Values'!#REF!,\"\"))","v":""},0]
[42774,10.75,0,0,0,true,true,false,{"$f":"'E5-Baseline Model'!#REF!+SUMPRODUCT(B40:E40,TRANSPOSE('E5-Baseline Model'!#REF!))","v":{"$error":"#REF!"}},{"$f":"'E5-Baseline Model'!#REF!+SUMPRODUCT(B40:E40,TRANSPOSE('E5-Baseline Model'!#REF!))+RAND()-0.5","v":{"$error":"#REF!"}},{"$f":"IF(PSCalculationMethod=CalculationMethodNYES,J40,IF(PSCalculationMethod=CalculationMethodNYES,'E8-Reporting Period Values'!#REF!,\"\"))","v":""},0]
[42775,11.45,0,0,0,true,true,false,{"$f":"'E5-Baseline Model'!#REF!+SUMPRODUCT(B41:E41,TRANSPOSE('E5-Baseline Model'!#REF!))","v":{"$error":"#REF!"}},{"$f":"'E5-Baseline Model'!#REF!+SUMPRODUCT(B41:E41,TRANSPOSE('E5-Baseline Model'!#REF!))+RAND()-0.5","v":{"$error":"#REF!"}},{"$f":"IF(PSCalculationMethod=CalculationMethodNYES,J41,IF(PSCalculationMethod=CalculationMethodNYES,'E8-Reporting Period Values'!#REF!,\"\"))","v":""},0]
[42776,6.5,0,0,0,true,true,false,{"$f":"'E5-Baseline Model'!#REF!+SUMPRODUCT(B42:E42,TRANSPOSE('E5-Baseline Model'!#REF!))","v":{"$error":"#REF!"}},{"$f":"'E5-Baseline Model'!#REF!+SUMPRODUCT(B42:E42,TRANSPOSE('E5-Baseline Model'!#REF!))+RAND()-0.5","v":{"$error":"#REF!"}},{"$f":"IF(PSCalculationMethod=CalculationMethodNYES,J42,IF(PSCalculationMethod=CalculationMethodNYES,'E8-Reporting Period Values'!#REF!,\"\"))","v":""},0]
[42777,6.9,1,0,0,true,true,false,{"$f":"'E5-Baseline Model'!#REF!+SUMPRODUCT(B43:E43,TRANSPOSE('E5-Baseline Model'!#REF!))","v":{"$error":"#REF!"}},{"$f":"'E5-Baseline Model'!#REF!+SUMPRODUCT(B43:E43,TRANSPOSE('E5-Baseline Model'!#REF!))+RAND()-0.5","v":{"$error":"#REF!"}},{"$f":"IF(PSCalculationMethod=CalculationMethodNYES,J43,IF(PSCalculationMethod=CalculationMethodNYES,'E8-Reporting Period Values'!#REF!,\"\"))","v":""},0]
[42778,8.0500000000000007,0,1,0,true,true,false,{"$f":"'E5-Baseline Model'!#REF!+SUMPRODUCT(B44:E44,TRANSPOSE('E5-Baseline Model'!#REF!))","v":{"$error":"#REF!"}},{"$f":"'E5-Baseline Model'!#REF!+SUMPRODUCT(B44:E44,TRANSPOSE('E5-Baseline Model'!#REF!))+RAND()-0.5","v":{"$error":"#REF!"}},{"$f":"IF(PSCalculationMethod=CalculationMethodNYES,J44,IF(PSCalculationMethod=CalculationMethodNYES,'E8-Reporting Period Values'!#REF!,\"\"))","v":""},0]
[42779,7.9,0,0,0,true,true,false,{"$f":"'E5-Baseline Model'!#REF!+SUMPRODUCT(B45:E45,TRANSPOSE('E5-Baseline Model'!#REF!))","v":{"$error":"#REF!"}},{"$f":"'E5-Baseline Model'!#REF!+SUMPRODUCT(B45:E45,TRANSPOSE('E5-Baseline Model'!#REF!))+RAND()-0.5","v":{"$error":"#REF!"}},{"$f":"IF(PSCalculationMethod=CalculationMethodNYES,J45,IF(PSCalculationMethod=CalculationMethodNYES,'E8-Reporting Period Values'!#REF!,\"\"))","v":""},0]
[42780,8.75,0,0,0,true,true,false,{"$f":"'E5-Baseline Model'!#REF!+SUMPRODUCT(B46:E46,TRANSPOSE('E5-Baseline Model'!#REF!))","v":{"$error":"#REF!"}},{"$f":"'E5-Baseline Model'!#REF!+SUMPRODUCT(B46:E46,TRANSPOSE('E5-Baseline Model'!#REF!))+RAND()-0.5","v":{"$error":"#REF!"}},{"$f":"IF(PSCalculationMethod=CalculationMethodNYES,J46,IF(PSCalculationMethod=CalculationMethodNYES,'E8-Reporting Period Values'!#REF!,\"\"))","v":""},0]
[42781,8.25,0,0,0,true,true,false,{"$f":"'E5-Baseline Model'!#REF!+SUMPRODUCT(B47:E47,TRANSPOSE('E5-Baseline Model'!#REF!))","v":{"$error":"#REF!"}},{"$f":"'E5-Baseline Model'!#REF!+SUMPRODUCT(B47:E47,TRANSPOSE('E5-Baseline Model'!#REF!))+RAND()-0.5","v":{"$error":"#REF!"}},{"$f":"IF(PSCalculationMethod=CalculationMethodNYES,J47,IF(PSCalculationMethod=CalculationMethodNYES,'E8-Reporting Period Values'!#REF!,\"\"))","v":""},0]
[42782,8.4,0,0,0,true,true,false,{"$f":"'E5-Baseline Model'!#REF!+SUMPRODUCT(B48:E48,TRANSPOSE('E5-Baseline Model'!#REF!))","v":{"$error":"#REF!"}},{"$f":"'E5-Baseline Model'!#REF!+SUMPRODUCT(B48:E48,TRANSPOSE('E5-Baseline Model'!#REF!))+RAND()-0.5","v":{"$error":"#REF!"}},{"$f":"IF(PSCalculationMethod=CalculationMethodNYES,J48,IF(PSCalculationMethod=CalculationMethodNYES,'E8-Reporting Period Values'!#REF!,\"\"))","v":""},0]
[42783,8.5,0,0,0,true,true,false,{"$f":"'E5-Baseline Model'!#REF!+SUMPRODUCT(B49:E49,TRANSPOSE('E5-Baseline Model'!#REF!))","v":{"$error":"#REF!"}},{"$f":"'E5-Baseline Model'!#REF!+SUMPRODUCT(B49:E49,TRANSPOSE('E5-Baseline Model'!#REF!))+RAND()-0.5","v":{"$error":"#REF!"}},{"$f":"IF(PSCalculationMethod=CalculationMethodNYES,J49,IF(PSCalculationMethod=CalculationMethodNYES,'E8-Reporting Period Values'!#REF!,\"\"))","v":""},0]
[42784,9.3000000000000007,1,0,0,true,true,false,{"$f":"'E5-Baseline Model'!#REF!+SUMPRODUCT(B50:E50,TRANSPOSE('E5-Baseline Model'!#REF!))","v":{"$error":"#REF!"}},{"$f":"'E5-Baseline Model'!#REF!+SUMPRODUCT(B50:E50,TRANSPOSE('E5-Baseline Model'!#REF!))+RAND()-0.5","v":{"$error":"#REF!"}},{"$f":"IF(PSCalculationMethod=CalculationMethodNYES,J50,IF(PSCalculationMethod=CalculationMethodNYES,'E8-Reporting Period Values'!#REF!,\"\"))","v":""},0]
[42785,10.7,0,1,0,true,true,false,{"$f":"'E5-Baseline Model'!#REF!+SUMPRODUCT(B51:E51,TRANSPOSE('E5-Baseline Model'!#REF!))","v":{"$error":"#REF!"}},{"$f":"'E5-Baseline Model'!#REF!+SUMPRODUCT(B51:E51,TRANSPOSE('E5-Baseline Model'!#REF!))+RAND()-0.5","v":{"$error":"#REF!"}},{"$f":"IF(PSCalculationMethod=CalculationMethodNYES,J51,IF(PSCalculationMethod=CalculationMethodNYES,'E8-Reporting Period Values'!#REF!,\"\"))","v":""},0]
[42786,10.8,0,0,0,true,true,false,{"$f":"'E5-Baseline Model'!#REF!+SUMPRODUCT(B52:E52,TRANSPOSE('E5-Baseline Model'!#REF!))","v":{"$error":"#REF!"}},{"$f":"'E5-Baseline Model'!#REF!+SUMPRODUCT(B52:E52,TRANSPOSE('E5-Baseline Model'!#REF!))+RAND()-0.5","v":{"$error":"#REF!"}},{"$f":"IF(PSCalculationMethod=CalculationMethodNYES,J52,IF(PSCalculationMethod=CalculationMethodNYES,'E8-Reporting Period Values'!#REF!,\"\"))","v":""},0]
[42787,10.95,0,0,0,true,true,false,{"$f":"'E5-Baseline Model'!#REF!+SUMPRODUCT(B53:E53,TRANSPOSE('E5-Baseline Model'!#REF!))","v":{"$error":"#REF!"}},{"$f":"'E5-Baseline Model'!#REF!+SUMPRODUCT(B53:E53,TRANSPOSE('E5-Baseline Model'!#REF!))+RAND()-0.5","v":{"$error":"#REF!"}},{"$f":"IF(PSCalculationMethod=CalculationMethodNYES,J53,IF(PSCalculationMethod=CalculationMethodNYES,'E8-Reporting Period Values'!#REF!,\"\"))","v":""},0]
[42788,8.15,0,0,0,true,true,false,{"$f":"'E5-Baseline Model'!#REF!+SUMPRODUCT(B54:E54,TRANSPOSE('E5-Baseline Model'!#REF!))","v":{"$error":"#REF!"}},{"$f":"'E5-Baseline Model'!#REF!+SUMPRODUCT(B54:E54,TRANSPOSE('E5-Baseline Model'!#REF!))+RAND()-0.5","v":{"$error":"#REF!"}},{"$f":"IF(PSCalculationMethod=CalculationMethodNYES,J54,IF(PSCalculationMethod=CalculationMethodNYES,'E8-Reporting Period Values'!#REF!,\"\"))","v":""},0]
[42789,10.15,0,0,0,true,true,false,{"$f":"'E5-Baseline Model'!#REF!+SUMPRODUCT(B55:E55,TRANSPOSE('E5-Baseline Model'!#REF!))","v":{"$error":"#REF!"}},{"$f":"'E5-Baseline Model'!#REF!+SUMPRODUCT(B55:E55,TRANSPOSE('E5-Baseline Model'!#REF!))+RAND()-0.5","v":{"$error":"#REF!"}},{"$f":"IF(PSCalculationMethod=CalculationMethodNYES,J55,IF(PSCalculationMethod=CalculationMethodNYES,'E8-Reporting Period Values'!#REF!,\"\"))","v":""},0]
[42790,11.5,0,0,0,true,true,false,{"$f":"'E5-Baseline Model'!#REF!+SUMPRODUCT(B56:E56,TRANSPOSE('E5-Baseline Model'!#REF!))","v":{"$error":"#REF!"}},{"$f":"'E5-Baseline Model'!#REF!+SUMPRODUCT(B56:E56,TRANSPOSE('E5-Baseline Model'!#REF!))+RAND()-0.5","v":{"$error":"#REF!"}},{"$f":"IF(PSCalculationMethod=CalculationMethodNYES,J56,IF(PSCalculationMethod=CalculationMethodNYES,'E8-Reporting Period Values'!#REF!,\"\"))","v":""},0]
[42791,10.8,1,0,0,true,true,false,{"$f":"'E5-Baseline Model'!#REF!+SUMPRODUCT(B57:E57,TRANSPOSE('E5-Baseline Model'!#REF!))","v":{"$error":"#REF!"}},{"$f":"'E5-Baseline Model'!#REF!+SUMPRODUCT(B57:E57,TRANSPOSE('E5-Baseline Model'!#REF!))+RAND()-0.5","v":{"$error":"#REF!"}},{"$f":"IF(PSCalculationMethod=CalculationMethodNYES,J57,IF(PSCalculationMethod=CalculationMethodNYES,'E8-Reporting Period Values'!#REF!,\"\"))","v":""},0]
[42792,10.65,0,1,0,true,true,false,{"$f":"'E5-Baseline Model'!#REF!+SUMPRODUCT(B58:E58,TRANSPOSE('E5-Baseline Model'!#REF!))","v":{"$error":"#REF!"}},{"$f":"'E5-Baseline Model'!#REF!+SUMPRODUCT(B58:E58,TRANSPOSE('E5-Baseline Model'!#REF!))+RAND()-0.5","v":{"$error":"#REF!"}},{"$f":"IF(PSCalculationMethod=CalculationMethodNYES,J58,IF(PSCalculationMethod=CalculationMethodNYES,'E8-Reporting Period Values'!#REF!,\"\"))","v":""},0]
[42793,11.4,0,0,0,true,true,false,{"$f":"'E5-Baseline Model'!#REF!+SUMPRODUCT(B59:E59,TRANSPOSE('E5-Baseline Model'!#REF!))","v":{"$error":"#REF!"}},{"$f":"'E5-Baseline Model'!#REF!+SUMPRODUCT(B59:E59,TRANSPOSE('E5-Baseline Model'!#REF!))+RAND()-0.5","v":{"$error":"#REF!"}},{"$f":"IF(PSCalculationMethod=CalculationMethodNYES,J59,IF(PSCalculationMethod=CalculationMethodNYES,'E8-Reporting Period Values'!#REF!,\"\"))","v":""},0]
[42794,4.3,0,0,0,true,true,false,{"$f":"'E5-Baseline Model'!#REF!+SUMPRODUCT(B60:E60,TRANSPOSE('E5-Baseline Model'!#REF!))","v":{"$error":"#REF!"}},{"$f":"'E5-Baseline Model'!#REF!+SUMPRODUCT(B60:E60,TRANSPOSE('E5-Baseline Model'!#REF!))+RAND()-0.5","v":{"$error":"#REF!"}},{"$f":"IF(PSCalculationMethod=CalculationMethodNYES,J60,IF(PSCalculationMethod=CalculationMethodNYES,'E8-Reporting Period Values'!#REF!,\"\"))","v":""},0]
[42795,9.65,0,0,0,true,true,false,{"$f":"'E5-Baseline Model'!#REF!+SUMPRODUCT(B61:E61,TRANSPOSE('E5-Baseline Model'!#REF!))","v":{"$error":"#REF!"}},{"$f":"'E5-Baseline Model'!#REF!+SUMPRODUCT(B61:E61,TRANSPOSE('E5-Baseline Model'!#REF!))+RAND()-0.5","v":{"$error":"#REF!"}},{"$f":"IF(PSCalculationMethod=CalculationMethodNYES,J61,IF(PSCalculationMethod=CalculationMethodNYES,'E8-Reporting Period Values'!#REF!,\"\"))","v":""},0]
[42796,9.85,0,0,0,true,true,false,{"$f":"'E5-Baseline Model'!#REF!+SUMPRODUCT(B62:E62,TRANSPOSE('E5-Baseline Model'!#REF!))","v":{"$error":"#REF!"}},{"$f":"'E5-Baseline Model'!#REF!+SUMPRODUCT(B62:E62,TRANSPOSE('E5-Baseline Model'!#REF!))+RAND()-0.5","v":{"$error":"#REF!"}},{"$f":"IF(PSCalculationMethod=CalculationMethodNYES,J62,IF(PSCalculationMethod=CalculationMethodNYES,'E8-Reporting Period Values'!#REF!,\"\"))","v":""},0]
[42797,9.8000000000000007,0,0,0,true,true,false,{"$f":"'E5-Baseline Model'!#REF!+SUMPRODUCT(B63:E63,TRANSPOSE('E5-Baseline Model'!#REF!))","v":{"$error":"#REF!"}},{"$f":"'E5-Baseline Model'!#REF!+SUMPRODUCT(B63:E63,TRANSPOSE('E5-Baseline Model'!#REF!))+RAND()-0.5","v":{"$error":"#REF!"}},{"$f":"IF(PSCalculationMethod=CalculationMethodNYES,J63,IF(PSCalculationMethod=CalculationMethodNYES,'E8-Reporting Period Values'!#REF!,\"\"))","v":""},0]
[42798,6.7,1,0,0,true,true,false,{"$f":"'E5-Baseline Model'!#REF!+SUMPRODUCT(B64:E64,TRANSPOSE('E5-Baseline Model'!#REF!))","v":{"$error":"#REF!"}},{"$f":"'E5-Baseline Model'!#REF!+SUMPRODUCT(B64:E64,TRANSPOSE('E5-Baseline Model'!#REF!))+RAND()-0.5","v":{"$error":"#REF!"}},{"$f":"IF(PSCalculationMethod=CalculationMethodNYES,J64,IF(PSCalculationMethod=CalculationMethodNYES,'E8-Reporting Period Values'!#REF!,\"\"))","v":""},0]
[42799,5,0,1,0,true,true,false,{"$f":"'E5-Baseline Model'!#REF!+SUMPRODUCT(B65:E65,TRANSPOSE('E5-Baseline Model'!#REF!))","v":{"$error":"#REF!"}},{"$f":"'E5-Baseline Model'!#REF!+SUMPRODUCT(B65:E65,TRANSPOSE('E5-Baseline Model'!#REF!))+RAND()-0.5","v":{"$error":"#REF!"}},{"$f":"IF(PSCalculationMethod=CalculationMethodNYES,J65,IF(PSCalculationMethod=CalculationMethodNYES,'E8-Reporting Period Values'!#REF!,\"\"))","v":""},0]
[42800,8,0,0,0,true,true,{"$f":"IF(PSCalculationMethod=CalculationMethodMAES,F66,IF(PSCalculationMethod=CalculationMethodNYES,AND(F66,G66),FALSE))","v":false},{"$f":"'E5-Baseline Model'!#REF!+SUMPRODUCT(B66:E66,TRANSPOSE('E5-Baseline Model'!#REF!))","v":{"$error":"#REF!"}},{"$f":"'E5-Baseline Model'!#REF!+SUMPRODUCT(B66:E66,TRANSPOSE('E5-Baseline Model'!#REF!))+RAND()-0.5","v":{"$error":"#REF!"}},{"$f":"IF(PSCalculationMethod=CalculationMethodNYES,J66,IF(PSCalculationMethod=CalculationMethodNYES,'E8-Reporting Period Values'!#REF!,\"\"))","v":""},0]
[42801,8.75,0,0,0,true,true,false,{"$f":"'E5-Baseline Model'!#REF!+SUMPRODUCT(B67:E67,TRANSPOSE('E5-Baseline Model'!#REF!))","v":{"$error":"#REF!"}},{"$f":"'E5-Baseline Model'!#REF!+SUMPRODUCT(B67:E67,TRANSPOSE('E5-Baseline Model'!#REF!))+RAND()-0.5","v":{"$error":"#REF!"}},{"$f":"IF(PSCalculationMethod=CalculationMethodNYES,J67,IF(PSCalculationMethod=CalculationMethodNYES,'E8-Reporting Period Values'!#REF!,\"\"))","v":""},{"$f":"IF(H67,I67-K67,0)","v":0}]
[42802,7.35,0,0,0,true,true,false,{"$f":"'E5-Baseline Model'!#REF!+SUMPRODUCT(B68:E68,TRANSPOSE('E5-Baseline Model'!#REF!))","v":{"$error":"#REF!"}},{"$f":"'E5-Baseline Model'!#REF!+SUMPRODUCT(B68:E68,TRANSPOSE('E5-Baseline Model'!#REF!))+RAND()-0.5","v":{"$error":"#REF!"}},{"$f":"IF(PSCalculationMethod=CalculationMethodNYES,J68,IF(PSCalculationMethod=CalculationMethodNYES,'E8-Reporting Period Values'!#REF!,\"\"))","v":""},0]
[42803,7.8,0,0,0,true,true,false,{"$f":"'E5-Baseline Model'!#REF!+SUMPRODUCT(B69:E69,TRANSPOSE('E5-Baseline Model'!#REF!))","v":{"$error":"#REF!"}},{"$f":"'E5-Baseline Model'!#REF!+SUMPRODUCT(B69:E69,TRANSPOSE('E5-Baseline Model'!#REF!))+RAND()-0.5","v":{"$error":"#REF!"}},{"$f":"IF(PSCalculationMethod=CalculationMethodNYES,J69,IF(PSCalculationMethod=CalculationMethodNYES,'E8-Reporting Period Values'!#REF!,\"\"))","v":""},0]
[42804,7.8,0,0,0,true,true,false,{"$f":"'E5-Baseline Model'!#REF!+SUMPRODUCT(B70:E70,TRANSPOSE('E5-Baseline Model'!#REF!))","v":{"$error":"#REF!"}},{"$f":"'E5-Baseline Model'!#REF!+SUMPRODUCT(B70:E70,TRANSPOSE('E5-Baseline Model'!#REF!))+RAND()-0.5","v":{"$error":"#REF!"}},{"$f":"IF(PSCalculationMethod=CalculationMethodNYES,J70,IF(PSCalculationMethod=CalculationMethodNYES,'E8-Reporting Period Values'!#REF!,\"\"))","v":""},0]
[42805,7.75,1,0,0,true,true,false,{"$f":"'E5-Baseline Model'!#REF!+SUMPRODUCT(B71:E71,TRANSPOSE('E5-Baseline Model'!#REF!))","v":{"$error":"#REF!"}},{"$f":"'E5-Baseline Model'!#REF!+SUMPRODUCT(B71:E71,TRANSPOSE('E5-Baseline Model'!#REF!))+RAND()-0.5","v":{"$error":"#REF!"}},{"$f":"IF(PSCalculationMethod=CalculationMethodNYES,J71,IF(PSCalculationMethod=CalculationMethodNYES,'E8-Reporting Period Values'!#REF!,\"\"))","v":""},0]
[42806,8.5500000000000007,0,1,0,true,true,false,{"$f":"'E5-Baseline Model'!#REF!+SUMPRODUCT(B72:E72,TRANSPOSE('E5-Baseline Model'!#REF!))","v":{"$error":"#REF!"}},{"$f":"'E5-Baseline Model'!#REF!+SUMPRODUCT(B72:E72,TRANSPOSE('E5-Baseline Model'!#REF!))+RAND()-0.5","v":{"$error":"#REF!"}},{"$f":"IF(PSCalculationMethod=CalculationMethodNYES,J72,IF(PSCalculationMethod=CalculationMethodNYES,'E8-Reporting Period Values'!#REF!,\"\"))","v":""},0]
[42807,9.5500000000000007,0,0,0,true,true,false,{"$f":"'E5-Baseline Model'!#REF!+SUMPRODUCT(B73:E73,TRANSPOSE('E5-Baseline Model'!#REF!))","v":{"$error":"#REF!"}},{"$f":"'E5-Baseline Model'!#REF!+SUMPRODUCT(B73:E73,TRANSPOSE('E5-Baseline Model'!#REF!))+RAND()-0.5","v":{"$error":"#REF!"}},{"$f":"IF(PSCalculationMethod=CalculationMethodNYES,J73,IF(PSCalculationMethod=CalculationMethodNYES,'E8-Reporting Period Values'!#REF!,\"\"))","v":""},0]
[42808,9.3000000000000007,0,0,0,true,true,false,{"$f":"'E5-Baseline Model'!#REF!+SUMPRODUCT(B74:E74,TRANSPOSE('E5-Baseline Model'!#REF!))","v":{"$error":"#REF!"}},{"$f":"'E5-Baseline Model'!#REF!+SUMPRODUCT(B74:E74,TRANSPOSE('E5-Baseline Model'!#REF!))+RAND()-0.5","v":{"$error":"#REF!"}},{"$f":"IF(PSCalculationMethod=CalculationMethodNYES,J74,IF(PSCalculationMethod=CalculationMethodNYES,'E8-Reporting Period Values'!#REF!,\"\"))","v":""},0]
[42809,7.45,0,0,0,true,true,false,{"$f":"'E5-Baseline Model'!#REF!+SUMPRODUCT(B75:E75,TRANSPOSE('E5-Baseline Model'!#REF!))","v":{"$error":"#REF!"}},{"$f":"'E5-Baseline Model'!#REF!+SUMPRODUCT(B75:E75,TRANSPOSE('E5-Baseline Model'!#REF!))+RAND()-0.5","v":{"$error":"#REF!"}},{"$f":"IF(PSCalculationMethod=CalculationMethodNYES,J75,IF(PSCalculationMethod=CalculationMethodNYES,'E8-Reporting Period Values'!#REF!,\"\"))","v":""},0]
[42810,6.8,0,0,0,true,true,false,{"$f":"'E5-Baseline Model'!#REF!+SUMPRODUCT(B76:E76,TRANSPOSE('E5-Baseline Model'!#REF!))","v":{"$error":"#REF!"}},{"$f":"'E5-Baseline Model'!#REF!+SUMPRODUCT(B76:E76,TRANSPOSE('E5-Baseline Model'!#REF!))+RAND()-0.5","v":{"$error":"#REF!"}},{"$f":"IF(PSCalculationMethod=CalculationMethodNYES,J76,IF(PSCalculationMethod=CalculationMethodNYES,'E8-Reporting Period Values'!#REF!,\"\"))","v":""},0]
[42811,6.8,0,0,0,true,true,false,{"$f":"'E5-Baseline Model'!#REF!+SUMPRODUCT(B77:E77,TRANSPOSE('E5-Baseline Model'!#REF!))","v":{"$error":"#REF!"}},{"$f":"'E5-Baseline Model'!#REF!+SUMPRODUCT(B77:E77,TRANSPOSE('E5-Baseline Model'!#REF!))+RAND()-0.5","v":{"$error":"#REF!"}},{"$f":"IF(PSCalculationMethod=CalculationMethodNYES,J77,IF(PSCalculationMethod=CalculationMethodNYES,'E8-Reporting Period Values'!#REF!,\"\"))","v":""},0]
[42812,8.6,1,0,0,true,true,false,{"$f":"'E5-Baseline Model'!#REF!+SUMPRODUCT(B78:E78,TRANSPOSE('E5-Baseline Model'!#REF!))","v":{"$error":"#REF!"}},{"$f":"'E5-Baseline Model'!#REF!+SUMPRODUCT(B78:E78,TRANSPOSE('E5-Baseline Model'!#REF!))+RAND()-0.5","v":{"$error":"#REF!"}},{"$f":"IF(PSCalculationMethod=CalculationMethodNYES,J78,IF(PSCalculationMethod=CalculationMethodNYES,'E8-Reporting Period Values'!#REF!,\"\"))","v":""},0]
[42813,9,0,1,0,true,true,false,{"$f":"'E5-Baseline Model'!#REF!+SUMPRODUCT(B79:E79,TRANSPOSE('E5-Baseline Model'!#REF!))","v":{"$error":"#REF!"}},{"$f":"'E5-Baseline Model'!#REF!+SUMPRODUCT(B79:E79,TRANSPOSE('E5-Baseline Model'!#REF!))+RAND()-0.5","v":{"$error":"#REF!"}},{"$f":"IF(PSCalculationMethod=CalculationMethodNYES,J79,IF(PSCalculationMethod=CalculationMethodNYES,'E8-Reporting Period Values'!#REF!,\"\"))","v":""},0]
[42814,8.4499999999999993,0,0,0,true,true,false,{"$f":"'E5-Baseline Model'!#REF!+SUMPRODUCT(B80:E80,TRANSPOSE('E5-Baseline Model'!#REF!))","v":{"$error":"#REF!"}},{"$f":"'E5-Baseline Model'!#REF!+SUMPRODUCT(B80:E80,TRANSPOSE('E5-Baseline Model'!#REF!))+RAND()-0.5","v":{"$error":"#REF!"}},{"$f":"IF(PSCalculationMethod=CalculationMethodNYES,J80,IF(PSCalculationMethod=CalculationMethodNYES,'E8-Reporting Period Values'!#REF!,\"\"))","v":""},0]
[42815,8.15,0,0,0,true,true,false,{"$f":"'E5-Baseline Model'!#REF!+SUMPRODUCT(B81:E81,TRANSPOSE('E5-Baseline Model'!#REF!))","v":{"$error":"#REF!"}},{"$f":"'E5-Baseline Model'!#REF!+SUMPRODUCT(B81:E81,TRANSPOSE('E5-Baseline Model'!#REF!))+RAND()-0.5","v":{"$error":"#REF!"}},{"$f":"IF(PSCalculationMethod=CalculationMethodNYES,J81,IF(PSCalculationMethod=CalculationMethodNYES,'E8-Reporting Period Values'!#REF!,\"\"))","v":""},0]
[42816,8.6,0,0,0,true,true,false,{"$f":"'E5-Baseline Model'!#REF!+SUMPRODUCT(B82:E82,TRANSPOSE('E5-Baseline Model'!#REF!))","v":{"$error":"#REF!"}},{"$f":"'E5-Baseline Model'!#REF!+SUMPRODUCT(B82:E82,TRANSPOSE('E5-Baseline Model'!#REF!))+RAND()-0.5","v":{"$error":"#REF!"}},{"$f":"IF(PSCalculationMethod=CalculationMethodNYES,J82,IF(PSCalculationMethod=CalculationMethodNYES,'E8-Reporting Period Values'!#REF!,\"\"))","v":""},0]
[42817,9.3000000000000007,0,0,0,true,true,false,{"$f":"'E5-Baseline Model'!#REF!+SUMPRODUCT(B83:E83,TRANSPOSE('E5-Baseline Model'!#REF!))","v":{"$error":"#REF!"}},{"$f":"'E5-Baseline Model'!#REF!+SUMPRODUCT(B83:E83,TRANSPOSE('E5-Baseline Model'!#REF!))+RAND()-0.5","v":{"$error":"#REF!"}},{"$f":"IF(PSCalculationMethod=CalculationMethodNYES,J83,IF(PSCalculationMethod=CalculationMethodNYES,'E8-Reporting Period Values'!#REF!,\"\"))","v":""},0]
[42818,9.4,0,0,0,true,true,false,{"$f":"'E5-Baseline Model'!#REF!+SUMPRODUCT(B84:E84,TRANSPOSE('E5-Baseline Model'!#REF!))","v":{"$error":"#REF!"}},{"$f":"'E5-Baseline Model'!#REF!+SUMPRODUCT(B84:E84,TRANSPOSE('E5-Baseline Model'!#REF!))+RAND()-0.5","v":{"$error":"#REF!"}},{"$f":"IF(PSCalculationMethod=CalculationMethodNYES,J84,IF(PSCalculationMethod=CalculationMethodNYES,'E8-Reporting Period Values'!#REF!,\"\"))","v":""},0]
[42819,9.5500000000000007,1,0,0,true,true,false,{"$f":"'E5-Baseline Model'!#REF!+SUMPRODUCT(B85:E85,TRANSPOSE('E5-Baseline Model'!#REF!))","v":{"$error":"#REF!"}},{"$f":"'E5-Baseline Model'!#REF!+SUMPRODUCT(B85:E85,TRANSPOSE('E5-Baseline Model'!#REF!))+RAND()-0.5","v":{"$error":"#REF!"}},{"$f":"IF(PSCalculationMethod=CalculationMethodNYES,J85,IF(PSCalculationMethod=CalculationMethodNYES,'E8-Reporting Period Values'!#REF!,\"\"))","v":""},0]
[42820,8.0500000000000007,0,1,0,true,true,false,{"$f":"'E5-Baseline Model'!#REF!+SUMPRODUCT(B86:E86,TRANSPOSE('E5-Baseline Model'!#REF!))","v":{"$error":"#REF!"}},{"$f":"'E5-Baseline Model'!#REF!+SUMPRODUCT(B86:E86,TRANSPOSE('E5-Baseline Model'!#REF!))+RAND()-0.5","v":{"$error":"#REF!"}},{"$f":"IF(PSCalculationMethod=CalculationMethodNYES,J86,IF(PSCalculationMethod=CalculationMethodNYES,'E8-Reporting Period Values'!#REF!,\"\"))","v":""},0]
[42821,5.95,0,0,0,true,true,false,{"$f":"'E5-Baseline Model'!#REF!+SUMPRODUCT(B87:E87,TRANSPOSE('E5-Baseline Model'!#REF!))","v":{"$error":"#REF!"}},{"$f":"'E5-Baseline Model'!#REF!+SUMPRODUCT(B87:E87,TRANSPOSE('E5-Baseline Model'!#REF!))+RAND()-0.5","v":{"$error":"#REF!"}},{"$f":"IF(PSCalculationMethod=CalculationMethodNYES,J87,IF(PSCalculationMethod=CalculationMethodNYES,'E8-Reporting Period Values'!#REF!,\"\"))","v":""},0]
[42822,6.25,0,0,0,true,true,false,{"$f":"'E5-Baseline Model'!#REF!+SUMPRODUCT(B88:E88,TRANSPOSE('E5-Baseline Model'!#REF!))","v":{"$error":"#REF!"}},{"$f":"'E5-Baseline Model'!#REF!+SUMPRODUCT(B88:E88,TRANSPOSE('E5-Baseline Model'!#REF!))+RAND()-0.5","v":{"$error":"#REF!"}},{"$f":"IF(PSCalculationMethod=CalculationMethodNYES,J88,IF(PSCalculationMethod=CalculationMethodNYES,'E8-Reporting Period Values'!#REF!,\"\"))","v":""},0]
[42823,8.4,0,0,0,true,true,false,{"$f":"'E5-Baseline Model'!#REF!+SUMPRODUCT(B89:E89,TRANSPOSE('E5-Baseline Model'!#REF!))","v":{"$error":"#REF!"}},{"$f":"'E5-Baseline Model'!#REF!+SUMPRODUCT(B89:E89,TRANSPOSE('E5-Baseline Model'!#REF!))+RAND()-0.5","v":{"$error":"#REF!"}},{"$f":"IF(PSCalculationMethod=CalculationMethodNYES,J89,IF(PSCalculationMethod=CalculationMethodNYES,'E8-Reporting Period Values'!#REF!,\"\"))","v":""},0]
[42824,7.15,0,0,0,true,true,false,{"$f":"'E5-Baseline Model'!#REF!+SUMPRODUCT(B90:E90,TRANSPOSE('E5-Baseline Model'!#REF!))","v":{"$error":"#REF!"}},{"$f":"'E5-Baseline Model'!#REF!+SUMPRODUCT(B90:E90,TRANSPOSE('E5-Baseline Model'!#REF!))+RAND()-0.5","v":{"$error":"#REF!"}},{"$f":"IF(PSCalculationMethod=CalculationMethodNYES,J90,IF(PSCalculationMethod=CalculationMethodNYES,'E8-Reporting Period Values'!#REF!,\"\"))","v":""},0]
[42825,7.55,0,0,0,true,true,false,{"$f":"'E5-Baseline Model'!#REF!+SUMPRODUCT(B91:E91,TRANSPOSE('E5-Baseline Model'!#REF!))","v":{"$error":"#REF!"}},{"$f":"'E5-Baseline Model'!#REF!+SUMPRODUCT(B91:E91,TRANSPOSE('E5-Baseline Model'!#REF!))+RAND()-0.5","v":{"$error":"#REF!"}},{"$f":"IF(PSCalculationMethod=CalculationMethodNYES,J91,IF(PSCalculationMethod=CalculationMethodNYES,'E8-Reporting Period Values'!#REF!,\"\"))","v":""},0]
[42826,8.0500000000000007,1,0,0,true,true,false,{"$f":"'E5-Baseline Model'!#REF!+SUMPRODUCT(B92:E92,TRANSPOSE('E5-Baseline Model'!#REF!))","v":{"$error":"#REF!"}},{"$f":"'E5-Baseline Model'!#REF!+SUMPRODUCT(B92:E92,TRANSPOSE('E5-Baseline Model'!#REF!))+RAND()-0.5","v":{"$error":"#REF!"}},{"$f":"IF(PSCalculationMethod=CalculationMethodNYES,J92,IF(PSCalculationMethod=CalculationMethodNYES,'E8-Reporting Period Values'!#REF!,\"\"))","v":""},0]
[42827,8.6,0,1,0,true,true,false,{"$f":"'E5-Baseline Model'!#REF!+SUMPRODUCT(B93:E93,TRANSPOSE('E5-Baseline Model'!#REF!))","v":{"$error":"#REF!"}},{"$f":"'E5-Baseline Model'!#REF!+SUMPRODUCT(B93:E93,TRANSPOSE('E5-Baseline Model'!#REF!))+RAND()-0.5","v":{"$error":"#REF!"}},{"$f":"IF(PSCalculationMethod=CalculationMethodNYES,J93,IF(PSCalculationMethod=CalculationMethodNYES,'E8-Reporting Period Values'!#REF!,\"\"))","v":""},0]
[42828,7.1,0,0,0,true,true,false,{"$f":"'E5-Baseline Model'!#REF!+SUMPRODUCT(B94:E94,TRANSPOSE('E5-Baseline Model'!#REF!))","v":{"$error":"#REF!"}},{"$f":"'E5-Baseline Model'!#REF!+SUMPRODUCT(B94:E94,TRANSPOSE('E5-Baseline Model'!#REF!))+RAND()-0.5","v":{"$error":"#REF!"}},{"$f":"IF(PSCalculationMethod=CalculationMethodNYES,J94,IF(PSCalculationMethod=CalculationMethodNYES,'E8-Reporting Period Values'!#REF!,\"\"))","v":""},0]
[42829,8,0,0,0,true,true,false,{"$f":"'E5-Baseline Model'!#REF!+SUMPRODUCT(B95:E95,TRANSPOSE('E5-Baseline Model'!#REF!))","v":{"$error":"#REF!"}},{"$f":"'E5-Baseline Model'!#REF!+SUMPRODUCT(B95:E95,TRANSPOSE('E5-Baseline Model'!#REF!))+RAND()-0.5","v":{"$error":"#REF!"}},{"$f":"IF(PSCalculationMethod=CalculationMethodNYES,J95,IF(PSCalculationMethod=CalculationMethodNYES,'E8-Reporting Period Values'!#REF!,\"\"))","v":""},0]
[42830,5.45,0,0,0,true,true,false,{"$f":"'E5-Baseline Model'!#REF!+SUMPRODUCT(B96:E96,TRANSPOSE('E5-Baseline Model'!#REF!))","v":{"$error":"#REF!"}},{"$f":"'E5-Baseline Model'!#REF!+SUMPRODUCT(B96:E96,TRANSPOSE('E5-Baseline Model'!#REF!))+RAND()-0.5","v":{"$error":"#REF!"}},{"$f":"IF(PSCalculationMethod=CalculationMethodNYES,J96,IF(PSCalculationMethod=CalculationMethodNYES,'E8-Reporting Period Values'!#REF!,\"\"))","v":""},0]
[42831,4.8499999999999996,0,0,0,true,true,false,{"$f":"'E5-Baseline Model'!#REF!+SUMPRODUCT(B97:E97,TRANSPOSE('E5-Baseline Model'!#REF!))","v":{"$error":"#REF!"}},{"$f":"'E5-Baseline Model'!#REF!+SUMPRODUCT(B97:E97,TRANSPOSE('E5-Baseline Model'!#REF!))+RAND()-0.5","v":{"$error":"#REF!"}},{"$f":"IF(PSCalculationMethod=CalculationMethodNYES,J97,IF(PSCalculationMethod=CalculationMethodNYES,'E8-Reporting Period Values'!#REF!,\"\"))","v":""},0]
[42832,6.2,0,0,0,true,true,false,{"$f":"'E5-Baseline Model'!#REF!+SUMPRODUCT(B98:E98,TRANSPOSE('E5-Baseline Model'!#REF!))","v":{"$error":"#REF!"}},{"$f":"'E5-Baseline Model'!#REF!+SUMPRODUCT(B98:E98,TRANSPOSE('E5-Baseline Model'!#REF!))+RAND()-0.5","v":{"$error":"#REF!"}},{"$f":"IF(PSCalculationMethod=CalculationMethodNYES,J98,IF(PSCalculationMethod=CalculationMethodNYES,'E8-Reporting Period Values'!#REF!,\"\"))","v":""},0]
[42833,6,1,0,0,true,true,false,{"$f":"'E5-Baseline Model'!#REF!+SUMPRODUCT(B99:E99,TRANSPOSE('E5-Baseline Model'!#REF!))","v":{"$error":"#REF!"}},{"$f":"'E5-Baseline Model'!#REF!+SUMPRODUCT(B99:E99,TRANSPOSE('E5-Baseline Model'!#REF!))+RAND()-0.5","v":{"$error":"#REF!"}},{"$f":"IF(PSCalculationMethod=CalculationMethodNYES,J99,IF(PSCalculationMethod=CalculationMethodNYES,'E8-Reporting Period Values'!#REF!,\"\"))","v":""},0]
[42834,7.25,0,1,0,true,true,false,{"$f":"'E5-Baseline Model'!#REF!+SUMPRODUCT(B100:E100,TRANSPOSE('E5-Baseline Model'!#REF!))","v":{"$error":"#REF!"}},{"$f":"'E5-Baseline Model'!#REF!+SUMPRODUCT(B100:E100,TRANSPOSE('E5-Baseline Model'!#REF!))+RAND()-0.5","v":{"$error":"#REF!"}},{"$f":"IF(PSCalculationMethod=CalculationMethodNYES,J100,IF(PSCalculationMethod=CalculationMethodNYES,'E8-Reporting Period Values'!#REF!,\"\"))","v":""},0]
[42835,9.4499999999999993,0,0,0,true,true,false,{"$f":"'E5-Baseline Model'!#REF!+SUMPRODUCT(B101:E101,TRANSPOSE('E5-Baseline Model'!#REF!))","v":{"$error":"#REF!"}},{"$f":"'E5-Baseline Model'!#REF!+SUMPRODUCT(B101:E101,TRANSPOSE('E5-Baseline Model'!#REF!))+RAND()-0.5","v":{"$error":"#REF!"}},{"$f":"IF(PSCalculationMethod=CalculationMethodNYES,J101,IF(PSCalculationMethod=CalculationMethodNYES,'E8-Reporting Period Values'!#REF!,\"\"))","v":""},0]
[42836,5.45,0,0,0,true,true,false,{"$f":"'E5-Baseline Model'!#REF!+SUMPRODUCT(B102:E102,TRANSPOSE('E5-Baseline Model'!#REF!))","v":{"$error":"#REF!"}},{"$f":"'E5-Baseline Model'!#REF!+SUMPRODUCT(B102:E102,TRANSPOSE('E5-Baseline Model'!#REF!))+RAND()-0.5","v":{"$error":"#REF!"}},{"$f":"IF(PSCalculationMethod=CalculationMethodNYES,J102,IF(PSCalculationMethod=CalculationMethodNYES,'E8-Reporting Period Values'!#REF!,\"\"))","v":""},0]
[42837,4.3,0,0,0,true,true,false,{"$f":"'E5-Baseline Model'!#REF!+SUMPRODUCT(B103:E103,TRANSPOSE('E5-Baseline Model'!#REF!))","v":{"$error":"#REF!"}},{"$f":"'E5-Baseline Model'!#REF!+SUMPRODUCT(B103:E103,TRANSPOSE('E5-Baseline Model'!#REF!))+RAND()-0.5","v":{"$error":"#REF!"}},{"$f":"IF(PSCalculationMethod=CalculationMethodNYES,J103,IF(PSCalculationMethod=CalculationMethodNYES,'E8-Reporting Period Values'!#REF!,\"\"))","v":""},0]
[42838,3.25,0,0,0,true,true,false,{"$f":"'E5-Baseline Model'!#REF!+SUMPRODUCT(B104:E104,TRANSPOSE('E5-Baseline Model'!#REF!))","v":{"$error":"#REF!"}},{"$f":"'E5-Baseline Model'!#REF!+SUMPRODUCT(B104:E104,TRANSPOSE('E5-Baseline Model'!#REF!))+RAND()-0.5","v":{"$error":"#REF!"}},{"$f":"IF(PSCalculationMethod=CalculationMethodNYES,J104,IF(PSCalculationMethod=CalculationMethodNYES,'E8-Reporting Period Values'!#REF!,\"\"))","v":""},0]
[42839,3.65,0,0,1,true,true,false,{"$f":"'E5-Baseline Model'!#REF!+SUMPRODUCT(B105:E105,TRANSPOSE('E5-Baseline Model'!#REF!))","v":{"$error":"#REF!"}},{"$f":"'E5-Baseline Model'!#REF!+SUMPRODUCT(B105:E105,TRANSPOSE('E5-Baseline Model'!#REF!))+RAND()-0.5","v":{"$error":"#REF!"}},{"$f":"IF(PSCalculationMethod=CalculationMethodNYES,J105,IF(PSCalculationMethod=CalculationMethodNYES,'E8-Reporting Period Values'!#REF!,\"\"))","v":""},0]
[42840,4.8,1,0,0,true,true,false,{"$f":"'E5-Baseline Model'!#REF!+SUMPRODUCT(B106:E106,TRANSPOSE('E5-Baseline Model'!#REF!))","v":{"$error":"#REF!"}},{"$f":"'E5-Baseline Model'!#REF!+SUMPRODUCT(B106:E106,TRANSPOSE('E5-Baseline Model'!#REF!))+RAND()-0.5","v":{"$error":"#REF!"}},{"$f":"IF(PSCalculationMethod=CalculationMethodNYES,J106,IF(PSCalculationMethod=CalculationMethodNYES,'E8-Reporting Period Values'!#REF!,\"\"))","v":""},0]
[42841,4.4000000000000004,0,1,0,true,true,false,{"$f":"'E5-Baseline Model'!#REF!+SUMPRODUCT(B107:E107,TRANSPOSE('E5-Baseline Model'!#REF!))","v":{"$error":"#REF!"}},{"$f":"'E5-Baseline Model'!#REF!+SUMPRODUCT(B107:E107,TRANSPOSE('E5-Baseline Model'!#REF!))+RAND()-0.5","v":{"$error":"#REF!"}},{"$f":"IF(PSCalculationMethod=CalculationMethodNYES,J107,IF(PSCalculationMethod=CalculationMethodNYES,'E8-Reporting Period Values'!#REF!,\"\"))","v":""},0]
[42842,6,0,0,1,true,true,false,{"$f":"'E5-Baseline Model'!#REF!+SUMPRODUCT(B108:E108,TRANSPOSE('E5-Baseline Model'!#REF!))","v":{"$error":"#REF!"}},{"$f":"'E5-Baseline Model'!#REF!+SUMPRODUCT(B108:E108,TRANSPOSE('E5-Baseline Model'!#REF!))+RAND()-0.5","v":{"$error":"#REF!"}},{"$f":"IF(PSCalculationMethod=CalculationMethodNYES,J108,IF(PSCalculationMethod=CalculationMethodNYES,'E8-Reporting Period Values'!#REF!,\"\"))","v":""},0]
[42843,4.8499999999999996,0,0,0,true,true,false,{"$f":"'E5-Baseline Model'!#REF!+SUMPRODUCT(B109:E109,TRANSPOSE('E5-Baseline Model'!#REF!))","v":{"$error":"#REF!"}},{"$f":"'E5-Baseline Model'!#REF!+SUMPRODUCT(B109:E109,TRANSPOSE('E5-Baseline Model'!#REF!))+RAND()-0.5","v":{"$error":"#REF!"}},{"$f":"IF(PSCalculationMethod=CalculationMethodNYES,J109,IF(PSCalculationMethod=CalculationMethodNYES,'E8-Reporting Period Values'!#REF!,\"\"))","v":""},0]
[42844,4.05,0,0,0,true,true,false,{"$f":"'E5-Baseline Model'!#REF!+SUMPRODUCT(B110:E110,TRANSPOSE('E5-Baseline Model'!#REF!))","v":{"$error":"#REF!"}},{"$f":"'E5-Baseline Model'!#REF!+SUMPRODUCT(B110:E110,TRANSPOSE('E5-Baseline Model'!#REF!))+RAND()-0.5","v":{"$error":"#REF!"}},{"$f":"IF(PSCalculationMethod=CalculationMethodNYES,J110,IF(PSCalculationMethod=CalculationMethodNYES,'E8-Reporting Period Values'!#REF!,\"\"))","v":""},0]
[42845,5.25,0,0,0,true,true,false,{"$f":"'E5-Baseline Model'!#REF!+SUMPRODUCT(B111:E111,TRANSPOSE('E5-Baseline Model'!#REF!))","v":{"$error":"#REF!"}},{"$f":"'E5-Baseline Model'!#REF!+SUMPRODUCT(B111:E111,TRANSPOSE('E5-Baseline Model'!#REF!))+RAND()-0.5","v":{"$error":"#REF!"}},{"$f":"IF(PSCalculationMethod=CalculationMethodNYES,J111,IF(PSCalculationMethod=CalculationMethodNYES,'E8-Reporting Period Values'!#REF!,\"\"))","v":""},0]
[42846,5.0999999999999996,0,0,0,true,true,false,{"$f":"'E5-Baseline Model'!#REF!+SUMPRODUCT(B112:E112,TRANSPOSE('E5-Baseline Model'!#REF!))","v":{"$error":"#REF!"}},{"$f":"'E5-Baseline Model'!#REF!+SUMPRODUCT(B112:E112,TRANSPOSE('E5-Baseline Model'!#REF!))+RAND()-0.5","v":{"$error":"#REF!"}},{"$f":"IF(PSCalculationMethod=CalculationMethodNYES,J112,IF(PSCalculationMethod=CalculationMethodNYES,'E8-Reporting Period Values'!#REF!,\"\"))","v":""},0]
[42847,5.75,1,0,0,true,true,false,{"$f":"'E5-Baseline Model'!#REF!+SUMPRODUCT(B113:E113,TRANSPOSE('E5-Baseline Model'!#REF!))","v":{"$error":"#REF!"}},{"$f":"'E5-Baseline Model'!#REF!+SUMPRODUCT(B113:E113,TRANSPOSE('E5-Baseline Model'!#REF!))+RAND()-0.5","v":{"$error":"#REF!"}},{"$f":"IF(PSCalculationMethod=CalculationMethodNYES,J113,IF(PSCalculationMethod=CalculationMethodNYES,'E8-Reporting Period Values'!#REF!,\"\"))","v":""},0]
[42848,8,0,1,0,true,true,false,{"$f":"'E5-Baseline Model'!#REF!+SUMPRODUCT(B114:E114,TRANSPOSE('E5-Baseline Model'!#REF!))","v":{"$error":"#REF!"}},{"$f":"'E5-Baseline Model'!#REF!+SUMPRODUCT(B114:E114,TRANSPOSE('E5-Baseline Model'!#REF!))+RAND()-0.5","v":{"$error":"#REF!"}},{"$f":"IF(PSCalculationMethod=CalculationMethodNYES,J114,IF(PSCalculationMethod=CalculationMethodNYES,'E8-Reporting Period Values'!#REF!,\"\"))","v":""},0]
[42849,5.25,0,0,0,true,true,false,{"$f":"'E5-Baseline Model'!#REF!+SUMPRODUCT(B115:E115,TRANSPOSE('E5-Baseline Model'!#REF!))","v":{"$error":"#REF!"}},{"$f":"'E5-Baseline Model'!#REF!+SUMPRODUCT(B115:E115,TRANSPOSE('E5-Baseline Model'!#REF!))+RAND()-0.5","v":{"$error":"#REF!"}},{"$f":"IF(PSCalculationMethod=CalculationMethodNYES,J115,IF(PSCalculationMethod=CalculationMethodNYES,'E8-Reporting Period Values'!#REF!,\"\"))","v":""},0]
[42850,5.3,0,0,1,true,true,false,{"$f":"'E5-Baseline Model'!#REF!+SUMPRODUCT(B116:E116,TRANSPOSE('E5-Baseline Model'!#REF!))","v":{"$error":"#REF!"}},{"$f":"'E5-Baseline Model'!#REF!+SUMPRODUCT(B116:E116,TRANSPOSE('E5-Baseline Model'!#REF!))+RAND()-0.5","v":{"$error":"#REF!"}},{"$f":"IF(PSCalculationMethod=CalculationMethodNYES,J116,IF(PSCalculationMethod=CalculationMethodNYES,'E8-Reporting Period Values'!#REF!,\"\"))","v":""},0]
[42851,3.4,0,0,0,true,true,false,{"$f":"'E5-Baseline Model'!#REF!+SUMPRODUCT(B117:E117,TRANSPOSE('E5-Baseline Model'!#REF!))","v":{"$error":"#REF!"}},{"$f":"'E5-Baseline Model'!#REF!+SUMPRODUCT(B117:E117,TRANSPOSE('E5-Baseline Model'!#REF!))+RAND()-0.5","v":{"$error":"#REF!"}},{"$f":"IF(PSCalculationMethod=CalculationMethodNYES,J117,IF(PSCalculationMethod=CalculationMethodNYES,'E8-Reporting Period Values'!#REF!,\"\"))","v":""},0]
[42852,3.8,0,0,0,true,true,false,{"$f":"'E5-Baseline Model'!#REF!+SUMPRODUCT(B118:E118,TRANSPOSE('E5-Baseline Model'!#REF!))","v":{"$error":"#REF!"}},{"$f":"'E5-Baseline Model'!#REF!+SUMPRODUCT(B118:E118,TRANSPOSE('E5-Baseline Model'!#REF!))+RAND()-0.5","v":{"$error":"#REF!"}},{"$f":"IF(PSCalculationMethod=CalculationMethodNYES,J118,IF(PSCalculationMethod=CalculationMethodNYES,'E8-Reporting Period Values'!#REF!,\"\"))","v":""},0]
[42853,6.3,0,0,0,true,true,false,{"$f":"'E5-Baseline Model'!#REF!+SUMPRODUCT(B119:E119,TRANSPOSE('E5-Baseline Model'!#REF!))","v":{"$error":"#REF!"}},{"$f":"'E5-Baseline Model'!#REF!+SUMPRODUCT(B119:E119,TRANSPOSE('E5-Baseline Model'!#REF!))+RAND()-0.5","v":{"$error":"#REF!"}},{"$f":"IF(PSCalculationMethod=CalculationMethodNYES,J119,IF(PSCalculationMethod=CalculationMethodNYES,'E8-Reporting Period Values'!#REF!,\"\"))","v":""},0]
[42854,7.75,1,0,0,true,true,false,{"$f":"'E5-Baseline Model'!#REF!+SUMPRODUCT(B120:E120,TRANSPOSE('E5-Baseline Model'!#REF!))","v":{"$error":"#REF!"}},{"$f":"'E5-Baseline Model'!#REF!+SUMPRODUCT(B120:E120,TRANSPOSE('E5-Baseline Model'!#REF!))+RAND()-0.5","v":{"$error":"#REF!"}},{"$f":"IF(PSCalculationMethod=CalculationMethodNYES,J120,IF(PSCalculationMethod=CalculationMethodNYES,'E8-Reporting Period Values'!#REF!,\"\"))","v":""},0]
[42855,3.15,0,1,0,true,true,false,{"$f":"'E5-Baseline Model'!#REF!+SUMPRODUCT(B121:E121,TRANSPOSE('E5-Baseline Model'!#REF!))","v":{"$error":"#REF!"}},{"$f":"'E5-Baseline Model'!#REF!+SUMPRODUCT(B121:E121,TRANSPOSE('E5-Baseline Model'!#REF!))+RAND()-0.5","v":{"$error":"#REF!"}},{"$f":"IF(PSCalculationMethod=CalculationMethodNYES,J121,IF(PSCalculationMethod=CalculationMethodNYES,'E8-Reporting Period Values'!#REF!,\"\"))","v":""},0]
[42856,5.8,0,0,0,true,true,false,{"$f":"'E5-Baseline Model'!#REF!+SUMPRODUCT(B122:E122,TRANSPOSE('E5-Baseline Model'!#REF!))","v":{"$error":"#REF!"}},{"$f":"'E5-Baseline Model'!#REF!+SUMPRODUCT(B122:E122,TRANSPOSE('E5-Baseline Model'!#REF!))+RAND()-0.5","v":{"$error":"#REF!"}},{"$f":"IF(PSCalculationMethod=CalculationMethodNYES,J122,IF(PSCalculationMethod=CalculationMethodNYES,'E8-Reporting Period Values'!#REF!,\"\"))","v":""},0]
[42857,5.9,0,0,0,true,true,false,{"$f":"'E5-Baseline Model'!#REF!+SUMPRODUCT(B123:E123,TRANSPOSE('E5-Baseline Model'!#REF!))","v":{"$error":"#REF!"}},{"$f":"'E5-Baseline Model'!#REF!+SUMPRODUCT(B123:E123,TRANSPOSE('E5-Baseline Model'!#REF!))+RAND()-0.5","v":{"$error":"#REF!"}},{"$f":"IF(PSCalculationMethod=CalculationMethodNYES,J123,IF(PSCalculationMethod=CalculationMethodNYES,'E8-Reporting Period Values'!#REF!,\"\"))","v":""},0]
[42858,5.55,0,0,0,true,true,false,{"$f":"'E5-Baseline Model'!#REF!+SUMPRODUCT(B124:E124,TRANSPOSE('E5-Baseline Model'!#REF!))","v":{"$error":"#REF!"}},{"$f":"'E5-Baseline Model'!#REF!+SUMPRODUCT(B124:E124,TRANSPOSE('E5-Baseline Model'!#REF!))+RAND()-0.5","v":{"$error":"#REF!"}},{"$f":"IF(PSCalculationMethod=CalculationMethodNYES,J124,IF(PSCalculationMethod=CalculationMethodNYES,'E8-Reporting Period Values'!#REF!,\"\"))","v":""},0]
[42859,7.1,0,0,0,true,true,false,{"$f":"'E5-Baseline Model'!#REF!+SUMPRODUCT(B125:E125,TRANSPOSE('E5-Baseline Model'!#REF!))","v":{"$error":"#REF!"}},{"$f":"'E5-Baseline Model'!#REF!+SUMPRODUCT(B125:E125,TRANSPOSE('E5-Baseline Model'!#REF!))+RAND()-0.5","v":{"$error":"#REF!"}},{"$f":"IF(PSCalculationMethod=CalculationMethodNYES,J125,IF(PSCalculationMethod=CalculationMethodNYES,'E8-Reporting Period Values'!#REF!,\"\"))","v":""},0]
[42860,3.2,0,0,0,true,true,false,{"$f":"'E5-Baseline Model'!#REF!+SUMPRODUCT(B126:E126,TRANSPOSE('E5-Baseline Model'!#REF!))","v":{"$error":"#REF!"}},{"$f":"'E5-Baseline Model'!#REF!+SUMPRODUCT(B126:E126,TRANSPOSE('E5-Baseline Model'!#REF!))+RAND()-0.5","v":{"$error":"#REF!"}},{"$f":"IF(PSCalculationMethod=CalculationMethodNYES,J126,IF(PSCalculationMethod=CalculationMethodNYES,'E8-Reporting Period Values'!#REF!,\"\"))","v":""},0]
[42861,1.9,1,0,0,true,true,false,{"$f":"'E5-Baseline Model'!#REF!+SUMPRODUCT(B127:E127,TRANSPOSE('E5-Baseline Model'!#REF!))","v":{"$error":"#REF!"}},{"$f":"'E5-Baseline Model'!#REF!+SUMPRODUCT(B127:E127,TRANSPOSE('E5-Baseline Model'!#REF!))+RAND()-0.5","v":{"$error":"#REF!"}},{"$f":"IF(PSCalculationMethod=CalculationMethodNYES,J127,IF(PSCalculationMethod=CalculationMethodNYES,'E8-Reporting Period Values'!#REF!,\"\"))","v":""},0]
[42862,2.0499999999999998,0,1,0,true,true,false,{"$f":"'E5-Baseline Model'!#REF!+SUMPRODUCT(B128:E128,TRANSPOSE('E5-Baseline Model'!#REF!))","v":{"$error":"#REF!"}},{"$f":"'E5-Baseline Model'!#REF!+SUMPRODUCT(B128:E128,TRANSPOSE('E5-Baseline Model'!#REF!))+RAND()-0.5","v":{"$error":"#REF!"}},{"$f":"IF(PSCalculationMethod=CalculationMethodNYES,J128,IF(PSCalculationMethod=CalculationMethodNYES,'E8-Reporting Period Values'!#REF!,\"\"))","v":""},0]
[42863,2.2000000000000002,0,0,0,true,true,false,{"$f":"'E5-Baseline Model'!#REF!+SUMPRODUCT(B129:E129,TRANSPOSE('E5-Baseline Model'!#REF!))","v":{"$error":"#REF!"}},{"$f":"'E5-Baseline Model'!#REF!+SUMPRODUCT(B129:E129,TRANSPOSE('E5-Baseline Model'!#REF!))+RAND()-0.5","v":{"$error":"#REF!"}},{"$f":"IF(PSCalculationMethod=CalculationMethodNYES,J129,IF(PSCalculationMethod=CalculationMethodNYES,'E8-Reporting Period Values'!#REF!,\"\"))","v":""},0]
[42864,2.25,0,0,0,true,true,{"$f":"IF(PSCalculationMethod=CalculationMethodMAES,F130,IF(PSCalculationMethod=CalculationMethodNYES,AND(F130,G130),FALSE))","v":false},{"$f":"'E5-Baseline Model'!#REF!+SUMPRODUCT(B130:E130,TRANSPOSE('E5-Baseline Model'!#REF!))","v":{"$error":"#REF!"}},{"$f":"'E5-Baseline Model'!#REF!+SUMPRODUCT(B130:E130,TRANSPOSE('E5-Baseline Model'!#REF!))+RAND()-0.5","v":{"$error":"#REF!"}},{"$f":"IF(PSCalculationMethod=CalculationMethodNYES,J130,IF(PSCalculationMethod=CalculationMethodNYES,'E8-Reporting Period Values'!#REF!,\"\"))","v":""},0]
[42865,4.6500000000000004,0,0,0,true,true,false,{"$f":"'E5-Baseline Model'!#REF!+SUMPRODUCT(B131:E131,TRANSPOSE('E5-Baseline Model'!#REF!))","v":{"$error":"#REF!"}},{"$f":"'E5-Baseline Model'!#REF!+SUMPRODUCT(B131:E131,TRANSPOSE('E5-Baseline Model'!#REF!))+RAND()-0.5","v":{"$error":"#REF!"}},{"$f":"IF(PSCalculationMethod=CalculationMethodNYES,J131,IF(PSCalculationMethod=CalculationMethodNYES,'E8-Reporting Period Values'!#REF!,\"\"))","v":""},{"$f":"IF(H131,I131-K131,0)","v":0}]
[42866,3.35,0,0,0,true,true,false,{"$f":"'E5-Baseline Model'!#REF!+SUMPRODUCT(B132:E132,TRANSPOSE('E5-Baseline Model'!#REF!))","v":{"$error":"#REF!"}},{"$f":"'E5-Baseline Model'!#REF!+SUMPRODUCT(B132:E132,TRANSPOSE('E5-Baseline Model'!#REF!))+RAND()-0.5","v":{"$error":"#REF!"}},{"$f":"IF(PSCalculationMethod=CalculationMethodNYES,J132,IF(PSCalculationMethod=CalculationMethodNYES,'E8-Reporting Period Values'!#REF!,\"\"))","v":""},0]
[42867,1.25,0,0,0,true,true,false,{"$f":"'E5-Baseline Model'!#REF!+SUMPRODUCT(B133:E133,TRANSPOSE('E5-Baseline Model'!#REF!))","v":{"$error":"#REF!"}},{"$f":"'E5-Baseline Model'!#REF!+SUMPRODUCT(B133:E133,TRANSPOSE('E5-Baseline Model'!#REF!))+RAND()-0.5","v":{"$error":"#REF!"}},{"$f":"IF(PSCalculationMethod=CalculationMethodNYES,J133,IF(PSCalculationMethod=CalculationMethodNYES,'E8-Reporting Period Values'!#REF!,\"\"))","v":""},0]
[42868,0,1,0,0,true,true,false,{"$f":"'E5-Baseline Model'!#REF!+SUMPRODUCT(B134:E134,TRANSPOSE('E5-Baseline Model'!#REF!))","v":{"$error":"#REF!"}},{"$f":"'E5-Baseline Model'!#REF!+SUMPRODUCT(B134:E134,TRANSPOSE('E5-Baseline Model'!#REF!))+RAND()-0.5","v":{"$error":"#REF!"}},{"$f":"IF(PSCalculationMethod=CalculationMethodNYES,J134,IF(PSCalculationMethod=CalculationMethodNYES,'E8-Reporting Period Values'!#REF!,\"\"))","v":""},0]
[42869,1.1000000000000001,0,1,0,true,true,false,{"$f":"'E5-Baseline Model'!#REF!+SUMPRODUCT(B135:E135,TRANSPOSE('E5-Baseline Model'!#REF!))","v":{"$error":"#REF!"}},{"$f":"'E5-Baseline Model'!#REF!+SUMPRODUCT(B135:E135,TRANSPOSE('E5-Baseline Model'!#REF!))+RAND()-0.5","v":{"$error":"#REF!"}},{"$f":"IF(PSCalculationMethod=CalculationMethodNYES,J135,IF(PSCalculationMethod=CalculationMethodNYES,'E8-Reporting Period Values'!#REF!,\"\"))","v":""},0]
[42870,2.9,0,0,0,true,true,false,{"$f":"'E5-Baseline Model'!#REF!+SUMPRODUCT(B136:E136,TRANSPOSE('E5-Baseline Model'!#REF!))","v":{"$error":"#REF!"}},{"$f":"'E5-Baseline Model'!#REF!+SUMPRODUCT(B136:E136,TRANSPOSE('E5-Baseline Model'!#REF!))+RAND()-0.5","v":{"$error":"#REF!"}},{"$f":"IF(PSCalculationMethod=CalculationMethodNYES,J136,IF(PSCalculationMethod=CalculationMethodNYES,'E8-Reporting Period Values'!#REF!,\"\"))","v":""},0]
[42871,1.8,0,0,0,true,true,false,{"$f":"'E5-Baseline Model'!#REF!+SUMPRODUCT(B137:E137,TRANSPOSE('E5-Baseline Model'!#REF!))","v":{"$error":"#REF!"}},{"$f":"'E5-Baseline Model'!#REF!+SUMPRODUCT(B137:E137,TRANSPOSE('E5-Baseline Model'!#REF!))+RAND()-0.5","v":{"$error":"#REF!"}},{"$f":"IF(PSCalculationMethod=CalculationMethodNYES,J137,IF(PSCalculationMethod=CalculationMethodNYES,'E8-Reporting Period Values'!#REF!,\"\"))","v":""},0]
[42872,1.4,0,0,0,true,true,false,{"$f":"'E5-Baseline Model'!#REF!+SUMPRODUCT(B138:E138,TRANSPOSE('E5-Baseline Model'!#REF!))","v":{"$error":"#REF!"}},{"$f":"'E5-Baseline Model'!#REF!+SUMPRODUCT(B138:E138,TRANSPOSE('E5-Baseline Model'!#REF!))+RAND()-0.5","v":{"$error":"#REF!"}},{"$f":"IF(PSCalculationMethod=CalculationMethodNYES,J138,IF(PSCalculationMethod=CalculationMethodNYES,'E8-Reporting Period Values'!#REF!,\"\"))","v":""},0]
[42873,3.65,0,0,0,true,true,false,{"$f":"'E5-Baseline Model'!#REF!+SUMPRODUCT(B139:E139,TRANSPOSE('E5-Baseline Model'!#REF!))","v":{"$error":"#REF!"}},{"$f":"'E5-Baseline Model'!#REF!+SUMPRODUCT(B139:E139,TRANSPOSE('E5-Baseline Model'!#REF!))+RAND()-0.5","v":{"$error":"#REF!"}},{"$f":"IF(PSCalculationMethod=CalculationMethodNYES,J139,IF(PSCalculationMethod=CalculationMethodNYES,'E8-Reporting Period Values'!#REF!,\"\"))","v":""},0]
[42874,6.8,0,0,0,true,true,false,{"$f":"'E5-Baseline Model'!#REF!+SUMPRODUCT(B140:E140,TRANSPOSE('E5-Baseline Model'!#REF!))","v":{"$error":"#REF!"}},{"$f":"'E5-Baseline Model'!#REF!+SUMPRODUCT(B140:E140,TRANSPOSE('E5-Baseline Model'!#REF!))+RAND()-0.5","v":{"$error":"#REF!"}},{"$f":"IF(PSCalculationMethod=CalculationMethodNYES,J140,IF(PSCalculationMethod=CalculationMethodNYES,'E8-Reporting Period Values'!#REF!,\"\"))","v":""},0]
[42875,4.1500000000000004,1,0,0,true,true,false,{"$f":"'E5-Baseline Model'!#REF!+SUMPRODUCT(B141:E141,TRANSPOSE('E5-Baseline Model'!#REF!))","v":{"$error":"#REF!"}},{"$f":"'E5-Baseline Model'!#REF!+SUMPRODUCT(B141:E141,TRANSPOSE('E5-Baseline Model'!#REF!))+RAND()-0.5","v":{"$error":"#REF!"}},{"$f":"IF(PSCalculationMethod=CalculationMethodNYES,J141,IF(PSCalculationMethod=CalculationMethodNYES,'E8-Reporting Period Values'!#REF!,\"\"))","v":""},0]
[42876,1.35,0,1,0,true,true,false,{"$f":"'E5-Baseline Model'!#REF!+SUMPRODUCT(B142:E142,TRANSPOSE('E5-Baseline Model'!#REF!))","v":{"$error":"#REF!"}},{"$f":"'E5-Baseline Model'!#REF!+SUMPRODUCT(B142:E142,TRANSPOSE('E5-Baseline Model'!#REF!))+RAND()-0.5","v":{"$error":"#REF!"}},{"$f":"IF(PSCalculationMethod=CalculationMethodNYES,J142,IF(PSCalculationMethod=CalculationMethodNYES,'E8-Reporting Period Values'!#REF!,\"\"))","v":""},0]
[42877,0.6,0,0,0,true,true,false,{"$f":"'E5-Baseline Model'!#REF!+SUMPRODUCT(B143:E143,TRANSPOSE('E5-Baseline Model'!#REF!))","v":{"$error":"#REF!"}},{"$f":"'E5-Baseline Model'!#REF!+SUMPRODUCT(B143:E143,TRANSPOSE('E5-Baseline Model'!#REF!))+RAND()-0.5","v":{"$error":"#REF!"}},{"$f":"IF(PSCalculationMethod=CalculationMethodNYES,J143,IF(PSCalculationMethod=CalculationMethodNYES,'E8-Reporting Period Values'!#REF!,\"\"))","v":""},0]
[42878,0.30000000000000099,0,0,0,true,true,false,{"$f":"'E5-Baseline Model'!#REF!+SUMPRODUCT(B144:E144,TRANSPOSE('E5-Baseline Model'!#REF!))","v":{"$error":"#REF!"}},{"$f":"'E5-Baseline Model'!#REF!+SUMPRODUCT(B144:E144,TRANSPOSE('E5-Baseline Model'!#REF!))+RAND()-0.5","v":{"$error":"#REF!"}},{"$f":"IF(PSCalculationMethod=CalculationMethodNYES,J144,IF(PSCalculationMethod=CalculationMethodNYES,'E8-Reporting Period Values'!#REF!,\"\"))","v":""},0]
[42879,0.44999999999999901,0,0,0,true,true,false,{"$f":"'E5-Baseline Model'!#REF!+SUMPRODUCT(B145:E145,TRANSPOSE('E5-Baseline Model'!#REF!))","v":{"$error":"#REF!"}},{"$f":"'E5-Baseline Model'!#REF!+SUMPRODUCT(B145:E145,TRANSPOSE('E5-Baseline Model'!#REF!))+RAND()-0.5","v":{"$error":"#REF!"}},{"$f":"IF(PSCalculationMethod=CalculationMethodNYES,J145,IF(PSCalculationMethod=CalculationMethodNYES,'E8-Reporting Period Values'!#REF!,\"\"))","v":""},0]
[42880,0,0,0,0,true,true,false,{"$f":"'E5-Baseline Model'!#REF!+SUMPRODUCT(B146:E146,TRANSPOSE('E5-Baseline Model'!#REF!))","v":{"$error":"#REF!"}},{"$f":"'E5-Baseline Model'!#REF!+SUMPRODUCT(B146:E146,TRANSPOSE('E5-Baseline Model'!#REF!))+RAND()-0.5","v":{"$error":"#REF!"}},{"$f":"IF(PSCalculationMethod=CalculationMethodNYES,J146,IF(PSCalculationMethod=CalculationMethodNYES,'E8-Reporting Period Values'!#REF!,\"\"))","v":""},0]
[42881,2,0,0,0,true,true,false,{"$f":"'E5-Baseline Model'!#REF!+SUMPRODUCT(B147:E147,TRANSPOSE('E5-Baseline Model'!#REF!))","v":{"$error":"#REF!"}},{"$f":"'E5-Baseline Model'!#REF!+SUMPRODUCT(B147:E147,TRANSPOSE('E5-Baseline Model'!#REF!))+RAND()-0.5","v":{"$error":"#REF!"}},{"$f":"IF(PSCalculationMethod=CalculationMethodNYES,J147,IF(PSCalculationMethod=CalculationMethodNYES,'E8-Reporting Period Values'!#REF!,\"\"))","v":""},0]
[42882,2.35,1,0,0,true,true,false,{"$f":"'E5-Baseline Model'!#REF!+SUMPRODUCT(B148:E148,TRANSPOSE('E5-Baseline Model'!#REF!))","v":{"$error":"#REF!"}},{"$f":"'E5-Baseline Model'!#REF!+SUMPRODUCT(B148:E148,TRANSPOSE('E5-Baseline Model'!#REF!))+RAND()-0.5","v":{"$error":"#REF!"}},{"$f":"IF(PSCalculationMethod=CalculationMethodNYES,J148,IF(PSCalculationMethod=CalculationMethodNYES,'E8-Reporting Period Values'!#REF!,\"\"))","v":""},0]
[42883,2.4,0,1,0,true,true,false,{"$f":"'E5-Baseline Model'!#REF!+SUMPRODUCT(B149:E149,TRANSPOSE('E5-Baseline Model'!#REF!))","v":{"$error":"#REF!"}},{"$f":"'E5-Baseline Model'!#REF!+SUMPRODUCT(B149:E149,TRANSPOSE('E5-Baseline Model'!#REF!))+RAND()-0.5","v":{"$error":"#REF!"}},{"$f":"IF(PSCalculationMethod=CalculationMethodNYES,J149,IF(PSCalculationMethod=CalculationMethodNYES,'E8-Reporting Period Values'!#REF!,\"\"))","v":""},0]
[42884,0.69999999999999896,0,0,0,true,true,false,{"$f":"'E5-Baseline Model'!#REF!+SUMPRODUCT(B150:E150,TRANSPOSE('E5-Baseline Model'!#REF!))","v":{"$error":"#REF!"}},{"$f":"'E5-Baseline Model'!#REF!+SUMPRODUCT(B150:E150,TRANSPOSE('E5-Baseline Model'!#REF!))+RAND()-0.5","v":{"$error":"#REF!"}},{"$f":"IF(PSCalculationMethod=CalculationMethodNYES,J150,IF(PSCalculationMethod=CalculationMethodNYES,'E8-Reporting Period Values'!#REF!,\"\"))","v":""},0]
[42885,0,0,0,0,true,true,false,{"$f":"'E5-Baseline Model'!#REF!+SUMPRODUCT(B151:E151,TRANSPOSE('E5-Baseline Model'!#REF!))","v":{"$error":"#REF!"}},{"$f":"'E5-Baseline Model'!#REF!+SUMPRODUCT(B151:E151,TRANSPOSE('E5-Baseline Model'!#REF!))+RAND()-0.5","v":{"$error":"#REF!"}},{"$f":"IF(PSCalculationMethod=CalculationMethodNYES,J151,IF(PSCalculationMethod=CalculationMethodNYES,'E8-Reporting Period Values'!#REF!,\"\"))","v":""},0]
[42886,0,0,0,0,true,true,false,{"$f":"'E5-Baseline Model'!#REF!+SUMPRODUCT(B152:E152,TRANSPOSE('E5-Baseline Model'!#REF!))","v":{"$error":"#REF!"}},{"$f":"'E5-Baseline Model'!#REF!+SUMPRODUCT(B152:E152,TRANSPOSE('E5-Baseline Model'!#REF!))+RAND()-0.5","v":{"$error":"#REF!"}},{"$f":"IF(PSCalculationMethod=CalculationMethodNYES,J152,IF(PSCalculationMethod=CalculationMethodNYES,'E8-Reporting Period Values'!#REF!,\"\"))","v":""},0]
[42887,0.19999999999999901,0,0,0,true,true,false,{"$f":"'E5-Baseline Model'!#REF!+SUMPRODUCT(B153:E153,TRANSPOSE('E5-Baseline Model'!#REF!))","v":{"$error":"#REF!"}},{"$f":"'E5-Baseline Model'!#REF!+SUMPRODUCT(B153:E153,TRANSPOSE('E5-Baseline Model'!#REF!))+RAND()-0.5","v":{"$error":"#REF!"}},{"$f":"IF(PSCalculationMethod=CalculationMethodNYES,J153,IF(PSCalculationMethod=CalculationMethodNYES,'E8-Reporting Period Values'!#REF!,\"\"))","v":""},0]
[42888,0.15,0,0,0,true,true,false,{"$f":"'E5-Baseline Model'!#REF!+SUMPRODUCT(B154:E154,TRANSPOSE('E5-Baseline Model'!#REF!))","v":{"$error":"#REF!"}},{"$f":"'E5-Baseline Model'!#REF!+SUMPRODUCT(B154:E154,TRANSPOSE('E5-Baseline Model'!#REF!))+RAND()-0.5","v":{"$error":"#REF!"}},{"$f":"IF(PSCalculationMethod=CalculationMethodNYES,J154,IF(PSCalculationMethod=CalculationMethodNYES,'E8-Reporting Period Values'!#REF!,\"\"))","v":""},0]
[42889,1.25,1,0,0,true,true,false,{"$f":"'E5-Baseline Model'!#REF!+SUMPRODUCT(B155:E155,TRANSPOSE('E5-Baseline Model'!#REF!))","v":{"$error":"#REF!"}},{"$f":"'E5-Baseline Model'!#REF!+SUMPRODUCT(B155:E155,TRANSPOSE('E5-Baseline Model'!#REF!))+RAND()-0.5","v":{"$error":"#REF!"}},{"$f":"IF(PSCalculationMethod=CalculationMethodNYES,J155,IF(PSCalculationMethod=CalculationMethodNYES,'E8-Reporting Period Values'!#REF!,\"\"))","v":""},0]
[42890,0.75,0,1,0,true,true,false,{"$f":"'E5-Baseline Model'!#REF!+SUMPRODUCT(B156:E156,TRANSPOSE('E5-Baseline Model'!#REF!))","v":{"$error":"#REF!"}},{"$f":"'E5-Baseline Model'!#REF!+SUMPRODUCT(B156:E156,TRANSPOSE('E5-Baseline Model'!#REF!))+RAND()-0.5","v":{"$error":"#REF!"}},{"$f":"IF(PSCalculationMethod=CalculationMethodNYES,J156,IF(PSCalculationMethod=CalculationMethodNYES,'E8-Reporting Period Values'!#REF!,\"\"))","v":""},0]
[42891,2.5499999999999998,0,0,0,true,true,false,{"$f":"'E5-Baseline Model'!#REF!+SUMPRODUCT(B157:E157,TRANSPOSE('E5-Baseline Model'!#REF!))","v":{"$error":"#REF!"}},{"$f":"'E5-Baseline Model'!#REF!+SUMPRODUCT(B157:E157,TRANSPOSE('E5-Baseline Model'!#REF!))+RAND()-0.5","v":{"$error":"#REF!"}},{"$f":"IF(PSCalculationMethod=CalculationMethodNYES,J157,IF(PSCalculationMethod=CalculationMethodNYES,'E8-Reporting Period Values'!#REF!,\"\"))","v":""},0]
[42892,2.1,0,0,0,true,true,false,{"$f":"'E5-Baseline Model'!#REF!+SUMPRODUCT(B158:E158,TRANSPOSE('E5-Baseline Model'!#REF!))","v":{"$error":"#REF!"}},{"$f":"'E5-Baseline Model'!#REF!+SUMPRODUCT(B158:E158,TRANSPOSE('E5-Baseline Model'!#REF!))+RAND()-0.5","v":{"$error":"#REF!"}},{"$f":"IF(PSCalculationMethod=CalculationMethodNYES,J158,IF(PSCalculationMethod=CalculationMethodNYES,'E8-Reporting Period Values'!#REF!,\"\"))","v":""},0]
[42893,2.25,0,0,0,true,true,false,{"$f":"'E5-Baseline Model'!#REF!+SUMPRODUCT(B159:E159,TRANSPOSE('E5-Baseline Model'!#REF!))","v":{"$error":"#REF!"}},{"$f":"'E5-Baseline Model'!#REF!+SUMPRODUCT(B159:E159,TRANSPOSE('E5-Baseline Model'!#REF!))+RAND()-0.5","v":{"$error":"#REF!"}},{"$f":"IF(PSCalculationMethod=CalculationMethodNYES,J159,IF(PSCalculationMethod=CalculationMethodNYES,'E8-Reporting Period Values'!#REF!,\"\"))","v":""},0]
[42894,2.1,0,0,0,true,true,false,{"$f":"'E5-Baseline Model'!#REF!+SUMPRODUCT(B160:E160,TRANSPOSE('E5-Baseline Model'!#REF!))","v":{"$error":"#REF!"}},{"$f":"'E5-Baseline Model'!#REF!+SUMPRODUCT(B160:E160,TRANSPOSE('E5-Baseline Model'!#REF!))+RAND()-0.5","v":{"$error":"#REF!"}},{"$f":"IF(PSCalculationMethod=CalculationMethodNYES,J160,IF(PSCalculationMethod=CalculationMethodNYES,'E8-Reporting Period Values'!#REF!,\"\"))","v":""},0]
[42895,2.5,0,0,0,true,true,false,{"$f":"'E5-Baseline Model'!#REF!+SUMPRODUCT(B161:E161,TRANSPOSE('E5-Baseline Model'!#REF!))","v":{"$error":"#REF!"}},{"$f":"'E5-Baseline Model'!#REF!+SUMPRODUCT(B161:E161,TRANSPOSE('E5-Baseline Model'!#REF!))+RAND()-0.5","v":{"$error":"#REF!"}},{"$f":"IF(PSCalculationMethod=CalculationMethodNYES,J161,IF(PSCalculationMethod=CalculationMethodNYES,'E8-Reporting Period Values'!#REF!,\"\"))","v":""},0]
[42896,2.7,1,0,0,true,true,false,{"$f":"'E5-Baseline Model'!#REF!+SUMPRODUCT(B162:E162,TRANSPOSE('E5-Baseline Model'!#REF!))","v":{"$error":"#REF!"}},{"$f":"'E5-Baseline Model'!#REF!+SUMPRODUCT(B162:E162,TRANSPOSE('E5-Baseline Model'!#REF!))+RAND()-0.5","v":{"$error":"#REF!"}},{"$f":"IF(PSCalculationMethod=CalculationMethodNYES,J162,IF(PSCalculationMethod=CalculationMethodNYES,'E8-Reporting Period Values'!#REF!,\"\"))","v":""},0]
[42897,3.35,0,1,0,true,true,false,{"$f":"'E5-Baseline Model'!#REF!+SUMPRODUCT(B163:E163,TRANSPOSE('E5-Baseline Model'!#REF!))","v":{"$error":"#REF!"}},{"$f":"'E5-Baseline Model'!#REF!+SUMPRODUCT(B163:E163,TRANSPOSE('E5-Baseline Model'!#REF!))+RAND()-0.5","v":{"$error":"#REF!"}},{"$f":"IF(PSCalculationMethod=CalculationMethodNYES,J163,IF(PSCalculationMethod=CalculationMethodNYES,'E8-Reporting Period Values'!#REF!,\"\"))","v":""},0]
[42898,1.1499999999999999,0,0,1,true,true,false,{"$f":"'E5-Baseline Model'!#REF!+SUMPRODUCT(B164:E164,TRANSPOSE('E5-Baseline Model'!#REF!))","v":{"$error":"#REF!"}},{"$f":"'E5-Baseline Model'!#REF!+SUMPRODUCT(B164:E164,TRANSPOSE('E5-Baseline Model'!#REF!))+RAND()-0.5","v":{"$error":"#REF!"}},{"$f":"IF(PSCalculationMethod=CalculationMethodNYES,J164,IF(PSCalculationMethod=CalculationMethodNYES,'E8-Reporting Period Values'!#REF!,\"\"))","v":""},0]
[42899,3.1,0,0,0,true,true,false,{"$f":"'E5-Baseline Model'!#REF!+SUMPRODUCT(B165:E165,TRANSPOSE('E5-Baseline Model'!#REF!))","v":{"$error":"#REF!"}},{"$f":"'E5-Baseline Model'!#REF!+SUMPRODUCT(B165:E165,TRANSPOSE('E5-Baseline Model'!#REF!))+RAND()-0.5","v":{"$error":"#REF!"}},{"$f":"IF(PSCalculationMethod=CalculationMethodNYES,J165,IF(PSCalculationMethod=CalculationMethodNYES,'E8-Reporting Period Values'!#REF!,\"\"))","v":""},0]
[42900,1.4,0,0,0,true,true,false,{"$f":"'E5-Baseline Model'!#REF!+SUMPRODUCT(B166:E166,TRANSPOSE('E5-Baseline Model'!#REF!))","v":{"$error":"#REF!"}},{"$f":"'E5-Baseline Model'!#REF!+SUMPRODUCT(B166:E166,TRANSPOSE('E5-Baseline Model'!#REF!))+RAND()-0.5","v":{"$error":"#REF!"}},{"$f":"IF(PSCalculationMethod=CalculationMethodNYES,J166,IF(PSCalculationMethod=CalculationMethodNYES,'E8-Reporting Period Values'!#REF!,\"\"))","v":""},0]
[42901,0.44999999999999901,0,0,0,true,true,false,{"$f":"'E5-Baseline Model'!#REF!+SUMPRODUCT(B167:E167,TRANSPOSE('E5-Baseline Model'!#REF!))","v":{"$error":"#REF!"}},{"$f":"'E5-Baseline Model'!#REF!+SUMPRODUCT(B167:E167,TRANSPOSE('E5-Baseline Model'!#REF!))+RAND()-0.5","v":{"$error":"#REF!"}},{"$f":"IF(PSCalculationMethod=CalculationMethodNYES,J167,IF(PSCalculationMethod=CalculationMethodNYES,'E8-Reporting Period Values'!#REF!,\"\"))","v":""},0]
[42902,0,0,0,0,true,true,false,{"$f":"'E5-Baseline Model'!#REF!+SUMPRODUCT(B168:E168,TRANSPOSE('E5-Baseline Model'!#REF!))","v":{"$error":"#REF!"}},{"$f":"'E5-Baseline Model'!#REF!+SUMPRODUCT(B168:E168,TRANSPOSE('E5-Baseline Model'!#REF!))+RAND()-0.5","v":{"$error":"#REF!"}},{"$f":"IF(PSCalculationMethod=CalculationMethodNYES,J168,IF(PSCalculationMethod=CalculationMethodNYES,'E8-Reporting Period Values'!#REF!,\"\"))","v":""},0]
[42903,0,1,0,0,true,true,false,{"$f":"'E5-Baseline Model'!#REF!+SUMPRODUCT(B169:E169,TRANSPOSE('E5-Baseline Model'!#REF!))","v":{"$error":"#REF!"}},{"$f":"'E5-Baseline Model'!#REF!+SUMPRODUCT(B169:E169,TRANSPOSE('E5-Baseline Model'!#REF!))+RAND()-0.5","v":{"$error":"#REF!"}},{"$f":"IF(PSCalculationMethod=CalculationMethodNYES,J169,IF(PSCalculationMethod=CalculationMethodNYES,'E8-Reporting Period Values'!#REF!,\"\"))","v":""},0]
[42904,0.64999999999999902,0,1,0,true,true,false,{"$f":"'E5-Baseline Model'!#REF!+SUMPRODUCT(B170:E170,TRANSPOSE('E5-Baseline Model'!#REF!))","v":{"$error":"#REF!"}},{"$f":"'E5-Baseline Model'!#REF!+SUMPRODUCT(B170:E170,TRANSPOSE('E5-Baseline Model'!#REF!))+RAND()-0.5","v":{"$error":"#REF!"}},{"$f":"IF(PSCalculationMethod=CalculationMethodNYES,J170,IF(PSCalculationMethod=CalculationMethodNYES,'E8-Reporting Period Values'!#REF!,\"\"))","v":""},0]
[42905,2.2999999999999998,0,0,0,true,true,false,{"$f":"'E5-Baseline Model'!#REF!+SUMPRODUCT(B171:E171,TRANSPOSE('E5-Baseline Model'!#REF!))","v":{"$error":"#REF!"}},{"$f":"'E5-Baseline Model'!#REF!+SUMPRODUCT(B171:E171,TRANSPOSE('E5-Baseline Model'!#REF!))+RAND()-0.5","v":{"$error":"#REF!"}},{"$f":"IF(PSCalculationMethod=CalculationMethodNYES,J171,IF(PSCalculationMethod=CalculationMethodNYES,'E8-Reporting Period Values'!#REF!,\"\"))","v":""},0]
[42906,0.65,0,0,0,true,true,false,{"$f":"'E5-Baseline Model'!#REF!+SUMPRODUCT(B172:E172,TRANSPOSE('E5-Baseline Model'!#REF!))","v":{"$error":"#REF!"}},{"$f":"'E5-Baseline Model'!#REF!+SUMPRODUCT(B172:E172,TRANSPOSE('E5-Baseline Model'!#REF!))+RAND()-0.5","v":{"$error":"#REF!"}},{"$f":"IF(PSCalculationMethod=CalculationMethodNYES,J172,IF(PSCalculationMethod=CalculationMethodNYES,'E8-Reporting Period Values'!#REF!,\"\"))","v":""},0]
[42907,0,0,0,0,true,true,false,{"$f":"'E5-Baseline Model'!#REF!+SUMPRODUCT(B173:E173,TRANSPOSE('E5-Baseline Model'!#REF!))","v":{"$error":"#REF!"}},{"$f":"'E5-Baseline Model'!#REF!+SUMPRODUCT(B173:E173,TRANSPOSE('E5-Baseline Model'!#REF!))+RAND()-0.5","v":{"$error":"#REF!"}},{"$f":"IF(PSCalculationMethod=CalculationMethodNYES,J173,IF(PSCalculationMethod=CalculationMethodNYES,'E8-Reporting Period Values'!#REF!,\"\"))","v":""},0]
[42908,0,0,0,0,true,true,false,{"$f":"'E5-Baseline Model'!#REF!+SUMPRODUCT(B174:E174,TRANSPOSE('E5-Baseline Model'!#REF!))","v":{"$error":"#REF!"}},{"$f":"'E5-Baseline Model'!#REF!+SUMPRODUCT(B174:E174,TRANSPOSE('E5-Baseline Model'!#REF!))+RAND()-0.5","v":{"$error":"#REF!"}},{"$f":"IF(PSCalculationMethod=CalculationMethodNYES,J174,IF(PSCalculationMethod=CalculationMethodNYES,'E8-Reporting Period Values'!#REF!,\"\"))","v":""},0]
[42909,0,0,0,0,true,true,false,{"$f":"'E5-Baseline Model'!#REF!+SUMPRODUCT(B175:E175,TRANSPOSE('E5-Baseline Model'!#REF!))","v":{"$error":"#REF!"}},{"$f":"'E5-Baseline Model'!#REF!+SUMPRODUCT(B175:E175,TRANSPOSE('E5-Baseline Model'!#REF!))+RAND()-0.5","v":{"$error":"#REF!"}},{"$f":"IF(PSCalculationMethod=CalculationMethodNYES,J175,IF(PSCalculationMethod=CalculationMethodNYES,'E8-Reporting Period Values'!#REF!,\"\"))","v":""},0]
[42910,0,1,0,0,true,true,false,{"$f":"'E5-Baseline Model'!#REF!+SUMPRODUCT(B176:E176,TRANSPOSE('E5-Baseline Model'!#REF!))","v":{"$error":"#REF!"}},{"$f":"'E5-Baseline Model'!#REF!+SUMPRODUCT(B176:E176,TRANSPOSE('E5-Baseline Model'!#REF!))+RAND()-0.5","v":{"$error":"#REF!"}},{"$f":"IF(PSCalculationMethod=CalculationMethodNYES,J176,IF(PSCalculationMethod=CalculationMethodNYES,'E8-Reporting Period Values'!#REF!,\"\"))","v":""},0]
[42911,0,0,1,0,true,true,false,{"$f":"'E5-Baseline Model'!#REF!+SUMPRODUCT(B177:E177,TRANSPOSE('E5-Baseline Model'!#REF!))","v":{"$error":"#REF!"}},{"$f":"'E5-Baseline Model'!#REF!+SUMPRODUCT(B177:E177,TRANSPOSE('E5-Baseline Model'!#REF!))+RAND()-0.5","v":{"$error":"#REF!"}},{"$f":"IF(PSCalculationMethod=CalculationMethodNYES,J177,IF(PSCalculationMethod=CalculationMethodNYES,'E8-Reporting Period Values'!#REF!,\"\"))","v":""},0]
[42912,0,0,0,0,true,true,false,{"$f":"'E5-Baseline Model'!#REF!+SUMPRODUCT(B178:E178,TRANSPOSE('E5-Baseline Model'!#REF!))","v":{"$error":"#REF!"}},{"$f":"'E5-Baseline Model'!#REF!+SUMPRODUCT(B178:E178,TRANSPOSE('E5-Baseline Model'!#REF!))+RAND()-0.5","v":{"$error":"#REF!"}},{"$f":"IF(PSCalculationMethod=CalculationMethodNYES,J178,IF(PSCalculationMethod=CalculationMethodNYES,'E8-Reporting Period Values'!#REF!,\"\"))","v":""},0]
[42913,0,0,0,0,true,true,false,{"$f":"'E5-Baseline Model'!#REF!+SUMPRODUCT(B179:E179,TRANSPOSE('E5-Baseline Model'!#REF!))","v":{"$error":"#REF!"}},{"$f":"'E5-Baseline Model'!#REF!+SUMPRODUCT(B179:E179,TRANSPOSE('E5-Baseline Model'!#REF!))+RAND()-0.5","v":{"$error":"#REF!"}},{"$f":"IF(PSCalculationMethod=CalculationMethodNYES,J179,IF(PSCalculationMethod=CalculationMethodNYES,'E8-Reporting Period Values'!#REF!,\"\"))","v":""},0]
[42914,0.4,0,0,0,true,true,false,{"$f":"'E5-Baseline Model'!#REF!+SUMPRODUCT(B180:E180,TRANSPOSE('E5-Baseline Model'!#REF!))","v":{"$error":"#REF!"}},{"$f":"'E5-Baseline Model'!#REF!+SUMPRODUCT(B180:E180,TRANSPOSE('E5-Baseline Model'!#REF!))+RAND()-0.5","v":{"$error":"#REF!"}},{"$f":"IF(PSCalculationMethod=CalculationMethodNYES,J180,IF(PSCalculationMethod=CalculationMethodNYES,'E8-Reporting Period Values'!#REF!,\"\"))","v":""},0]
[42915,2.1,0,0,0,true,true,false,{"$f":"'E5-Baseline Model'!#REF!+SUMPRODUCT(B181:E181,TRANSPOSE('E5-Baseline Model'!#REF!))","v":{"$error":"#REF!"}},{"$f":"'E5-Baseline Model'!#REF!+SUMPRODUCT(B181:E181,TRANSPOSE('E5-Baseline Model'!#REF!))+RAND()-0.5","v":{"$error":"#REF!"}},{"$f":"IF(PSCalculationMethod=CalculationMethodNYES,J181,IF(PSCalculationMethod=CalculationMethodNYES,'E8-Reporting Period Values'!#REF!,\"\"))","v":""},0]
[42916,0.75,0,0,0,true,true,false,{"$f":"'E5-Baseline Model'!#REF!+SUMPRODUCT(B182:E182,TRANSPOSE('E5-Baseline Model'!#REF!))","v":{"$error":"#REF!"}},{"$f":"'E5-Baseline Model'!#REF!+SUMPRODUCT(B182:E182,TRANSPOSE('E5-Baseline Model'!#REF!))+RAND()-0.5","v":{"$error":"#REF!"}},{"$f":"IF(PSCalculationMethod=CalculationMethodNYES,J182,IF(PSCalculationMethod=CalculationMethodNYES,'E8-Reporting Period Values'!#REF!,\"\"))","v":""},0]
[42917,0,1,0,0,true,true,false,{"$f":"'E5-Baseline Model'!#REF!+SUMPRODUCT(B183:E183,TRANSPOSE('E5-Baseline Model'!#REF!))","v":{"$error":"#REF!"}},{"$f":"'E5-Baseline Model'!#REF!+SUMPRODUCT(B183:E183,TRANSPOSE('E5-Baseline Model'!#REF!))+RAND()-0.5","v":{"$error":"#REF!"}},{"$f":"IF(PSCalculationMethod=CalculationMethodNYES,J183,IF(PSCalculationMethod=CalculationMethodNYES,'E8-Reporting Period Values'!#REF!,\"\"))","v":""},0]
[42918,0,0,1,0,true,true,false,{"$f":"'E5-Baseline Model'!#REF!+SUMPRODUCT(B184:E184,TRANSPOSE('E5-Baseline Model'!#REF!))","v":{"$error":"#REF!"}},{"$f":"'E5-Baseline Model'!#REF!+SUMPRODUCT(B184:E184,TRANSPOSE('E5-Baseline Model'!#REF!))+RAND()-0.5","v":{"$error":"#REF!"}},{"$f":"IF(PSCalculationMethod=CalculationMethodNYES,J184,IF(PSCalculationMethod=CalculationMethodNYES,'E8-Reporting Period Values'!#REF!,\"\"))","v":""},0]
[42919,0,0,0,0,true,true,false,{"$f":"'E5-Baseline Model'!#REF!+SUMPRODUCT(B185:E185,TRANSPOSE('E5-Baseline Model'!#REF!))","v":{"$error":"#REF!"}},{"$f":"'E5-Baseline Model'!#REF!+SUMPRODUCT(B185:E185,TRANSPOSE('E5-Baseline Model'!#REF!))+RAND()-0.5","v":{"$error":"#REF!"}},{"$f":"IF(PSCalculationMethod=CalculationMethodNYES,J185,IF(PSCalculationMethod=CalculationMethodNYES,'E8-Reporting Period Values'!#REF!,\"\"))","v":""},0]
[42920,0,0,0,0,true,true,false,{"$f":"'E5-Baseline Model'!#REF!+SUMPRODUCT(B186:E186,TRANSPOSE('E5-Baseline Model'!#REF!))","v":{"$error":"#REF!"}},{"$f":"'E5-Baseline Model'!#REF!+SUMPRODUCT(B186:E186,TRANSPOSE('E5-Baseline Model'!#REF!))+RAND()-0.5","v":{"$error":"#REF!"}},{"$f":"IF(PSCalculationMethod=CalculationMethodNYES,J186,IF(PSCalculationMethod=CalculationMethodNYES,'E8-Reporting Period Values'!#REF!,\"\"))","v":""},0]
[42921,0,0,0,0,true,true,false,{"$f":"'E5-Baseline Model'!#REF!+SUMPRODUCT(B187:E187,TRANSPOSE('E5-Baseline Model'!#REF!))","v":{"$error":"#REF!"}},{"$f":"'E5-Baseline Model'!#REF!+SUMPRODUCT(B187:E187,TRANSPOSE('E5-Baseline Model'!#REF!))+RAND()-0.5","v":{"$error":"#REF!"}},{"$f":"IF(PSCalculationMethod=CalculationMethodNYES,J187,IF(PSCalculationMethod=CalculationMethodNYES,'E8-Reporting Period Values'!#REF!,\"\"))","v":""},0]
[42922,0,0,0,0,true,true,false,{"$f":"'E5-Baseline Model'!#REF!+SUMPRODUCT(B188:E188,TRANSPOSE('E5-Baseline Model'!#REF!))","v":{"$error":"#REF!"}},{"$f":"'E5-Baseline Model'!#REF!+SUMPRODUCT(B188:E188,TRANSPOSE('E5-Baseline Model'!#REF!))+RAND()-0.5","v":{"$error":"#REF!"}},{"$f":"IF(PSCalculationMethod=CalculationMethodNYES,J188,IF(PSCalculationMethod=CalculationMethodNYES,'E8-Reporting Period Values'!#REF!,\"\"))","v":""},0]
[42923,0,0,0,0,true,true,false,{"$f":"'E5-Baseline Model'!#REF!+SUMPRODUCT(B189:E189,TRANSPOSE('E5-Baseline Model'!#REF!))","v":{"$error":"#REF!"}},{"$f":"'E5-Baseline Model'!#REF!+SUMPRODUCT(B189:E189,TRANSPOSE('E5-Baseline Model'!#REF!))+RAND()-0.5","v":{"$error":"#REF!"}},{"$f":"IF(PSCalculationMethod=CalculationMethodNYES,J189,IF(PSCalculationMethod=CalculationMethodNYES,'E8-Reporting Period Values'!#REF!,\"\"))","v":""},0]
[42924,0,1,0,0,true,true,false,{"$f":"'E5-Baseline Model'!#REF!+SUMPRODUCT(B190:E190,TRANSPOSE('E5-Baseline Model'!#REF!))","v":{"$error":"#REF!"}},{"$f":"'E5-Baseline Model'!#REF!+SUMPRODUCT(B190:E190,TRANSPOSE('E5-Baseline Model'!#REF!))+RAND()-0.5","v":{"$error":"#REF!"}},{"$f":"IF(PSCalculationMethod=CalculationMethodNYES,J190,IF(PSCalculationMethod=CalculationMethodNYES,'E8-Reporting Period Values'!#REF!,\"\"))","v":""},0]
[42925,0,0,1,0,true,true,false,{"$f":"'E5-Baseline Model'!#REF!+SUMPRODUCT(B191:E191,TRANSPOSE('E5-Baseline Model'!#REF!))","v":{"$error":"#REF!"}},{"$f":"'E5-Baseline Model'!#REF!+SUMPRODUCT(B191:E191,TRANSPOSE('E5-Baseline Model'!#REF!))+RAND()-0.5","v":{"$error":"#REF!"}},{"$f":"IF(PSCalculationMethod=CalculationMethodNYES,J191,IF(PSCalculationMethod=CalculationMethodNYES,'E8-Reporting Period Values'!#REF!,\"\"))","v":""},0]
[42926,0.44999999999999901,0,0,0,true,true,false,{"$f":"'E5-Baseline Model'!#REF!+SUMPRODUCT(B192:E192,TRANSPOSE('E5-Baseline Model'!#REF!))","v":{"$error":"#REF!"}},{"$f":"'E5-Baseline Model'!#REF!+SUMPRODUCT(B192:E192,TRANSPOSE('E5-Baseline Model'!#REF!))+RAND()-0.5","v":{"$error":"#REF!"}},{"$f":"IF(PSCalculationMethod=CalculationMethodNYES,J192,IF(PSCalculationMethod=CalculationMethodNYES,'E8-Reporting Period Values'!#REF!,\"\"))","v":""},0]
[42927,0,0,0,0,true,true,false,{"$f":"'E5-Baseline Model'!#REF!+SUMPRODUCT(B193:E193,TRANSPOSE('E5-Baseline Model'!#REF!))","v":{"$error":"#REF!"}},{"$f":"'E5-Baseline Model'!#REF!+SUMPRODUCT(B193:E193,TRANSPOSE('E5-Baseline Model'!#REF!))+RAND()-0.5","v":{"$error":"#REF!"}},{"$f":"IF(PSCalculationMethod=CalculationMethodNYES,J193,IF(PSCalculationMethod=CalculationMethodNYES,'E8-Reporting Period Values'!#REF!,\"\"))","v":""},0]
[42928,1,0,0,0,true,true,{"$f":"IF(PSCalculationMethod=CalculationMethodMAES,F194,IF(PSCalculationMethod=CalculationMethodNYES,AND(F194,G194),FALSE))","v":false},{"$f":"'E5-Baseline Model'!#REF!+SUMPRODUCT(B194:E194,TRANSPOSE('E5-Baseline Model'!#REF!))","v":{"$error":"#REF!"}},{"$f":"'E5-Baseline Model'!#REF!+SUMPRODUCT(B194:E194,TRANSPOSE('E5-Baseline Model'!#REF!))+RAND()-0.5","v":{"$error":"#REF!"}},{"$f":"IF(PSCalculationMethod=CalculationMethodNYES,J194,IF(PSCalculationMethod=CalculationMethodNYES,'E8-Reporting Period Values'!#REF!,\"\"))","v":""},0]
[42929,2,0,0,0,true,true,false,{"$f":"'E5-Baseline Model'!#REF!+SUMPRODUCT(B195:E195,TRANSPOSE('E5-Baseline Model'!#REF!))","v":{"$error":"#REF!"}},{"$f":"'E5-Baseline Model'!#REF!+SUMPRODUCT(B195:E195,TRANSPOSE('E5-Baseline Model'!#REF!))+RAND()-0.5","v":{"$error":"#REF!"}},{"$f":"IF(PSCalculationMethod=CalculationMethodNYES,J195,IF(PSCalculationMethod=CalculationMethodNYES,'E8-Reporting Period Values'!#REF!,\"\"))","v":""},{"$f":"IF(H195,I195-K195,0)","v":0}]
[42930,0.30000000000000099,0,0,0,true,true,false,{"$f":"'E5-Baseline Model'!#REF!+SUMPRODUCT(B196:E196,TRANSPOSE('E5-Baseline Model'!#REF!))","v":{"$error":"#REF!"}},{"$f":"'E5-Baseline Model'!#REF!+SUMPRODUCT(B196:E196,TRANSPOSE('E5-Baseline Model'!#REF!))+RAND()-0.5","v":{"$error":"#REF!"}},{"$f":"IF(PSCalculationMethod=CalculationMethodNYES,J196,IF(PSCalculationMethod=CalculationMethodNYES,'E8-Reporting Period Values'!#REF!,\"\"))","v":""},0]
[42931,0,1,0,0,true,true,false,{"$f":"'E5-Baseline Model'!#REF!+SUMPRODUCT(B197:E197,TRANSPOSE('E5-Baseline Model'!#REF!))","v":{"$error":"#REF!"}},{"$f":"'E5-Baseline Model'!#REF!+SUMPRODUCT(B197:E197,TRANSPOSE('E5-Baseline Model'!#REF!))+RAND()-0.5","v":{"$error":"#REF!"}},{"$f":"IF(PSCalculationMethod=CalculationMethodNYES,J197,IF(PSCalculationMethod=CalculationMethodNYES,'E8-Reporting Period Values'!#REF!,\"\"))","v":""},0]
[42932,0,0,1,0,true,true,false,{"$f":"'E5-Baseline Model'!#REF!+SUMPRODUCT(B198:E198,TRANSPOSE('E5-Baseline Model'!#REF!))","v":{"$error":"#REF!"}},{"$f":"'E5-Baseline Model'!#REF!+SUMPRODUCT(B198:E198,TRANSPOSE('E5-Baseline Model'!#REF!))+RAND()-0.5","v":{"$error":"#REF!"}},{"$f":"IF(PSCalculationMethod=CalculationMethodNYES,J198,IF(PSCalculationMethod=CalculationMethodNYES,'E8-Reporting Period Values'!#REF!,\"\"))","v":""},0]
[42933,0,0,0,0,true,true,false,{"$f":"'E5-Baseline Model'!#REF!+SUMPRODUCT(B199:E199,TRANSPOSE('E5-Baseline Model'!#REF!))","v":{"$error":"#REF!"}},{"$f":"'E5-Baseline Model'!#REF!+SUMPRODUCT(B199:E199,TRANSPOSE('E5-Baseline Model'!#REF!))+RAND()-0.5","v":{"$error":"#REF!"}},{"$f":"IF(PSCalculationMethod=CalculationMethodNYES,J199,IF(PSCalculationMethod=CalculationMethodNYES,'E8-Reporting Period Values'!#REF!,\"\"))","v":""},0]
[42934,0,0,0,0,true,true,false,{"$f":"'E5-Baseline Model'!#REF!+SUMPRODUCT(B200:E200,TRANSPOSE('E5-Baseline Model'!#REF!))","v":{"$error":"#REF!"}},{"$f":"'E5-Baseline Model'!#REF!+SUMPRODUCT(B200:E200,TRANSPOSE('E5-Baseline Model'!#REF!))+RAND()-0.5","v":{"$error":"#REF!"}},{"$f":"IF(PSCalculationMethod=CalculationMethodNYES,J200,IF(PSCalculationMethod=CalculationMethodNYES,'E8-Reporting Period Values'!#REF!,\"\"))","v":""},0]
[42935,0,0,0,0,true,true,false,{"$f":"'E5-Baseline Model'!#REF!+SUMPRODUCT(B201:E201,TRANSPOSE('E5-Baseline Model'!#REF!))","v":{"$error":"#REF!"}},{"$f":"'E5-Baseline Model'!#REF!+SUMPRODUCT(B201:E201,TRANSPOSE('E5-Baseline Model'!#REF!))+RAND()-0.5","v":{"$error":"#REF!"}},{"$f":"IF(PSCalculationMethod=CalculationMethodNYES,J201,IF(PSCalculationMethod=CalculationMethodNYES,'E8-Reporting Period Values'!#REF!,\"\"))","v":""},0]
[42936,0,0,0,0,true,true,false,{"$f":"'E5-Baseline Model'!#REF!+SUMPRODUCT(B202:E202,TRANSPOSE('E5-Baseline Model'!#REF!))","v":{"$error":"#REF!"}},{"$f":"'E5-Baseline Model'!#REF!+SUMPRODUCT(B202:E202,TRANSPOSE('E5-Baseline Model'!#REF!))+RAND()-0.5","v":{"$error":"#REF!"}},{"$f":"IF(PSCalculationMethod=CalculationMethodNYES,J202,IF(PSCalculationMethod=CalculationMethodNYES,'E8-Reporting Period Values'!#REF!,\"\"))","v":""},0]
[42937,0,0,0,0,true,true,false,{"$f":"'E5-Baseline Model'!#REF!+SUMPRODUCT(B203:E203,TRANSPOSE('E5-Baseline Model'!#REF!))","v":{"$error":"#REF!"}},{"$f":"'E5-Baseline Model'!#REF!+SUMPRODUCT(B203:E203,TRANSPOSE('E5-Baseline Model'!#REF!))+RAND()-0.5","v":{"$error":"#REF!"}},{"$f":"IF(PSCalculationMethod=CalculationMethodNYES,J203,IF(PSCalculationMethod=CalculationMethodNYES,'E8-Reporting Period Values'!#REF!,\"\"))","v":""},0]
[42938,0,1,0,0,true,true,false,{"$f":"'E5-Baseline Model'!#REF!+SUMPRODUCT(B204:E204,TRANSPOSE('E5-Baseline Model'!#REF!))","v":{"$error":"#REF!"}},{"$f":"'E5-Baseline Model'!#REF!+SUMPRODUCT(B204:E204,TRANSPOSE('E5-Baseline Model'!#REF!))+RAND()-0.5","v":{"$error":"#REF!"}},{"$f":"IF(PSCalculationMethod=CalculationMethodNYES,J204,IF(PSCalculationMethod=CalculationMethodNYES,'E8-Reporting Period Values'!#REF!,\"\"))","v":""},0]
[42939,0,0,1,0,true,true,false,{"$f":"'E5-Baseline Model'!#REF!+SUMPRODUCT(B205:E205,TRANSPOSE('E5-Baseline Model'!#REF!))","v":{"$error":"#REF!"}},{"$f":"'E5-Baseline Model'!#REF!+SUMPRODUCT(B205:E205,TRANSPOSE('E5-Baseline Model'!#REF!))+RAND()-0.5","v":{"$error":"#REF!"}},{"$f":"IF(PSCalculationMethod=CalculationMethodNYES,J205,IF(PSCalculationMethod=CalculationMethodNYES,'E8-Reporting Period Values'!#REF!,\"\"))","v":""},0]
[42940,0,0,0,0,true,true,false,{"$f":"'E5-Baseline Model'!#REF!+SUMPRODUCT(B206:E206,TRANSPOSE('E5-Baseline Model'!#REF!))","v":{"$error":"#REF!"}},{"$f":"'E5-Baseline Model'!#REF!+SUMPRODUCT(B206:E206,TRANSPOSE('E5-Baseline Model'!#REF!))+RAND()-0.5","v":{"$error":"#REF!"}},{"$f":"IF(PSCalculationMethod=CalculationMethodNYES,J206,IF(PSCalculationMethod=CalculationMethodNYES,'E8-Reporting Period Values'!#REF!,\"\"))","v":""},0]
[42941,0,0,0,0,true,true,false,{"$f":"'E5-Baseline Model'!#REF!+SUMPRODUCT(B207:E207,TRANSPOSE('E5-Baseline Model'!#REF!))","v":{"$error":"#REF!"}},{"$f":"'E5-Baseline Model'!#REF!+SUMPRODUCT(B207:E207,TRANSPOSE('E5-Baseline Model'!#REF!))+RAND()-0.5","v":{"$error":"#REF!"}},{"$f":"IF(PSCalculationMethod=CalculationMethodNYES,J207,IF(PSCalculationMethod=CalculationMethodNYES,'E8-Reporting Period Values'!#REF!,\"\"))","v":""},0]
[42942,0,0,0,0,true,true,false,{"$f":"'E5-Baseline Model'!#REF!+SUMPRODUCT(B208:E208,TRANSPOSE('E5-Baseline Model'!#REF!))","v":{"$error":"#REF!"}},{"$f":"'E5-Baseline Model'!#REF!+SUMPRODUCT(B208:E208,TRANSPOSE('E5-Baseline Model'!#REF!))+RAND()-0.5","v":{"$error":"#REF!"}},{"$f":"IF(PSCalculationMethod=CalculationMethodNYES,J208,IF(PSCalculationMethod=CalculationMethodNYES,'E8-Reporting Period Values'!#REF!,\"\"))","v":""},0]
[42943,0,0,0,0,true,true,false,{"$f":"'E5-Baseline Model'!#REF!+SUMPRODUCT(B209:E209,TRANSPOSE('E5-Baseline Model'!#REF!))","v":{"$error":"#REF!"}},{"$f":"'E5-Baseline Model'!#REF!+SUMPRODUCT(B209:E209,TRANSPOSE('E5-Baseline Model'!#REF!))+RAND()-0.5","v":{"$error":"#REF!"}},{"$f":"IF(PSCalculationMethod=CalculationMethodNYES,J209,IF(PSCalculationMethod=CalculationMethodNYES,'E8-Reporting Period Values'!#REF!,\"\"))","v":""},0]
[42944,0,0,0,0,true,true,false,{"$f":"'E5-Baseline Model'!#REF!+SUMPRODUCT(B210:E210,TRANSPOSE('E5-Baseline Model'!#REF!))","v":{"$error":"#REF!"}},{"$f":"'E5-Baseline Model'!#REF!+SUMPRODUCT(B210:E210,TRANSPOSE('E5-Baseline Model'!#REF!))+RAND()-0.5","v":{"$error":"#REF!"}},{"$f":"IF(PSCalculationMethod=CalculationMethodNYES,J210,IF(PSCalculationMethod=CalculationMethodNYES,'E8-Reporting Period Values'!#REF!,\"\"))","v":""},0]
[42945,2.5499999999999998,1,0,0,true,true,false,{"$f":"'E5-Baseline Model'!#REF!+SUMPRODUCT(B211:E211,TRANSPOSE('E5-Baseline Model'!#REF!))","v":{"$error":"#REF!"}},{"$f":"'E5-Baseline Model'!#REF!+SUMPRODUCT(B211:E211,TRANSPOSE('E5-Baseline Model'!#REF!))+RAND()-0.5","v":{"$error":"#REF!"}},{"$f":"IF(PSCalculationMethod=CalculationMethodNYES,J211,IF(PSCalculationMethod=CalculationMethodNYES,'E8-Reporting Period Values'!#REF!,\"\"))","v":""},0]
[42946,2.75,0,1,0,true,true,false,{"$f":"'E5-Baseline Model'!#REF!+SUMPRODUCT(B212:E212,TRANSPOSE('E5-Baseline Model'!#REF!))","v":{"$error":"#REF!"}},{"$f":"'E5-Baseline Model'!#REF!+SUMPRODUCT(B212:E212,TRANSPOSE('E5-Baseline Model'!#REF!))+RAND()-0.5","v":{"$error":"#REF!"}},{"$f":"IF(PSCalculationMethod=CalculationMethodNYES,J212,IF(PSCalculationMethod=CalculationMethodNYES,'E8-Reporting Period Values'!#REF!,\"\"))","v":""},0]
[42947,1.25,0,0,0,true,true,false,{"$f":"'E5-Baseline Model'!#REF!+SUMPRODUCT(B213:E213,TRANSPOSE('E5-Baseline Model'!#REF!))","v":{"$error":"#REF!"}},{"$f":"'E5-Baseline Model'!#REF!+SUMPRODUCT(B213:E213,TRANSPOSE('E5-Baseline Model'!#REF!))+RAND()-0.5","v":{"$error":"#REF!"}},{"$f":"IF(PSCalculationMethod=CalculationMethodNYES,J213,IF(PSCalculationMethod=CalculationMethodNYES,'E8-Reporting Period Values'!#REF!,\"\"))","v":""},0]
[42948,0,0,0,0,true,true,false,{"$f":"'E5-Baseline Model'!#REF!+SUMPRODUCT(B214:E214,TRANSPOSE('E5-Baseline Model'!#REF!))","v":{"$error":"#REF!"}},{"$f":"'E5-Baseline Model'!#REF!+SUMPRODUCT(B214:E214,TRANSPOSE('E5-Baseline Model'!#REF!))+RAND()-0.5","v":{"$error":"#REF!"}},{"$f":"IF(PSCalculationMethod=CalculationMethodNYES,J214,IF(PSCalculationMethod=CalculationMethodNYES,'E8-Reporting Period Values'!#REF!,\"\"))","v":""},0]
[42949,0,0,0,0,true,true,false,{"$f":"'E5-Baseline Model'!#REF!+SUMPRODUCT(B215:E215,TRANSPOSE('E5-Baseline Model'!#REF!))","v":{"$error":"#REF!"}},{"$f":"'E5-Baseline Model'!#REF!+SUMPRODUCT(B215:E215,TRANSPOSE('E5-Baseline Model'!#REF!))+RAND()-0.5","v":{"$error":"#REF!"}},{"$f":"IF(PSCalculationMethod=CalculationMethodNYES,J215,IF(PSCalculationMethod=CalculationMethodNYES,'E8-Reporting Period Values'!#REF!,\"\"))","v":""},0]
[42950,0,0,0,0,true,true,false,{"$f":"'E5-Baseline Model'!#REF!+SUMPRODUCT(B216:E216,TRANSPOSE('E5-Baseline Model'!#REF!))","v":{"$error":"#REF!"}},{"$f":"'E5-Baseline Model'!#REF!+SUMPRODUCT(B216:E216,TRANSPOSE('E5-Baseline Model'!#REF!))+RAND()-0.5","v":{"$error":"#REF!"}},{"$f":"IF(PSCalculationMethod=CalculationMethodNYES,J216,IF(PSCalculationMethod=CalculationMethodNYES,'E8-Reporting Period Values'!#REF!,\"\"))","v":""},0]
[42951,0.25,0,0,0,true,true,false,{"$f":"'E5-Baseline Model'!#REF!+SUMPRODUCT(B217:E217,TRANSPOSE('E5-Baseline Model'!#REF!))","v":{"$error":"#REF!"}},{"$f":"'E5-Baseline Model'!#REF!+SUMPRODUCT(B217:E217,TRANSPOSE('E5-Baseline Model'!#REF!))+RAND()-0.5","v":{"$error":"#REF!"}},{"$f":"IF(PSCalculationMethod=CalculationMethodNYES,J217,IF(PSCalculationMethod=CalculationMethodNYES,'E8-Reporting Period Values'!#REF!,\"\"))","v":""},0]
[42952,0.44999999999999901,1,0,0,true,true,false,{"$f":"'E5-Baseline Model'!#REF!+SUMPRODUCT(B218:E218,TRANSPOSE('E5-Baseline Model'!#REF!))","v":{"$error":"#REF!"}},{"$f":"'E5-Baseline Model'!#REF!+SUMPRODUCT(B218:E218,TRANSPOSE('E5-Baseline Model'!#REF!))+RAND()-0.5","v":{"$error":"#REF!"}},{"$f":"IF(PSCalculationMethod=CalculationMethodNYES,J218,IF(PSCalculationMethod=CalculationMethodNYES,'E8-Reporting Period Values'!#REF!,\"\"))","v":""},0]
[42953,1,0,1,0,true,true,false,{"$f":"'E5-Baseline Model'!#REF!+SUMPRODUCT(B219:E219,TRANSPOSE('E5-Baseline Model'!#REF!))","v":{"$error":"#REF!"}},{"$f":"'E5-Baseline Model'!#REF!+SUMPRODUCT(B219:E219,TRANSPOSE('E5-Baseline Model'!#REF!))+RAND()-0.5","v":{"$error":"#REF!"}},{"$f":"IF(PSCalculationMethod=CalculationMethodNYES,J219,IF(PSCalculationMethod=CalculationMethodNYES,'E8-Reporting Period Values'!#REF!,\"\"))","v":""},0]
[42954,0,0,0,0,true,true,false,{"$f":"'E5-Baseline Model'!#REF!+SUMPRODUCT(B220:E220,TRANSPOSE('E5-Baseline Model'!#REF!))","v":{"$error":"#REF!"}},{"$f":"'E5-Baseline Model'!#REF!+SUMPRODUCT(B220:E220,TRANSPOSE('E5-Baseline Model'!#REF!))+RAND()-0.5","v":{"$error":"#REF!"}},{"$f":"IF(PSCalculationMethod=CalculationMethodNYES,J220,IF(PSCalculationMethod=CalculationMethodNYES,'E8-Reporting Period Values'!#REF!,\"\"))","v":""},0]
[42955,5.0000000000000697E-2,0,0,0,true,true,false,{"$f":"'E5-Baseline Model'!#REF!+SUMPRODUCT(B221:E221,TRANSPOSE('E5-Baseline Model'!#REF!))","v":{"$error":"#REF!"}},{"$f":"'E5-Baseline Model'!#REF!+SUMPRODUCT(B221:E221,TRANSPOSE('E5-Baseline Model'!#REF!))+RAND()-0.5","v":{"$error":"#REF!"}},{"$f":"IF(PSCalculationMethod=CalculationMethodNYES,J221,IF(PSCalculationMethod=CalculationMethodNYES,'E8-Reporting Period Values'!#REF!,\"\"))","v":""},0]
[42956,2.5499999999999998,0,0,0,true,true,false,{"$f":"'E5-Baseline Model'!#REF!+SUMPRODUCT(B222:E222,TRANSPOSE('E5-Baseline Model'!#REF!))","v":{"$error":"#REF!"}},{"$f":"'E5-Baseline Model'!#REF!+SUMPRODUCT(B222:E222,TRANSPOSE('E5-Baseline Model'!#REF!))+RAND()-0.5","v":{"$error":"#REF!"}},{"$f":"IF(PSCalculationMethod=CalculationMethodNYES,J222,IF(PSCalculationMethod=CalculationMethodNYES,'E8-Reporting Period Values'!#REF!,\"\"))","v":""},0]
[42957,0,0,0,0,true,true,false,{"$f":"'E5-Baseline Model'!#REF!+SUMPRODUCT(B223:E223,TRANSPOSE('E5-Baseline Model'!#REF!))","v":{"$error":"#REF!"}},{"$f":"'E5-Baseline Model'!#REF!+SUMPRODUCT(B223:E223,TRANSPOSE('E5-Baseline Model'!#REF!))+RAND()-0.5","v":{"$error":"#REF!"}},{"$f":"IF(PSCalculationMethod=CalculationMethodNYES,J223,IF(PSCalculationMethod=CalculationMethodNYES,'E8-Reporting Period Values'!#REF!,\"\"))","v":""},0]
[42958,0,0,0,0,true,true,false,{"$f":"'E5-Baseline Model'!#REF!+SUMPRODUCT(B224:E224,TRANSPOSE('E5-Baseline Model'!#REF!))","v":{"$error":"#REF!"}},{"$f":"'E5-Baseline Model'!#REF!+SUMPRODUCT(B224:E224,TRANSPOSE('E5-Baseline Model'!#REF!))+RAND()-0.5","v":{"$error":"#REF!"}},{"$f":"IF(PSCalculationMethod=CalculationMethodNYES,J224,IF(PSCalculationMethod=CalculationMethodNYES,'E8-Reporting Period Values'!#REF!,\"\"))","v":""},0]
[42959,0,1,0,0,true,true,false,{"$f":"'E5-Baseline Model'!#REF!+SUMPRODUCT(B225:E225,TRANSPOSE('E5-Baseline Model'!#REF!))","v":{"$error":"#REF!"}},{"$f":"'E5-Baseline Model'!#REF!+SUMPRODUCT(B225:E225,TRANSPOSE('E5-Baseline Model'!#REF!))+RAND()-0.5","v":{"$error":"#REF!"}},{"$f":"IF(PSCalculationMethod=CalculationMethodNYES,J225,IF(PSCalculationMethod=CalculationMethodNYES,'E8-Reporting Period Values'!#REF!,\"\"))","v":""},0]
[42960,0,0,1,0,true,true,false,{"$f":"'E5-Baseline Model'!#REF!+SUMPRODUCT(B226:E226,TRANSPOSE('E5-Baseline Model'!#REF!))","v":{"$error":"#REF!"}},{"$f":"'E5-Baseline Model'!#REF!+SUMPRODUCT(B226:E226,TRANSPOSE('E5-Baseline Model'!#REF!))+RAND()-0.5","v":{"$error":"#REF!"}},{"$f":"IF(PSCalculationMethod=CalculationMethodNYES,J226,IF(PSCalculationMethod=CalculationMethodNYES,'E8-Reporting Period Values'!#REF!,\"\"))","v":""},0]
[42961,0,0,0,0,true,true,false,{"$f":"'E5-Baseline Model'!#REF!+SUMPRODUCT(B227:E227,TRANSPOSE('E5-Baseline Model'!#REF!))","v":{"$error":"#REF!"}},{"$f":"'E5-Baseline Model'!#REF!+SUMPRODUCT(B227:E227,TRANSPOSE('E5-Baseline Model'!#REF!))+RAND()-0.5","v":{"$error":"#REF!"}},{"$f":"IF(PSCalculationMethod=CalculationMethodNYES,J227,IF(PSCalculationMethod=CalculationMethodNYES,'E8-Reporting Period Values'!#REF!,\"\"))","v":""},0]
[42962,0,0,0,0,true,true,false,{"$f":"'E5-Baseline Model'!#REF!+SUMPRODUCT(B228:E228,TRANSPOSE('E5-Baseline Model'!#REF!))","v":{"$error":"#REF!"}},{"$f":"'E5-Baseline Model'!#REF!+SUMPRODUCT(B228:E228,TRANSPOSE('E5-Baseline Model'!#REF!))+RAND()-0.5","v":{"$error":"#REF!"}},{"$f":"IF(PSCalculationMethod=CalculationMethodNYES,J228,IF(PSCalculationMethod=CalculationMethodNYES,'E8-Reporting Period Values'!#REF!,\"\"))","v":""},0]
[42963,0,0,0,0,true,true,false,{"$f":"'E5-Baseline Model'!#REF!+SUMPRODUCT(B229:E229,TRANSPOSE('E5-Baseline Model'!#REF!))","v":{"$error":"#REF!"}},{"$f":"'E5-Baseline Model'!#REF!+SUMPRODUCT(B229:E229,TRANSPOSE('E5-Baseline Model'!#REF!))+RAND()-0.5","v":{"$error":"#REF!"}},{"$f":"IF(PSCalculationMethod=CalculationMethodNYES,J229,IF(PSCalculationMethod=CalculationMethodNYES,'E8-Reporting Period Values'!#REF!,\"\"))","v":""},0]
[42964,0,0,0,0,true,true,false,{"$f":"'E5-Baseline Model'!#REF!+SUMPRODUCT(B230:E230,TRANSPOSE('E5-Baseline Model'!#REF!))","v":{"$error":"#REF!"}},{"$f":"'E5-Baseline Model'!#REF!+SUMPRODUCT(B230:E230,TRANSPOSE('E5-Baseline Model'!#REF!))+RAND()-0.5","v":{"$error":"#REF!"}},{"$f":"IF(PSCalculationMethod=CalculationMethodNYES,J230,IF(PSCalculationMethod=CalculationMethodNYES,'E8-Reporting Period Values'!#REF!,\"\"))","v":""},0]
[42965,1.25,0,0,0,true,true,false,{"$f":"'E5-Baseline Model'!#REF!+SUMPRODUCT(B231:E231,TRANSPOSE('E5-Baseline Model'!#REF!))","v":{"$error":"#REF!"}},{"$f":"'E5-Baseline Model'!#REF!+SUMPRODUCT(B231:E231,TRANSPOSE('E5-Baseline Model'!#REF!))+RAND()-0.5","v":{"$error":"#REF!"}},{"$f":"IF(PSCalculationMethod=CalculationMethodNYES,J231,IF(PSCalculationMethod=CalculationMethodNYES,'E8-Reporting Period Values'!#REF!,\"\"))","v":""},0]
[42966,0,1,0,0,true,true,false,{"$f":"'E5-Baseline Model'!#REF!+SUMPRODUCT(B232:E232,TRANSPOSE('E5-Baseline Model'!#REF!))","v":{"$error":"#REF!"}},{"$f":"'E5-Baseline Model'!#REF!+SUMPRODUCT(B232:E232,TRANSPOSE('E5-Baseline Model'!#REF!))+RAND()-0.5","v":{"$error":"#REF!"}},{"$f":"IF(PSCalculationMethod=CalculationMethodNYES,J232,IF(PSCalculationMethod=CalculationMethodNYES,'E8-Reporting Period Values'!#REF!,\"\"))","v":""},0]
[42967,0,0,1,0,true,true,false,{"$f":"'E5-Baseline Model'!#REF!+SUMPRODUCT(B233:E233,TRANSPOSE('E5-Baseline Model'!#REF!))","v":{"$error":"#REF!"}},{"$f":"'E5-Baseline Model'!#REF!+SUMPRODUCT(B233:E233,TRANSPOSE('E5-Baseline Model'!#REF!))+RAND()-0.5","v":{"$error":"#REF!"}},{"$f":"IF(PSCalculationMethod=CalculationMethodNYES,J233,IF(PSCalculationMethod=CalculationMethodNYES,'E8-Reporting Period Values'!#REF!,\"\"))","v":""},0]
[42968,1.4,0,0,0,true,true,false,{"$f":"'E5-Baseline Model'!#REF!+SUMPRODUCT(B234:E234,TRANSPOSE('E5-Baseline Model'!#REF!))","v":{"$error":"#REF!"}},{"$f":"'E5-Baseline Model'!#REF!+SUMPRODUCT(B234:E234,TRANSPOSE('E5-Baseline Model'!#REF!))+RAND()-0.5","v":{"$error":"#REF!"}},{"$f":"IF(PSCalculationMethod=CalculationMethodNYES,J234,IF(PSCalculationMethod=CalculationMethodNYES,'E8-Reporting Period Values'!#REF!,\"\"))","v":""},0]
[42969,0.60000000000000098,0,0,0,true,true,false,{"$f":"'E5-Baseline Model'!#REF!+SUMPRODUCT(B235:E235,TRANSPOSE('E5-Baseline Model'!#REF!))","v":{"$error":"#REF!"}},{"$f":"'E5-Baseline Model'!#REF!+SUMPRODUCT(B235:E235,TRANSPOSE('E5-Baseline Model'!#REF!))+RAND()-0.5","v":{"$error":"#REF!"}},{"$f":"IF(PSCalculationMethod=CalculationMethodNYES,J235,IF(PSCalculationMethod=CalculationMethodNYES,'E8-Reporting Period Values'!#REF!,\"\"))","v":""},0]
[42970,1.25,0,0,0,true,true,false,{"$f":"'E5-Baseline Model'!#REF!+SUMPRODUCT(B236:E236,TRANSPOSE('E5-Baseline Model'!#REF!))","v":{"$error":"#REF!"}},{"$f":"'E5-Baseline Model'!#REF!+SUMPRODUCT(B236:E236,TRANSPOSE('E5-Baseline Model'!#REF!))+RAND()-0.5","v":{"$error":"#REF!"}},{"$f":"IF(PSCalculationMethod=CalculationMethodNYES,J236,IF(PSCalculationMethod=CalculationMethodNYES,'E8-Reporting Period Values'!#REF!,\"\"))","v":""},0]
[42971,0.9,0,0,0,true,true,false,{"$f":"'E5-Baseline Model'!#REF!+SUMPRODUCT(B237:E237,TRANSPOSE('E5-Baseline Model'!#REF!))","v":{"$error":"#REF!"}},{"$f":"'E5-Baseline Model'!#REF!+SUMPRODUCT(B237:E237,TRANSPOSE('E5-Baseline Model'!#REF!))+RAND()-0.5","v":{"$error":"#REF!"}},{"$f":"IF(PSCalculationMethod=CalculationMethodNYES,J237,IF(PSCalculationMethod=CalculationMethodNYES,'E8-Reporting Period Values'!#REF!,\"\"))","v":""},0]
[42972,0,0,0,0,true,true,false,{"$f":"'E5-Baseline Model'!#REF!+SUMPRODUCT(B238:E238,TRANSPOSE('E5-Baseline Model'!#REF!))","v":{"$error":"#REF!"}},{"$f":"'E5-Baseline Model'!#REF!+SUMPRODUCT(B238:E238,TRANSPOSE('E5-Baseline Model'!#REF!))+RAND()-0.5","v":{"$error":"#REF!"}},{"$f":"IF(PSCalculationMethod=CalculationMethodNYES,J238,IF(PSCalculationMethod=CalculationMethodNYES,'E8-Reporting Period Values'!#REF!,\"\"))","v":""},0]
[42973,2.6,1,0,0,true,true,false,{"$f":"'E5-Baseline Model'!#REF!+SUMPRODUCT(B239:E239,TRANSPOSE('E5-Baseline Model'!#REF!))","v":{"$error":"#REF!"}},{"$f":"'E5-Baseline Model'!#REF!+SUMPRODUCT(B239:E239,TRANSPOSE('E5-Baseline Model'!#REF!))+RAND()-0.5","v":{"$error":"#REF!"}},{"$f":"IF(PSCalculationMethod=CalculationMethodNYES,J239,IF(PSCalculationMethod=CalculationMethodNYES,'E8-Reporting Period Values'!#REF!,\"\"))","v":""},0]
[42974,2,0,1,0,true,true,false,{"$f":"'E5-Baseline Model'!#REF!+SUMPRODUCT(B240:E240,TRANSPOSE('E5-Baseline Model'!#REF!))","v":{"$error":"#REF!"}},{"$f":"'E5-Baseline Model'!#REF!+SUMPRODUCT(B240:E240,TRANSPOSE('E5-Baseline Model'!#REF!))+RAND()-0.5","v":{"$error":"#REF!"}},{"$f":"IF(PSCalculationMethod=CalculationMethodNYES,J240,IF(PSCalculationMethod=CalculationMethodNYES,'E8-Reporting Period Values'!#REF!,\"\"))","v":""},0]
[42975,0,0,0,0,true,true,false,{"$f":"'E5-Baseline Model'!#REF!+SUMPRODUCT(B241:E241,TRANSPOSE('E5-Baseline Model'!#REF!))","v":{"$error":"#REF!"}},{"$f":"'E5-Baseline Model'!#REF!+SUMPRODUCT(B241:E241,TRANSPOSE('E5-Baseline Model'!#REF!))+RAND()-0.5","v":{"$error":"#REF!"}},{"$f":"IF(PSCalculationMethod=CalculationMethodNYES,J241,IF(PSCalculationMethod=CalculationMethodNYES,'E8-Reporting Period Values'!#REF!,\"\"))","v":""},0]
[42976,5.0000000000000697E-2,0,0,0,true,true,false,{"$f":"'E5-Baseline Model'!#REF!+SUMPRODUCT(B242:E242,TRANSPOSE('E5-Baseline Model'!#REF!))","v":{"$error":"#REF!"}},{"$f":"'E5-Baseline Model'!#REF!+SUMPRODUCT(B242:E242,TRANSPOSE('E5-Baseline Model'!#REF!))+RAND()-0.5","v":{"$error":"#REF!"}},{"$f":"IF(PSCalculationMethod=CalculationMethodNYES,J242,IF(PSCalculationMethod=CalculationMethodNYES,'E8-Reporting Period Values'!#REF!,\"\"))","v":""},0]
[42977,2.25,0,0,0,true,true,false,{"$f":"'E5-Baseline Model'!#REF!+SUMPRODUCT(B243:E243,TRANSPOSE('E5-Baseline Model'!#REF!))","v":{"$error":"#REF!"}},{"$f":"'E5-Baseline Model'!#REF!+SUMPRODUCT(B243:E243,TRANSPOSE('E5-Baseline Model'!#REF!))+RAND()-0.5","v":{"$error":"#REF!"}},{"$f":"IF(PSCalculationMethod=CalculationMethodNYES,J243,IF(PSCalculationMethod=CalculationMethodNYES,'E8-Reporting Period Values'!#REF!,\"\"))","v":""},0]
[42978,3.15,0,0,0,true,true,false,{"$f":"'E5-Baseline Model'!#REF!+SUMPRODUCT(B244:E244,TRANSPOSE('E5-Baseline Model'!#REF!))","v":{"$error":"#REF!"}},{"$f":"'E5-Baseline Model'!#REF!+SUMPRODUCT(B244:E244,TRANSPOSE('E5-Baseline Model'!#REF!))+RAND()-0.5","v":{"$error":"#REF!"}},{"$f":"IF(PSCalculationMethod=CalculationMethodNYES,J244,IF(PSCalculationMethod=CalculationMethodNYES,'E8-Reporting Period Values'!#REF!,\"\"))","v":""},0]
[42979,2.0499999999999998,0,0,0,true,true,false,{"$f":"'E5-Baseline Model'!#REF!+SUMPRODUCT(B245:E245,TRANSPOSE('E5-Baseline Model'!#REF!))","v":{"$error":"#REF!"}},{"$f":"'E5-Baseline Model'!#REF!+SUMPRODUCT(B245:E245,TRANSPOSE('E5-Baseline Model'!#REF!))+RAND()-0.5","v":{"$error":"#REF!"}},{"$f":"IF(PSCalculationMethod=CalculationMethodNYES,J245,IF(PSCalculationMethod=CalculationMethodNYES,'E8-Reporting Period Values'!#REF!,\"\"))","v":""},0]
[42980,0.60000000000000098,1,0,0,true,true,false,{"$f":"'E5-Baseline Model'!#REF!+SUMPRODUCT(B246:E246,TRANSPOSE('E5-Baseline Model'!#REF!))","v":{"$error":"#REF!"}},{"$f":"'E5-Baseline Model'!#REF!+SUMPRODUCT(B246:E246,TRANSPOSE('E5-Baseline Model'!#REF!))+RAND()-0.5","v":{"$error":"#REF!"}},{"$f":"IF(PSCalculationMethod=CalculationMethodNYES,J246,IF(PSCalculationMethod=CalculationMethodNYES,'E8-Reporting Period Values'!#REF!,\"\"))","v":""},0]
[42981,1.3,0,1,0,true,true,false,{"$f":"'E5-Baseline Model'!#REF!+SUMPRODUCT(B247:E247,TRANSPOSE('E5-Baseline Model'!#REF!))","v":{"$error":"#REF!"}},{"$f":"'E5-Baseline Model'!#REF!+SUMPRODUCT(B247:E247,TRANSPOSE('E5-Baseline Model'!#REF!))+RAND()-0.5","v":{"$error":"#REF!"}},{"$f":"IF(PSCalculationMethod=CalculationMethodNYES,J247,IF(PSCalculationMethod=CalculationMethodNYES,'E8-Reporting Period Values'!#REF!,\"\"))","v":""},0]
[42982,4.3499999999999996,0,0,0,true,true,false,{"$f":"'E5-Baseline Model'!#REF!+SUMPRODUCT(B248:E248,TRANSPOSE('E5-Baseline Model'!#REF!))","v":{"$error":"#REF!"}},{"$f":"'E5-Baseline Model'!#REF!+SUMPRODUCT(B248:E248,TRANSPOSE('E5-Baseline Model'!#REF!))+RAND()-0.5","v":{"$error":"#REF!"}},{"$f":"IF(PSCalculationMethod=CalculationMethodNYES,J248,IF(PSCalculationMethod=CalculationMethodNYES,'E8-Reporting Period Values'!#REF!,\"\"))","v":""},0]
[42983,6.75,0,0,0,true,true,false,{"$f":"'E5-Baseline Model'!#REF!+SUMPRODUCT(B249:E249,TRANSPOSE('E5-Baseline Model'!#REF!))","v":{"$error":"#REF!"}},{"$f":"'E5-Baseline Model'!#REF!+SUMPRODUCT(B249:E249,TRANSPOSE('E5-Baseline Model'!#REF!))+RAND()-0.5","v":{"$error":"#REF!"}},{"$f":"IF(PSCalculationMethod=CalculationMethodNYES,J249,IF(PSCalculationMethod=CalculationMethodNYES,'E8-Reporting Period Values'!#REF!,\"\"))","v":""},0]
[42984,1.85,0,0,0,true,true,false,{"$f":"'E5-Baseline Model'!#REF!+SUMPRODUCT(B250:E250,TRANSPOSE('E5-Baseline Model'!#REF!))","v":{"$error":"#REF!"}},{"$f":"'E5-Baseline Model'!#REF!+SUMPRODUCT(B250:E250,TRANSPOSE('E5-Baseline Model'!#REF!))+RAND()-0.5","v":{"$error":"#REF!"}},{"$f":"IF(PSCalculationMethod=CalculationMethodNYES,J250,IF(PSCalculationMethod=CalculationMethodNYES,'E8-Reporting Period Values'!#REF!,\"\"))","v":""},0]
[42985,1.45,0,0,0,true,true,false,{"$f":"'E5-Baseline Model'!#REF!+SUMPRODUCT(B251:E251,TRANSPOSE('E5-Baseline Model'!#REF!))","v":{"$error":"#REF!"}},{"$f":"'E5-Baseline Model'!#REF!+SUMPRODUCT(B251:E251,TRANSPOSE('E5-Baseline Model'!#REF!))+RAND()-0.5","v":{"$error":"#REF!"}},{"$f":"IF(PSCalculationMethod=CalculationMethodNYES,J251,IF(PSCalculationMethod=CalculationMethodNYES,'E8-Reporting Period Values'!#REF!,\"\"))","v":""},0]
[42986,0,0,0,0,true,true,false,{"$f":"'E5-Baseline Model'!#REF!+SUMPRODUCT(B252:E252,TRANSPOSE('E5-Baseline Model'!#REF!))","v":{"$error":"#REF!"}},{"$f":"'E5-Baseline Model'!#REF!+SUMPRODUCT(B252:E252,TRANSPOSE('E5-Baseline Model'!#REF!))+RAND()-0.5","v":{"$error":"#REF!"}},{"$f":"IF(PSCalculationMethod=CalculationMethodNYES,J252,IF(PSCalculationMethod=CalculationMethodNYES,'E8-Reporting Period Values'!#REF!,\"\"))","v":""},0]
[42987,0,1,0,0,true,true,false,{"$f":"'E5-Baseline Model'!#REF!+SUMPRODUCT(B253:E253,TRANSPOSE('E5-Baseline Model'!#REF!))","v":{"$error":"#REF!"}},{"$f":"'E5-Baseline Model'!#REF!+SUMPRODUCT(B253:E253,TRANSPOSE('E5-Baseline Model'!#REF!))+RAND()-0.5","v":{"$error":"#REF!"}},{"$f":"IF(PSCalculationMethod=CalculationMethodNYES,J253,IF(PSCalculationMethod=CalculationMethodNYES,'E8-Reporting Period Values'!#REF!,\"\"))","v":""},0]
[42988,1.3,0,1,0,true,true,false,{"$f":"'E5-Baseline Model'!#REF!+SUMPRODUCT(B254:E254,TRANSPOSE('E5-Baseline Model'!#REF!))","v":{"$error":"#REF!"}},{"$f":"'E5-Baseline Model'!#REF!+SUMPRODUCT(B254:E254,TRANSPOSE('E5-Baseline Model'!#REF!))+RAND()-0.5","v":{"$error":"#REF!"}},{"$f":"IF(PSCalculationMethod=CalculationMethodNYES,J254,IF(PSCalculationMethod=CalculationMethodNYES,'E8-Reporting Period Values'!#REF!,\"\"))","v":""},0]
[42989,0.4,0,0,0,true,true,false,{"$f":"'E5-Baseline Model'!#REF!+SUMPRODUCT(B255:E255,TRANSPOSE('E5-Baseline Model'!#REF!))","v":{"$error":"#REF!"}},{"$f":"'E5-Baseline Model'!#REF!+SUMPRODUCT(B255:E255,TRANSPOSE('E5-Baseline Model'!#REF!))+RAND()-0.5","v":{"$error":"#REF!"}},{"$f":"IF(PSCalculationMethod=CalculationMethodNYES,J255,IF(PSCalculationMethod=CalculationMethodNYES,'E8-Reporting Period Values'!#REF!,\"\"))","v":""},0]
[42990,1.4,0,0,0,true,true,false,{"$f":"'E5-Baseline Model'!#REF!+SUMPRODUCT(B256:E256,TRANSPOSE('E5-Baseline Model'!#REF!))","v":{"$error":"#REF!"}},{"$f":"'E5-Baseline Model'!#REF!+SUMPRODUCT(B256:E256,TRANSPOSE('E5-Baseline Model'!#REF!))+RAND()-0.5","v":{"$error":"#REF!"}},{"$f":"IF(PSCalculationMethod=CalculationMethodNYES,J256,IF(PSCalculationMethod=CalculationMethodNYES,'E8-Reporting Period Values'!#REF!,\"\"))","v":""},0]
[42991,4.9000000000000004,0,0,0,true,true,false,{"$f":"'E5-Baseline Model'!#REF!+SUMPRODUCT(B257:E257,TRANSPOSE('E5-Baseline Model'!#REF!))","v":{"$error":"#REF!"}},{"$f":"'E5-Baseline Model'!#REF!+SUMPRODUCT(B257:E257,TRANSPOSE('E5-Baseline Model'!#REF!))+RAND()-0.5","v":{"$error":"#REF!"}},{"$f":"IF(PSCalculationMethod=CalculationMethodNYES,J257,IF(PSCalculationMethod=CalculationMethodNYES,'E8-Reporting Period Values'!#REF!,\"\"))","v":""},0]
[42992,3.25,0,0,0,true,true,{"$f":"IF(PSCalculationMethod=CalculationMethodMAES,F258,IF(PSCalculationMethod=CalculationMethodNYES,AND(F258,G258),FALSE))","v":false},{"$f":"'E5-Baseline Model'!#REF!+SUMPRODUCT(B258:E258,TRANSPOSE('E5-Baseline Model'!#REF!))","v":{"$error":"#REF!"}},{"$f":"'E5-Baseline Model'!#REF!+SUMPRODUCT(B258:E258,TRANSPOSE('E5-Baseline Model'!#REF!))+RAND()-0.5","v":{"$error":"#REF!"}},{"$f":"IF(PSCalculationMethod=CalculationMethodNYES,J258,IF(PSCalculationMethod=CalculationMethodNYES,'E8-Reporting Period Values'!#REF!,\"\"))","v":""},0]
[42993,2.4,0,0,0,true,true,false,{"$f":"'E5-Baseline Model'!#REF!+SUMPRODUCT(B259:E259,TRANSPOSE('E5-Baseline Model'!#REF!))","v":{"$error":"#REF!"}},{"$f":"'E5-Baseline Model'!#REF!+SUMPRODUCT(B259:E259,TRANSPOSE('E5-Baseline Model'!#REF!))+RAND()-0.5","v":{"$error":"#REF!"}},{"$f":"IF(PSCalculationMethod=CalculationMethodNYES,J259,IF(PSCalculationMethod=CalculationMethodNYES,'E8-Reporting Period Values'!#REF!,\"\"))","v":""},{"$f":"IF(H259,I259-K259,0)","v":0}]
[42994,5.85,1,0,0,true,true,false,{"$f":"'E5-Baseline Model'!#REF!+SUMPRODUCT(B260:E260,TRANSPOSE('E5-Baseline Model'!#REF!))","v":{"$error":"#REF!"}},{"$f":"'E5-Baseline Model'!#REF!+SUMPRODUCT(B260:E260,TRANSPOSE('E5-Baseline Model'!#REF!))+RAND()-0.5","v":{"$error":"#REF!"}},{"$f":"IF(PSCalculationMethod=CalculationMethodNYES,J260,IF(PSCalculationMethod=CalculationMethodNYES,'E8-Reporting Period Values'!#REF!,\"\"))","v":""},0]
[42995,9.15,0,1,0,true,true,false,{"$f":"'E5-Baseline Model'!#REF!+SUMPRODUCT(B261:E261,TRANSPOSE('E5-Baseline Model'!#REF!))","v":{"$error":"#REF!"}},{"$f":"'E5-Baseline Model'!#REF!+SUMPRODUCT(B261:E261,TRANSPOSE('E5-Baseline Model'!#REF!))+RAND()-0.5","v":{"$error":"#REF!"}},{"$f":"IF(PSCalculationMethod=CalculationMethodNYES,J261,IF(PSCalculationMethod=CalculationMethodNYES,'E8-Reporting Period Values'!#REF!,\"\"))","v":""},0]
[42996,6.3,0,0,0,true,true,false,{"$f":"'E5-Baseline Model'!#REF!+SUMPRODUCT(B262:E262,TRANSPOSE('E5-Baseline Model'!#REF!))","v":{"$error":"#REF!"}},{"$f":"'E5-Baseline Model'!#REF!+SUMPRODUCT(B262:E262,TRANSPOSE('E5-Baseline Model'!#REF!))+RAND()-0.5","v":{"$error":"#REF!"}},{"$f":"IF(PSCalculationMethod=CalculationMethodNYES,J262,IF(PSCalculationMethod=CalculationMethodNYES,'E8-Reporting Period Values'!#REF!,\"\"))","v":""},0]
[42997,8.8000000000000007,0,0,0,true,true,false,{"$f":"'E5-Baseline Model'!#REF!+SUMPRODUCT(B263:E263,TRANSPOSE('E5-Baseline Model'!#REF!))","v":{"$error":"#REF!"}},{"$f":"'E5-Baseline Model'!#REF!+SUMPRODUCT(B263:E263,TRANSPOSE('E5-Baseline Model'!#REF!))+RAND()-0.5","v":{"$error":"#REF!"}},{"$f":"IF(PSCalculationMethod=CalculationMethodNYES,J263,IF(PSCalculationMethod=CalculationMethodNYES,'E8-Reporting Period Values'!#REF!,\"\"))","v":""},0]
[42998,3.3,0,0,0,true,true,false,{"$f":"'E5-Baseline Model'!#REF!+SUMPRODUCT(B264:E264,TRANSPOSE('E5-Baseline Model'!#REF!))","v":{"$error":"#REF!"}},{"$f":"'E5-Baseline Model'!#REF!+SUMPRODUCT(B264:E264,TRANSPOSE('E5-Baseline Model'!#REF!))+RAND()-0.5","v":{"$error":"#REF!"}},{"$f":"IF(PSCalculationMethod=CalculationMethodNYES,J264,IF(PSCalculationMethod=CalculationMethodNYES,'E8-Reporting Period Values'!#REF!,\"\"))","v":""},0]
[42999,3,0,0,0,true,true,false,{"$f":"'E5-Baseline Model'!#REF!+SUMPRODUCT(B265:E265,TRANSPOSE('E5-Baseline Model'!#REF!))","v":{"$error":"#REF!"}},{"$f":"'E5-Baseline Model'!#REF!+SUMPRODUCT(B265:E265,TRANSPOSE('E5-Baseline Model'!#REF!))+RAND()-0.5","v":{"$error":"#REF!"}},{"$f":"IF(PSCalculationMethod=CalculationMethodNYES,J265,IF(PSCalculationMethod=CalculationMethodNYES,'E8-Reporting Period Values'!#REF!,\"\"))","v":""},0]
[43000,8.6,0,0,0,true,true,false,{"$f":"'E5-Baseline Model'!#REF!+SUMPRODUCT(B266:E266,TRANSPOSE('E5-Baseline Model'!#REF!))","v":{"$error":"#REF!"}},{"$f":"'E5-Baseline Model'!#REF!+SUMPRODUCT(B266:E266,TRANSPOSE('E5-Baseline Model'!#REF!))+RAND()-0.5","v":{"$error":"#REF!"}},{"$f":"IF(PSCalculationMethod=CalculationMethodNYES,J266,IF(PSCalculationMethod=CalculationMethodNYES,'E8-Reporting Period Values'!#REF!,\"\"))","v":""},0]
[43001,2,1,0,0,true,true,false,{"$f":"'E5-Baseline Model'!#REF!+SUMPRODUCT(B267:E267,TRANSPOSE('E5-Baseline Model'!#REF!))","v":{"$error":"#REF!"}},{"$f":"'E5-Baseline Model'!#REF!+SUMPRODUCT(B267:E267,TRANSPOSE('E5-Baseline Model'!#REF!))+RAND()-0.5","v":{"$error":"#REF!"}},{"$f":"IF(PSCalculationMethod=CalculationMethodNYES,J267,IF(PSCalculationMethod=CalculationMethodNYES,'E8-Reporting Period Values'!#REF!,\"\"))","v":""},0]
[43002,1.2,0,1,0,true,true,false,{"$f":"'E5-Baseline Model'!#REF!+SUMPRODUCT(B268:E268,TRANSPOSE('E5-Baseline Model'!#REF!))","v":{"$error":"#REF!"}},{"$f":"'E5-Baseline Model'!#REF!+SUMPRODUCT(B268:E268,TRANSPOSE('E5-Baseline Model'!#REF!))+RAND()-0.5","v":{"$error":"#REF!"}},{"$f":"IF(PSCalculationMethod=CalculationMethodNYES,J268,IF(PSCalculationMethod=CalculationMethodNYES,'E8-Reporting Period Values'!#REF!,\"\"))","v":""},0]
[43003,2,0,0,0,true,true,false,{"$f":"'E5-Baseline Model'!#REF!+SUMPRODUCT(B269:E269,TRANSPOSE('E5-Baseline Model'!#REF!))","v":{"$error":"#REF!"}},{"$f":"'E5-Baseline Model'!#REF!+SUMPRODUCT(B269:E269,TRANSPOSE('E5-Baseline Model'!#REF!))+RAND()-0.5","v":{"$error":"#REF!"}},{"$f":"IF(PSCalculationMethod=CalculationMethodNYES,J269,IF(PSCalculationMethod=CalculationMethodNYES,'E8-Reporting Period Values'!#REF!,\"\"))","v":""},0]
[43004,1.75,0,0,0,true,true,false,{"$f":"'E5-Baseline Model'!#REF!+SUMPRODUCT(B270:E270,TRANSPOSE('E5-Baseline Model'!#REF!))","v":{"$error":"#REF!"}},{"$f":"'E5-Baseline Model'!#REF!+SUMPRODUCT(B270:E270,TRANSPOSE('E5-Baseline Model'!#REF!))+RAND()-0.5","v":{"$error":"#REF!"}},{"$f":"IF(PSCalculationMethod=CalculationMethodNYES,J270,IF(PSCalculationMethod=CalculationMethodNYES,'E8-Reporting Period Values'!#REF!,\"\"))","v":""},0]
[43005,1.7,0,0,0,true,true,false,{"$f":"'E5-Baseline Model'!#REF!+SUMPRODUCT(B271:E271,TRANSPOSE('E5-Baseline Model'!#REF!))","v":{"$error":"#REF!"}},{"$f":"'E5-Baseline Model'!#REF!+SUMPRODUCT(B271:E271,TRANSPOSE('E5-Baseline Model'!#REF!))+RAND()-0.5","v":{"$error":"#REF!"}},{"$f":"IF(PSCalculationMethod=CalculationMethodNYES,J271,IF(PSCalculationMethod=CalculationMethodNYES,'E8-Reporting Period Values'!#REF!,\"\"))","v":""},0]
[43006,4.75,0,0,0,true,true,false,{"$f":"'E5-Baseline Model'!#REF!+SUMPRODUCT(B272:E272,TRANSPOSE('E5-Baseline Model'!#REF!))","v":{"$error":"#REF!"}},{"$f":"'E5-Baseline Model'!#REF!+SUMPRODUCT(B272:E272,TRANSPOSE('E5-Baseline Model'!#REF!))+RAND()-0.5","v":{"$error":"#REF!"}},{"$f":"IF(PSCalculationMethod=CalculationMethodNYES,J272,IF(PSCalculationMethod=CalculationMethodNYES,'E8-Reporting Period Values'!#REF!,\"\"))","v":""},0]
[43007,2.5,0,0,0,true,true,false,{"$f":"'E5-Baseline Model'!#REF!+SUMPRODUCT(B273:E273,TRANSPOSE('E5-Baseline Model'!#REF!))","v":{"$error":"#REF!"}},{"$f":"'E5-Baseline Model'!#REF!+SUMPRODUCT(B273:E273,TRANSPOSE('E5-Baseline Model'!#REF!))+RAND()-0.5","v":{"$error":"#REF!"}},{"$f":"IF(PSCalculationMethod=CalculationMethodNYES,J273,IF(PSCalculationMethod=CalculationMethodNYES,'E8-Reporting Period Values'!#REF!,\"\"))","v":""},0]
[43008,1.4,1,0,0,true,true,false,{"$f":"'E5-Baseline Model'!#REF!+SUMPRODUCT(B274:E274,TRANSPOSE('E5-Baseline Model'!#REF!))","v":{"$error":"#REF!"}},{"$f":"'E5-Baseline Model'!#REF!+SUMPRODUCT(B274:E274,TRANSPOSE('E5-Baseline Model'!#REF!))+RAND()-0.5","v":{"$error":"#REF!"}},{"$f":"IF(PSCalculationMethod=CalculationMethodNYES,J274,IF(PSCalculationMethod=CalculationMethodNYES,'E8-Reporting Period Values'!#REF!,\"\"))","v":""},0]
[43009,2.15,0,1,0,true,true,false,{"$f":"'E5-Baseline Model'!#REF!+SUMPRODUCT(B275:E275,TRANSPOSE('E5-Baseline Model'!#REF!))","v":{"$error":"#REF!"}},{"$f":"'E5-Baseline Model'!#REF!+SUMPRODUCT(B275:E275,TRANSPOSE('E5-Baseline Model'!#REF!))+RAND()-0.5","v":{"$error":"#REF!"}},{"$f":"IF(PSCalculationMethod=CalculationMethodNYES,J275,IF(PSCalculationMethod=CalculationMethodNYES,'E8-Reporting Period Values'!#REF!,\"\"))","v":""},0]
[43010,3.35,0,0,1,true,true,false,{"$f":"'E5-Baseline Model'!#REF!+SUMPRODUCT(B276:E276,TRANSPOSE('E5-Baseline Model'!#REF!))","v":{"$error":"#REF!"}},{"$f":"'E5-Baseline Model'!#REF!+SUMPRODUCT(B276:E276,TRANSPOSE('E5-Baseline Model'!#REF!))+RAND()-0.5","v":{"$error":"#REF!"}},{"$f":"IF(PSCalculationMethod=CalculationMethodNYES,J276,IF(PSCalculationMethod=CalculationMethodNYES,'E8-Reporting Period Values'!#REF!,\"\"))","v":""},0]
[43011,3.95,0,0,0,true,true,false,{"$f":"'E5-Baseline Model'!#REF!+SUMPRODUCT(B277:E277,TRANSPOSE('E5-Baseline Model'!#REF!))","v":{"$error":"#REF!"}},{"$f":"'E5-Baseline Model'!#REF!+SUMPRODUCT(B277:E277,TRANSPOSE('E5-Baseline Model'!#REF!))+RAND()-0.5","v":{"$error":"#REF!"}},{"$f":"IF(PSCalculationMethod=CalculationMethodNYES,J277,IF(PSCalculationMethod=CalculationMethodNYES,'E8-Reporting Period Values'!#REF!,\"\"))","v":""},0]
[43012,5.5,0,0,0,true,true,false,{"$f":"'E5-Baseline Model'!#REF!+SUMPRODUCT(B278:E278,TRANSPOSE('E5-Baseline Model'!#REF!))","v":{"$error":"#REF!"}},{"$f":"'E5-Baseline Model'!#REF!+SUMPRODUCT(B278:E278,TRANSPOSE('E5-Baseline Model'!#REF!))+RAND()-0.5","v":{"$error":"#REF!"}},{"$f":"IF(PSCalculationMethod=CalculationMethodNYES,J278,IF(PSCalculationMethod=CalculationMethodNYES,'E8-Reporting Period Values'!#REF!,\"\"))","v":""},0]
[43013,5.8,0,0,0,true,true,false,{"$f":"'E5-Baseline Model'!#REF!+SUMPRODUCT(B279:E279,TRANSPOSE('E5-Baseline Model'!#REF!))","v":{"$error":"#REF!"}},{"$f":"'E5-Baseline Model'!#REF!+SUMPRODUCT(B279:E279,TRANSPOSE('E5-Baseline Model'!#REF!))+RAND()-0.5","v":{"$error":"#REF!"}},{"$f":"IF(PSCalculationMethod=CalculationMethodNYES,J279,IF(PSCalculationMethod=CalculationMethodNYES,'E8-Reporting Period Values'!#REF!,\"\"))","v":""},0]
[43014,5.7,0,0,0,true,true,false,{"$f":"'E5-Baseline Model'!#REF!+SUMPRODUCT(B280:E280,TRANSPOSE('E5-Baseline Model'!#REF!))","v":{"$error":"#REF!"}},{"$f":"'E5-Baseline Model'!#REF!+SUMPRODUCT(B280:E280,TRANSPOSE('E5-Baseline Model'!#REF!))+RAND()-0.5","v":{"$error":"#REF!"}},{"$f":"IF(PSCalculationMethod=CalculationMethodNYES,J280,IF(PSCalculationMethod=CalculationMethodNYES,'E8-Reporting Period Values'!#REF!,\"\"))","v":""},0]
[43015,2.65,1,0,0,true,true,false,{"$f":"'E5-Baseline Model'!#REF!+SUMPRODUCT(B281:E281,TRANSPOSE('E5-Baseline Model'!#REF!))","v":{"$error":"#REF!"}},{"$f":"'E5-Baseline Model'!#REF!+SUMPRODUCT(B281:E281,TRANSPOSE('E5-Baseline Model'!#REF!))+RAND()-0.5","v":{"$error":"#REF!"}},{"$f":"IF(PSCalculationMethod=CalculationMethodNYES,J281,IF(PSCalculationMethod=CalculationMethodNYES,'E8-Reporting Period Values'!#REF!,\"\"))","v":""},0]
[43016,3.35,0,1,0,true,true,false,{"$f":"'E5-Baseline Model'!#REF!+SUMPRODUCT(B282:E282,TRANSPOSE('E5-Baseline Model'!#REF!))","v":{"$error":"#REF!"}},{"$f":"'E5-Baseline Model'!#REF!+SUMPRODUCT(B282:E282,TRANSPOSE('E5-Baseline Model'!#REF!))+RAND()-0.5","v":{"$error":"#REF!"}},{"$f":"IF(PSCalculationMethod=CalculationMethodNYES,J282,IF(PSCalculationMethod=CalculationMethodNYES,'E8-Reporting Period Values'!#REF!,\"\"))","v":""},0]
[43017,4.3,0,0,0,true,true,false,{"$f":"'E5-Baseline Model'!#REF!+SUMPRODUCT(B283:E283,TRANSPOSE('E5-Baseline Model'!#REF!))","v":{"$error":"#REF!"}},{"$f":"'E5-Baseline Model'!#REF!+SUMPRODUCT(B283:E283,TRANSPOSE('E5-Baseline Model'!#REF!))+RAND()-0.5","v":{"$error":"#REF!"}},{"$f":"IF(PSCalculationMethod=CalculationMethodNYES,J283,IF(PSCalculationMethod=CalculationMethodNYES,'E8-Reporting Period Values'!#REF!,\"\"))","v":""},0]
[43018,4.8,0,0,0,true,true,false,{"$f":"'E5-Baseline Model'!#REF!+SUMPRODUCT(B284:E284,TRANSPOSE('E5-Baseline Model'!#REF!))","v":{"$error":"#REF!"}},{"$f":"'E5-Baseline Model'!#REF!+SUMPRODUCT(B284:E284,TRANSPOSE('E5-Baseline Model'!#REF!))+RAND()-0.5","v":{"$error":"#REF!"}},{"$f":"IF(PSCalculationMethod=CalculationMethodNYES,J284,IF(PSCalculationMethod=CalculationMethodNYES,'E8-Reporting Period Values'!#REF!,\"\"))","v":""},0]
[43019,5.0999999999999996,0,0,0,true,true,false,{"$f":"'E5-Baseline Model'!#REF!+SUMPRODUCT(B285:E285,TRANSPOSE('E5-Baseline Model'!#REF!))","v":{"$error":"#REF!"}},{"$f":"'E5-Baseline Model'!#REF!+SUMPRODUCT(B285:E285,TRANSPOSE('E5-Baseline Model'!#REF!))+RAND()-0.5","v":{"$error":"#REF!"}},{"$f":"IF(PSCalculationMethod=CalculationMethodNYES,J285,IF(PSCalculationMethod=CalculationMethodNYES,'E8-Reporting Period Values'!#REF!,\"\"))","v":""},0]
[43020,6.3,0,0,0,true,true,false,{"$f":"'E5-Baseline Model'!#REF!+SUMPRODUCT(B286:E286,TRANSPOSE('E5-Baseline Model'!#REF!))","v":{"$error":"#REF!"}},{"$f":"'E5-Baseline Model'!#REF!+SUMPRODUCT(B286:E286,TRANSPOSE('E5-Baseline Model'!#REF!))+RAND()-0.5","v":{"$error":"#REF!"}},{"$f":"IF(PSCalculationMethod=CalculationMethodNYES,J286,IF(PSCalculationMethod=CalculationMethodNYES,'E8-Reporting Period Values'!#REF!,\"\"))","v":""},0]
[43021,9.35,0,0,0,true,true,false,{"$f":"'E5-Baseline Model'!#REF!+SUMPRODUCT(B287:E287,TRANSPOSE('E5-Baseline Model'!#REF!))","v":{"$error":"#REF!"}},{"$f":"'E5-Baseline Model'!#REF!+SUMPRODUCT(B287:E287,TRANSPOSE('E5-Baseline Model'!#REF!))+RAND()-0.5","v":{"$error":"#REF!"}},{"$f":"IF(PSCalculationMethod=CalculationMethodNYES,J287,IF(PSCalculationMethod=CalculationMethodNYES,'E8-Reporting Period Values'!#REF!,\"\"))","v":""},0]
[43022,8.1,1,0,0,true,true,false,{"$f":"'E5-Baseline Model'!#REF!+SUMPRODUCT(B288:E288,TRANSPOSE('E5-Baseline Model'!#REF!))","v":{"$error":"#REF!"}},{"$f":"'E5-Baseline Model'!#REF!+SUMPRODUCT(B288:E288,TRANSPOSE('E5-Baseline Model'!#REF!))+RAND()-0.5","v":{"$error":"#REF!"}},{"$f":"IF(PSCalculationMethod=CalculationMethodNYES,J288,IF(PSCalculationMethod=CalculationMethodNYES,'E8-Reporting Period Values'!#REF!,\"\"))","v":""},0]
[43023,0,0,1,0,true,true,false,{"$f":"'E5-Baseline Model'!#REF!+SUMPRODUCT(B289:E289,TRANSPOSE('E5-Baseline Model'!#REF!))","v":{"$error":"#REF!"}},{"$f":"'E5-Baseline Model'!#REF!+SUMPRODUCT(B289:E289,TRANSPOSE('E5-Baseline Model'!#REF!))+RAND()-0.5","v":{"$error":"#REF!"}},{"$f":"IF(PSCalculationMethod=CalculationMethodNYES,J289,IF(PSCalculationMethod=CalculationMethodNYES,'E8-Reporting Period Values'!#REF!,\"\"))","v":""},0]
[43024,2.95,0,0,0,true,true,false,{"$f":"'E5-Baseline Model'!#REF!+SUMPRODUCT(B290:E290,TRANSPOSE('E5-Baseline Model'!#REF!))","v":{"$error":"#REF!"}},{"$f":"'E5-Baseline Model'!#REF!+SUMPRODUCT(B290:E290,TRANSPOSE('E5-Baseline Model'!#REF!))+RAND()-0.5","v":{"$error":"#REF!"}},{"$f":"IF(PSCalculationMethod=CalculationMethodNYES,J290,IF(PSCalculationMethod=CalculationMethodNYES,'E8-Reporting Period Values'!#REF!,\"\"))","v":""},0]
[43025,4.4000000000000004,0,0,0,true,true,false,{"$f":"'E5-Baseline Model'!#REF!+SUMPRODUCT(B291:E291,TRANSPOSE('E5-Baseline Model'!#REF!))","v":{"$error":"#REF!"}},{"$f":"'E5-Baseline Model'!#REF!+SUMPRODUCT(B291:E291,TRANSPOSE('E5-Baseline Model'!#REF!))+RAND()-0.5","v":{"$error":"#REF!"}},{"$f":"IF(PSCalculationMethod=CalculationMethodNYES,J291,IF(PSCalculationMethod=CalculationMethodNYES,'E8-Reporting Period Values'!#REF!,\"\"))","v":""},0]
[43026,2.5,0,0,0,true,true,false,{"$f":"'E5-Baseline Model'!#REF!+SUMPRODUCT(B292:E292,TRANSPOSE('E5-Baseline Model'!#REF!))","v":{"$error":"#REF!"}},{"$f":"'E5-Baseline Model'!#REF!+SUMPRODUCT(B292:E292,TRANSPOSE('E5-Baseline Model'!#REF!))+RAND()-0.5","v":{"$error":"#REF!"}},{"$f":"IF(PSCalculationMethod=CalculationMethodNYES,J292,IF(PSCalculationMethod=CalculationMethodNYES,'E8-Reporting Period Values'!#REF!,\"\"))","v":""},0]
[43027,2.6,0,0,0,true,true,false,{"$f":"'E5-Baseline Model'!#REF!+SUMPRODUCT(B293:E293,TRANSPOSE('E5-Baseline Model'!#REF!))","v":{"$error":"#REF!"}},{"$f":"'E5-Baseline Model'!#REF!+SUMPRODUCT(B293:E293,TRANSPOSE('E5-Baseline Model'!#REF!))+RAND()-0.5","v":{"$error":"#REF!"}},{"$f":"IF(PSCalculationMethod=CalculationMethodNYES,J293,IF(PSCalculationMethod=CalculationMethodNYES,'E8-Reporting Period Values'!#REF!,\"\"))","v":""},0]
[43028,3.4,0,0,0,true,true,false,{"$f":"'E5-Baseline Model'!#REF!+SUMPRODUCT(B294:E294,TRANSPOSE('E5-Baseline Model'!#REF!))","v":{"$error":"#REF!"}},{"$f":"'E5-Baseline Model'!#REF!+SUMPRODUCT(B294:E294,TRANSPOSE('E5-Baseline Model'!#REF!))+RAND()-0.5","v":{"$error":"#REF!"}},{"$f":"IF(PSCalculationMethod=CalculationMethodNYES,J294,IF(PSCalculationMethod=CalculationMethodNYES,'E8-Reporting Period Values'!#REF!,\"\"))","v":""},0]
[43029,5.15,1,0,0,true,true,false,{"$f":"'E5-Baseline Model'!#REF!+SUMPRODUCT(B295:E295,TRANSPOSE('E5-Baseline Model'!#REF!))","v":{"$error":"#REF!"}},{"$f":"'E5-Baseline Model'!#REF!+SUMPRODUCT(B295:E295,TRANSPOSE('E5-Baseline Model'!#REF!))+RAND()-0.5","v":{"$error":"#REF!"}},{"$f":"IF(PSCalculationMethod=CalculationMethodNYES,J295,IF(PSCalculationMethod=CalculationMethodNYES,'E8-Reporting Period Values'!#REF!,\"\"))","v":""},0]
[43030,7.5,0,1,0,true,true,false,{"$f":"'E5-Baseline Model'!#REF!+SUMPRODUCT(B296:E296,TRANSPOSE('E5-Baseline Model'!#REF!))","v":{"$error":"#REF!"}},{"$f":"'E5-Baseline Model'!#REF!+SUMPRODUCT(B296:E296,TRANSPOSE('E5-Baseline Model'!#REF!))+RAND()-0.5","v":{"$error":"#REF!"}},{"$f":"IF(PSCalculationMethod=CalculationMethodNYES,J296,IF(PSCalculationMethod=CalculationMethodNYES,'E8-Reporting Period Values'!#REF!,\"\"))","v":""},0]
[43031,0.89999999999999902,0,0,0,true,true,false,{"$f":"'E5-Baseline Model'!#REF!+SUMPRODUCT(B297:E297,TRANSPOSE('E5-Baseline Model'!#REF!))","v":{"$error":"#REF!"}},{"$f":"'E5-Baseline Model'!#REF!+SUMPRODUCT(B297:E297,TRANSPOSE('E5-Baseline Model'!#REF!))+RAND()-0.5","v":{"$error":"#REF!"}},{"$f":"IF(PSCalculationMethod=CalculationMethodNYES,J297,IF(PSCalculationMethod=CalculationMethodNYES,'E8-Reporting Period Values'!#REF!,\"\"))","v":""},0]
[43032,2.75,0,0,0,true,true,false,{"$f":"'E5-Baseline Model'!#REF!+SUMPRODUCT(B298:E298,TRANSPOSE('E5-Baseline Model'!#REF!))","v":{"$error":"#REF!"}},{"$f":"'E5-Baseline Model'!#REF!+SUMPRODUCT(B298:E298,TRANSPOSE('E5-Baseline Model'!#REF!))+RAND()-0.5","v":{"$error":"#REF!"}},{"$f":"IF(PSCalculationMethod=CalculationMethodNYES,J298,IF(PSCalculationMethod=CalculationMethodNYES,'E8-Reporting Period Values'!#REF!,\"\"))","v":""},0]
[43033,5.8,0,0,0,true,true,false,{"$f":"'E5-Baseline Model'!#REF!+SUMPRODUCT(B299:E299,TRANSPOSE('E5-Baseline Model'!#REF!))","v":{"$error":"#REF!"}},{"$f":"'E5-Baseline Model'!#REF!+SUMPRODUCT(B299:E299,TRANSPOSE('E5-Baseline Model'!#REF!))+RAND()-0.5","v":{"$error":"#REF!"}},{"$f":"IF(PSCalculationMethod=CalculationMethodNYES,J299,IF(PSCalculationMethod=CalculationMethodNYES,'E8-Reporting Period Values'!#REF!,\"\"))","v":""},0]
[43034,5.3,0,0,0,true,true,false,{"$f":"'E5-Baseline Model'!#REF!+SUMPRODUCT(B300:E300,TRANSPOSE('E5-Baseline Model'!#REF!))","v":{"$error":"#REF!"}},{"$f":"'E5-Baseline Model'!#REF!+SUMPRODUCT(B300:E300,TRANSPOSE('E5-Baseline Model'!#REF!))+RAND()-0.5","v":{"$error":"#REF!"}},{"$f":"IF(PSCalculationMethod=CalculationMethodNYES,J300,IF(PSCalculationMethod=CalculationMethodNYES,'E8-Reporting Period Values'!#REF!,\"\"))","v":""},0]
[43035,4.9000000000000004,0,0,0,true,true,false,{"$f":"'E5-Baseline Model'!#REF!+SUMPRODUCT(B301:E301,TRANSPOSE('E5-Baseline Model'!#REF!))","v":{"$error":"#REF!"}},{"$f":"'E5-Baseline Model'!#REF!+SUMPRODUCT(B301:E301,TRANSPOSE('E5-Baseline Model'!#REF!))+RAND()-0.5","v":{"$error":"#REF!"}},{"$f":"IF(PSCalculationMethod=CalculationMethodNYES,J301,IF(PSCalculationMethod=CalculationMethodNYES,'E8-Reporting Period Values'!#REF!,\"\"))","v":""},0]
[43036,4.3,1,0,0,true,true,false,{"$f":"'E5-Baseline Model'!#REF!+SUMPRODUCT(B302:E302,TRANSPOSE('E5-Baseline Model'!#REF!))","v":{"$error":"#REF!"}},{"$f":"'E5-Baseline Model'!#REF!+SUMPRODUCT(B302:E302,TRANSPOSE('E5-Baseline Model'!#REF!))+RAND()-0.5","v":{"$error":"#REF!"}},{"$f":"IF(PSCalculationMethod=CalculationMethodNYES,J302,IF(PSCalculationMethod=CalculationMethodNYES,'E8-Reporting Period Values'!#REF!,\"\"))","v":""},0]
[43037,6.3,0,1,0,true,true,false,{"$f":"'E5-Baseline Model'!#REF!+SUMPRODUCT(B303:E303,TRANSPOSE('E5-Baseline Model'!#REF!))","v":{"$error":"#REF!"}},{"$f":"'E5-Baseline Model'!#REF!+SUMPRODUCT(B303:E303,TRANSPOSE('E5-Baseline Model'!#REF!))+RAND()-0.5","v":{"$error":"#REF!"}},{"$f":"IF(PSCalculationMethod=CalculationMethodNYES,J303,IF(PSCalculationMethod=CalculationMethodNYES,'E8-Reporting Period Values'!#REF!,\"\"))","v":""},0]
[43038,8,0,0,0,true,true,false,{"$f":"'E5-Baseline Model'!#REF!+SUMPRODUCT(B304:E304,TRANSPOSE('E5-Baseline Model'!#REF!))","v":{"$error":"#REF!"}},{"$f":"'E5-Baseline Model'!#REF!+SUMPRODUCT(B304:E304,TRANSPOSE('E5-Baseline Model'!#REF!))+RAND()-0.5","v":{"$error":"#REF!"}},{"$f":"IF(PSCalculationMethod=CalculationMethodNYES,J304,IF(PSCalculationMethod=CalculationMethodNYES,'E8-Reporting Period Values'!#REF!,\"\"))","v":""},0]
[43039,5.25,0,0,0,true,true,false,{"$f":"'E5-Baseline Model'!#REF!+SUMPRODUCT(B305:E305,TRANSPOSE('E5-Baseline Model'!#REF!))","v":{"$error":"#REF!"}},{"$f":"'E5-Baseline Model'!#REF!+SUMPRODUCT(B305:E305,TRANSPOSE('E5-Baseline Model'!#REF!))+RAND()-0.5","v":{"$error":"#REF!"}},{"$f":"IF(PSCalculationMethod=CalculationMethodNYES,J305,IF(PSCalculationMethod=CalculationMethodNYES,'E8-Reporting Period Values'!#REF!,\"\"))","v":""},0]
[43040,10.9424991503671,0,0,0,true,true,false,{"$f":"'E5-Baseline Model'!#REF!+SUMPRODUCT(B306:E306,TRANSPOSE('E5-Baseline Model'!#REF!))","v":{"$error":"#REF!"}},{"$f":"'E5-Baseline Model'!#REF!+SUMPRODUCT(B306:E306,TRANSPOSE('E5-Baseline Model'!#REF!))+RAND()-0.5","v":{"$error":"#REF!"}},{"$f":"IF(PSCalculationMethod=CalculationMethodNYES,J306,IF(PSCalculationMethod=CalculationMethodNYES,'E8-Reporting Period Values'!#REF!,\"\"))","v":""},0]
[43041,4.6924991503671096,0,0,0,true,true,false,{"$f":"'E5-Baseline Model'!#REF!+SUMPRODUCT(B307:E307,TRANSPOSE('E5-Baseline Model'!#REF!))","v":{"$error":"#REF!"}},{"$f":"'E5-Baseline Model'!#REF!+SUMPRODUCT(B307:E307,TRANSPOSE('E5-Baseline Model'!#REF!))+RAND()-0.5","v":{"$error":"#REF!"}},{"$f":"IF(PSCalculationMethod=CalculationMethodNYES,J307,IF(PSCalculationMethod=CalculationMethodNYES,'E8-Reporting Period Values'!#REF!,\"\"))","v":""},0]
[43042,4.2424991503670997,0,0,0,true,true,false,{"$f":"'E5-Baseline Model'!#REF!+SUMPRODUCT(B308:E308,TRANSPOSE('E5-Baseline Model'!#REF!))","v":{"$error":"#REF!"}},{"$f":"'E5-Baseline Model'!#REF!+SUMPRODUCT(B308:E308,TRANSPOSE('E5-Baseline Model'!#REF!))+RAND()-0.5","v":{"$error":"#REF!"}},{"$f":"IF(PSCalculationMethod=CalculationMethodNYES,J308,IF(PSCalculationMethod=CalculationMethodNYES,'E8-Reporting Period Values'!#REF!,\"\"))","v":""},0]
[43043,5.9424991503671096,1,0,0,true,true,false,{"$f":"'E5-Baseline Model'!#REF!+SUMPRODUCT(B309:E309,TRANSPOSE('E5-Baseline Model'!#REF!))","v":{"$error":"#REF!"}},{"$f":"'E5-Baseline Model'!#REF!+SUMPRODUCT(B309:E309,TRANSPOSE('E5-Baseline Model'!#REF!))+RAND()-0.5","v":{"$error":"#REF!"}},{"$f":"IF(PSCalculationMethod=CalculationMethodNYES,J309,IF(PSCalculationMethod=CalculationMethodNYES,'E8-Reporting Period Values'!#REF!,\"\"))","v":""},0]
[43044,10.0924991503671,0,1,0,true,true,false,{"$f":"'E5-Baseline Model'!#REF!+SUMPRODUCT(B310:E310,TRANSPOSE('E5-Baseline Model'!#REF!))","v":{"$error":"#REF!"}},{"$f":"'E5-Baseline Model'!#REF!+SUMPRODUCT(B310:E310,TRANSPOSE('E5-Baseline Model'!#REF!))+RAND()-0.5","v":{"$error":"#REF!"}},{"$f":"IF(PSCalculationMethod=CalculationMethodNYES,J310,IF(PSCalculationMethod=CalculationMethodNYES,'E8-Reporting Period Values'!#REF!,\"\"))","v":""},0]
[43045,6.8924991503671,0,0,0,true,true,false,{"$f":"'E5-Baseline Model'!#REF!+SUMPRODUCT(B311:E311,TRANSPOSE('E5-Baseline Model'!#REF!))","v":{"$error":"#REF!"}},{"$f":"'E5-Baseline Model'!#REF!+SUMPRODUCT(B311:E311,TRANSPOSE('E5-Baseline Model'!#REF!))+RAND()-0.5","v":{"$error":"#REF!"}},{"$f":"IF(PSCalculationMethod=CalculationMethodNYES,J311,IF(PSCalculationMethod=CalculationMethodNYES,'E8-Reporting Period Values'!#REF!,\"\"))","v":""},0]
[43046,4.1924991503670999,0,0,0,true,true,false,{"$f":"'E5-Baseline Model'!#REF!+SUMPRODUCT(B312:E312,TRANSPOSE('E5-Baseline Model'!#REF!))","v":{"$error":"#REF!"}},{"$f":"'E5-Baseline Model'!#REF!+SUMPRODUCT(B312:E312,TRANSPOSE('E5-Baseline Model'!#REF!))+RAND()-0.5","v":{"$error":"#REF!"}},{"$f":"IF(PSCalculationMethod=CalculationMethodNYES,J312,IF(PSCalculationMethod=CalculationMethodNYES,'E8-Reporting Period Values'!#REF!,\"\"))","v":""},0]
[43047,4.4924991503670997,0,0,0,true,true,false,{"$f":"'E5-Baseline Model'!#REF!+SUMPRODUCT(B313:E313,TRANSPOSE('E5-Baseline Model'!#REF!))","v":{"$error":"#REF!"}},{"$f":"'E5-Baseline Model'!#REF!+SUMPRODUCT(B313:E313,TRANSPOSE('E5-Baseline Model'!#REF!))+RAND()-0.5","v":{"$error":"#REF!"}},{"$f":"IF(PSCalculationMethod=CalculationMethodNYES,J313,IF(PSCalculationMethod=CalculationMethodNYES,'E8-Reporting Period Values'!#REF!,\"\"))","v":""},0]
[43048,7.4924991503670997,0,0,0,true,true,false,{"$f":"'E5-Baseline Model'!#REF!+SUMPRODUCT(B314:E314,TRANSPOSE('E5-Baseline Model'!#REF!))","v":{"$error":"#REF!"}},{"$f":"'E5-Baseline Model'!#REF!+SUMPRODUCT(B314:E314,TRANSPOSE('E5-Baseline Model'!#REF!))+RAND()-0.5","v":{"$error":"#REF!"}},{"$f":"IF(PSCalculationMethod=CalculationMethodNYES,J314,IF(PSCalculationMethod=CalculationMethodNYES,'E8-Reporting Period Values'!#REF!,\"\"))","v":""},0]
[43049,7.6924991503671096,0,0,0,true,true,false,{"$f":"'E5-Baseline Model'!#REF!+SUMPRODUCT(B315:E315,TRANSPOSE('E5-Baseline Model'!#REF!))","v":{"$error":"#REF!"}},{"$f":"'E5-Baseline Model'!#REF!+SUMPRODUCT(B315:E315,TRANSPOSE('E5-Baseline Model'!#REF!))+RAND()-0.5","v":{"$error":"#REF!"}},{"$f":"IF(PSCalculationMethod=CalculationMethodNYES,J315,IF(PSCalculationMethod=CalculationMethodNYES,'E8-Reporting Period Values'!#REF!,\"\"))","v":""},0]
[43050,8.2924991503670995,1,0,0,true,true,false,{"$f":"'E5-Baseline Model'!#REF!+SUMPRODUCT(B316:E316,TRANSPOSE('E5-Baseline Model'!#REF!))","v":{"$error":"#REF!"}},{"$f":"'E5-Baseline Model'!#REF!+SUMPRODUCT(B316:E316,TRANSPOSE('E5-Baseline Model'!#REF!))+RAND()-0.5","v":{"$error":"#REF!"}},{"$f":"IF(PSCalculationMethod=CalculationMethodNYES,J316,IF(PSCalculationMethod=CalculationMethodNYES,'E8-Reporting Period Values'!#REF!,\"\"))","v":""},0]
[43051,8.9924991503671006,0,1,0,true,true,false,{"$f":"'E5-Baseline Model'!#REF!+SUMPRODUCT(B317:E317,TRANSPOSE('E5-Baseline Model'!#REF!))","v":{"$error":"#REF!"}},{"$f":"'E5-Baseline Model'!#REF!+SUMPRODUCT(B317:E317,TRANSPOSE('E5-Baseline Model'!#REF!))+RAND()-0.5","v":{"$error":"#REF!"}},{"$f":"IF(PSCalculationMethod=CalculationMethodNYES,J317,IF(PSCalculationMethod=CalculationMethodNYES,'E8-Reporting Period Values'!#REF!,\"\"))","v":""},0]
[43052,4.7924991503671004,0,0,0,true,true,false,{"$f":"'E5-Baseline Model'!#REF!+SUMPRODUCT(B318:E318,TRANSPOSE('E5-Baseline Model'!#REF!))","v":{"$error":"#REF!"}},{"$f":"'E5-Baseline Model'!#REF!+SUMPRODUCT(B318:E318,TRANSPOSE('E5-Baseline Model'!#REF!))+RAND()-0.5","v":{"$error":"#REF!"}},{"$f":"IF(PSCalculationMethod=CalculationMethodNYES,J318,IF(PSCalculationMethod=CalculationMethodNYES,'E8-Reporting Period Values'!#REF!,\"\"))","v":""},0]
[43053,3.4424991503670999,0,0,0,true,true,false,{"$f":"'E5-Baseline Model'!#REF!+SUMPRODUCT(B319:E319,TRANSPOSE('E5-Baseline Model'!#REF!))","v":{"$error":"#REF!"}},{"$f":"'E5-Baseline Model'!#REF!+SUMPRODUCT(B319:E319,TRANSPOSE('E5-Baseline Model'!#REF!))+RAND()-0.5","v":{"$error":"#REF!"}},{"$f":"IF(PSCalculationMethod=CalculationMethodNYES,J319,IF(PSCalculationMethod=CalculationMethodNYES,'E8-Reporting Period Values'!#REF!,\"\"))","v":""},0]
[43054,4.1924991503670999,0,0,0,true,true,false,{"$f":"'E5-Baseline Model'!#REF!+SUMPRODUCT(B320:E320,TRANSPOSE('E5-Baseline Model'!#REF!))","v":{"$error":"#REF!"}},{"$f":"'E5-Baseline Model'!#REF!+SUMPRODUCT(B320:E320,TRANSPOSE('E5-Baseline Model'!#REF!))+RAND()-0.5","v":{"$error":"#REF!"}},{"$f":"IF(PSCalculationMethod=CalculationMethodNYES,J320,IF(PSCalculationMethod=CalculationMethodNYES,'E8-Reporting Period Values'!#REF!,\"\"))","v":""},0]
[43055,6.1924991503670999,0,0,0,true,true,false,{"$f":"'E5-Baseline Model'!#REF!+SUMPRODUCT(B321:E321,TRANSPOSE('E5-Baseline Model'!#REF!))","v":{"$error":"#REF!"}},{"$f":"'E5-Baseline Model'!#REF!+SUMPRODUCT(B321:E321,TRANSPOSE('E5-Baseline Model'!#REF!))+RAND()-0.5","v":{"$error":"#REF!"}},{"$f":"IF(PSCalculationMethod=CalculationMethodNYES,J321,IF(PSCalculationMethod=CalculationMethodNYES,'E8-Reporting Period Values'!#REF!,\"\"))","v":""},0]
[43056,13.2924991503671,0,0,0,true,true,{"$f":"IF(PSCalculationMethod=CalculationMethodMAES,F322,IF(PSCalculationMethod=CalculationMethodNYES,AND(F322,G322),FALSE))","v":false},{"$f":"'E5-Baseline Model'!#REF!+SUMPRODUCT(B322:E322,TRANSPOSE('E5-Baseline Model'!#REF!))","v":{"$error":"#REF!"}},{"$f":"'E5-Baseline Model'!#REF!+SUMPRODUCT(B322:E322,TRANSPOSE('E5-Baseline Model'!#REF!))+RAND()-0.5","v":{"$error":"#REF!"}},{"$f":"IF(PSCalculationMethod=CalculationMethodNYES,J322,IF(PSCalculationMethod=CalculationMethodNYES,'E8-Reporting Period Values'!#REF!,\"\"))","v":""},0]
[43057,12.5924991503671,1,0,0,true,true,false,{"$f":"'E5-Baseline Model'!#REF!+SUMPRODUCT(B323:E323,TRANSPOSE('E5-Baseline Model'!#REF!))","v":{"$error":"#REF!"}},{"$f":"'E5-Baseline Model'!#REF!+SUMPRODUCT(B323:E323,TRANSPOSE('E5-Baseline Model'!#REF!))+RAND()-0.5","v":{"$error":"#REF!"}},{"$f":"IF(PSCalculationMethod=CalculationMethodNYES,J323,IF(PSCalculationMethod=CalculationMethodNYES,'E8-Reporting Period Values'!#REF!,\"\"))","v":""},{"$f":"IF(H323,I323-K323,0)","v":0}]
[43058,17.7924991503671,0,1,0,true,true,false,{"$f":"'E5-Baseline Model'!#REF!+SUMPRODUCT(B324:E324,TRANSPOSE('E5-Baseline Model'!#REF!))","v":{"$error":"#REF!"}},{"$f":"'E5-Baseline Model'!#REF!+SUMPRODUCT(B324:E324,TRANSPOSE('E5-Baseline Model'!#REF!))+RAND()-0.5","v":{"$error":"#REF!"}},{"$f":"IF(PSCalculationMethod=CalculationMethodNYES,J324,IF(PSCalculationMethod=CalculationMethodNYES,'E8-Reporting Period Values'!#REF!,\"\"))","v":""},0]
[43059,6.9424991503671096,0,0,0,true,true,false,{"$f":"'E5-Baseline Model'!#REF!+SUMPRODUCT(B325:E325,TRANSPOSE('E5-Baseline Model'!#REF!))","v":{"$error":"#REF!"}},{"$f":"'E5-Baseline Model'!#REF!+SUMPRODUCT(B325:E325,TRANSPOSE('E5-Baseline Model'!#REF!))+RAND()-0.5","v":{"$error":"#REF!"}},{"$f":"IF(PSCalculationMethod=CalculationMethodNYES,J325,IF(PSCalculationMethod=CalculationMethodNYES,'E8-Reporting Period Values'!#REF!,\"\"))","v":""},0]
[43060,6.6924991503670999,0,0,0,true,true,false,{"$f":"'E5-Baseline Model'!#REF!+SUMPRODUCT(B326:E326,TRANSPOSE('E5-Baseline Model'!#REF!))","v":{"$error":"#REF!"}},{"$f":"'E5-Baseline Model'!#REF!+SUMPRODUCT(B326:E326,TRANSPOSE('E5-Baseline Model'!#REF!))+RAND()-0.5","v":{"$error":"#REF!"}},{"$f":"IF(PSCalculationMethod=CalculationMethodNYES,J326,IF(PSCalculationMethod=CalculationMethodNYES,'E8-Reporting Period Values'!#REF!,\"\"))","v":""},0]
[43061,6.6924991503670999,0,0,0,true,true,false,{"$f":"'E5-Baseline Model'!#REF!+SUMPRODUCT(B327:E327,TRANSPOSE('E5-Baseline Model'!#REF!))","v":{"$error":"#REF!"}},{"$f":"'E5-Baseline Model'!#REF!+SUMPRODUCT(B327:E327,TRANSPOSE('E5-Baseline Model'!#REF!))+RAND()-0.5","v":{"$error":"#REF!"}},{"$f":"IF(PSCalculationMethod=CalculationMethodNYES,J327,IF(PSCalculationMethod=CalculationMethodNYES,'E8-Reporting Period Values'!#REF!,\"\"))","v":""},0]
[43062,8.3424991503671002,0,0,0,true,true,false,{"$f":"'E5-Baseline Model'!#REF!+SUMPRODUCT(B328:E328,TRANSPOSE('E5-Baseline Model'!#REF!))","v":{"$error":"#REF!"}},{"$f":"'E5-Baseline Model'!#REF!+SUMPRODUCT(B328:E328,TRANSPOSE('E5-Baseline Model'!#REF!))+RAND()-0.5","v":{"$error":"#REF!"}},{"$f":"IF(PSCalculationMethod=CalculationMethodNYES,J328,IF(PSCalculationMethod=CalculationMethodNYES,'E8-Reporting Period Values'!#REF!,\"\"))","v":""},0]
[43063,11.992499150367101,0,0,0,true,true,false,{"$f":"'E5-Baseline Model'!#REF!+SUMPRODUCT(B329:E329,TRANSPOSE('E5-Baseline Model'!#REF!))","v":{"$error":"#REF!"}},{"$f":"'E5-Baseline Model'!#REF!+SUMPRODUCT(B329:E329,TRANSPOSE('E5-Baseline Model'!#REF!))+RAND()-0.5","v":{"$error":"#REF!"}},{"$f":"IF(PSCalculationMethod=CalculationMethodNYES,J329,IF(PSCalculationMethod=CalculationMethodNYES,'E8-Reporting Period Values'!#REF!,\"\"))","v":""},0]
[43064,16.0424991503671,1,0,0,true,true,false,{"$f":"'E5-Baseline Model'!#REF!+SUMPRODUCT(B330:E330,TRANSPOSE('E5-Baseline Model'!#REF!))","v":{"$error":"#REF!"}},{"$f":"'E5-Baseline Model'!#REF!+SUMPRODUCT(B330:E330,TRANSPOSE('E5-Baseline Model'!#REF!))+RAND()-0.5","v":{"$error":"#REF!"}},{"$f":"IF(PSCalculationMethod=CalculationMethodNYES,J330,IF(PSCalculationMethod=CalculationMethodNYES,'E8-Reporting Period Values'!#REF!,\"\"))","v":""},0]
[43065,6.2924991503671004,0,1,0,true,true,false,{"$f":"'E5-Baseline Model'!#REF!+SUMPRODUCT(B331:E331,TRANSPOSE('E5-Baseline Model'!#REF!))","v":{"$error":"#REF!"}},{"$f":"'E5-Baseline Model'!#REF!+SUMPRODUCT(B331:E331,TRANSPOSE('E5-Baseline Model'!#REF!))+RAND()-0.5","v":{"$error":"#REF!"}},{"$f":"IF(PSCalculationMethod=CalculationMethodNYES,J331,IF(PSCalculationMethod=CalculationMethodNYES,'E8-Reporting Period Values'!#REF!,\"\"))","v":""},0]
[43066,6.6424991503671,0,0,0,true,true,false,{"$f":"'E5-Baseline Model'!#REF!+SUMPRODUCT(B332:E332,TRANSPOSE('E5-Baseline Model'!#REF!))","v":{"$error":"#REF!"}},{"$f":"'E5-Baseline Model'!#REF!+SUMPRODUCT(B332:E332,TRANSPOSE('E5-Baseline Model'!#REF!))+RAND()-0.5","v":{"$error":"#REF!"}},{"$f":"IF(PSCalculationMethod=CalculationMethodNYES,J332,IF(PSCalculationMethod=CalculationMethodNYES,'E8-Reporting Period Values'!#REF!,\"\"))","v":""},0]
[43067,9.8424991503671002,0,0,0,true,true,false,{"$f":"'E5-Baseline Model'!#REF!+SUMPRODUCT(B333:E333,TRANSPOSE('E5-Baseline Model'!#REF!))","v":{"$error":"#REF!"}},{"$f":"'E5-Baseline Model'!#REF!+SUMPRODUCT(B333:E333,TRANSPOSE('E5-Baseline Model'!#REF!))+RAND()-0.5","v":{"$error":"#REF!"}},{"$f":"IF(PSCalculationMethod=CalculationMethodNYES,J333,IF(PSCalculationMethod=CalculationMethodNYES,'E8-Reporting Period Values'!#REF!,\"\"))","v":""},0]
[43068,9.2924991503670995,0,0,0,true,true,false,{"$f":"'E5-Baseline Model'!#REF!+SUMPRODUCT(B334:E334,TRANSPOSE('E5-Baseline Model'!#REF!))","v":{"$error":"#REF!"}},{"$f":"'E5-Baseline Model'!#REF!+SUMPRODUCT(B334:E334,TRANSPOSE('E5-Baseline Model'!#REF!))+RAND()-0.5","v":{"$error":"#REF!"}},{"$f":"IF(PSCalculationMethod=CalculationMethodNYES,J334,IF(PSCalculationMethod=CalculationMethodNYES,'E8-Reporting Period Values'!#REF!,\"\"))","v":""},0]
[43069,12.15,0,0,0,true,true,false,{"$f":"'E5-Baseline Model'!#REF!+SUMPRODUCT(B335:E335,TRANSPOSE('E5-Baseline Model'!#REF!))","v":{"$error":"#REF!"}},{"$f":"'E5-Baseline Model'!#REF!+SUMPRODUCT(B335:E335,TRANSPOSE('E5-Baseline Model'!#REF!))+RAND()-0.5","v":{"$error":"#REF!"}},{"$f":"IF(PSCalculationMethod=CalculationMethodNYES,J335,IF(PSCalculationMethod=CalculationMethodNYES,'E8-Reporting Period Values'!#REF!,\"\"))","v":""},0]
[43070,4.05,0,0,0,true,true,false,{"$f":"'E5-Baseline Model'!#REF!+SUMPRODUCT(B336:E336,TRANSPOSE('E5-Baseline Model'!#REF!))","v":{"$error":"#REF!"}},{"$f":"'E5-Baseline Model'!#REF!+SUMPRODUCT(B336:E336,TRANSPOSE('E5-Baseline Model'!#REF!))+RAND()-0.5","v":{"$error":"#REF!"}},{"$f":"IF(PSCalculationMethod=CalculationMethodNYES,J336,IF(PSCalculationMethod=CalculationMethodNYES,'E8-Reporting Period Values'!#REF!,\"\"))","v":""},0]
[43071,4.9000000000000004,1,0,0,true,true,false,{"$f":"'E5-Baseline Model'!#REF!+SUMPRODUCT(B337:E337,TRANSPOSE('E5-Baseline Model'!#REF!))","v":{"$error":"#REF!"}},{"$f":"'E5-Baseline Model'!#REF!+SUMPRODUCT(B337:E337,TRANSPOSE('E5-Baseline Model'!#REF!))+RAND()-0.5","v":{"$error":"#REF!"}},{"$f":"IF(PSCalculationMethod=CalculationMethodNYES,J337,IF(PSCalculationMethod=CalculationMethodNYES,'E8-Reporting Period Values'!#REF!,\"\"))","v":""},0]
[43072,6.85,0,1,0,true,true,false,{"$f":"'E5-Baseline Model'!#REF!+SUMPRODUCT(B338:E338,TRANSPOSE('E5-Baseline Model'!#REF!))","v":{"$error":"#REF!"}},{"$f":"'E5-Baseline Model'!#REF!+SUMPRODUCT(B338:E338,TRANSPOSE('E5-Baseline Model'!#REF!))+RAND()-0.5","v":{"$error":"#REF!"}},{"$f":"IF(PSCalculationMethod=CalculationMethodNYES,J338,IF(PSCalculationMethod=CalculationMethodNYES,'E8-Reporting Period Values'!#REF!,\"\"))","v":""},0]
[43073,6.8,0,0,0,true,true,false,{"$f":"'E5-Baseline Model'!#REF!+SUMPRODUCT(B339:E339,TRANSPOSE('E5-Baseline Model'!#REF!))","v":{"$error":"#REF!"}},{"$f":"'E5-Baseline Model'!#REF!+SUMPRODUCT(B339:E339,TRANSPOSE('E5-Baseline Model'!#REF!))+RAND()-0.5","v":{"$error":"#REF!"}},{"$f":"IF(PSCalculationMethod=CalculationMethodNYES,J339,IF(PSCalculationMethod=CalculationMethodNYES,'E8-Reporting Period Values'!#REF!,\"\"))","v":""},0]
[43074,8.15,0,0,0,true,true,false,{"$f":"'E5-Baseline Model'!#REF!+SUMPRODUCT(B340:E340,TRANSPOSE('E5-Baseline Model'!#REF!))","v":{"$error":"#REF!"}},{"$f":"'E5-Baseline Model'!#REF!+SUMPRODUCT(B340:E340,TRANSPOSE('E5-Baseline Model'!#REF!))+RAND()-0.5","v":{"$error":"#REF!"}},{"$f":"IF(PSCalculationMethod=CalculationMethodNYES,J340,IF(PSCalculationMethod=CalculationMethodNYES,'E8-Reporting Period Values'!#REF!,\"\"))","v":""},0]
[43075,11.1,0,0,0,true,true,false,{"$f":"'E5-Baseline Model'!#REF!+SUMPRODUCT(B341:E341,TRANSPOSE('E5-Baseline Model'!#REF!))","v":{"$error":"#REF!"}},{"$f":"'E5-Baseline Model'!#REF!+SUMPRODUCT(B341:E341,TRANSPOSE('E5-Baseline Model'!#REF!))+RAND()-0.5","v":{"$error":"#REF!"}},{"$f":"IF(PSCalculationMethod=CalculationMethodNYES,J341,IF(PSCalculationMethod=CalculationMethodNYES,'E8-Reporting Period Values'!#REF!,\"\"))","v":""},0]
[43076,9.85,0,0,0,true,true,false,{"$f":"'E5-Baseline Model'!#REF!+SUMPRODUCT(B342:E342,TRANSPOSE('E5-Baseline Model'!#REF!))","v":{"$error":"#REF!"}},{"$f":"'E5-Baseline Model'!#REF!+SUMPRODUCT(B342:E342,TRANSPOSE('E5-Baseline Model'!#REF!))+RAND()-0.5","v":{"$error":"#REF!"}},{"$f":"IF(PSCalculationMethod=CalculationMethodNYES,J342,IF(PSCalculationMethod=CalculationMethodNYES,'E8-Reporting Period Values'!#REF!,\"\"))","v":""},0]
[43077,7.2,0,0,0,true,true,false,{"$f":"'E5-Baseline Model'!#REF!+SUMPRODUCT(B343:E343,TRANSPOSE('E5-Baseline Model'!#REF!))","v":{"$error":"#REF!"}},{"$f":"'E5-Baseline Model'!#REF!+SUMPRODUCT(B343:E343,TRANSPOSE('E5-Baseline Model'!#REF!))+RAND()-0.5","v":{"$error":"#REF!"}},{"$f":"IF(PSCalculationMethod=CalculationMethodNYES,J343,IF(PSCalculationMethod=CalculationMethodNYES,'E8-Reporting Period Values'!#REF!,\"\"))","v":""},0]
[43078,10,1,0,0,true,true,false,{"$f":"'E5-Baseline Model'!#REF!+SUMPRODUCT(B344:E344,TRANSPOSE('E5-Baseline Model'!#REF!))","v":{"$error":"#REF!"}},{"$f":"'E5-Baseline Model'!#REF!+SUMPRODUCT(B344:E344,TRANSPOSE('E5-Baseline Model'!#REF!))+RAND()-0.5","v":{"$error":"#REF!"}},{"$f":"IF(PSCalculationMethod=CalculationMethodNYES,J344,IF(PSCalculationMethod=CalculationMethodNYES,'E8-Reporting Period Values'!#REF!,\"\"))","v":""},0]
[43079,10.35,0,1,0,true,true,false,{"$f":"'E5-Baseline Model'!#REF!+SUMPRODUCT(B345:E345,TRANSPOSE('E5-Baseline Model'!#REF!))","v":{"$error":"#REF!"}},{"$f":"'E5-Baseline Model'!#REF!+SUMPRODUCT(B345:E345,TRANSPOSE('E5-Baseline Model'!#REF!))+RAND()-0.5","v":{"$error":"#REF!"}},{"$f":"IF(PSCalculationMethod=CalculationMethodNYES,J345,IF(PSCalculationMethod=CalculationMethodNYES,'E8-Reporting Period Values'!#REF!,\"\"))","v":""},0]
[43080,8,0,0,0,true,true,false,{"$f":"'E5-Baseline Model'!#REF!+SUMPRODUCT(B346:E346,TRANSPOSE('E5-Baseline Model'!#REF!))","v":{"$error":"#REF!"}},{"$f":"'E5-Baseline Model'!#REF!+SUMPRODUCT(B346:E346,TRANSPOSE('E5-Baseline Model'!#REF!))+RAND()-0.5","v":{"$error":"#REF!"}},{"$f":"IF(PSCalculationMethod=CalculationMethodNYES,J346,IF(PSCalculationMethod=CalculationMethodNYES,'E8-Reporting Period Values'!#REF!,\"\"))","v":""},0]
[43081,9.85,0,0,0,true,true,false,{"$f":"'E5-Baseline Model'!#REF!+SUMPRODUCT(B347:E347,TRANSPOSE('E5-Baseline Model'!#REF!))","v":{"$error":"#REF!"}},{"$f":"'E5-Baseline Model'!#REF!+SUMPRODUCT(B347:E347,TRANSPOSE('E5-Baseline Model'!#REF!))+RAND()-0.5","v":{"$error":"#REF!"}},{"$f":"IF(PSCalculationMethod=CalculationMethodNYES,J347,IF(PSCalculationMethod=CalculationMethodNYES,'E8-Reporting Period Values'!#REF!,\"\"))","v":""},0]
[43082,8.15,0,0,0,true,true,false,{"$f":"'E5-Baseline Model'!#REF!+SUMPRODUCT(B348:E348,TRANSPOSE('E5-Baseline Model'!#REF!))","v":{"$error":"#REF!"}},{"$f":"'E5-Baseline Model'!#REF!+SUMPRODUCT(B348:E348,TRANSPOSE('E5-Baseline Model'!#REF!))+RAND()-0.5","v":{"$error":"#REF!"}},{"$f":"IF(PSCalculationMethod=CalculationMethodNYES,J348,IF(PSCalculationMethod=CalculationMethodNYES,'E8-Reporting Period Values'!#REF!,\"\"))","v":""},0]
[43083,7.8,0,0,0,true,true,false,{"$f":"'E5-Baseline Model'!#REF!+SUMPRODUCT(B349:E349,TRANSPOSE('E5-Baseline Model'!#REF!))","v":{"$error":"#REF!"}},{"$f":"'E5-Baseline Model'!#REF!+SUMPRODUCT(B349:E349,TRANSPOSE('E5-Baseline Model'!#REF!))+RAND()-0.5","v":{"$error":"#REF!"}},{"$f":"IF(PSCalculationMethod=CalculationMethodNYES,J349,IF(PSCalculationMethod=CalculationMethodNYES,'E8-Reporting Period Values'!#REF!,\"\"))","v":""},0]
[43084,10.1,0,0,0,true,true,false,{"$f":"'E5-Baseline Model'!#REF!+SUMPRODUCT(B350:E350,TRANSPOSE('E5-Baseline Model'!#REF!))","v":{"$error":"#REF!"}},{"$f":"'E5-Baseline Model'!#REF!+SUMPRODUCT(B350:E350,TRANSPOSE('E5-Baseline Model'!#REF!))+RAND()-0.5","v":{"$error":"#REF!"}},{"$f":"IF(PSCalculationMethod=CalculationMethodNYES,J350,IF(PSCalculationMethod=CalculationMethodNYES,'E8-Reporting Period Values'!#REF!,\"\"))","v":""},0]
[43085,12.75,1,0,0,true,true,false,{"$f":"'E5-Baseline Model'!#REF!+SUMPRODUCT(B351:E351,TRANSPOSE('E5-Baseline Model'!#REF!))","v":{"$error":"#REF!"}},{"$f":"'E5-Baseline Model'!#REF!+SUMPRODUCT(B351:E351,TRANSPOSE('E5-Baseline Model'!#REF!))+RAND()-0.5","v":{"$error":"#REF!"}},{"$f":"IF(PSCalculationMethod=CalculationMethodNYES,J351,IF(PSCalculationMethod=CalculationMethodNYES,'E8-Reporting Period Values'!#REF!,\"\"))","v":""},0]
[43086,6.8,0,1,0,true,true,false,{"$f":"'E5-Baseline Model'!#REF!+SUMPRODUCT(B352:E352,TRANSPOSE('E5-Baseline Model'!#REF!))","v":{"$error":"#REF!"}},{"$f":"'E5-Baseline Model'!#REF!+SUMPRODUCT(B352:E352,TRANSPOSE('E5-Baseline Model'!#REF!))+RAND()-0.5","v":{"$error":"#REF!"}},{"$f":"IF(PSCalculationMethod=CalculationMethodNYES,J352,IF(PSCalculationMethod=CalculationMethodNYES,'E8-Reporting Period Values'!#REF!,\"\"))","v":""},0]
[43087,8.9,0,0,0,true,true,false,{"$f":"'E5-Baseline Model'!#REF!+SUMPRODUCT(B353:E353,TRANSPOSE('E5-Baseline Model'!#REF!))","v":{"$error":"#REF!"}},{"$f":"'E5-Baseline Model'!#REF!+SUMPRODUCT(B353:E353,TRANSPOSE('E5-Baseline Model'!#REF!))+RAND()-0.5","v":{"$error":"#REF!"}},{"$f":"IF(PSCalculationMethod=CalculationMethodNYES,J353,IF(PSCalculationMethod=CalculationMethodNYES,'E8-Reporting Period Values'!#REF!,\"\"))","v":""},0]
[43088,7.05,0,0,0,true,true,false,{"$f":"'E5-Baseline Model'!#REF!+SUMPRODUCT(B354:E354,TRANSPOSE('E5-Baseline Model'!#REF!))","v":{"$error":"#REF!"}},{"$f":"'E5-Baseline Model'!#REF!+SUMPRODUCT(B354:E354,TRANSPOSE('E5-Baseline Model'!#REF!))+RAND()-0.5","v":{"$error":"#REF!"}},{"$f":"IF(PSCalculationMethod=CalculationMethodNYES,J354,IF(PSCalculationMethod=CalculationMethodNYES,'E8-Reporting Period Values'!#REF!,\"\"))","v":""},0]
[43089,8.4,0,0,0,true,true,false,{"$f":"'E5-Baseline Model'!#REF!+SUMPRODUCT(B355:E355,TRANSPOSE('E5-Baseline Model'!#REF!))","v":{"$error":"#REF!"}},{"$f":"'E5-Baseline Model'!#REF!+SUMPRODUCT(B355:E355,TRANSPOSE('E5-Baseline Model'!#REF!))+RAND()-0.5","v":{"$error":"#REF!"}},{"$f":"IF(PSCalculationMethod=CalculationMethodNYES,J355,IF(PSCalculationMethod=CalculationMethodNYES,'E8-Reporting Period Values'!#REF!,\"\"))","v":""},0]
[43090,10.55,0,0,0,true,true,false,{"$f":"'E5-Baseline Model'!#REF!+SUMPRODUCT(B356:E356,TRANSPOSE('E5-Baseline Model'!#REF!))","v":{"$error":"#REF!"}},{"$f":"'E5-Baseline Model'!#REF!+SUMPRODUCT(B356:E356,TRANSPOSE('E5-Baseline Model'!#REF!))+RAND()-0.5","v":{"$error":"#REF!"}},{"$f":"IF(PSCalculationMethod=CalculationMethodNYES,J356,IF(PSCalculationMethod=CalculationMethodNYES,'E8-Reporting Period Values'!#REF!,\"\"))","v":""},0]
[43091,11.2477983007501,0,0,0,true,true,false,{"$f":"'E5-Baseline Model'!#REF!+SUMPRODUCT(B357:E357,TRANSPOSE('E5-Baseline Model'!#REF!))","v":{"$error":"#REF!"}},{"$f":"'E5-Baseline Model'!#REF!+SUMPRODUCT(B357:E357,TRANSPOSE('E5-Baseline Model'!#REF!))+RAND()-0.5","v":{"$error":"#REF!"}},{"$f":"IF(PSCalculationMethod=CalculationMethodNYES,J357,IF(PSCalculationMethod=CalculationMethodNYES,'E8-Reporting Period Values'!#REF!,\"\"))","v":""},0]
[43092,12.8424991503671,1,0,0,true,true,false,{"$f":"'E5-Baseline Model'!#REF!+SUMPRODUCT(B358:E358,TRANSPOSE('E5-Baseline Model'!#REF!))","v":{"$error":"#REF!"}},{"$f":"'E5-Baseline Model'!#REF!+SUMPRODUCT(B358:E358,TRANSPOSE('E5-Baseline Model'!#REF!))+RAND()-0.5","v":{"$error":"#REF!"}},{"$f":"IF(PSCalculationMethod=CalculationMethodNYES,J358,IF(PSCalculationMethod=CalculationMethodNYES,'E8-Reporting Period Values'!#REF!,\"\"))","v":""},0]
[43093,10.6924991503671,0,1,0,true,true,false,{"$f":"'E5-Baseline Model'!#REF!+SUMPRODUCT(B359:E359,TRANSPOSE('E5-Baseline Model'!#REF!))","v":{"$error":"#REF!"}},{"$f":"'E5-Baseline Model'!#REF!+SUMPRODUCT(B359:E359,TRANSPOSE('E5-Baseline Model'!#REF!))+RAND()-0.5","v":{"$error":"#REF!"}},{"$f":"IF(PSCalculationMethod=CalculationMethodNYES,J359,IF(PSCalculationMethod=CalculationMethodNYES,'E8-Reporting Period Values'!#REF!,\"\"))","v":""},0]
[43094,4.95,0,0,1,true,true,false,{"$f":"'E5-Baseline Model'!#REF!+SUMPRODUCT(B360:E360,TRANSPOSE('E5-Baseline Model'!#REF!))","v":{"$error":"#REF!"}},{"$f":"'E5-Baseline Model'!#REF!+SUMPRODUCT(B360:E360,TRANSPOSE('E5-Baseline Model'!#REF!))+RAND()-0.5","v":{"$error":"#REF!"}},{"$f":"IF(PSCalculationMethod=CalculationMethodNYES,J360,IF(PSCalculationMethod=CalculationMethodNYES,'E8-Reporting Period Values'!#REF!,\"\"))","v":""},0]
[43095,6.3,0,0,1,true,true,false,{"$f":"'E5-Baseline Model'!#REF!+SUMPRODUCT(B361:E361,TRANSPOSE('E5-Baseline Model'!#REF!))","v":{"$error":"#REF!"}},{"$f":"'E5-Baseline Model'!#REF!+SUMPRODUCT(B361:E361,TRANSPOSE('E5-Baseline Model'!#REF!))+RAND()-0.5","v":{"$error":"#REF!"}},{"$f":"IF(PSCalculationMethod=CalculationMethodNYES,J361,IF(PSCalculationMethod=CalculationMethodNYES,'E8-Reporting Period Values'!#REF!,\"\"))","v":""},0]
[43096,7.6,0,0,0,true,true,false,{"$f":"'E5-Baseline Model'!#REF!+SUMPRODUCT(B362:E362,TRANSPOSE('E5-Baseline Model'!#REF!))","v":{"$error":"#REF!"}},{"$f":"'E5-Baseline Model'!#REF!+SUMPRODUCT(B362:E362,TRANSPOSE('E5-Baseline Model'!#REF!))+RAND()-0.5","v":{"$error":"#REF!"}},{"$f":"IF(PSCalculationMethod=CalculationMethodNYES,J362,IF(PSCalculationMethod=CalculationMethodNYES,'E8-Reporting Period Values'!#REF!,\"\"))","v":""},0]
[43097,8.9499999999999993,0,0,0,true,true,false,{"$f":"'E5-Baseline Model'!#REF!+SUMPRODUCT(B363:E363,TRANSPOSE('E5-Baseline Model'!#REF!))","v":{"$error":"#REF!"}},{"$f":"'E5-Baseline Model'!#REF!+SUMPRODUCT(B363:E363,TRANSPOSE('E5-Baseline Model'!#REF!))+RAND()-0.5","v":{"$error":"#REF!"}},{"$f":"IF(PSCalculationMethod=CalculationMethodNYES,J363,IF(PSCalculationMethod=CalculationMethodNYES,'E8-Reporting Period Values'!#REF!,\"\"))","v":""},0]
[43098,8.5,0,0,0,true,true,false,{"$f":"'E5-Baseline Model'!#REF!+SUMPRODUCT(B364:E364,TRANSPOSE('E5-Baseline Model'!#REF!))","v":{"$error":"#REF!"}},{"$f":"'E5-Baseline Model'!#REF!+SUMPRODUCT(B364:E364,TRANSPOSE('E5-Baseline Model'!#REF!))+RAND()-0.5","v":{"$error":"#REF!"}},{"$f":"IF(PSCalculationMethod=CalculationMethodNYES,J364,IF(PSCalculationMethod=CalculationMethodNYES,'E8-Reporting Period Values'!#REF!,\"\"))","v":""},0]
[43099,8.4499999999999993,1,0,0,true,true,false,{"$f":"'E5-Baseline Model'!#REF!+SUMPRODUCT(B365:E365,TRANSPOSE('E5-Baseline Model'!#REF!))","v":{"$error":"#REF!"}},{"$f":"'E5-Baseline Model'!#REF!+SUMPRODUCT(B365:E365,TRANSPOSE('E5-Baseline Model'!#REF!))+RAND()-0.5","v":{"$error":"#REF!"}},{"$f":"IF(PSCalculationMethod=CalculationMethodNYES,J365,IF(PSCalculationMethod=CalculationMethodNYES,'E8-Reporting Period Values'!#REF!,\"\"))","v":""},0]
[43100,11.1,0,1,0,true,true,false,{"$f":"'E5-Baseline Model'!#REF!+SUMPRODUCT(B366:E366,TRANSPOSE('E5-Baseline Model'!#REF!))","v":{"$error":"#REF!"}},{"$f":"'E5-Baseline Model'!#REF!+SUMPRODUCT(B366:E366,TRANSPOSE('E5-Baseline Model'!#REF!))+RAND()-0.5","v":{"$error":"#REF!"}},{"$f":"IF(PSCalculationMethod=CalculationMethodNYES,J366,IF(PSCalculationMethod=CalculationMethodNYES,'E8-Reporting Period Values'!#REF!,\"\"))","v":""},0]

{"sheet":"G10-MAES","index":45,"n_rows":39,"n_cols":11,"rows_kept":39,"cut":false,"hidden":true,"merged":[[13,1,13,12],[3,1,3,12],[5,1,5,3],[8,1,8,12],[10,1,10,2],[10,3,10,4],[10,5,10,6],[10,7,10,8],[10,9,10,10],[11,1,11,2],[34,1,34,7],[15,1,15,5],[16,1,16,5],[17,1,17,5],[18,1,18,5],[20,1,20,12],[22,1,22,4],[23,1,23,4],[24,1,24,4],[25,1,25,4],[26,1,26,4],[28,1,28,7],[36,6,37,6],[36,7,37,7],[36,8,37,8],[36,1,37,1],[36,2,37,2],[36,3,37,3],[36,4,37,4],[36,5,37,5]]}
[null,null,"G10 - Measured Annual Energy Savings"]
[]
[{"$f":"LEFT(C1,1)","v":"G"},{"$f":"VLOOKUP(A3,EnergySourceLookup,2,FALSE)","v":"Gas"},{"$f":"VLOOKUP(A3,EnergySourceLookup,3,FALSE)","v":"GJ"}]
[null,"Equation"]
[]
[null,"Equation 5:"]
[null,null,"measured annual energy savings =  Σt ( EBM,t – Emeas,t ) + Eint"]
[]
[null,"Effective range"]
[]
[null,"BASELINE ENERGY MODEL",null,"Reporting Year Values",null,"Baseline Measurements",null,"Baseline Energy Model Effective Range",null,"# of Reporting Year Values Outside of Baseline Effective Range"]
[null,"Variable",null,"Minimum","Maximum","Minimum","Maximum","Minimum","Maximum","< Minimum","> Maximum"]
[]
[null,"Eligible Time Intervals"]
[null,null,null,null,null,null,null,null,"NYESBaselineEnergyMin","NYESOperatingEnergyMin","NYESSavingsEnergyMin"]
[null,"Number of time intervals in Reporting Year:",null,null,null,null,{"$f":"COUNTA($H$39)","v":1},null,"NYESBaselineEnergyMax","NYESOperatingEnergyMax","NYESSavingsEnergyMax"]
[null,"Number of ineligible time intervals:",null,null,null,null,{"$f":"COUNTIF($H$39,FALSE)","v":0},null,"NYESBaselineEnergyMax","NYESOperatingEnergyMax","NYESSavingsEnergyMax"]
[null,"Number of eligible time intervals:",null,null,null,null,{"$f":"G16-G17","v":1},null,"NYESBaselineEnergyMax","NYESOperatingEnergyMax","NYESSavingsEnergyMax"]
[null,"% eligible time intervals",null,null,null,null,{"$f":"IFERROR(G18/G16,\"\")","v":1},null,"NYESBaselineEnergyMax","NYESOperatingEnergyMax","NYESSavingsEnergyMax"]
[]
[null,"Energy Savings"]
[]
[null,"Item Name",null,null,null,"Units","Energy"]
[null,"Baseline Normal Year Annual Energy Consumption",null,null,null,{"$f":"$C$3","v":"GJ"},{"$f":"SUMIF($H$39,TRUE,$G$39)","v":0}]
[null,"Reporting Period Measured Annual Energy Consumption",null,null,null,{"$f":"F24","v":"GJ"},{"$f":"SUMIF($H$39,TRUE,$C$39)","v":0}]
[null,"Annual Interactive Energy Savings",null,null,null,{"$f":"F25","v":"GJ"},{"$f":"G9AnnualInteractiveSavings","v":0}]
[null,"Measured Annual Energy Savings",null,null,null,{"$f":"F26","v":"GJ"},{"$f":"IFERROR(G24-G25+G26,\"\")","v":0}]
[]
[null,"Chart of Gross Measured Annual Energy Savings"]
[]
[]
[]
[]
[]
[null,"Reporting Period Values and Calculated Energy"]
[]
[null,"Date / Time",{"$f":"\"Reported energy consumption (\" & $C$3 & \")\"","v":"Reported energy consumption (GJ)"},"Time interval data excluded?","Site constants all at normal values?","Within baseline model effective range?",{"$f":"\"Baseline energy consumption (\" & $C$3 & \")\"","v":"Baseline energy consumption (GJ)"},"Eligible time interval?","Energy savings"]
[]
[null,null,null,null,{"$f":"TRUE","v":true},{"$f":"TRUE","v":true},{"$f":"IFERROR(NA(),G5InterceptValue + 0)","v":0},{"$f":"AND(UPPER(LEFT(D39))<>\"Y\",E39,F39)","v":true},{"$f":"IF(H39,G39-C39,NA())","v":0}]

{"sheet":"G11-NYES","index":46,"n_rows":41,"n_cols":11,"rows_kept":41,"cut":false,"hidden":true,"merged":[[11,1,11,2],[3,1,3,12],[5,1,5,3],[8,1,8,12],[10,1,10,2],[10,3,10,4],[10,5,10,6],[10,7,10,8],[10,9,10,10],[38,9,39,9],[28,1,28,4],[29,1,29,4],[31,1,31,7],[38,0,39,0],[38,6,39,6],[38,7,39,7],[38,8,39,8],[38,2,39,2],[38,3,39,3],[38,4,39,4],[38,5,39,5],[38,1,39,1],[26,1,26,4],[36,1,36,12],[13,1,13,2],[13,3,13,4],[13,5,13,6],[13,7,13,8],[13,9,13,10],[14,1,14,2],[16,1,16,12],[18,1,18,5],[27,1,27,4],[19,1,19,5],[20,1,20,5],[21,1,21,5],[23,1,23,12],[25,1,25,4]]}
[null,null,"G11 - Normal Year Energy Savings"]
[]
[{"$f":"LEFT(C1,1)","v":"G"},{"$f":"VLOOKUP(A3,EnergySourceLookup,2,FALSE)","v":"Gas"},{"$f":"VLOOKUP(A3,EnergySourceLookup,3,FALSE)","v":"GJ"}]
[null,"Equation"]
[]
[null,"Equation 4:"]
[null,null,"normal year savings =  Σt ( EBM,t – EOM,t ) + Eint"]
[]
[null,"Effective range"]
[]
[null,"BASELINE ENERGY MODEL",null,"Normal Year Values",null,"Baseline Measurements",null,"Baseline Energy Model Effective Range",null,"# of Normal Year Values Outside of Baseline Effective Range"]
[null,"Variable",null,"Minimum","Maximum","Minimum","Maximum","Minimum","Maximum","< Minimum","> Maximum"]
[]
[null,"OPERATING ENERGY MODEL",null,"Normal Year Values",null,"Operating Measurements",null,"Operating Energy Model Effective Range",null,"# of Normal Year Values Outside of Operating Effective Range"]
[null,"Variable",null,"Minimum","Maximum","Minimum","Maximum","Minimum","Maximum","< Minimum","> Maximum"]
[]
[null,"Eligible Time Intervals"]
[null,null,null,null,null,null,null,null,"NYESBaselineEnergyMin","NYESOperatingEnergyMin","NYESSavingsEnergyMin"]
[null,"Number of time intervals in Normal Year:",null,null,null,null,{"$f":"COUNTA($I$41)","v":1},null,"NYESBaselineEnergyMax","NYESOperatingEnergyMax","NYESSavingsEnergyMax"]
[null,"Number of ineligible time intervals:",null,null,null,null,{"$f":"COUNTIF($I$41,FALSE)","v":0}]
[null,"Number of eligible time intervals:",null,null,null,null,{"$f":"G19-G20","v":1}]
[null,"% eligible time intervals",null,null,null,null,{"$f":"G21/G19","v":1},null,"NYESBaselineEnergyMax","NYESOperatingEnergyMax","NYESSavingsEnergyMax"]
[]
[null,"Energy Savings"]
[]
[null,"Item Name",null,null,null,"Units","Energy"]
[null,"Baseline Normal Year Energy Consumption",null,null,null,{"$f":"$C$3","v":"GJ"},{"$f":"SUMIF($I$41,TRUE,$F$41)","v":0}]
[null,"Operating Normal Year Energy Consumption",null,null,null,{"$f":"$C$3","v":"GJ"},{"$f":"SUMIF($I$41,TRUE,$H$41)","v":0}]
[null,"Annual Interactive Energy Savings",null,null,null,{"$f":"$C$3","v":"GJ"},{"$f":"G9AnnualInteractiveSavings","v":0}]
[null,"Normal Year Savings",null,null,null,{"$f":"$C$3","v":"GJ"},{"$f":"G27-G28+G29","v":0}]
[]
[{"$f":"\"Normal Year Energy Consumption (\"&$B$3&\")\"","v":"Normal Year Energy Consumption (Gas)"},"Chart of Gross Normal Year Energy Savings"]
[{"$f":"\"Gross Normal Year Energy Savings (\"&$B$3&\")\"","v":"Gross Normal Year Energy Savings (Gas)"}]
[]
[]
[]
[null,"Normal Year Values and Calculated Energy"]
[]
["blank","Date / Time","Time interval data excluded","Site constants all at normal values?","Within baseline model effective range?",{"$f":"\"Baseline energy consumption (\" & $C$3& \")\"","v":"Baseline energy consumption (GJ)"},"Within operating model effective range?",{"$f":"\"Operating energy consumption (\" & $C$3 & \")\"","v":"Operating energy consumption (GJ)"},"Eligible time interval?","Energy savings"]
[]
[null,null,null,{"$f":"TRUE","v":true},{"$f":"TRUE","v":true},{"$f":"IFERROR(NA(),G5InterceptValue + 0)","v":0},{"$f":"TRUE","v":true},{"$f":"IFERROR(NA(),G7InterceptValue + 0)","v":0},{"$f":"AND(UPPER(LEFT(C41))<>\"Y\",D41,E41,G41)","v":true},{"$f":"IF(AND(D41,I41),F41-H41,NA())","v":0}]

{"sheet":"G12-Accuracy","index":47,"n_rows":28,"n_cols":8,"rows_kept":28,"cut":false,"hidden":true,"merged":[[8,1,8,2],[8,3,8,4],[3,1,3,12],[5,1,5,2],[5,3,5,4],[6,1,6,2],[6,3,6,4],[9,1,9,2],[9,3,9,4],[10,1,10,2],[10,3,10,4],[11,1,11,2],[11,3,11,4],[21,1,21,3],[21,4,21,6],[21,7,21,9],[12,1,12,2],[12,3,12,4],[13,1,13,2],[13,3,13,4],[14,1,14,2],[14,3,14,4],[15,1,15,2],[15,3,15,4],[20,1,20,3],[20,4,20,6],[20,7,20,9],[22,1,22,3],[22,4,22,6],[22,7,22,9],[23,1,23,3],[23,4,23,6],[23,7,23,9],[24,1,24,3],[24,4,24,6],[24,7,24,9],[25,1,25,3],[25,4,25,6],[25,7,25,9],[26,1,26,3],[26,4,26,6],[26,7,26,9],[27,1,27,3],[27,4,27,6],[27,7,27,9]]}
[null,null,"G12 - Accuracy Factor"]
[]
[{"$f":"LEFT(C1,1)","v":"G"},{"$f":"VLOOKUP(A3,EnergySourceLookup,2,FALSE)","v":"Gas"},{"$f":"VLOOKUP(A3,EnergySourceLookup,3,FALSE)","v":"GJ"}]
[null,"Assign Accuracy Factor"]
[]
[null,"Item Name",null,"Item Value"]
[null,{"$f":"IF(PSCalculationMethod=CalculationMethodMAES,\"Measured Annual Energy Savings (\"&$C$3&\")\",IF(PSCalculationMethod=CalculationMethodNYES,\"Normal Year Gas Savings (\"&$C$3&\")\",\"\"))","v":""},null,{"$f":"IF(PSCalculationMethod=CalculationMethodMAES,G10MeasuredAnnualEnergySavings,IF(PSCalculationMethod=CalculationMethodNYES,G11NormalYearSavings,\"\"))","v":""}]
[]
[null,"Item",null,"Value"]
[null,"Baseline Model Standard Error",null,{"$f":"IFERROR('G5-Baseline Model'!D112,\"\")","v":0}]
[null,"Operating Model Standard Error",null,{"$f":"IFERROR('G7-Operating Model'!D91,\"\")","v":0}]
[null,"Number of measurement periods in one year",null,{"$f":"IFERROR(VLOOKUP(G1ModelFrequency, FrequencyLookup, 2, FALSE),\"\")","v":""}]
[null,"Standard error of annual savings",null,{"$f":"IFERROR(SQRT((D12*IF(ISNUMBER(D10),D10,0)^2)+(D12*IF(ISNUMBER(D11),D11,0)^2)),\"\")","v":""}]
[null,"Absolute precision of annual savings",null,{"$f":"IFERROR(D13*MAX('G7-Operating Model'!D92,'G5-Baseline Model'!D92),\"\")","v":""}]
[null,"Relative precision of annual savings",null,{"$f":"IFERROR(D14/D7,0)","v":0}]
[null,"Assigned Accuracy Factor",null,{"$f":"IFERROR(GetAccuracyFactor($A$3,D15),\"\")","v":1}]
[]
[]
[]
[]
[null,"Relative error of energy savings estimate",null,null,"Accuracy Factor for an average energy model",null,null,"Accuracy Factor for all other energy models"]
[null,"< 25%",null,null,{"$f":"Lookups!X3","v":0.9},null,null,{"$f":"Lookups!Y3","v":1}]
[null,"25% - 50%",null,null,{"$f":"Lookups!X4","v":0.8},null,null,{"$f":"Lookups!Y4","v":0.9}]
[null,"50% - 75%",null,null,{"$f":"Lookups!X5","v":0.7},null,null,{"$f":"Lookups!Y5","v":0.8}]
[null,"75% - 100%",null,null,{"$f":"Lookups!X6","v":0.5},null,null,{"$f":"Lookups!Y6","v":0.6}]
[null,"100% - 150%",null,null,{"$f":"Lookups!X7","v":0.3},null,null,{"$f":"Lookups!Y7","v":0.4}]
[null,"150% - 200%",null,null,{"$f":"Lookups!X8","v":0.1},null,null,{"$f":"Lookups!Y8","v":0.2}]
[null,"> 200%",null,null,0,null,null,0]

{"sheet":"G13-Decay","index":48,"n_rows":24,"n_cols":5,"rows_kept":24,"cut":false,"hidden":true,"merged":[[10,1,10,6],[3,1,3,12],[6,1,6,3],[6,4,6,6],[8,1,8,3],[8,4,8,6],[11,1,11,3],[11,4,11,6],[12,1,12,3],[12,4,12,6],[13,1,13,3],[13,4,13,6],[14,1,14,3],[14,4,14,6],[15,1,15,3],[15,4,15,6],[16,1,16,3],[16,4,16,6],[17,1,17,3],[17,4,17,6],[18,1,18,3],[18,4,18,6],[19,1,19,3],[19,4,19,6],[20,1,20,3],[20,4,20,6],[21,1,21,3],[21,4,21,6],[23,1,23,6]]}
[null,null,"G13 - Decay Factor"]
[]
[{"$f":"LEFT(C1,1)","v":"G"},{"$f":"VLOOKUP(A3,EnergySourceLookup,2,FALSE)","v":"Gas"},{"$f":"VLOOKUP(A3,EnergySourceLookup,3,FALSE)","v":"GJ"}]
[null,"Decay factor for forward creation"]
[]
[]
[{"$f":"AND(PSCalculationMethod=CalculationMethodNYES,G13DecayModelType=\"\")","v":false},"Model Type:"]
[]
[null,"Project lifetime (years):",null,null,10]
[]
[null,"Decay Factors Year by Year:"]
[null,"Year",null,null,"Decay Factor"]
[null,1,null,null,1]
[null,2,null,null,0.8]
[null,3,null,null,0.64]
[null,4,null,null,0.51]
[null,5,null,null,0.41]
[null,6,null,null,0.33]
[null,7,null,null,0.26]
[null,8,null,null,0.21]
[null,9,null,null,0.17]
[null,10,null,null,0.13]
[]
[null,"For forward creation method (NYES), you must choose a persistence model type."]

{"sheet":"G14-Energy Savings (MAES)","index":49,"n_rows":35,"n_cols":7,"rows_kept":35,"cut":false,"hidden":true,"merged":[[3,1,3,12],[5,1,5,3],[6,2,6,12],[8,1,8,12],[10,2,10,3],[10,4,10,5],[10,6,10,7],[11,2,11,3],[11,4,11,5],[11,6,11,7],[12,2,12,3],[12,4,12,5],[12,6,12,7],[13,2,13,3],[13,4,13,5],[13,6,13,7],[14,2,14,3],[14,4,14,5],[14,6,14,7],[15,2,15,3],[15,4,15,5],[15,6,15,7],[16,2,16,3],[16,4,16,5],[16,6,16,7],[17,2,17,3],[17,4,17,5],[17,6,17,7],[18,2,18,3],[18,4,18,5],[18,6,18,7],[19,2,19,3],[19,4,19,5],[19,6,19,7],[20,2,20,3],[20,4,20,5],[20,6,20,7],[21,2,21,5],[21,6,21,7],[24,1,24,14],[26,1,26,12],[28,2,28,5],[28,6,28,7],[29,2,29,5],[29,6,29,7],[30,2,30,5],[30,6,30,7],[31,2,31,5],[31,6,31,7],[32,2,32,5],[32,6,32,7],[33,2,33,5],[33,6,33,7],[34,2,34,5],[34,6,34,7]]}
[null,null,"G14 - Energy Savings (Annual creation)"]
[]
[{"$f":"LEFT(C1,1)","v":"G"},{"$f":"VLOOKUP(A3,EnergySourceLookup,2,FALSE)","v":"Gas"},{"$f":"VLOOKUP(A3,EnergySourceLookup,3,FALSE)","v":"GJ"}]
[null,"Calculate Energy Savings based on Measured Annual Energy Savings"]
[]
[null,"Equation 3"]
[null,null,"energy savings = measured annual energy savings x AF ± previous energy savings"]
[]
[null,"Previous Energy Savings"]
[]
[null,"Reporting Year","Reporting\nYear From",null,"Reporting\nYear To",null,{"$f":"\"Previous Energy Savings (\"&C3& \")\"","v":"Previous Energy Savings (GJ)"}]
[null,1,{"$f":"'0-Project Summary'!D50","v":""},null,{"$f":"'0-Project Summary'!F50","v":""}]
[null,2,{"$f":"'0-Project Summary'!D51","v":""},null,{"$f":"'0-Project Summary'!F51","v":""}]
[null,3,{"$f":"'0-Project Summary'!D52","v":""},null,{"$f":"'0-Project Summary'!F52","v":""}]
[null,4,{"$f":"'0-Project Summary'!D53","v":""},null,{"$f":"'0-Project Summary'!F53","v":""}]
[null,5,{"$f":"'0-Project Summary'!D54","v":""},null,{"$f":"'0-Project Summary'!F54","v":""}]
[null,6,{"$f":"'0-Project Summary'!D55","v":""},null,{"$f":"'0-Project Summary'!F55","v":""}]
[null,7,{"$f":"'0-Project Summary'!D56","v":""},null,{"$f":"'0-Project Summary'!F56","v":""}]
[null,8,{"$f":"'0-Project Summary'!D57","v":""},null,{"$f":"'0-Project Summary'!F57","v":""}]
[null,9,{"$f":"'0-Project Summary'!D58","v":""},null,{"$f":"'0-Project Summary'!F58","v":""}]
[null,10,{"$f":"'0-Project Summary'!D59","v":""},null,{"$f":"'0-Project Summary'!F59","v":""}]
[null,null,{"$f":"\"Total Previous Energy Savings (\"&$C$3& \")\"","v":"Total Previous Energy Savings (GJ)"},null,null,null,{"$f":"SUM($G$10:$G$13)","v":0}]
[]
[]
[null,"Note: please input the Previous Energy Savings in the table above. \n\nPrevious energy savings is the total amount of energy savings calculated using this equation for the previous reporting period (if any), including negative energy savings (if any).\n\nThese savings will need to be accumulated over all previous reporting periods."]
[]
[null,"Energy Savings"]
[]
[null,null,"Reporting Year",null,null,null,{"$f":"'0-Project Summary'!$E$47","v":0}]
[null,null,"Reporting Year From",null,null,null,{"$f":"IFERROR(VLOOKUP(G29,$B$10:$F$19,2,FALSE),0)","v":"00:00:00"}]
[null,null,"Reporting Year To",null,null,null,{"$f":"IFERROR(VLOOKUP(G29,$B$10:$F$19,4,FALSE),0)","v":"00:00:00"}]
[null,null,{"$f":"\"Measured Annual Energy Savings (\"&$C$3& \")\"","v":"Measured Annual Energy Savings (GJ)"},null,null,null,{"$f":"G10MeasuredAnnualEnergySavings","v":0}]
[null,null,"Accuracy Factor (AF)",null,null,null,{"$f":"'G12-Accuracy'!D16","v":1}]
[null,null,{"$f":"C22","v":"Total Previous Energy Savings (GJ)"},null,null,null,{"$f":"G14PreviousEnergySavings","v":0}]
[null,null,"Energy Savings (MAES):",null,null,null,{"$f":"IFERROR(G32*G33+G34,0)","v":0}]

{"sheet":"G15-Energy Savings (NYES)","index":50,"n_rows":23,"n_cols":14,"rows_kept":23,"cut":false,"hidden":true,"merged":[[3,1,3,12],[7,1,7,3],[8,2,8,10],[10,1,11,2],[10,3,11,4],[10,5,11,6],[10,7,11,8],[10,9,11,10],[10,11,11,12],[10,13,11,14],[12,1,12,2],[12,3,12,4],[12,5,12,6],[12,7,12,8],[12,9,12,10],[12,11,12,12],[12,13,12,14],[13,13,13,14],[14,1,14,2],[14,3,14,4],[14,5,14,6],[14,7,14,8],[14,9,14,10],[14,11,14,12],[14,13,14,14],[13,1,13,2],[13,3,13,4],[13,5,13,6],[13,7,13,8],[13,9,13,10],[13,11,13,12],[15,13,15,14],[16,1,16,2],[16,3,16,4],[16,5,16,6],[16,7,16,8],[16,9,16,10],[16,11,16,12],[16,13,16,14],[15,1,15,2],[15,3,15,4],[15,5,15,6],[15,7,15,8],[15,9,15,10],[15,11,15,12],[17,13,17,14],[18,1,18,2],[18,3,18,4],[18,5,18,6],[18,7,18,8],[18,9,18,10],[18,11,18,12],[18,13,18,14],[17,1,17,2],[17,3,17,4],[17,5,17,6],[17,7,17,8],[17,9,17,10],[17,11,17,12],[19,13,19,14],[20,1,20,2],[20,3,20,4],[20,5,20,6],[20,7,20,8],[20,9,20,10],[20,11,20,12],[20,13,20,14],[19,1,19,2],[19,3,19,4],[19,5,19,6],[19,7,19,8],[19,9,19,10],[19,11,19,12],[21,13,21,14],[22,11,22,12],[22,13,22,14],[21,1,21,2],[21,3,21,4],[21,5,21,6],[21,7,21,8],[21,9,21,10],[21,11,21,12]]}
[null,null,"G15 - Energy Savings (Forward creation)"]
[]
[{"$f":"LEFT(C1,1)","v":"G"},{"$f":"VLOOKUP(A3,EnergySourceLookup,2,FALSE)","v":"Gas"},{"$f":"VLOOKUP(A3,EnergySourceLookup,3,FALSE)","v":"GJ"}]
[null,{"$f":"\"Calculate Energy Savings for \" &VLOOKUP(LEFT($C$1,1),EnergySourceLookup,2,FALSE)","v":"Calculate Energy Savings for Gas"}]
[]
[]
[]
[null,"Equation 2"]
[null,null,"energy savings = Σi (normal year savings x AF x DFi )"]
[]
[null,"Reporting Period (Year)",null,"Period From",null,"Period To",null,{"$f":"\"Normal Year Energy Savings (\" &$C$3& \")\"","v":"Normal Year Energy Savings (GJ)"},null,"Accuracy Factor (AF)",null,"Decay Factor (DFi)",null,{"$f":"\"Annual Energy Savings (\" &$C$3& \")\"","v":"Annual Energy Savings (GJ)"}]
[]
[null,{"$f":"'0-Project Summary'!B50","v":1},null,{"$f":"'0-Project Summary'!D50","v":""},null,{"$f":"'0-Project Summary'!F50","v":""},null,{"$f":"IFERROR(G11NormalYearSavings,0)","v":0},null,{"$f":"G12AccuracyFactor","v":1},null,{"$f":"'G13-Decay'!E13","v":1},null,{"$f":"IFERROR(H13*IF(H13<0,1,L13)*J13,0)","v":0}]
[null,{"$f":"'0-Project Summary'!B51","v":2},null,{"$f":"'0-Project Summary'!D51","v":""},null,{"$f":"'0-Project Summary'!F51","v":""},null,0,null,1,null,{"$f":"'G13-Decay'!E14","v":0.8},null,{"$f":"IFERROR(H14*IF(H14<0,1,L14)*E12AccuracyFactor,0)","v":0}]
[null,{"$f":"'0-Project Summary'!B52","v":3},null,{"$f":"'0-Project Summary'!D52","v":""},null,{"$f":"'0-Project Summary'!F52","v":""},null,0,null,1,null,{"$f":"'G13-Decay'!E15","v":0.64},null,0]
[null,{"$f":"'0-Project Summary'!B53","v":4},null,{"$f":"'0-Project Summary'!D53","v":""},null,{"$f":"'0-Project Summary'!F53","v":""},null,0,null,1,null,{"$f":"'G13-Decay'!E16","v":0.51},null,0]
[null,{"$f":"'0-Project Summary'!B54","v":5},null,{"$f":"'0-Project Summary'!D54","v":""},null,{"$f":"'0-Project Summary'!F54","v":""},null,0,null,1,null,{"$f":"'G13-Decay'!E17","v":0.41},null,0]
[null,{"$f":"'0-Project Summary'!B55","v":6},null,{"$f":"'0-Project Summary'!D55","v":""},null,{"$f":"'0-Project Summary'!F55","v":""},null,0,null,1,null,{"$f":"'G13-Decay'!E18","v":0.33},null,0]
[null,{"$f":"'0-Project Summary'!B56","v":7},null,{"$f":"'0-Project Summary'!D56","v":""},null,{"$f":"'0-Project Summary'!F56","v":""},null,0,null,1,null,{"$f":"'G13-Decay'!E19","v":0.26},null,0]
[null,{"$f":"'0-Project Summary'!B57","v":8},null,{"$f":"'0-Project Summary'!D57","v":""},null,{"$f":"'0-Project Summary'!F57","v":""},null,0,null,1,null,{"$f":"'G13-Decay'!E20","v":0.21},null,0]
[null,{"$f":"'0-Project Summary'!B58","v":9},null,{"$f":"'0-Project Summary'!D58","v":""},null,{"$f":"'0-Project Summary'!F58","v":""},null,0,null,1,null,{"$f":"'G13-Decay'!E21","v":0.17},null,0]
[null,{"$f":"'0-Project Summary'!B59","v":10},null,{"$f":"'0-Project Summary'!D59","v":""},null,{"$f":"'0-Project Summary'!F59","v":""},null,0,null,1,null,{"$f":"'G13-Decay'!E22","v":0.13},null,0]
[null,null,null,null,null,null,null,null,null,null,null,"Energy Savings:",null,{"$f":"SUM(N13:N22)","v":0}]

{"sheet":"GWorkarea-Normal Year","index":51,"n_rows":7,"n_cols":7,"rows_kept":7,"cut":false,"hidden":true,"merged":[[3,1,3,12]]}
[null,null,"Normal Year Work Area"]
[]
[]
[null,"NB: To reference a cell on this sheet, use the formula and name “='NormalYearWorkArea'!...”"]
[]
[]
[null,"Date","CDD","isSaturday","isSunday","isPublicHoliday","hrsElecConnected"]

{"sheet":"GWorkarea-Baseline","index":52,"n_rows":6,"n_cols":8,"rows_kept":6,"cut":false,"hidden":true,"merged":[[3,1,3,12]]}
[null,null,"Baseline Work Area"]
[]
[]
[null,"NB: To reference a cell on this sheet, use the formula and name “='BaselineWorkArea'!...”"]
[]
[null,"Date","Energy","CDD","isSaturday","isSunday","isPublicHoliday","hrsElecConnected"]

{"sheet":"GWorkarea-Operating","index":53,"n_rows":4,"n_cols":3,"rows_kept":4,"cut":false,"hidden":true,"merged":[[3,1,3,12]]}
[null,null,"Operating Work Area"]
[]
[]
[null,"NB: To reference a cell on this sheet, use the formula and name “='OperatingWorkArea'!...”"]

{"sheet":"GWorkarea-Reporting Year","index":54,"n_rows":4,"n_cols":3,"rows_kept":4,"cut":false,"hidden":true,"merged":[[3,1,3,12]]}
[null,null,"Operating Work Area"]
[]
[]
[null,"NB: To reference a cell on this sheet, use the formula and name “='OperatingWorkArea'!...”"]

{"sheet":"N1-Measurements","index":55,"n_rows":84,"n_cols":13,"rows_kept":84,"cut":false,"hidden":true,"merged":[[65,2,65,3],[65,4,65,5],[65,6,65,7],[65,8,65,9],[13,1,13,12],[15,1,15,12],[17,1,17,4],[17,5,17,7],[19,1,19,4],[19,5,19,7],[28,9,28,10],[30,3,30,4],[30,5,30,6],[30,7,30,8],[21,1,21,4],[21,5,21,7],[3,1,3,12],[5,1,5,12],[7,1,7,12],[9,1,9,12],[11,1,11,12],[23,1,23,12],[25,1,25,12],[26,1,26,12],[28,1,29,1],[28,2,29,2],[28,3,29,4],[28,5,29,6],[28,7,29,8],[45,3,45,4],[45,5,45,6],[45,7,45,8],[43,9,43,10],[32,1,32,12],[36,1,36,12],[38,1,38,12],[40,1,40,12],[41,1,41,12],[43,1,44,1],[43,2,44,2],[43,3,44,4],[43,5,44,6],[43,7,44,8],[49,1,49,12],[51,1,51,12],[52,1,52,13],[53,1,54,1],[53,2,54,2],[53,3,54,4],[53,5,54,6],[53,7,54,8],[53,9,54,10],[53,11,53,12],[59,1,59,12],[55,3,55,4],[55,5,55,6],[55,7,55,8],[55,9,55,10],[57,1,57,12],[60,1,60,10],[62,1,62,12],[64,2,64,3],[64,4,64,5],[64,6,64,7],[64,8,64,9],[79,1,79,3],[79,4,79,10],[67,1,67,12],[69,1,69,12],[70,1,70,12],[72,1,72,12],[74,1,74,12],[76,1,76,12],[77,1,77,12],[82,1,82,12],[83,1,83,12],[85,1,85,12],[80,1,80,3],[80,4,80,10]]}
[null,null,"N1 - Measurements"]
[]
[{"$f":"LEFT(C1,1)","v":"N"},{"$f":"VLOOKUP(A3,EnergySourceLookup,2,FALSE)","v":"Renewables"}]
[null,"Measurement Boundary"]
[]
[null,"Define Measurement Boundary - identify all meters and devices that will measure consumption of Electricity"]
[]
[null,"Note: The meters and measuring devices must include:\n(i) all energy consuming products installed or removed in implementing the project; and\n(ii) all energy consuming products for which energy consumption is affected by the project, unless it is able to be excluded (see below); and\n(iii) all energy generating products installed or removed in implementing the project.\n\nBecause each energy source uses different meters, each will have a different measurement boundary.\n\nAn energy consuming product or a component of an energy consuming product may be EXCLUDED from the measurement boundary if:\n(i) it is impractical or disproportionately costly to measure changes in the energy consumed by the product that result from implementation of the project and the change in the energy consumed is minor or trivial; or\n(ii) changes in the energy consumed by the product is accounted for in the interactive energy savings."]
[]
[]
[]
[null,"Measurement Frequency for Energy Model"]
[]
[null,"Note: This is the measurement frequency for the ENERGY MODEL, not the energy meter. Meter readings may be aggregated to create measurements for use with the model. All variables in an energy model must have the same frequency of data. However, different energy models (for different energy sources) do not have to have the same measurement frequency."]
[]
[null,"Note: Click the 'Update Tool' button in the navigation bar above after changing the measurement frequency."]
[]
[null,"Measurement frequency:"]
[]
[null,"Time interval length (days):",null,null,null,{"$f":"IFERROR(VLOOKUP(N1ModelFrequency,FrequencyLookup,7,FALSE),\"\")","v":""}]
[]
[null,"Number of time intervals per year:",null,null,null,{"$f":"IFERROR(IF(F20>0,ROUND(365/F20,0),\"\"),\"\")","v":""}]
[]
[null,"Energy Meters"]
[]
[null,"Identify and define how Energy Consumption will be calculated based on meter data:"]
[null,"Note: Please indicate in the \"How Measured / Calculated\" column if the measurements were based on sampling.\n\nSampling can only be used to determine measured energy consumption of an activity, if the project includes undertaking multiple similar activities at the same premises, and:\n(i) the measured energy consumption of each activity can be reasonably described by the same energy model; and \n(ii) the sampling methods used produce a random sample; and\n(iii) the calculation of the relative precision used to determine the accuracy factor includes quantification of the impact of the sampling."]
[]
[null,"Meter Identifier/ Name","Units","Description",null,"How Measured / Calculated",null,"Conversion to Model Frequency",null,"Measurement Accuracy"]
[null,null,null,null,null,null,null,null,null,"Accuracy\nType","Margin of Error"]
[null,null,{"$f":"getESUnits(StringToEnergySource($A$3))","v":"GJ"}]
[]
[null,"How will the energy meter readings be aggregated to provide a single value for energy consumption in each time interval?"]
[]
[]
[]
[]
[]
[null,"Independent Variables"]
[]
[null,"Identify and define p Independent Variables (not relevant if you use Estimate of the Mean), which vary over time under normal operating conditions, and must be measured during measurement periods:"]
[null,"Note: If both the baseline energy model and operating energy model (if NYES is chosen) use \"Estimate of the Mean\" to establish the energy model, then no independent variables are necessary."]
[]
[null,"Independent Variable Name","Units","Description",null,"How Measured / Calculated",null,"Conversion to Model Frequency",null,"Measurement Accuracy"]
[null,null,null,null,null,null,null,null,null,"Accuracy\nType","Margin of Error"]
[]
[]
[]
[]
[null,"Note: Click the 'Update Tool' button in the navigation bar above after adding an Independent Variable to the table."]
[]
[null,"Normal operating conditions"]
[null,"Identify and define at least one Site Constant. These do not vary over time for each site under normal operating conditions, but could change under extraordinary circumstances (such as unscheduled maintenance), and so must also be monitored and measured during measurement periods:"]
[null,"Site Constant Name","Units","Description",null,"How Measured / Calculated",null,"Conversion to Model Frequency",null,"Typical Value",null,"Measurement Accuracy"]
[false,null,null,null,null,null,null,null,null,null,null,"Accuracy\nType","Margin of Error"]
[]
[]
[null,"Note: Click the 'Update Tool' button in the navigation bar above after adding a Site Constant to the table."]
[]
[null,"Excluded variables"]
[null,"Other variables excluded from model:"]
[]
[null,"Note: These are variables for which data is available, but are either dependent on the other variables or don't have a strong influence on energy consumption and so have not been included in the model. Include a reason why they've been excluded from the model. "]
[]
[null,"Name","Description",null,"How Measured / Calculated",null,"Value (if constant and known)",null,"Reason Excluded from Model"]
[]
[]
[null,"Define Normal Year"]
[]
[null,"Describe how the normal year is defined:"]
[null,"Note: A normal year must reasonably represent the expected mean, range and variation of the independent variables used in the baseline energy model and operating energy model in an average year of the maximum time period for forward creation."]
[]
[]
[]
[null,"Data sources"]
[]
[null,"Define the data sources and how the data were manipulated (e.g. data gaps filled), if at all:"]
[null,"Note: These data sources may be the same as the data sources used to determine Independent Variables."]
[]
[null,"Data sources",null,null,"How were the data manipulated?"]
[]
[]
[null,"Describe how the sourced data is used to establish the normal year:"]
[null,"For example:\ni) How do the data sources correspond with the Independent Variables?\nii) If the business cycles captured are less than a year, how is that extended to a full year while maintaining natural variability?\niii) If multiple business cycles of data are available, how are those data sampled to construct a \"typical\" year of operation?"]

{"sheet":"N2-Normal Year Values","index":56,"n_rows":8,"n_cols":4,"rows_kept":8,"cut":false,"hidden":true,"merged":[[7,0,8,0],[9,5,9,6],[3,1,3,12],[5,1,5,12],[7,1,8,1],[7,2,8,2],[7,3,8,3]]}
[null,null,"N2 - Normal Year Values"]
[]
[{"$f":"LEFT(C1,1)","v":"N"},{"$f":"VLOOKUP(A3,EnergySourceLookup,2,FALSE)","v":"Renewables"},{"$f":"VLOOKUP(A3,EnergySourceLookup,3,FALSE)","v":"GJ"}]
[null,"Enter Values for all Independent Variables under a Normal Year of Operating Conditions"]
[]
[null,{"$f":"\"Note: Click the 'Update Tool' button in the navigation bar above after entering the data. \" & IF(N1ModelFrequency<>\"\", \"This table should contain \" & VLOOKUP(N1ModelFrequency, FrequencyLookup,2,FALSE) & \" data points based on the selected \" & N1ModelFrequency & \" Measurement Frequency.\", \"\")","v":"Note: Click the 'Update Tool' button in the navigation bar above after entering the data. "}]
[]
[null,"Normal Year Date / Time","Exclude non-normal measurement? (Mark with 'Y')","Reason for exclusion"]

{"sheet":"NCharts-Normal Year","index":57,"n_rows":366,"n_cols":8,"rows_kept":366,"cut":false,"hidden":true,"merged":[]}
["Time period start","Lower bound","Upper bound","Independent Variable",null,"Minimum IV value","Maximum"]
[{"$f":"'N2-Normal Year Values'!$B$10","v":0},{"$f":"1.05*$F$2-0.05*$F$4","v":{"$error":"#REF!"}},{"$f":"1.05*$F$4-0.05*$F$2","v":{"$error":"#REF!"}},{"$f":"'N2-Normal Year Values'!#REF!","v":{"$error":"#REF!"}},null,{"$f":"MIN(D:D)","v":{"$error":"#REF!"}},{"$f":"MAX($D$2:$D$366)","v":{"$error":"#REF!"}},"(these formulas should adjust to ModelTimeIntervals value)"]
[{"$f":"'N2-Normal Year Values'!$B$11","v":0},{"$error":"#REF!"},{"$error":"#REF!"},{"$f":"'N2-Normal Year Values'!#REF!","v":{"$error":"#REF!"}},null,"Maximum IV value"]
[{"$f":"'N2-Normal Year Values'!$B$12","v":0},{"$error":"#REF!"},{"$error":"#REF!"},{"$f":"'N2-Normal Year Values'!#REF!","v":{"$error":"#REF!"}},null,{"$f":"MAX(D:D)","v":{"$error":"#REF!"}},null,"Actually, the minimum and maximum should come from the baseline and operating model effective ranges… will have to work this out later."]
[{"$f":"'N2-Normal Year Values'!$B$13","v":0},{"$error":"#REF!"},{"$error":"#REF!"},{"$f":"'N2-Normal Year Values'!#REF!","v":{"$error":"#REF!"}}]
[{"$f":"'N2-Normal Year Values'!$B$14","v":0},{"$error":"#REF!"},{"$error":"#REF!"},{"$f":"'N2-Normal Year Values'!#REF!","v":{"$error":"#REF!"}}]
[{"$f":"'N2-Normal Year Values'!$B$15","v":0},{"$error":"#REF!"},{"$error":"#REF!"},{"$f":"'N2-Normal Year Values'!#REF!","v":{"$error":"#REF!"}}]
[{"$f":"'N2-Normal Year Values'!$B$16","v":0},{"$error":"#REF!"},{"$error":"#REF!"},{"$f":"'N2-Normal Year Values'!#REF!","v":{"$error":"#REF!"}}]
[{"$f":"'N2-Normal Year Values'!$B$17","v":0},{"$error":"#REF!"},{"$error":"#REF!"},{"$f":"'N2-Normal Year Values'!#REF!","v":{"$error":"#REF!"}}]
[{"$f":"'N2-Normal Year Values'!$B$18","v":0},{"$error":"#REF!"},{"$error":"#REF!"},{"$f":"'N2-Normal Year Values'!#REF!","v":{"$error":"#REF!"}}]
[{"$f":"'N2-Normal Year Values'!$B$19","v":0},{"$error":"#REF!"},{"$error":"#REF!"},{"$f":"'N2-Normal Year Values'!#REF!","v":{"$error":"#REF!"}}]
[{"$f":"'N2-Normal Year Values'!$B$20","v":0},{"$error":"#REF!"},{"$error":"#REF!"},{"$f":"'N2-Normal Year Values'!#REF!","v":{"$error":"#REF!"}}]
[{"$f":"'N2-Normal Year Values'!$B$21","v":0},{"$error":"#REF!"},{"$error":"#REF!"},{"$f":"'N2-Normal Year Values'!#REF!","v":{"$error":"#REF!"}}]
[{"$f":"'N2-Normal Year Values'!$B$22","v":0},{"$error":"#REF!"},{"$error":"#REF!"},{"$f":"'N2-Normal Year Values'!#REF!","v":{"$error":"#REF!"}}]
[{"$f":"'N2-Normal Year Values'!$B$23","v":0},{"$error":"#REF!"},{"$error":"#REF!"},{"$f":"'N2-Normal Year Values'!#REF!","v":{"$error":"#REF!"}}]
[{"$f":"'N2-Normal Year Values'!$B$24","v":0},{"$error":"#REF!"},{"$error":"#REF!"},{"$f":"'N2-Normal Year Values'!#REF!","v":{"$error":"#REF!"}}]
[{"$f":"'N2-Normal Year Values'!$B$25","v":0},{"$error":"#REF!"},{"$error":"#REF!"},{"$f":"'N2-Normal Year Values'!#REF!","v":{"$error":"#REF!"}}]
[{"$f":"'N2-Normal Year Values'!$B$26","v":0},{"$error":"#REF!"},{"$error":"#REF!"},{"$f":"'N2-Normal Year Values'!#REF!","v":{"$error":"#REF!"}}]
[{"$f":"'N2-Normal Year Values'!$B$27","v":0},{"$error":"#REF!"},{"$error":"#REF!"},{"$f":"'N2-Normal Year Values'!#REF!","v":{"$error":"#REF!"}}]
[{"$f":"'N2-Normal Year Values'!$B$28","v":0},{"$error":"#REF!"},{"$error":"#REF!"},{"$f":"'N2-Normal Year Values'!#REF!","v":{"$error":"#REF!"}}]
[{"$f":"'N2-Normal Year Values'!$B$29","v":0},{"$error":"#REF!"},{"$error":"#REF!"},{"$f":"'N2-Normal Year Values'!#REF!","v":{"$error":"#REF!"}}]
[{"$f":"'N2-Normal Year Values'!$B$30","v":0},{"$error":"#REF!"},{"$error":"#REF!"},{"$f":"'N2-Normal Year Values'!#REF!","v":{"$error":"#REF!"}}]
[{"$f":"'N2-Normal Year Values'!$B$31","v":0},{"$error":"#REF!"},{"$error":"#REF!"},{"$f":"'N2-Normal Year Values'!#REF!","v":{"$error":"#REF!"}}]
[{"$f":"'N2-Normal Year Values'!$B$32","v":0},{"$error":"#REF!"},{"$error":"#REF!"},{"$f":"'N2-Normal Year Values'!#REF!","v":{"$error":"#REF!"}}]
[{"$f":"'N2-Normal Year Values'!$B$33","v":0},{"$error":"#REF!"},{"$error":"#REF!"},{"$f":"'N2-Normal Year Values'!#REF!","v":{"$error":"#REF!"}}]
[{"$f":"'N2-Normal Year Values'!$B$34","v":0},{"$error":"#REF!"},{"$error":"#REF!"},{"$f":"'N2-Normal Year Values'!#REF!","v":{"$error":"#REF!"}}]
[{"$f":"'N2-Normal Year Values'!$B$35","v":0},{"$error":"#REF!"},{"$error":"#REF!"},{"$f":"'N2-Normal Year Values'!#REF!","v":{"$error":"#REF!"}}]
[{"$f":"'N2-Normal Year Values'!$B$36","v":0},{"$error":"#REF!"},{"$error":"#REF!"},{"$f":"'N2-Normal Year Values'!#REF!","v":{"$error":"#REF!"}}]
[{"$f":"'N2-Normal Year Values'!$B$37","v":0},{"$error":"#REF!"},{"$error":"#REF!"},{"$f":"'N2-Normal Year Values'!#REF!","v":{"$error":"#REF!"}}]
[{"$f":"'N2-Normal Year Values'!$B$38","v":0},{"$error":"#REF!"},{"$error":"#REF!"},{"$f":"'N2-Normal Year Values'!#REF!","v":{"$error":"#REF!"}}]
[{"$f":"'N2-Normal Year Values'!$B$39","v":0},{"$error":"#REF!"},{"$error":"#REF!"},{"$f":"'N2-Normal Year Values'!#REF!","v":{"$error":"#REF!"}}]
[{"$f":"'N2-Normal Year Values'!$B$40","v":0},{"$error":"#REF!"},{"$error":"#REF!"},{"$f":"'N2-Normal Year Values'!#REF!","v":{"$error":"#REF!"}}]
[{"$f":"'N2-Normal Year Values'!$B$41","v":0},{"$error":"#REF!"},{"$error":"#REF!"},{"$f":"'N2-Normal Year Values'!#REF!","v":{"$error":"#REF!"}}]
[{"$f":"'N2-Normal Year Values'!$B$42","v":0},{"$error":"#REF!"},{"$error":"#REF!"},{"$f":"'N2-Normal Year Values'!#REF!","v":{"$error":"#REF!"}}]
[{"$f":"'N2-Normal Year Values'!$B$43","v":0},{"$error":"#REF!"},{"$error":"#REF!"},{"$f":"'N2-Normal Year Values'!#REF!","v":{"$error":"#REF!"}}]
[{"$f":"'N2-Normal Year Values'!$B$44","v":0},{"$error":"#REF!"},{"$error":"#REF!"},{"$f":"'N2-Normal Year Values'!#REF!","v":{"$error":"#REF!"}}]
[{"$f":"'N2-Normal Year Values'!$B$45","v":0},{"$error":"#REF!"},{"$error":"#REF!"},{"$f":"'N2-Normal Year Values'!#REF!","v":{"$error":"#REF!"}}]
[{"$f":"'N2-Normal Year Values'!$B$46","v":0},{"$error":"#REF!"},{"$error":"#REF!"},{"$f":"'N2-Normal Year Values'!#REF!","v":{"$error":"#REF!"}}]
[{"$f":"'N2-Normal Year Values'!$B$47","v":0},{"$error":"#REF!"},{"$error":"#REF!"},{"$f":"'N2-Normal Year Values'!#REF!","v":{"$error":"#REF!"}}]
[{"$f":"'N2-Normal Year Values'!$B$48","v":0},{"$error":"#REF!"},{"$error":"#REF!"},{"$f":"'N2-Normal Year Values'!#REF!","v":{"$error":"#REF!"}}]
[{"$f":"'N2-Normal Year Values'!$B$49","v":0},{"$error":"#REF!"},{"$error":"#REF!"},{"$f":"'N2-Normal Year Values'!#REF!","v":{"$error":"#REF!"}}]
[{"$f":"'N2-Normal Year Values'!$B$50","v":0},{"$error":"#REF!"},{"$error":"#REF!"},{"$f":"'N2-Normal Year Values'!#REF!","v":{"$error":"#REF!"}}]
[{"$f":"'N2-Normal Year Values'!$B$51","v":0},{"$error":"#REF!"},{"$error":"#REF!"},{"$f":"'N2-Normal Year Values'!#REF!","v":{"$error":"#REF!"}}]
[{"$f":"'N2-Normal Year Values'!$B$52","v":0},{"$error":"#REF!"},{"$error":"#REF!"},{"$f":"'N2-Normal Year Values'!#REF!","v":{"$error":"#REF!"}}]
[{"$f":"'N2-Normal Year Values'!$B$53","v":0},{"$error":"#REF!"},{"$error":"#REF!"},{"$f":"'N2-Normal Year Values'!#REF!","v":{"$error":"#REF!"}}]
[{"$f":"'N2-Normal Year Values'!$B$54","v":0},{"$error":"#REF!"},{"$error":"#REF!"},{"$f":"'N2-Normal Year Values'!#REF!","v":{"$error":"#REF!"}}]
[{"$f":"'N2-Normal Year Values'!$B$55","v":0},{"$error":"#REF!"},{"$error":"#REF!"},{"$f":"'N2-Normal Year Values'!#REF!","v":{"$error":"#REF!"}}]
[{"$f":"'N2-Normal Year Values'!$B$56","v":0},{"$error":"#REF!"},{"$error":"#REF!"},{"$f":"'N2-Normal Year Values'!#REF!","v":{"$error":"#REF!"}}]
[{"$f":"'N2-Normal Year Values'!$B$57","v":0},{"$error":"#REF!"},{"$error":"#REF!"},{"$f":"'N2-Normal Year Values'!#REF!","v":{"$error":"#REF!"}}]
[{"$f":"'N2-Normal Year Values'!$B$58","v":0},{"$error":"#REF!"},{"$error":"#REF!"},{"$f":"'N2-Normal Year Values'!#REF!","v":{"$error":"#REF!"}}]
[{"$f":"'N2-Normal Year Values'!$B$59","v":0},{"$error":"#REF!"},{"$error":"#REF!"},{"$f":"'N2-Normal Year Values'!#REF!","v":{"$error":"#REF!"}}]
[{"$f":"'N2-Normal Year Values'!$B$60","v":0},{"$error":"#REF!"},{"$error":"#REF!"},{"$f":"'N2-Normal Year Values'!#REF!","v":{"$error":"#REF!"}}]
[{"$f":"'N2-Normal Year Values'!$B$61","v":0},{"$error":"#REF!"},{"$error":"#REF!"},{"$f":"'N2-Normal Year Values'!#REF!","v":{"$error":"#REF!"}}]
[{"$f":"'N2-Normal Year Values'!$B$62","v":0},{"$error":"#REF!"},{"$error":"#REF!"},{"$f":"'N2-Normal Year Values'!#REF!","v":{"$error":"#REF!"}}]
[{"$f":"'N2-Normal Year Values'!$B$63","v":0},{"$error":"#REF!"},{"$error":"#REF!"},{"$f":"'N2-Normal Year Values'!#REF!","v":{"$error":"#REF!"}}]
[{"$f":"'N2-Normal Year Values'!$B$64","v":0},{"$error":"#REF!"},{"$error":"#REF!"},{"$f":"'N2-Normal Year Values'!#REF!","v":{"$error":"#REF!"}}]
[{"$f":"'N2-Normal Year Values'!$B$65","v":0},{"$error":"#REF!"},{"$error":"#REF!"},{"$f":"'N2-Normal Year Values'!#REF!","v":{"$error":"#REF!"}}]
[{"$f":"'N2-Normal Year Values'!$B$66","v":0},{"$error":"#REF!"},{"$error":"#REF!"},{"$f":"'N2-Normal Year Values'!#REF!","v":{"$error":"#REF!"}}]
[{"$f":"'N2-Normal Year Values'!$B$67","v":0},{"$error":"#REF!"},{"$error":"#REF!"},{"$f":"'N2-Normal Year Values'!#REF!","v":{"$error":"#REF!"}}]
[{"$f":"'N2-Normal Year Values'!$B$68","v":0},{"$error":"#REF!"},{"$error":"#REF!"},{"$f":"'N2-Normal Year Values'!#REF!","v":{"$error":"#REF!"}}]
[{"$f":"'N2-Normal Year Values'!$B$69","v":0},{"$error":"#REF!"},{"$error":"#REF!"},{"$f":"'N2-Normal Year Values'!#REF!","v":{"$error":"#REF!"}}]
[{"$f":"'N2-Normal Year Values'!$B$70","v":0},{"$error":"#REF!"},{"$error":"#REF!"},{"$f":"'N2-Normal Year Values'!#REF!","v":{"$error":"#REF!"}}]
[{"$f":"'N2-Normal Year Values'!$B$71","v":0},{"$error":"#REF!"},{"$error":"#REF!"},{"$f":"'N2-Normal Year Values'!#REF!","v":{"$error":"#REF!"}}]
[{"$f":"'N2-Normal Year Values'!$B$72","v":0},{"$error":"#REF!"},{"$error":"#REF!"},{"$f":"'N2-Normal Year Values'!#REF!","v":{"$error":"#REF!"}}]
[{"$f":"'N2-Normal Year Values'!$B$73","v":0},{"$error":"#REF!"},{"$error":"#REF!"},{"$f":"'N2-Normal Year Values'!#REF!","v":{"$error":"#REF!"}}]
[{"$f":"'N2-Normal Year Values'!$B$74","v":0},{"$f":"1.05*$F$2-0.05*$F$4","v":{"$error":"#REF!"}},{"$f":"1.05*$F$4-0.05*$F$2","v":{"$error":"#REF!"}},{"$f":"'N2-Normal Year Values'!#REF!","v":{"$error":"#REF!"}}]
[{"$f":"'N2-Normal Year Values'!$B$75","v":0},{"$error":"#REF!"},{"$error":"#REF!"},{"$f":"'N2-Normal Year Values'!#REF!","v":{"$error":"#REF!"}}]
[{"$f":"'N2-Normal Year Values'!$B$76","v":0},{"$error":"#REF!"},{"$error":"#REF!"},{"$f":"'N2-Normal Year Values'!#REF!","v":{"$error":"#REF!"}}]
[{"$f":"'N2-Normal Year Values'!$B$77","v":0},{"$error":"#REF!"},{"$error":"#REF!"},{"$f":"'N2-Normal Year Values'!#REF!","v":{"$error":"#REF!"}}]
[{"$f":"'N2-Normal Year Values'!$B$78","v":0},{"$error":"#REF!"},{"$error":"#REF!"},{"$f":"'N2-Normal Year Values'!#REF!","v":{"$error":"#REF!"}}]
[{"$f":"'N2-Normal Year Values'!$B$79","v":0},{"$error":"#REF!"},{"$error":"#REF!"},{"$f":"'N2-Normal Year Values'!#REF!","v":{"$error":"#REF!"}}]
[{"$f":"'N2-Normal Year Values'!$B$80","v":0},{"$error":"#REF!"},{"$error":"#REF!"},{"$f":"'N2-Normal Year Values'!#REF!","v":{"$error":"#REF!"}}]
[{"$f":"'N2-Normal Year Values'!$B$81","v":0},{"$error":"#REF!"},{"$error":"#REF!"},{"$f":"'N2-Normal Year Values'!#REF!","v":{"$error":"#REF!"}}]
[{"$f":"'N2-Normal Year Values'!$B$82","v":0},{"$error":"#REF!"},{"$error":"#REF!"},{"$f":"'N2-Normal Year Values'!#REF!","v":{"$error":"#REF!"}}]
[{"$f":"'N2-Normal Year Values'!$B$83","v":0},{"$error":"#REF!"},{"$error":"#REF!"},{"$f":"'N2-Normal Year Values'!#REF!","v":{"$error":"#REF!"}}]
[{"$f":"'N2-Normal Year Values'!$B$84","v":0},{"$error":"#REF!"},{"$error":"#REF!"},{"$f":"'N2-Normal Year Values'!#REF!","v":{"$error":"#REF!"}}]
[{"$f":"'N2-Normal Year Values'!$B$85","v":0},{"$error":"#REF!"},{"$error":"#REF!"},{"$f":"'N2-Normal Year Values'!#REF!","v":{"$error":"#REF!"}}]
[{"$f":"'N2-Normal Year Values'!$B$86","v":0},{"$error":"#REF!"},{"$error":"#REF!"},{"$f":"'N2-Normal Year Values'!#REF!","v":{"$error":"#REF!"}}]
[{"$f":"'N2-Normal Year Values'!$B$87","v":0},{"$error":"#REF!"},{"$error":"#REF!"},{"$f":"'N2-Normal Year Values'!#REF!","v":{"$error":"#REF!"}}]
[{"$f":"'N2-Normal Year Values'!$B$88","v":0},{"$error":"#REF!"},{"$error":"#REF!"},{"$f":"'N2-Normal Year Values'!#REF!","v":{"$error":"#REF!"}}]
[{"$f":"'N2-Normal Year Values'!$B$89","v":0},{"$error":"#REF!"},{"$error":"#REF!"},{"$f":"'N2-Normal Year Values'!#REF!","v":{"$error":"#REF!"}}]
[{"$f":"'N2-Normal Year Values'!$B$90","v":0},{"$error":"#REF!"},{"$error":"#REF!"},{"$f":"'N2-Normal Year Values'!#REF!","v":{"$error":"#REF!"}}]
[{"$f":"'N2-Normal Year Values'!$B$91","v":0},{"$error":"#REF!"},{"$error":"#REF!"},{"$f":"'N2-Normal Year Values'!#REF!","v":{"$error":"#REF!"}}]
[{"$f":"'N2-Normal Year Values'!$B$92","v":0},{"$error":"#REF!"},{"$error":"#REF!"},{"$f":"'N2-Normal Year Values'!#REF!","v":{"$error":"#REF!"}}]
[{"$f":"'N2-Normal Year Values'!$B$93","v":0},{"$error":"#REF!"},{"$error":"#REF!"},{"$f":"'N2-Normal Year Values'!#REF!","v":{"$error":"#REF!"}}]
[{"$f":"'N2-Normal Year Values'!$B$94","v":0},{"$error":"#REF!"},{"$error":"#REF!"},{"$f":"'N2-Normal Year Values'!#REF!","v":{"$error":"#REF!"}}]
[{"$f":"'N2-Normal Year Values'!$B$95","v":0},{"$error":"#REF!"},{"$error":"#REF!"},{"$f":"'N2-Normal Year Values'!#REF!","v":{"$error":"#REF!"}}]
[{"$f":"'N2-Normal Year Values'!$B$96","v":0},{"$error":"#REF!"},{"$error":"#REF!"},{"$f":"'N2-Normal Year Values'!#REF!","v":{"$error":"#REF!"}}]
[{"$f":"'N2-Normal Year Values'!$B$97","v":0},{"$error":"#REF!"},{"$error":"#REF!"},{"$f":"'N2-Normal Year Values'!#REF!","v":{"$error":"#REF!"}}]
[{"$f":"'N2-Normal Year Values'!$B$98","v":0},{"$error":"#REF!"},{"$error":"#REF!"},{"$f":"'N2-Normal Year Values'!#REF!","v":{"$error":"#REF!"}}]
[{"$f":"'N2-Normal Year Values'!$B$99","v":0},{"$error":"#REF!"},{"$error":"#REF!"},{"$f":"'N2-Normal Year Values'!#REF!","v":{"$error":"#REF!"}}]
[{"$f":"'N2-Normal Year Values'!$B$100","v":0},{"$error":"#REF!"},{"$error":"#REF!"},{"$f":"'N2-Normal Year Values'!#REF!","v":{"$error":"#REF!"}}]
[{"$f":"'N2-Normal Year Values'!$B$101","v":0},{"$error":"#REF!"},{"$error":"#REF!"},{"$f":"'N2-Normal Year Values'!#REF!","v":{"$error":"#REF!"}}]
[{"$f":"'N2-Normal Year Values'!$B$102","v":0},{"$error":"#REF!"},{"$error":"#REF!"},{"$f":"'N2-Normal Year Values'!#REF!","v":{"$error":"#REF!"}}]
[{"$f":"'N2-Normal Year Values'!$B$103","v":0},{"$error":"#REF!"},{"$error":"#REF!"},{"$f":"'N2-Normal Year Values'!#REF!","v":{"$error":"#REF!"}}]
[{"$f":"'N2-Normal Year Values'!$B$104","v":0},{"$error":"#REF!"},{"$error":"#REF!"},{"$f":"'N2-Normal Year Values'!#REF!","v":{"$error":"#REF!"}}]
[{"$f":"'N2-Normal Year Values'!$B$105","v":0},{"$error":"#REF!"},{"$error":"#REF!"},{"$f":"'N2-Normal Year Values'!#REF!","v":{"$error":"#REF!"}}]
[{"$f":"'N2-Normal Year Values'!$B$106","v":0},{"$error":"#REF!"},{"$error":"#REF!"},{"$f":"'N2-Normal Year Values'!#REF!","v":{"$error":"#REF!"}}]
[{"$f":"'N2-Normal Year Values'!$B$107","v":0},{"$error":"#REF!"},{"$error":"#REF!"},{"$f":"'N2-Normal Year Values'!#REF!","v":{"$error":"#REF!"}}]
[{"$f":"'N2-Normal Year Values'!$B$108","v":0},{"$error":"#REF!"},{"$error":"#REF!"},{"$f":"'N2-Normal Year Values'!#REF!","v":{"$error":"#REF!"}}]
[{"$f":"'N2-Normal Year Values'!$B$109","v":0},{"$error":"#REF!"},{"$error":"#REF!"},{"$f":"'N2-Normal Year Values'!#REF!","v":{"$error":"#REF!"}}]
[{"$f":"'N2-Normal Year Values'!$B$110","v":0},{"$error":"#REF!"},{"$error":"#REF!"},{"$f":"'N2-Normal Year Values'!#REF!","v":{"$error":"#REF!"}}]
[{"$f":"'N2-Normal Year Values'!$B$111","v":0},{"$error":"#REF!"},{"$error":"#REF!"},{"$f":"'N2-Normal Year Values'!#REF!","v":{"$error":"#REF!"}}]
[{"$f":"'N2-Normal Year Values'!$B$112","v":0},{"$error":"#REF!"},{"$error":"#REF!"},{"$f":"'N2-Normal Year Values'!#REF!","v":{"$error":"#REF!"}}]
[{"$f":"'N2-Normal Year Values'!$B$113","v":0},{"$error":"#REF!"},{"$error":"#REF!"},{"$f":"'N2-Normal Year Values'!#REF!","v":{"$error":"#REF!"}}]
[{"$f":"'N2-Normal Year Values'!$B$114","v":0},{"$error":"#REF!"},{"$error":"#REF!"},{"$f":"'N2-Normal Year Values'!#REF!","v":{"$error":"#REF!"}}]
[{"$f":"'N2-Normal Year Values'!$B$115","v":0},{"$error":"#REF!"},{"$error":"#REF!"},{"$f":"'N2-Normal Year Values'!#REF!","v":{"$error":"#REF!"}}]
[{"$f":"'N2-Normal Year Values'!$B$116","v":0},{"$error":"#REF!"},{"$error":"#REF!"},{"$f":"'N2-Normal Year Values'!#REF!","v":{"$error":"#REF!"}}]
[{"$f":"'N2-Normal Year Values'!$B$117","v":0},{"$error":"#REF!"},{"$error":"#REF!"},{"$f":"'N2-Normal Year Values'!#REF!","v":{"$error":"#REF!"}}]
[{"$f":"'N2-Normal Year Values'!$B$118","v":0},{"$error":"#REF!"},{"$error":"#REF!"},{"$f":"'N2-Normal Year Values'!#REF!","v":{"$error":"#REF!"}}]
[{"$f":"'N2-Normal Year Values'!$B$119","v":0},{"$error":"#REF!"},{"$error":"#REF!"},{"$f":"'N2-Normal Year Values'!#REF!","v":{"$error":"#REF!"}}]
[{"$f":"'N2-Normal Year Values'!$B$120","v":0},{"$error":"#REF!"},{"$error":"#REF!"},{"$f":"'N2-Normal Year Values'!#REF!","v":{"$error":"#REF!"}}]
[{"$f":"'N2-Normal Year Values'!$B$121","v":0},{"$error":"#REF!"},{"$error":"#REF!"},{"$f":"'N2-Normal Year Values'!#REF!","v":{"$error":"#REF!"}}]
[{"$f":"'N2-Normal Year Values'!$B$122","v":0},{"$error":"#REF!"},{"$error":"#REF!"},{"$f":"'N2-Normal Year Values'!#REF!","v":{"$error":"#REF!"}}]
[{"$f":"'N2-Normal Year Values'!$B$123","v":0},{"$error":"#REF!"},{"$error":"#REF!"},{"$f":"'N2-Normal Year Values'!#REF!","v":{"$error":"#REF!"}}]
[{"$f":"'N2-Normal Year Values'!$B$124","v":0},{"$error":"#REF!"},{"$error":"#REF!"},{"$f":"'N2-Normal Year Values'!#REF!","v":{"$error":"#REF!"}}]
[{"$f":"'N2-Normal Year Values'!$B$125","v":0},{"$error":"#REF!"},{"$error":"#REF!"},{"$f":"'N2-Normal Year Values'!#REF!","v":{"$error":"#REF!"}}]
[{"$f":"'N2-Normal Year Values'!$B$126","v":0},{"$error":"#REF!"},{"$error":"#REF!"},{"$f":"'N2-Normal Year Values'!#REF!","v":{"$error":"#REF!"}}]
[{"$f":"'N2-Normal Year Values'!$B$127","v":0},{"$error":"#REF!"},{"$error":"#REF!"},{"$f":"'N2-Normal Year Values'!#REF!","v":{"$error":"#REF!"}}]
[{"$f":"'N2-Normal Year Values'!$B$128","v":0},{"$error":"#REF!"},{"$error":"#REF!"},{"$f":"'N2-Normal Year Values'!#REF!","v":{"$error":"#REF!"}}]
[{"$f":"'N2-Normal Year Values'!$B$129","v":0},{"$error":"#REF!"},{"$error":"#REF!"},{"$f":"'N2-Normal Year Values'!#REF!","v":{"$error":"#REF!"}}]
[{"$f":"'N2-Normal Year Values'!$B$130","v":0},{"$error":"#REF!"},{"$error":"#REF!"},{"$f":"'N2-Normal Year Values'!#REF!","v":{"$error":"#REF!"}}]
[{"$f":"'N2-Normal Year Values'!$B$131","v":0},{"$error":"#REF!"},{"$error":"#REF!"},{"$f":"'N2-Normal Year Values'!#REF!","v":{"$error":"#REF!"}}]
[{"$f":"'N2-Normal Year Values'!$B$132","v":0},{"$error":"#REF!"},{"$error":"#REF!"},{"$f":"'N2-Normal Year Values'!#REF!","v":{"$error":"#REF!"}}]
[{"$f":"'N2-Normal Year Values'!$B$133","v":0},{"$error":"#REF!"},{"$error":"#REF!"},{"$f":"'N2-Normal Year Values'!#REF!","v":{"$error":"#REF!"}}]
[{"$f":"'N2-Normal Year Values'!$B$134","v":0},{"$error":"#REF!"},{"$error":"#REF!"},{"$f":"'N2-Normal Year Values'!#REF!","v":{"$error":"#REF!"}}]
[{"$f":"'N2-Normal Year Values'!$B$135","v":0},{"$error":"#REF!"},{"$error":"#REF!"},{"$f":"'N2-Normal Year Values'!#REF!","v":{"$error":"#REF!"}}]
[{"$f":"'N2-Normal Year Values'!$B$136","v":0},{"$error":"#REF!"},{"$error":"#REF!"},{"$f":"'N2-Normal Year Values'!#REF!","v":{"$error":"#REF!"}}]
[{"$f":"'N2-Normal Year Values'!$B$137","v":0},{"$error":"#REF!"},{"$error":"#REF!"},{"$f":"'N2-Normal Year Values'!#REF!","v":{"$error":"#REF!"}}]
[{"$f":"'N2-Normal Year Values'!$B$138","v":0},{"$f":"1.05*$F$2-0.05*$F$4","v":{"$error":"#REF!"}},{"$f":"1.05*$F$4-0.05*$F$2","v":{"$error":"#REF!"}},{"$f":"'N2-Normal Year Values'!#REF!","v":{"$error":"#REF!"}}]
[{"$f":"'N2-Normal Year Values'!$B$139","v":0},{"$error":"#REF!"},{"$error":"#REF!"},{"$f":"'N2-Normal Year Values'!#REF!","v":{"$error":"#REF!"}}]
[{"$f":"'N2-Normal Year Values'!$B$140","v":0},{"$error":"#REF!"},{"$error":"#REF!"},{"$f":"'N2-Normal Year Values'!#REF!","v":{"$error":"#REF!"}}]
[{"$f":"'N2-Normal Year Values'!$B$141","v":0},{"$error":"#REF!"},{"$error":"#REF!"},{"$f":"'N2-Normal Year Values'!#REF!","v":{"$error":"#REF!"}}]
[{"$f":"'N2-Normal Year Values'!$B$142","v":0},{"$error":"#REF!"},{"$error":"#REF!"},{"$f":"'N2-Normal Year Values'!#REF!","v":{"$error":"#REF!"}}]
[{"$f":"'N2-Normal Year Values'!$B$143","v":0},{"$error":"#REF!"},{"$error":"#REF!"},{"$f":"'N2-Normal Year Values'!#REF!","v":{"$error":"#REF!"}}]
[{"$f":"'N2-Normal Year Values'!$B$144","v":0},{"$error":"#REF!"},{"$error":"#REF!"},{"$f":"'N2-Normal Year Values'!#REF!","v":{"$error":"#REF!"}}]
[{"$f":"'N2-Normal Year Values'!$B$145","v":0},{"$error":"#REF!"},{"$error":"#REF!"},{"$f":"'N2-Normal Year Values'!#REF!","v":{"$error":"#REF!"}}]
[{"$f":"'N2-Normal Year Values'!$B$146","v":0},{"$error":"#REF!"},{"$error":"#REF!"},{"$f":"'N2-Normal Year Values'!#REF!","v":{"$error":"#REF!"}}]
[{"$f":"'N2-Normal Year Values'!$B$147","v":0},{"$error":"#REF!"},{"$error":"#REF!"},{"$f":"'N2-Normal Year Values'!#REF!","v":{"$error":"#REF!"}}]
[{"$f":"'N2-Normal Year Values'!$B$148","v":0},{"$error":"#REF!"},{"$error":"#REF!"},{"$f":"'N2-Normal Year Values'!#REF!","v":{"$error":"#REF!"}}]
[{"$f":"'N2-Normal Year Values'!$B$149","v":0},{"$error":"#REF!"},{"$error":"#REF!"},{"$f":"'N2-Normal Year Values'!#REF!","v":{"$error":"#REF!"}}]
[{"$f":"'N2-Normal Year Values'!$B$150","v":0},{"$error":"#REF!"},{"$error":"#REF!"},{"$f":"'N2-Normal Year Values'!#REF!","v":{"$error":"#REF!"}}]
[{"$f":"'N2-Normal Year Values'!$B$151","v":0},{"$error":"#REF!"},{"$error":"#REF!"},{"$f":"'N2-Normal Year Values'!#REF!","v":{"$error":"#REF!"}}]
[{"$f":"'N2-Normal Year Values'!$B$152","v":0},{"$error":"#REF!"},{"$error":"#REF!"},{"$f":"'N2-Normal Year Values'!#REF!","v":{"$error":"#REF!"}}]
[{"$f":"'N2-Normal Year Values'!$B$153","v":0},{"$error":"#REF!"},{"$error":"#REF!"},{"$f":"'N2-Normal Year Values'!#REF!","v":{"$error":"#REF!"}}]
[{"$f":"'N2-Normal Year Values'!$B$154","v":0},{"$error":"#REF!"},{"$error":"#REF!"},{"$f":"'N2-Normal Year Values'!#REF!","v":{"$error":"#REF!"}}]
[{"$f":"'N2-Normal Year Values'!$B$155","v":0},{"$error":"#REF!"},{"$error":"#REF!"},{"$f":"'N2-Normal Year Values'!#REF!","v":{"$error":"#REF!"}}]
[{"$f":"'N2-Normal Year Values'!$B$156","v":0},{"$error":"#REF!"},{"$error":"#REF!"},{"$f":"'N2-Normal Year Values'!#REF!","v":{"$error":"#REF!"}}]
[{"$f":"'N2-Normal Year Values'!$B$157","v":0},{"$error":"#REF!"},{"$error":"#REF!"},{"$f":"'N2-Normal Year Values'!#REF!","v":{"$error":"#REF!"}}]
[{"$f":"'N2-Normal Year Values'!$B$158","v":0},{"$error":"#REF!"},{"$error":"#REF!"},{"$f":"'N2-Normal Year Values'!#REF!","v":{"$error":"#REF!"}}]
[{"$f":"'N2-Normal Year Values'!$B$159","v":0},{"$error":"#REF!"},{"$error":"#REF!"},{"$f":"'N2-Normal Year Values'!#REF!","v":{"$error":"#REF!"}}]
[{"$f":"'N2-Normal Year Values'!$B$160","v":0},{"$error":"#REF!"},{"$error":"#REF!"},{"$f":"'N2-Normal Year Values'!#REF!","v":{"$error":"#REF!"}}]
[{"$f":"'N2-Normal Year Values'!$B$161","v":0},{"$error":"#REF!"},{"$error":"#REF!"},{"$f":"'N2-Normal Year Values'!#REF!","v":{"$error":"#REF!"}}]
[{"$f":"'N2-Normal Year Values'!$B$162","v":0},{"$error":"#REF!"},{"$error":"#REF!"},{"$f":"'N2-Normal Year Values'!#REF!","v":{"$error":"#REF!"}}]
[{"$f":"'N2-Normal Year Values'!$B$163","v":0},{"$error":"#REF!"},{"$error":"#REF!"},{"$f":"'N2-Normal Year Values'!#REF!","v":{"$error":"#REF!"}}]
[{"$f":"'N2-Normal Year Values'!$B$164","v":0},{"$error":"#REF!"},{"$error":"#REF!"},{"$f":"'N2-Normal Year Values'!#REF!","v":{"$error":"#REF!"}}]
[{"$f":"'N2-Normal Year Values'!$B$165","v":0},{"$error":"#REF!"},{"$error":"#REF!"},{"$f":"'N2-Normal Year Values'!#REF!","v":{"$error":"#REF!"}}]
[{"$f":"'N2-Normal Year Values'!$B$166","v":0},{"$error":"#REF!"},{"$error":"#REF!"},{"$f":"'N2-Normal Year Values'!#REF!","v":{"$error":"#REF!"}}]
[{"$f":"'N2-Normal Year Values'!$B$167","v":0},{"$error":"#REF!"},{"$error":"#REF!"},{"$f":"'N2-Normal Year Values'!#REF!","v":{"$error":"#REF!"}}]
[{"$f":"'N2-Normal Year Values'!$B$168","v":0},{"$error":"#REF!"},{"$error":"#REF!"},{"$f":"'N2-Normal Year Values'!#REF!","v":{"$error":"#REF!"}}]
[{"$f":"'N2-Normal Year Values'!$B$169","v":0},{"$error":"#REF!"},{"$error":"#REF!"},{"$f":"'N2-Normal Year Values'!#REF!","v":{"$error":"#REF!"}}]
[{"$f":"'N2-Normal Year Values'!$B$170","v":0},{"$error":"#REF!"},{"$error":"#REF!"},{"$f":"'N2-Normal Year Values'!#REF!","v":{"$error":"#REF!"}}]
[{"$f":"'N2-Normal Year Values'!$B$171","v":0},{"$error":"#REF!"},{"$error":"#REF!"},{"$f":"'N2-Normal Year Values'!#REF!","v":{"$error":"#REF!"}}]
[{"$f":"'N2-Normal Year Values'!$B$172","v":0},{"$error":"#REF!"},{"$error":"#REF!"},{"$f":"'N2-Normal Year Values'!#REF!","v":{"$error":"#REF!"}}]
[{"$f":"'N2-Normal Year Values'!$B$173","v":0},{"$error":"#REF!"},{"$error":"#REF!"},{"$f":"'N2-Normal Year Values'!#REF!","v":{"$error":"#REF!"}}]
[{"$f":"'N2-Normal Year Values'!$B$174","v":0},{"$error":"#REF!"},{"$error":"#REF!"},{"$f":"'N2-Normal Year Values'!#REF!","v":{"$error":"#REF!"}}]
[{"$f":"'N2-Normal Year Values'!$B$175","v":0},{"$error":"#REF!"},{"$error":"#REF!"},{"$f":"'N2-Normal Year Values'!#REF!","v":{"$error":"#REF!"}}]
[{"$f":"'N2-Normal Year Values'!$B$176","v":0},{"$error":"#REF!"},{"$error":"#REF!"},{"$f":"'N2-Normal Year Values'!#REF!","v":{"$error":"#REF!"}}]
[{"$f":"'N2-Normal Year Values'!$B$177","v":0},{"$error":"#REF!"},{"$error":"#REF!"},{"$f":"'N2-Normal Year Values'!#REF!","v":{"$error":"#REF!"}}]
[{"$f":"'N2-Normal Year Values'!$B$178","v":0},{"$error":"#REF!"},{"$error":"#REF!"},{"$f":"'N2-Normal Year Values'!#REF!","v":{"$error":"#REF!"}}]
[{"$f":"'N2-Normal Year Values'!$B$179","v":0},{"$error":"#REF!"},{"$error":"#REF!"},{"$f":"'N2-Normal Year Values'!#REF!","v":{"$error":"#REF!"}}]
[{"$f":"'N2-Normal Year Values'!$B$180","v":0},{"$error":"#REF!"},{"$error":"#REF!"},{"$f":"'N2-Normal Year Values'!#REF!","v":{"$error":"#REF!"}}]
[{"$f":"'N2-Normal Year Values'!$B$181","v":0},{"$error":"#REF!"},{"$error":"#REF!"},{"$f":"'N2-Normal Year Values'!#REF!","v":{"$error":"#REF!"}}]
[{"$f":"'N2-Normal Year Values'!$B$182","v":0},{"$error":"#REF!"},{"$error":"#REF!"},{"$f":"'N2-Normal Year Values'!#REF!","v":{"$error":"#REF!"}}]
[{"$f":"'N2-Normal Year Values'!$B$183","v":0},{"$error":"#REF!"},{"$error":"#REF!"},{"$f":"'N2-Normal Year Values'!#REF!","v":{"$error":"#REF!"}}]
[{"$f":"'N2-Normal Year Values'!$B$184","v":0},{"$error":"#REF!"},{"$error":"#REF!"},{"$f":"'N2-Normal Year Values'!#REF!","v":{"$error":"#REF!"}}]
[{"$f":"'N2-Normal Year Values'!$B$185","v":0},{"$error":"#REF!"},{"$error":"#REF!"},{"$f":"'N2-Normal Year Values'!#REF!","v":{"$error":"#REF!"}}]
[{"$f":"'N2-Normal Year Values'!$B$186","v":0},{"$error":"#REF!"},{"$error":"#REF!"},{"$f":"'N2-Normal Year Values'!#REF!","v":{"$error":"#REF!"}}]
[{"$f":"'N2-Normal Year Values'!$B$187","v":0},{"$error":"#REF!"},{"$error":"#REF!"},{"$f":"'N2-Normal Year Values'!#REF!","v":{"$error":"#REF!"}}]
[{"$f":"'N2-Normal Year Values'!$B$188","v":0},{"$error":"#REF!"},{"$error":"#REF!"},{"$f":"'N2-Normal Year Values'!#REF!","v":{"$error":"#REF!"}}]
[{"$f":"'N2-Normal Year Values'!$B$189","v":0},{"$error":"#REF!"},{"$error":"#REF!"},{"$f":"'N2-Normal Year Values'!#REF!","v":{"$error":"#REF!"}}]
[{"$f":"'N2-Normal Year Values'!$B$190","v":0},{"$error":"#REF!"},{"$error":"#REF!"},{"$f":"'N2-Normal Year Values'!#REF!","v":{"$error":"#REF!"}}]
[{"$f":"'N2-Normal Year Values'!$B$191","v":0},{"$error":"#REF!"},{"$error":"#REF!"},{"$f":"'N2-Normal Year Values'!#REF!","v":{"$error":"#REF!"}}]
[{"$f":"'N2-Normal Year Values'!$B$192","v":0},{"$error":"#REF!"},{"$error":"#REF!"},{"$f":"'N2-Normal Year Values'!#REF!","v":{"$error":"#REF!"}}]
[{"$f":"'N2-Normal Year Values'!$B$193","v":0},{"$error":"#REF!"},{"$error":"#REF!"},{"$f":"'N2-Normal Year Values'!#REF!","v":{"$error":"#REF!"}}]
[{"$f":"'N2-Normal Year Values'!$B$194","v":0},{"$error":"#REF!"},{"$error":"#REF!"},{"$f":"'N2-Normal Year Values'!#REF!","v":{"$error":"#REF!"}}]
[{"$f":"'N2-Normal Year Values'!$B$195","v":0},{"$error":"#REF!"},{"$error":"#REF!"},{"$f":"'N2-Normal Year Values'!#REF!","v":{"$error":"#REF!"}}]
[{"$f":"'N2-Normal Year Values'!$B$196","v":0},{"$error":"#REF!"},{"$error":"#REF!"},{"$f":"'N2-Normal Year Values'!#REF!","v":{"$error":"#REF!"}}]
[{"$f":"'N2-Normal Year Values'!$B$197","v":0},{"$error":"#REF!"},{"$error":"#REF!"},{"$f":"'N2-Normal Year Values'!#REF!","v":{"$error":"#REF!"}}]
[{"$f":"'N2-Normal Year Values'!$B$198","v":0},{"$error":"#REF!"},{"$error":"#REF!"},{"$f":"'N2-Normal Year Values'!#REF!","v":{"$error":"#REF!"}}]
[{"$f":"'N2-Normal Year Values'!$B$199","v":0},{"$error":"#REF!"},{"$error":"#REF!"},{"$f":"'N2-Normal Year Values'!#REF!","v":{"$error":"#REF!"}}]
[{"$f":"'N2-Normal Year Values'!$B$200","v":0},{"$error":"#REF!"},{"$error":"#REF!"},{"$f":"'N2-Normal Year Values'!#REF!","v":{"$error":"#REF!"}}]
[{"$f":"'N2-Normal Year Values'!$B$201","v":0},{"$error":"#REF!"},{"$error":"#REF!"},{"$f":"'N2-Normal Year Values'!#REF!","v":{"$error":"#REF!"}}]
[{"$f":"'N2-Normal Year Values'!$B$202","v":0},{"$f":"1.05*$F$2-0.05*$F$4","v":{"$error":"#REF!"}},{"$f":"1.05*$F$4-0.05*$F$2","v":{"$error":"#REF!"}},{"$f":"'N2-Normal Year Values'!#REF!","v":{"$error":"#REF!"}}]
[{"$f":"'N2-Normal Year Values'!$B$203","v":0},{"$error":"#REF!"},{"$error":"#REF!"},{"$f":"'N2-Normal Year Values'!#REF!","v":{"$error":"#REF!"}}]
[{"$f":"'N2-Normal Year Values'!$B$204","v":0},{"$error":"#REF!"},{"$error":"#REF!"},{"$f":"'N2-Normal Year Values'!#REF!","v":{"$error":"#REF!"}}]
[{"$f":"'N2-Normal Year Values'!$B$205","v":0},{"$error":"#REF!"},{"$error":"#REF!"},{"$f":"'N2-Normal Year Values'!#REF!","v":{"$error":"#REF!"}}]
[{"$f":"'N2-Normal Year Values'!$B$206","v":0},{"$error":"#REF!"},{"$error":"#REF!"},{"$f":"'N2-Normal Year Values'!#REF!","v":{"$error":"#REF!"}}]
[{"$f":"'N2-Normal Year Values'!$B$207","v":0},{"$error":"#REF!"},{"$error":"#REF!"},{"$f":"'N2-Normal Year Values'!#REF!","v":{"$error":"#REF!"}}]
[{"$f":"'N2-Normal Year Values'!$B$208","v":0},{"$error":"#REF!"},{"$error":"#REF!"},{"$f":"'N2-Normal Year Values'!#REF!","v":{"$error":"#REF!"}}]
[{"$f":"'N2-Normal Year Values'!$B$209","v":0},{"$error":"#REF!"},{"$error":"#REF!"},{"$f":"'N2-Normal Year Values'!#REF!","v":{"$error":"#REF!"}}]
[{"$f":"'N2-Normal Year Values'!$B$210","v":0},{"$error":"#REF!"},{"$error":"#REF!"},{"$f":"'N2-Normal Year Values'!#REF!","v":{"$error":"#REF!"}}]
[{"$f":"'N2-Normal Year Values'!$B$211","v":0},{"$error":"#REF!"},{"$error":"#REF!"},{"$f":"'N2-Normal Year Values'!#REF!","v":{"$error":"#REF!"}}]
[{"$f":"'N2-Normal Year Values'!$B$212","v":0},{"$error":"#REF!"},{"$error":"#REF!"},{"$f":"'N2-Normal Year Values'!#REF!","v":{"$error":"#REF!"}}]
[{"$f":"'N2-Normal Year Values'!$B$213","v":0},{"$error":"#REF!"},{"$error":"#REF!"},{"$f":"'N2-Normal Year Values'!#REF!","v":{"$error":"#REF!"}}]
[{"$f":"'N2-Normal Year Values'!$B$214","v":0},{"$error":"#REF!"},{"$error":"#REF!"},{"$f":"'N2-Normal Year Values'!#REF!","v":{"$error":"#REF!"}}]
[{"$f":"'N2-Normal Year Values'!$B$215","v":0},{"$error":"#REF!"},{"$error":"#REF!"},{"$f":"'N2-Normal Year Values'!#REF!","v":{"$error":"#REF!"}}]
[{"$f":"'N2-Normal Year Values'!$B$216","v":0},{"$error":"#REF!"},{"$error":"#REF!"},{"$f":"'N2-Normal Year Values'!#REF!","v":{"$error":"#REF!"}}]
[{"$f":"'N2-Normal Year Values'!$B$217","v":0},{"$error":"#REF!"},{"$error":"#REF!"},{"$f":"'N2-Normal Year Values'!#REF!","v":{"$error":"#REF!"}}]
[{"$f":"'N2-Normal Year Values'!$B$218","v":0},{"$error":"#REF!"},{"$error":"#REF!"},{"$f":"'N2-Normal Year Values'!#REF!","v":{"$error":"#REF!"}}]
[{"$f":"'N2-Normal Year Values'!$B$219","v":0},{"$error":"#REF!"},{"$error":"#REF!"},{"$f":"'N2-Normal Year Values'!#REF!","v":{"$error":"#REF!"}}]
[{"$f":"'N2-Normal Year Values'!$B$220","v":0},{"$error":"#REF!"},{"$error":"#REF!"},{"$f":"'N2-Normal Year Values'!#REF!","v":{"$error":"#REF!"}}]
[{"$f":"'N2-Normal Year Values'!$B$221","v":0},{"$error":"#REF!"},{"$error":"#REF!"},{"$f":"'N2-Normal Year Values'!#REF!","v":{"$error":"#REF!"}}]
[{"$f":"'N2-Normal Year Values'!$B$222","v":0},{"$error":"#REF!"},{"$error":"#REF!"},{"$f":"'N2-Normal Year Values'!#REF!","v":{"$error":"#REF!"}}]
[{"$f":"'N2-Normal Year Values'!$B$223","v":0},{"$error":"#REF!"},{"$error":"#REF!"},{"$f":"'N2-Normal Year Values'!#REF!","v":{"$error":"#REF!"}}]
[{"$f":"'N2-Normal Year Values'!$B$224","v":0},{"$error":"#REF!"},{"$error":"#REF!"},{"$f":"'N2-Normal Year Values'!#REF!","v":{"$error":"#REF!"}}]
[{"$f":"'N2-Normal Year Values'!$B$225","v":0},{"$error":"#REF!"},{"$error":"#REF!"},{"$f":"'N2-Normal Year Values'!#REF!","v":{"$error":"#REF!"}}]
[{"$f":"'N2-Normal Year Values'!$B$226","v":0},{"$error":"#REF!"},{"$error":"#REF!"},{"$f":"'N2-Normal Year Values'!#REF!","v":{"$error":"#REF!"}}]
[{"$f":"'N2-Normal Year Values'!$B$227","v":0},{"$error":"#REF!"},{"$error":"#REF!"},{"$f":"'N2-Normal Year Values'!#REF!","v":{"$error":"#REF!"}}]
[{"$f":"'N2-Normal Year Values'!$B$228","v":0},{"$error":"#REF!"},{"$error":"#REF!"},{"$f":"'N2-Normal Year Values'!#REF!","v":{"$error":"#REF!"}}]
[{"$f":"'N2-Normal Year Values'!$B$229","v":0},{"$error":"#REF!"},{"$error":"#REF!"},{"$f":"'N2-Normal Year Values'!#REF!","v":{"$error":"#REF!"}}]
[{"$f":"'N2-Normal Year Values'!$B$230","v":0},{"$error":"#REF!"},{"$error":"#REF!"},{"$f":"'N2-Normal Year Values'!#REF!","v":{"$error":"#REF!"}}]
[{"$f":"'N2-Normal Year Values'!$B$231","v":0},{"$error":"#REF!"},{"$error":"#REF!"},{"$f":"'N2-Normal Year Values'!#REF!","v":{"$error":"#REF!"}}]
[{"$f":"'N2-Normal Year Values'!$B$232","v":0},{"$error":"#REF!"},{"$error":"#REF!"},{"$f":"'N2-Normal Year Values'!#REF!","v":{"$error":"#REF!"}}]
[{"$f":"'N2-Normal Year Values'!$B$233","v":0},{"$error":"#REF!"},{"$error":"#REF!"},{"$f":"'N2-Normal Year Values'!#REF!","v":{"$error":"#REF!"}}]
[{"$f":"'N2-Normal Year Values'!$B$234","v":0},{"$error":"#REF!"},{"$error":"#REF!"},{"$f":"'N2-Normal Year Values'!#REF!","v":{"$error":"#REF!"}}]
[{"$f":"'N2-Normal Year Values'!$B$235","v":0},{"$error":"#REF!"},{"$error":"#REF!"},{"$f":"'N2-Normal Year Values'!#REF!","v":{"$error":"#REF!"}}]
[{"$f":"'N2-Normal Year Values'!$B$236","v":0},{"$error":"#REF!"},{"$error":"#REF!"},{"$f":"'N2-Normal Year Values'!#REF!","v":{"$error":"#REF!"}}]
[{"$f":"'N2-Normal Year Values'!$B$237","v":0},{"$error":"#REF!"},{"$error":"#REF!"},{"$f":"'N2-Normal Year Values'!#REF!","v":{"$error":"#REF!"}}]
[{"$f":"'N2-Normal Year Values'!$B$238","v":0},{"$error":"#REF!"},{"$error":"#REF!"},{"$f":"'N2-Normal Year Values'!#REF!","v":{"$error":"#REF!"}}]
[{"$f":"'N2-Normal Year Values'!$B$239","v":0},{"$error":"#REF!"},{"$error":"#REF!"},{"$f":"'N2-Normal Year Values'!#REF!","v":{"$error":"#REF!"}}]
[{"$f":"'N2-Normal Year Values'!$B$240","v":0},{"$error":"#REF!"},{"$error":"#REF!"},{"$f":"'N2-Normal Year Values'!#REF!","v":{"$error":"#REF!"}}]
[{"$f":"'N2-Normal Year Values'!$B$241","v":0},{"$error":"#REF!"},{"$error":"#REF!"},{"$f":"'N2-Normal Year Values'!#REF!","v":{"$error":"#REF!"}}]
[{"$f":"'N2-Normal Year Values'!$B$242","v":0},{"$error":"#REF!"},{"$error":"#REF!"},{"$f":"'N2-Normal Year Values'!#REF!","v":{"$error":"#REF!"}}]
[{"$f":"'N2-Normal Year Values'!$B$243","v":0},{"$error":"#REF!"},{"$error":"#REF!"},{"$f":"'N2-Normal Year Values'!#REF!","v":{"$error":"#REF!"}}]
[{"$f":"'N2-Normal Year Values'!$B$244","v":0},{"$error":"#REF!"},{"$error":"#REF!"},{"$f":"'N2-Normal Year Values'!#REF!","v":{"$error":"#REF!"}}]
[{"$f":"'N2-Normal Year Values'!$B$245","v":0},{"$error":"#REF!"},{"$error":"#REF!"},{"$f":"'N2-Normal Year Values'!#REF!","v":{"$error":"#REF!"}}]
[{"$f":"'N2-Normal Year Values'!$B$246","v":0},{"$error":"#REF!"},{"$error":"#REF!"},{"$f":"'N2-Normal Year Values'!#REF!","v":{"$error":"#REF!"}}]
[{"$f":"'N2-Normal Year Values'!$B$247","v":0},{"$error":"#REF!"},{"$error":"#REF!"},{"$f":"'N2-Normal Year Values'!#REF!","v":{"$error":"#REF!"}}]
[{"$f":"'N2-Normal Year Values'!$B$248","v":0},{"$error":"#REF!"},{"$error":"#REF!"},{"$f":"'N2-Normal Year Values'!#REF!","v":{"$error":"#REF!"}}]
[{"$f":"'N2-Normal Year Values'!$B$249","v":0},{"$error":"#REF!"},{"$error":"#REF!"},{"$f":"'N2-Normal Year Values'!#REF!","v":{"$error":"#REF!"}}]
[{"$f":"'N2-Normal Year Values'!$B$250","v":0},{"$error":"#REF!"},{"$error":"#REF!"},{"$f":"'N2-Normal Year Values'!#REF!","v":{"$error":"#REF!"}}]
[{"$f":"'N2-Normal Year Values'!$B$251","v":0},{"$error":"#REF!"},{"$error":"#REF!"},{"$f":"'N2-Normal Year Values'!#REF!","v":{"$error":"#REF!"}}]
[{"$f":"'N2-Normal Year Values'!$B$252","v":0},{"$error":"#REF!"},{"$error":"#REF!"},{"$f":"'N2-Normal Year Values'!#REF!","v":{"$error":"#REF!"}}]
[{"$f":"'N2-Normal Year Values'!$B$253","v":0},{"$error":"#REF!"},{"$error":"#REF!"},{"$f":"'N2-Normal Year Values'!#REF!","v":{"$error":"#REF!"}}]
[{"$f":"'N2-Normal Year Values'!$B$254","v":0},{"$error":"#REF!"},{"$error":"#REF!"},{"$f":"'N2-Normal Year Values'!#REF!","v":{"$error":"#REF!"}}]
[{"$f":"'N2-Normal Year Values'!$B$255","v":0},{"$error":"#REF!"},{"$error":"#REF!"},{"$f":"'N2-Normal Year Values'!#REF!","v":{"$error":"#REF!"}}]
[{"$f":"'N2-Normal Year Values'!$B$256","v":0},{"$error":"#REF!"},{"$error":"#REF!"},{"$f":"'N2-Normal Year Values'!#REF!","v":{"$error":"#REF!"}}]
[{"$f":"'N2-Normal Year Values'!$B$257","v":0},{"$error":"#REF!"},{"$error":"#REF!"},{"$f":"'N2-Normal Year Values'!#REF!","v":{"$error":"#REF!"}}]
[{"$f":"'N2-Normal Year Values'!$B$258","v":0},{"$error":"#REF!"},{"$error":"#REF!"},{"$f":"'N2-Normal Year Values'!#REF!","v":{"$error":"#REF!"}}]
[{"$f":"'N2-Normal Year Values'!$B$259","v":0},{"$error":"#REF!"},{"$error":"#REF!"},{"$f":"'N2-Normal Year Values'!#REF!","v":{"$error":"#REF!"}}]
[{"$f":"'N2-Normal Year Values'!$B$260","v":0},{"$error":"#REF!"},{"$error":"#REF!"},{"$f":"'N2-Normal Year Values'!#REF!","v":{"$error":"#REF!"}}]
[{"$f":"'N2-Normal Year Values'!$B$261","v":0},{"$error":"#REF!"},{"$error":"#REF!"},{"$f":"'N2-Normal Year Values'!#REF!","v":{"$error":"#REF!"}}]
[{"$f":"'N2-Normal Year Values'!$B$262","v":0},{"$error":"#REF!"},{"$error":"#REF!"},{"$f":"'N2-Normal Year Values'!#REF!","v":{"$error":"#REF!"}}]
[{"$f":"'N2-Normal Year Values'!$B$263","v":0},{"$error":"#REF!"},{"$error":"#REF!"},{"$f":"'N2-Normal Year Values'!#REF!","v":{"$error":"#REF!"}}]
[{"$f":"'N2-Normal Year Values'!$B$264","v":0},{"$error":"#REF!"},{"$error":"#REF!"},{"$f":"'N2-Normal Year Values'!#REF!","v":{"$error":"#REF!"}}]
[{"$f":"'N2-Normal Year Values'!$B$265","v":0},{"$error":"#REF!"},{"$error":"#REF!"},{"$f":"'N2-Normal Year Values'!#REF!","v":{"$error":"#REF!"}}]
[{"$f":"'N2-Normal Year Values'!$B$266","v":0},{"$f":"1.05*$F$2-0.05*$F$4","v":{"$error":"#REF!"}},{"$f":"1.05*$F$4-0.05*$F$2","v":{"$error":"#REF!"}},{"$f":"'N2-Normal Year Values'!#REF!","v":{"$error":"#REF!"}}]
[{"$f":"'N2-Normal Year Values'!$B$267","v":0},{"$error":"#REF!"},{"$error":"#REF!"},{"$f":"'N2-Normal Year Values'!#REF!","v":{"$error":"#REF!"}}]
[{"$f":"'N2-Normal Year Values'!$B$268","v":0},{"$error":"#REF!"},{"$error":"#REF!"},{"$f":"'N2-Normal Year Values'!#REF!","v":{"$error":"#REF!"}}]
[{"$f":"'N2-Normal Year Values'!$B$269","v":0},{"$error":"#REF!"},{"$error":"#REF!"},{"$f":"'N2-Normal Year Values'!#REF!","v":{"$error":"#REF!"}}]
[{"$f":"'N2-Normal Year Values'!$B$270","v":0},{"$error":"#REF!"},{"$error":"#REF!"},{"$f":"'N2-Normal Year Values'!#REF!","v":{"$error":"#REF!"}}]
[{"$f":"'N2-Normal Year Values'!$B$271","v":0},{"$error":"#REF!"},{"$error":"#REF!"},{"$f":"'N2-Normal Year Values'!#REF!","v":{"$error":"#REF!"}}]
[{"$f":"'N2-Normal Year Values'!$B$272","v":0},{"$error":"#REF!"},{"$error":"#REF!"},{"$f":"'N2-Normal Year Values'!#REF!","v":{"$error":"#REF!"}}]
[{"$f":"'N2-Normal Year Values'!$B$273","v":0},{"$error":"#REF!"},{"$error":"#REF!"},{"$f":"'N2-Normal Year Values'!#REF!","v":{"$error":"#REF!"}}]
[{"$f":"'N2-Normal Year Values'!$B$274","v":0},{"$error":"#REF!"},{"$error":"#REF!"},{"$f":"'N2-Normal Year Values'!#REF!","v":{"$error":"#REF!"}}]
[{"$f":"'N2-Normal Year Values'!$B$275","v":0},{"$error":"#REF!"},{"$error":"#REF!"},{"$f":"'N2-Normal Year Values'!#REF!","v":{"$error":"#REF!"}}]
[{"$f":"'N2-Normal Year Values'!$B$276","v":0},{"$error":"#REF!"},{"$error":"#REF!"},{"$f":"'N2-Normal Year Values'!#REF!","v":{"$error":"#REF!"}}]
[{"$f":"'N2-Normal Year Values'!$B$277","v":0},{"$error":"#REF!"},{"$error":"#REF!"},{"$f":"'N2-Normal Year Values'!#REF!","v":{"$error":"#REF!"}}]
[{"$f":"'N2-Normal Year Values'!$B$278","v":0},{"$error":"#REF!"},{"$error":"#REF!"},{"$f":"'N2-Normal Year Values'!#REF!","v":{"$error":"#REF!"}}]
[{"$f":"'N2-Normal Year Values'!$B$279","v":0},{"$error":"#REF!"},{"$error":"#REF!"},{"$f":"'N2-Normal Year Values'!#REF!","v":{"$error":"#REF!"}}]
[{"$f":"'N2-Normal Year Values'!$B$280","v":0},{"$error":"#REF!"},{"$error":"#REF!"},{"$f":"'N2-Normal Year Values'!#REF!","v":{"$error":"#REF!"}}]
[{"$f":"'N2-Normal Year Values'!$B$281","v":0},{"$error":"#REF!"},{"$error":"#REF!"},{"$f":"'N2-Normal Year Values'!#REF!","v":{"$error":"#REF!"}}]
[{"$f":"'N2-Normal Year Values'!$B$282","v":0},{"$error":"#REF!"},{"$error":"#REF!"},{"$f":"'N2-Normal Year Values'!#REF!","v":{"$error":"#REF!"}}]
[{"$f":"'N2-Normal Year Values'!$B$283","v":0},{"$error":"#REF!"},{"$error":"#REF!"},{"$f":"'N2-Normal Year Values'!#REF!","v":{"$error":"#REF!"}}]
[{"$f":"'N2-Normal Year Values'!$B$284","v":0},{"$error":"#REF!"},{"$error":"#REF!"},{"$f":"'N2-Normal Year Values'!#REF!","v":{"$error":"#REF!"}}]
[{"$f":"'N2-Normal Year Values'!$B$285","v":0},{"$error":"#REF!"},{"$error":"#REF!"},{"$f":"'N2-Normal Year Values'!#REF!","v":{"$error":"#REF!"}}]
[{"$f":"'N2-Normal Year Values'!$B$286","v":0},{"$error":"#REF!"},{"$error":"#REF!"},{"$f":"'N2-Normal Year Values'!#REF!","v":{"$error":"#REF!"}}]
[{"$f":"'N2-Normal Year Values'!$B$287","v":0},{"$error":"#REF!"},{"$error":"#REF!"},{"$f":"'N2-Normal Year Values'!#REF!","v":{"$error":"#REF!"}}]
[{"$f":"'N2-Normal Year Values'!$B$288","v":0},{"$error":"#REF!"},{"$error":"#REF!"},{"$f":"'N2-Normal Year Values'!#REF!","v":{"$error":"#REF!"}}]
[{"$f":"'N2-Normal Year Values'!$B$289","v":0},{"$error":"#REF!"},{"$error":"#REF!"},{"$f":"'N2-Normal Year Values'!#REF!","v":{"$error":"#REF!"}}]
[{"$f":"'N2-Normal Year Values'!$B$290","v":0},{"$error":"#REF!"},{"$error":"#REF!"},{"$f":"'N2-Normal Year Values'!#REF!","v":{"$error":"#REF!"}}]
[{"$f":"'N2-Normal Year Values'!$B$291","v":0},{"$error":"#REF!"},{"$error":"#REF!"},{"$f":"'N2-Normal Year Values'!#REF!","v":{"$error":"#REF!"}}]
[{"$f":"'N2-Normal Year Values'!$B$292","v":0},{"$error":"#REF!"},{"$error":"#REF!"},{"$f":"'N2-Normal Year Values'!#REF!","v":{"$error":"#REF!"}}]
[{"$f":"'N2-Normal Year Values'!$B$293","v":0},{"$error":"#REF!"},{"$error":"#REF!"},{"$f":"'N2-Normal Year Values'!#REF!","v":{"$error":"#REF!"}}]
[{"$f":"'N2-Normal Year Values'!$B$294","v":0},{"$error":"#REF!"},{"$error":"#REF!"},{"$f":"'N2-Normal Year Values'!#REF!","v":{"$error":"#REF!"}}]
[{"$f":"'N2-Normal Year Values'!$B$295","v":0},{"$error":"#REF!"},{"$error":"#REF!"},{"$f":"'N2-Normal Year Values'!#REF!","v":{"$error":"#REF!"}}]
[{"$f":"'N2-Normal Year Values'!$B$296","v":0},{"$error":"#REF!"},{"$error":"#REF!"},{"$f":"'N2-Normal Year Values'!#REF!","v":{"$error":"#REF!"}}]
[{"$f":"'N2-Normal Year Values'!$B$297","v":0},{"$error":"#REF!"},{"$error":"#REF!"},{"$f":"'N2-Normal Year Values'!#REF!","v":{"$error":"#REF!"}}]
[{"$f":"'N2-Normal Year Values'!$B$298","v":0},{"$error":"#REF!"},{"$error":"#REF!"},{"$f":"'N2-Normal Year Values'!#REF!","v":{"$error":"#REF!"}}]
[{"$f":"'N2-Normal Year Values'!$B$299","v":0},{"$error":"#REF!"},{"$error":"#REF!"},{"$f":"'N2-Normal Year Values'!#REF!","v":{"$error":"#REF!"}}]
[{"$f":"'N2-Normal Year Values'!$B$300","v":0},{"$error":"#REF!"},{"$error":"#REF!"},{"$f":"'N2-Normal Year Values'!#REF!","v":{"$error":"#REF!"}}]
[{"$f":"'N2-Normal Year Values'!$B$301","v":0},{"$error":"#REF!"},{"$error":"#REF!"},{"$f":"'N2-Normal Year Values'!#REF!","v":{"$error":"#REF!"}}]
[{"$f":"'N2-Normal Year Values'!$B$302","v":0},{"$error":"#REF!"},{"$error":"#REF!"},{"$f":"'N2-Normal Year Values'!#REF!","v":{"$error":"#REF!"}}]
[{"$f":"'N2-Normal Year Values'!$B$303","v":0},{"$error":"#REF!"},{"$error":"#REF!"},{"$f":"'N2-Normal Year Values'!#REF!","v":{"$error":"#REF!"}}]
[{"$f":"'N2-Normal Year Values'!$B$304","v":0},{"$error":"#REF!"},{"$error":"#REF!"},{"$f":"'N2-Normal Year Values'!#REF!","v":{"$error":"#REF!"}}]
[{"$f":"'N2-Normal Year Values'!$B$305","v":0},{"$error":"#REF!"},{"$error":"#REF!"},{"$f":"'N2-Normal Year Values'!#REF!","v":{"$error":"#REF!"}}]
[{"$f":"'N2-Normal Year Values'!$B$306","v":0},{"$error":"#REF!"},{"$error":"#REF!"},{"$f":"'N2-Normal Year Values'!#REF!","v":{"$error":"#REF!"}}]
[{"$f":"'N2-Normal Year Values'!$B$307","v":0},{"$error":"#REF!"},{"$error":"#REF!"},{"$f":"'N2-Normal Year Values'!#REF!","v":{"$error":"#REF!"}}]
[{"$f":"'N2-Normal Year Values'!$B$308","v":0},{"$error":"#REF!"},{"$error":"#REF!"},{"$f":"'N2-Normal Year Values'!#REF!","v":{"$error":"#REF!"}}]
[{"$f":"'N2-Normal Year Values'!$B$309","v":0},{"$error":"#REF!"},{"$error":"#REF!"},{"$f":"'N2-Normal Year Values'!#REF!","v":{"$error":"#REF!"}}]
[{"$f":"'N2-Normal Year Values'!$B$310","v":0},{"$error":"#REF!"},{"$error":"#REF!"},{"$f":"'N2-Normal Year Values'!#REF!","v":{"$error":"#REF!"}}]
[{"$f":"'N2-Normal Year Values'!$B$311","v":0},{"$error":"#REF!"},{"$error":"#REF!"},{"$f":"'N2-Normal Year Values'!#REF!","v":{"$error":"#REF!"}}]
[{"$f":"'N2-Normal Year Values'!$B$312","v":0},{"$error":"#REF!"},{"$error":"#REF!"},{"$f":"'N2-Normal Year Values'!#REF!","v":{"$error":"#REF!"}}]
[{"$f":"'N2-Normal Year Values'!$B$313","v":0},{"$error":"#REF!"},{"$error":"#REF!"},{"$f":"'N2-Normal Year Values'!#REF!","v":{"$error":"#REF!"}}]
[{"$f":"'N2-Normal Year Values'!$B$314","v":0},{"$error":"#REF!"},{"$error":"#REF!"},{"$f":"'N2-Normal Year Values'!#REF!","v":{"$error":"#REF!"}}]
[{"$f":"'N2-Normal Year Values'!$B$315","v":0},{"$error":"#REF!"},{"$error":"#REF!"},{"$f":"'N2-Normal Year Values'!#REF!","v":{"$error":"#REF!"}}]
[{"$f":"'N2-Normal Year Values'!$B$316","v":0},{"$error":"#REF!"},{"$error":"#REF!"},{"$f":"'N2-Normal Year Values'!#REF!","v":{"$error":"#REF!"}}]
[{"$f":"'N2-Normal Year Values'!$B$317","v":0},{"$error":"#REF!"},{"$error":"#REF!"},{"$f":"'N2-Normal Year Values'!#REF!","v":{"$error":"#REF!"}}]
[{"$f":"'N2-Normal Year Values'!$B$318","v":0},{"$error":"#REF!"},{"$error":"#REF!"},{"$f":"'N2-Normal Year Values'!#REF!","v":{"$error":"#REF!"}}]
[{"$f":"'N2-Normal Year Values'!$B$319","v":0},{"$error":"#REF!"},{"$error":"#REF!"},{"$f":"'N2-Normal Year Values'!#REF!","v":{"$error":"#REF!"}}]
[{"$f":"'N2-Normal Year Values'!$B$320","v":0},{"$error":"#REF!"},{"$error":"#REF!"},{"$f":"'N2-Normal Year Values'!#REF!","v":{"$error":"#REF!"}}]
[{"$f":"'N2-Normal Year Values'!$B$321","v":0},{"$error":"#REF!"},{"$error":"#REF!"},{"$f":"'N2-Normal Year Values'!#REF!","v":{"$error":"#REF!"}}]
[{"$f":"'N2-Normal Year Values'!$B$322","v":0},{"$error":"#REF!"},{"$error":"#REF!"},{"$f":"'N2-Normal Year Values'!#REF!","v":{"$error":"#REF!"}}]
[{"$f":"'N2-Normal Year Values'!$B$323","v":0},{"$error":"#REF!"},{"$error":"#REF!"},{"$f":"'N2-Normal Year Values'!#REF!","v":{"$error":"#REF!"}}]
[{"$f":"'N2-Normal Year Values'!$B$324","v":0},{"$error":"#REF!"},{"$error":"#REF!"},{"$f":"'N2-Normal Year Values'!#REF!","v":{"$error":"#REF!"}}]
[{"$f":"'N2-Normal Year Values'!$B$325","v":0},{"$error":"#REF!"},{"$error":"#REF!"},{"$f":"'N2-Normal Year Values'!#REF!","v":{"$error":"#REF!"}}]
[{"$f":"'N2-Normal Year Values'!$B$326","v":0},{"$error":"#REF!"},{"$error":"#REF!"},{"$f":"'N2-Normal Year Values'!#REF!","v":{"$error":"#REF!"}}]
[{"$f":"'N2-Normal Year Values'!$B$327","v":0},{"$error":"#REF!"},{"$error":"#REF!"},{"$f":"'N2-Normal Year Values'!#REF!","v":{"$error":"#REF!"}}]
[{"$f":"'N2-Normal Year Values'!$B$328","v":0},{"$error":"#REF!"},{"$error":"#REF!"},{"$f":"'N2-Normal Year Values'!#REF!","v":{"$error":"#REF!"}}]
[{"$f":"'N2-Normal Year Values'!$B$329","v":0},{"$error":"#REF!"},{"$error":"#REF!"},{"$f":"'N2-Normal Year Values'!#REF!","v":{"$error":"#REF!"}}]
[{"$f":"'N2-Normal Year Values'!$B$330","v":0},{"$f":"1.05*$F$2-0.05*$F$4","v":{"$error":"#REF!"}},{"$f":"1.05*$F$4-0.05*$F$2","v":{"$error":"#REF!"}},{"$f":"'N2-Normal Year Values'!#REF!","v":{"$error":"#REF!"}}]
[{"$f":"'N2-Normal Year Values'!$B$331","v":0},{"$error":"#REF!"},{"$error":"#REF!"},{"$f":"'N2-Normal Year Values'!#REF!","v":{"$error":"#REF!"}}]
[{"$f":"'N2-Normal Year Values'!$B$332","v":0},{"$error":"#REF!"},{"$error":"#REF!"},{"$f":"'N2-Normal Year Values'!#REF!","v":{"$error":"#REF!"}}]
[{"$f":"'N2-Normal Year Values'!$B$333","v":0},{"$error":"#REF!"},{"$error":"#REF!"},{"$f":"'N2-Normal Year Values'!#REF!","v":{"$error":"#REF!"}}]
[{"$f":"'N2-Normal Year Values'!$B$334","v":0},{"$error":"#REF!"},{"$error":"#REF!"},{"$f":"'N2-Normal Year Values'!#REF!","v":{"$error":"#REF!"}}]
[{"$f":"'N2-Normal Year Values'!$B$335","v":0},{"$error":"#REF!"},{"$error":"#REF!"},{"$f":"'N2-Normal Year Values'!#REF!","v":{"$error":"#REF!"}}]
[{"$f":"'N2-Normal Year Values'!$B$336","v":0},{"$error":"#REF!"},{"$error":"#REF!"},{"$f":"'N2-Normal Year Values'!#REF!","v":{"$error":"#REF!"}}]
[{"$f":"'N2-Normal Year Values'!$B$337","v":0},{"$error":"#REF!"},{"$error":"#REF!"},{"$f":"'N2-Normal Year Values'!#REF!","v":{"$error":"#REF!"}}]
[{"$f":"'N2-Normal Year Values'!$B$338","v":0},{"$error":"#REF!"},{"$error":"#REF!"},{"$f":"'N2-Normal Year Values'!#REF!","v":{"$error":"#REF!"}}]
[{"$f":"'N2-Normal Year Values'!$B$339","v":0},{"$error":"#REF!"},{"$error":"#REF!"},{"$f":"'N2-Normal Year Values'!#REF!","v":{"$error":"#REF!"}}]
[{"$f":"'N2-Normal Year Values'!$B$340","v":0},{"$error":"#REF!"},{"$error":"#REF!"},{"$f":"'N2-Normal Year Values'!#REF!","v":{"$error":"#REF!"}}]
[{"$f":"'N2-Normal Year Values'!$B$341","v":0},{"$error":"#REF!"},{"$error":"#REF!"},{"$f":"'N2-Normal Year Values'!#REF!","v":{"$error":"#REF!"}}]
[{"$f":"'N2-Normal Year Values'!$B$342","v":0},{"$error":"#REF!"},{"$error":"#REF!"},{"$f":"'N2-Normal Year Values'!#REF!","v":{"$error":"#REF!"}}]
[{"$f":"'N2-Normal Year Values'!$B$343","v":0},{"$error":"#REF!"},{"$error":"#REF!"},{"$f":"'N2-Normal Year Values'!#REF!","v":{"$error":"#REF!"}}]
[{"$f":"'N2-Normal Year Values'!$B$344","v":0},{"$error":"#REF!"},{"$error":"#REF!"},{"$f":"'N2-Normal Year Values'!#REF!","v":{"$error":"#REF!"}}]
[{"$f":"'N2-Normal Year Values'!$B$345","v":0},{"$error":"#REF!"},{"$error":"#REF!"},{"$f":"'N2-Normal Year Values'!#REF!","v":{"$error":"#REF!"}}]
[{"$f":"'N2-Normal Year Values'!$B$346","v":0},{"$error":"#REF!"},{"$error":"#REF!"},{"$f":"'N2-Normal Year Values'!#REF!","v":{"$error":"#REF!"}}]
[{"$f":"'N2-Normal Year Values'!$B$347","v":0},{"$error":"#REF!"},{"$error":"#REF!"},{"$f":"'N2-Normal Year Values'!#REF!","v":{"$error":"#REF!"}}]
[{"$f":"'N2-Normal Year Values'!$B$348","v":0},{"$error":"#REF!"},{"$error":"#REF!"},{"$f":"'N2-Normal Year Values'!#REF!","v":{"$error":"#REF!"}}]
[{"$f":"'N2-Normal Year Values'!$B$349","v":0},{"$error":"#REF!"},{"$error":"#REF!"},{"$f":"'N2-Normal Year Values'!#REF!","v":{"$error":"#REF!"}}]
[{"$f":"'N2-Normal Year Values'!$B$350","v":0},{"$error":"#REF!"},{"$error":"#REF!"},{"$f":"'N2-Normal Year Values'!#REF!","v":{"$error":"#REF!"}}]
[{"$f":"'N2-Normal Year Values'!$B$351","v":0},{"$error":"#REF!"},{"$error":"#REF!"},{"$f":"'N2-Normal Year Values'!#REF!","v":{"$error":"#REF!"}}]
[{"$f":"'N2-Normal Year Values'!$B$352","v":0},{"$error":"#REF!"},{"$error":"#REF!"},{"$f":"'N2-Normal Year Values'!#REF!","v":{"$error":"#REF!"}}]
[{"$f":"'N2-Normal Year Values'!$B$353","v":0},{"$error":"#REF!"},{"$error":"#REF!"},{"$f":"'N2-Normal Year Values'!#REF!","v":{"$error":"#REF!"}}]
[{"$f":"'N2-Normal Year Values'!$B$354","v":0},{"$error":"#REF!"},{"$error":"#REF!"},{"$f":"'N2-Normal Year Values'!#REF!","v":{"$error":"#REF!"}}]
[{"$f":"'N2-Normal Year Values'!$B$355","v":0},{"$error":"#REF!"},{"$error":"#REF!"},{"$f":"'N2-Normal Year Values'!#REF!","v":{"$error":"#REF!"}}]
[{"$f":"'N2-Normal Year Values'!$B$356","v":0},{"$error":"#REF!"},{"$error":"#REF!"},{"$f":"'N2-Normal Year Values'!#REF!","v":{"$error":"#REF!"}}]
[{"$f":"'N2-Normal Year Values'!$B$357","v":0},{"$error":"#REF!"},{"$error":"#REF!"},{"$f":"'N2-Normal Year Values'!#REF!","v":{"$error":"#REF!"}}]
[{"$f":"'N2-Normal Year Values'!$B$358","v":0},{"$error":"#REF!"},{"$error":"#REF!"},{"$f":"'N2-Normal Year Values'!#REF!","v":{"$error":"#REF!"}}]
[{"$f":"'N2-Normal Year Values'!$B$359","v":0},{"$error":"#REF!"},{"$error":"#REF!"},{"$f":"'N2-Normal Year Values'!#REF!","v":{"$error":"#REF!"}}]
[{"$f":"'N2-Normal Year Values'!$B$360","v":0},{"$error":"#REF!"},{"$error":"#REF!"},{"$f":"'N2-Normal Year Values'!#REF!","v":{"$error":"#REF!"}}]
[{"$f":"'N2-Normal Year Values'!$B$361","v":0},{"$error":"#REF!"},{"$error":"#REF!"},{"$f":"'N2-Normal Year Values'!#REF!","v":{"$error":"#REF!"}}]
[{"$f":"'N2-Normal Year Values'!$B$362","v":0},{"$error":"#REF!"},{"$error":"#REF!"},{"$f":"'N2-Normal Year Values'!#REF!","v":{"$error":"#REF!"}}]
[{"$f":"'N2-Normal Year Values'!$B$363","v":0},{"$error":"#REF!"},{"$error":"#REF!"},{"$f":"'N2-Normal Year Values'!#REF!","v":{"$error":"#REF!"}}]
[{"$f":"'N2-Normal Year Values'!$B$364","v":0},{"$error":"#REF!"},{"$error":"#REF!"},{"$f":"'N2-Normal Year Values'!#REF!","v":{"$error":"#REF!"}}]
[{"$f":"'N2-Normal Year Values'!$B$365","v":0},{"$error":"#REF!"},{"$error":"#REF!"},{"$f":"'N2-Normal Year Values'!#REF!","v":{"$error":"#REF!"}}]
[{"$f":"'N2-Normal Year Values'!$B$366","v":0},{"$error":"#REF!"},{"$error":"#REF!"},{"$f":"'N2-Normal Year Values'!#REF!","v":{"$error":"#REF!"}}]
[{"$f":"'N2-Normal Year Values'!$B$367","v":0},{"$error":"#REF!"},{"$error":"#REF!"},{"$f":"'N2-Normal Year Values'!#REF!","v":{"$error":"#REF!"}}]
[{"$f":"'N2-Normal Year Values'!$B$368","v":0},{"$error":"#REF!"},{"$error":"#REF!"},{"$f":"'N2-Normal Year Values'!#REF!","v":{"$error":"#REF!"}}]
[{"$f":"'N2-Normal Year Values'!$B$369","v":0},{"$error":"#REF!"},{"$error":"#REF!"},{"$f":"'N2-Normal Year Values'!#REF!","v":{"$error":"#REF!"}}]
[{"$f":"'N2-Normal Year Values'!$B$370","v":0},{"$error":"#REF!"},{"$error":"#REF!"},{"$f":"'N2-Normal Year Values'!#REF!","v":{"$error":"#REF!"}}]
[{"$f":"'N2-Normal Year Values'!$B$371","v":0},{"$error":"#REF!"},{"$error":"#REF!"},{"$f":"'N2-Normal Year Values'!#REF!","v":{"$error":"#REF!"}}]
[{"$f":"'N2-Normal Year Values'!$B$372","v":0},{"$error":"#REF!"},{"$error":"#REF!"},{"$f":"'N2-Normal Year Values'!#REF!","v":{"$error":"#REF!"}}]
[{"$f":"'N2-Normal Year Values'!$B$373","v":0},{"$error":"#REF!"},{"$error":"#REF!"},{"$f":"'N2-Normal Year Values'!#REF!","v":{"$error":"#REF!"}}]
[{"$f":"'N2-Normal Year Values'!$B$374","v":0},{"$error":"#REF!"},{"$error":"#REF!"},{"$f":"'N2-Normal Year Values'!#REF!","v":{"$error":"#REF!"}}]

{"sheet":"N3-Normal Year","index":58,"n_rows":17,"n_cols":21,"rows_kept":17,"cut":false,"hidden":true,"merged":[[3,1,3,12],[5,1,5,12],[7,1,7,3],[7,4,7,6],[9,1,9,6],[12,1,12,12],[14,1,14,3],[14,4,14,6],[16,1,16,2],[10,1,10,2],[10,3,10,4],[10,5,10,6]]}
[null,null,"N3 - Normal Year"]
[]
[{"$f":"LEFT(C1,1)","v":"N"},{"$f":"VLOOKUP(A3,EnergySourceLookup,2,FALSE)","v":"Renewables"},{"$f":"VLOOKUP(A3,EnergySourceLookup,3,FALSE)","v":"GJ"}]
[null,"Statistical analysis of normal year values"]
[]
[null,{"$f":"\"Warning: The sheet '\" &LEFT($C$1,1) & \"2-Normal Year Values' does not contain the correct number of data points. \" & IF(N1ModelFrequency<>\"\", \"This table should contain \" & VLOOKUP(N1ModelFrequency, FrequencyLookup,2,FALSE) & \" data points based on the selected \" & N1ModelFrequency & \" Measurement Frequency.\", \"\")","v":"Warning: The sheet 'N2-Normal Year Values' does not contain the correct number of data points. "}]
[]
[null,"Number of data points:",null,null,{"$f":"COUNT(INDEX(N2DataTable,0,1))","v":0}]
[]
[null,"Calculated range of normal year operating conditions:",null,null,null,null,null,null,null,null,null,null,null,null,null,null,null,null,null,"Normal Without Excluded Values"]
[null,"Variable",null,"Minimum",null,"Maximum",null,null,null,null,null,null,null,null,null,null,null,null,null,"Min","Max"]
[]
[null,"Chart of normal year for each independent variable"]
[]
[null,"Independent variable:"]
[]
[null,"Chart"]

{"sheet":"N4-Baseline Measurements","index":59,"n_rows":8,"n_cols":5,"rows_kept":8,"cut":false,"hidden":true,"merged":[[3,1,3,12],[7,1,8,1],[7,2,8,2],[7,3,8,3],[7,4,8,4]]}
[null,null,"N4 - Baseline Measurements"]
[]
[{"$f":"LEFT(C1,1)","v":"N"},{"$f":"VLOOKUP(A3,EnergySourceLookup,2,FALSE)","v":"Renewables"},{"$f":"VLOOKUP(A3,EnergySourceLookup,3,FALSE)","v":"GJ"}]
[null,{"$f":"\"Measure and Convert Baseline Period (\" & VLOOKUP(LEFT($C$1,1),EnergySourceLookup,2,FALSE) & \") Measurements\"","v":"Measure and Convert Baseline Period (Renewables) Measurements"}]
[]
[]
[]
[null,"Date / Time","Energy","Exclude non-normal measurement? (Mark with 'Y')","Reason for exclusion"]

{"sheet":"NCharts-Baseline","index":60,"n_rows":366,"n_cols":21,"rows_kept":366,"cut":false,"hidden":true,"merged":[]}
["Time period start","Lower bound","Upper bound","Independent Variable",null,"Minimum IV value",null,"Time interval","Excluded?","Measured baseline energy","Modelled baseline energy","Residual Rank","Residual",null,"Count",{"$f":"COUNT(M:M)","v":0},null,"Cumulative distribution","z-value","Actual residuals","Expect residual value if normal distribution"]
[{"$f":"'E4-Baseline Measurements'!$B$10","v":"00:00:00"},{"$f":"1.05*$F$2-0.05*$F$4","v":{"$error":"#REF!"}},{"$f":"1.05*$F$4-0.05*$F$2","v":{"$error":"#REF!"}},{"$f":"'E4-Baseline Measurements'!#REF!","v":{"$error":"#REF!"}},null,{"$f":"MIN(D:D)","v":{"$error":"#REF!"}},null,null,null,null,null,null,null,null,"Mean",{"$f":"AVERAGE(M:M)","v":{"$error":"#DIV/0!"}}]
[{"$f":"'E4-Baseline Measurements'!$B$11","v":"00:00:00"},{"$error":"#REF!"},{"$error":"#REF!"},{"$f":"'E4-Baseline Measurements'!#REF!","v":{"$error":"#REF!"}},null,"Maximum IV value",null,null,null,null,null,null,null,null,"StDev",{"$f":"_xlfn.STDEV.S(M:M)","v":{"$error":"#DIV/0!"}}]
[{"$f":"'E4-Baseline Measurements'!$B$12","v":"00:00:00"},{"$error":"#REF!"},{"$error":"#REF!"},{"$f":"'E4-Baseline Measurements'!#REF!","v":{"$error":"#REF!"}},null,{"$f":"MAX(D:D)","v":{"$error":"#REF!"}}]
[{"$f":"'E4-Baseline Measurements'!$B$13","v":"00:00:00"},{"$error":"#REF!"},{"$error":"#REF!"},{"$f":"'E4-Baseline Measurements'!#REF!","v":{"$error":"#REF!"}},null,null,null,null,null,null,null,null,null,null,"Measured"]
[{"$f":"'E4-Baseline Measurements'!$B$14","v":"00:00:00"},{"$error":"#REF!"},{"$error":"#REF!"},{"$f":"'E4-Baseline Measurements'!#REF!","v":{"$error":"#REF!"}},null,null,null,null,null,null,null,null,null,null,"Count",{"$f":"COUNT(J:J)","v":0}]
[{"$f":"'E4-Baseline Measurements'!$B$15","v":"00:00:00"},{"$error":"#REF!"},{"$error":"#REF!"},{"$f":"'E4-Baseline Measurements'!#REF!","v":{"$error":"#REF!"}},null,null,null,null,null,null,null,null,null,null,"Mean",{"$f":"AVERAGE(J:J)","v":{"$error":"#DIV/0!"}}]
[{"$f":"'E4-Baseline Measurements'!$B$16","v":"00:00:00"},{"$error":"#REF!"},{"$error":"#REF!"},{"$f":"'E4-Baseline Measurements'!#REF!","v":{"$error":"#REF!"}},null,null,null,null,null,null,null,null,null,null,"StDev",{"$f":"_xlfn.STDEV.S(J:J)","v":{"$error":"#DIV/0!"}}]
[{"$f":"'E4-Baseline Measurements'!$B$17","v":"00:00:00"},{"$error":"#REF!"},{"$error":"#REF!"},{"$f":"'E4-Baseline Measurements'!#REF!","v":{"$error":"#REF!"}},null,null,null,null,null,null,null,null,null,null,"IV count",{"$f":"GetVariableCount(MID(CELL(\"filename\"),FIND(\"]\",CELL(\"filename\"))+1,1),\"IV\")","v":0}]
[{"$f":"'E4-Baseline Measurements'!$B$18","v":"00:00:00"},{"$error":"#REF!"},{"$error":"#REF!"},{"$f":"'E4-Baseline Measurements'!#REF!","v":{"$error":"#REF!"}},null,null,null,null,null,null,null,null,null,null,"COV",{"$f":"IFERROR(P8/P7,\"\")","v":""}]
[{"$f":"'E4-Baseline Measurements'!$B$19","v":"00:00:00"},{"$error":"#REF!"},{"$error":"#REF!"},{"$f":"'E4-Baseline Measurements'!#REF!","v":{"$error":"#REF!"}}]
[{"$f":"'E4-Baseline Measurements'!$B$20","v":"00:00:00"},{"$error":"#REF!"},{"$error":"#REF!"},{"$f":"'E4-Baseline Measurements'!#REF!","v":{"$error":"#REF!"}},null,null,null,null,null,null,null,null,null,null,"Standard Error",{"$f":"IF(P9=0,P8/SQRT(P6),SQRT(SUMSQ(M:M)/(P6-2)))","v":{"$error":"#DIV/0!"}}]
[{"$f":"'E4-Baseline Measurements'!$B$21","v":"00:00:00"},{"$error":"#REF!"},{"$error":"#REF!"},{"$f":"'E4-Baseline Measurements'!#REF!","v":{"$error":"#REF!"}}]
[{"$f":"'E4-Baseline Measurements'!$B$22","v":"00:00:00"},{"$error":"#REF!"},{"$error":"#REF!"},{"$f":"'E4-Baseline Measurements'!#REF!","v":{"$error":"#REF!"}},null,null,null,null,null,null,null,null,null,null,"R2",{"$f":"1-_xlfn.VAR.S(M:M)/_xlfn.VAR.S(J:J)","v":{"$error":"#DIV/0!"}}]
[{"$f":"'E4-Baseline Measurements'!$B$23","v":"00:00:00"},{"$error":"#REF!"},{"$error":"#REF!"},{"$f":"'E4-Baseline Measurements'!#REF!","v":{"$error":"#REF!"}},null,null,null,null,null,null,null,null,null,null,"Adjusted R2",{"$f":"1-(1-P14)*(P6-1)/(P6-P9-1)","v":{"$error":"#DIV/0!"}}]
[{"$f":"'E4-Baseline Measurements'!$B$24","v":"00:00:00"},{"$error":"#REF!"},{"$error":"#REF!"},{"$f":"'E4-Baseline Measurements'!#REF!","v":{"$error":"#REF!"}}]
[{"$f":"'E4-Baseline Measurements'!$B$25","v":"00:00:00"},{"$error":"#REF!"},{"$error":"#REF!"},{"$f":"'E4-Baseline Measurements'!#REF!","v":{"$error":"#REF!"}}]
[{"$f":"'E4-Baseline Measurements'!$B$26","v":"00:00:00"},{"$error":"#REF!"},{"$error":"#REF!"},{"$f":"'E4-Baseline Measurements'!#REF!","v":{"$error":"#REF!"}}]
[{"$f":"'E4-Baseline Measurements'!$B$27","v":"00:00:00"},{"$error":"#REF!"},{"$error":"#REF!"},{"$f":"'E4-Baseline Measurements'!#REF!","v":{"$error":"#REF!"}}]
[{"$f":"'E4-Baseline Measurements'!$B$28","v":"00:00:00"},{"$error":"#REF!"},{"$error":"#REF!"},{"$f":"'E4-Baseline Measurements'!#REF!","v":{"$error":"#REF!"}}]
[{"$f":"'E4-Baseline Measurements'!$B$29","v":"00:00:00"},{"$error":"#REF!"},{"$error":"#REF!"},{"$f":"'E4-Baseline Measurements'!#REF!","v":{"$error":"#REF!"}}]
[{"$f":"'E4-Baseline Measurements'!$B$30","v":"00:00:00"},{"$error":"#REF!"},{"$error":"#REF!"},{"$f":"'E4-Baseline Measurements'!#REF!","v":{"$error":"#REF!"}}]
[{"$f":"'E4-Baseline Measurements'!$B$31","v":"00:00:00"},{"$error":"#REF!"},{"$error":"#REF!"},{"$f":"'E4-Baseline Measurements'!#REF!","v":{"$error":"#REF!"}}]
[{"$f":"'E4-Baseline Measurements'!$B$32","v":"00:00:00"},{"$error":"#REF!"},{"$error":"#REF!"},{"$f":"'E4-Baseline Measurements'!#REF!","v":{"$error":"#REF!"}}]
[{"$f":"'E4-Baseline Measurements'!$B$33","v":"00:00:00"},{"$error":"#REF!"},{"$error":"#REF!"},{"$f":"'E4-Baseline Measurements'!#REF!","v":{"$error":"#REF!"}}]
[{"$f":"'E4-Baseline Measurements'!$B$34","v":"00:00:00"},{"$error":"#REF!"},{"$error":"#REF!"},{"$f":"'E4-Baseline Measurements'!#REF!","v":{"$error":"#REF!"}}]
[{"$f":"'E4-Baseline Measurements'!$B$35","v":"00:00:00"},{"$error":"#REF!"},{"$error":"#REF!"},{"$f":"'E4-Baseline Measurements'!#REF!","v":{"$error":"#REF!"}}]
[{"$f":"'E4-Baseline Measurements'!$B$36","v":"00:00:00"},{"$error":"#REF!"},{"$error":"#REF!"},{"$f":"'E4-Baseline Measurements'!#REF!","v":{"$error":"#REF!"}}]
[{"$f":"'E4-Baseline Measurements'!$B$37","v":"00:00:00"},{"$error":"#REF!"},{"$error":"#REF!"},{"$f":"'E4-Baseline Measurements'!#REF!","v":{"$error":"#REF!"}}]
[{"$f":"'E4-Baseline Measurements'!$B$38","v":"00:00:00"},{"$error":"#REF!"},{"$error":"#REF!"},{"$f":"'E4-Baseline Measurements'!#REF!","v":{"$error":"#REF!"}}]
[{"$f":"'E4-Baseline Measurements'!$B$39","v":"00:00:00"},{"$error":"#REF!"},{"$error":"#REF!"},{"$f":"'E4-Baseline Measurements'!#REF!","v":{"$error":"#REF!"}}]
[{"$f":"'E4-Baseline Measurements'!$B$40","v":"00:00:00"},{"$error":"#REF!"},{"$error":"#REF!"},{"$f":"'E4-Baseline Measurements'!#REF!","v":{"$error":"#REF!"}}]
[{"$f":"'E4-Baseline Measurements'!$B$41","v":"00:00:00"},{"$error":"#REF!"},{"$error":"#REF!"},{"$f":"'E4-Baseline Measurements'!#REF!","v":{"$error":"#REF!"}}]
[{"$f":"'E4-Baseline Measurements'!$B$42","v":"00:00:00"},{"$error":"#REF!"},{"$error":"#REF!"},{"$f":"'E4-Baseline Measurements'!#REF!","v":{"$error":"#REF!"}}]
[{"$f":"'E4-Baseline Measurements'!$B$43","v":"00:00:00"},{"$error":"#REF!"},{"$error":"#REF!"},{"$f":"'E4-Baseline Measurements'!#REF!","v":{"$error":"#REF!"}}]
[{"$f":"'E4-Baseline Measurements'!$B$44","v":"00:00:00"},{"$error":"#REF!"},{"$error":"#REF!"},{"$f":"'E4-Baseline Measurements'!#REF!","v":{"$error":"#REF!"}}]
[{"$f":"'E4-Baseline Measurements'!$B$45","v":"00:00:00"},{"$error":"#REF!"},{"$error":"#REF!"},{"$f":"'E4-Baseline Measurements'!#REF!","v":{"$error":"#REF!"}}]
[{"$f":"'E4-Baseline Measurements'!$B$46","v":"00:00:00"},{"$error":"#REF!"},{"$error":"#REF!"},{"$f":"'E4-Baseline Measurements'!#REF!","v":{"$error":"#REF!"}}]
[{"$f":"'E4-Baseline Measurements'!$B$47","v":"00:00:00"},{"$error":"#REF!"},{"$error":"#REF!"},{"$f":"'E4-Baseline Measurements'!#REF!","v":{"$error":"#REF!"}}]
[{"$f":"'E4-Baseline Measurements'!$B$48","v":"00:00:00"},{"$error":"#REF!"},{"$error":"#REF!"},{"$f":"'E4-Baseline Measurements'!#REF!","v":{"$error":"#REF!"}}]
[{"$f":"'E4-Baseline Measurements'!$B$49","v":"00:00:00"},{"$error":"#REF!"},{"$error":"#REF!"},{"$f":"'E4-Baseline Measurements'!#REF!","v":{"$error":"#REF!"}}]
[{"$f":"'E4-Baseline Measurements'!$B$50","v":"00:00:00"},{"$error":"#REF!"},{"$error":"#REF!"},{"$f":"'E4-Baseline Measurements'!#REF!","v":{"$error":"#REF!"}}]
[{"$f":"'E4-Baseline Measurements'!$B$51","v":"00:00:00"},{"$error":"#REF!"},{"$error":"#REF!"},{"$f":"'E4-Baseline Measurements'!#REF!","v":{"$error":"#REF!"}}]
[{"$f":"'E4-Baseline Measurements'!$B$52","v":"00:00:00"},{"$error":"#REF!"},{"$error":"#REF!"},{"$f":"'E4-Baseline Measurements'!#REF!","v":{"$error":"#REF!"}}]
[{"$f":"'E4-Baseline Measurements'!$B$53","v":"00:00:00"},{"$error":"#REF!"},{"$error":"#REF!"},{"$f":"'E4-Baseline Measurements'!#REF!","v":{"$error":"#REF!"}}]
[{"$f":"'E4-Baseline Measurements'!$B$54","v":"00:00:00"},{"$error":"#REF!"},{"$error":"#REF!"},{"$f":"'E4-Baseline Measurements'!#REF!","v":{"$error":"#REF!"}}]
[{"$f":"'E4-Baseline Measurements'!$B$55","v":"00:00:00"},{"$error":"#REF!"},{"$error":"#REF!"},{"$f":"'E4-Baseline Measurements'!#REF!","v":{"$error":"#REF!"}}]
[{"$f":"'E4-Baseline Measurements'!$B$56","v":"00:00:00"},{"$error":"#REF!"},{"$error":"#REF!"},{"$f":"'E4-Baseline Measurements'!#REF!","v":{"$error":"#REF!"}}]
[{"$f":"'E4-Baseline Measurements'!$B$57","v":"00:00:00"},{"$error":"#REF!"},{"$error":"#REF!"},{"$f":"'E4-Baseline Measurements'!#REF!","v":{"$error":"#REF!"}}]
[{"$f":"'E4-Baseline Measurements'!$B$58","v":"00:00:00"},{"$error":"#REF!"},{"$error":"#REF!"},{"$f":"'E4-Baseline Measurements'!#REF!","v":{"$error":"#REF!"}}]
[{"$f":"'E4-Baseline Measurements'!$B$59","v":"00:00:00"},{"$error":"#REF!"},{"$error":"#REF!"},{"$f":"'E4-Baseline Measurements'!#REF!","v":{"$error":"#REF!"}}]
[{"$f":"'E4-Baseline Measurements'!$B$60","v":"00:00:00"},{"$error":"#REF!"},{"$error":"#REF!"},{"$f":"'E4-Baseline Measurements'!#REF!","v":{"$error":"#REF!"}}]
[{"$f":"'E4-Baseline Measurements'!$B$61","v":"00:00:00"},{"$error":"#REF!"},{"$error":"#REF!"},{"$f":"'E4-Baseline Measurements'!#REF!","v":{"$error":"#REF!"}}]
[{"$f":"'E4-Baseline Measurements'!$B$62","v":"00:00:00"},{"$error":"#REF!"},{"$error":"#REF!"},{"$f":"'E4-Baseline Measurements'!#REF!","v":{"$error":"#REF!"}}]
[{"$f":"'E4-Baseline Measurements'!$B$63","v":"00:00:00"},{"$error":"#REF!"},{"$error":"#REF!"},{"$f":"'E4-Baseline Measurements'!#REF!","v":{"$error":"#REF!"}}]
[{"$f":"'E4-Baseline Measurements'!$B$64","v":"00:00:00"},{"$error":"#REF!"},{"$error":"#REF!"},{"$f":"'E4-Baseline Measurements'!#REF!","v":{"$error":"#REF!"}}]
[{"$f":"'E4-Baseline Measurements'!$B$65","v":"00:00:00"},{"$error":"#REF!"},{"$error":"#REF!"},{"$f":"'E4-Baseline Measurements'!#REF!","v":{"$error":"#REF!"}}]
[{"$f":"'E4-Baseline Measurements'!$B$66","v":"00:00:00"},{"$error":"#REF!"},{"$error":"#REF!"},{"$f":"'E4-Baseline Measurements'!#REF!","v":{"$error":"#REF!"}}]
[{"$f":"'E4-Baseline Measurements'!$B$67","v":"00:00:00"},{"$error":"#REF!"},{"$error":"#REF!"},{"$f":"'E4-Baseline Measurements'!#REF!","v":{"$error":"#REF!"}}]
[{"$f":"'E4-Baseline Measurements'!$B$68","v":"00:00:00"},{"$error":"#REF!"},{"$error":"#REF!"},{"$f":"'E4-Baseline Measurements'!#REF!","v":{"$error":"#REF!"}}]
[{"$f":"'E4-Baseline Measurements'!$B$69","v":"00:00:00"},{"$error":"#REF!"},{"$error":"#REF!"},{"$f":"'E4-Baseline Measurements'!#REF!","v":{"$error":"#REF!"}}]
[{"$f":"'E4-Baseline Measurements'!$B$70","v":"00:00:00"},{"$error":"#REF!"},{"$error":"#REF!"},{"$f":"'E4-Baseline Measurements'!#REF!","v":{"$error":"#REF!"}}]
[{"$f":"'E4-Baseline Measurements'!$B$71","v":"00:00:00"},{"$error":"#REF!"},{"$error":"#REF!"},{"$f":"'E4-Baseline Measurements'!#REF!","v":{"$error":"#REF!"}}]
[{"$f":"'E4-Baseline Measurements'!$B$72","v":"00:00:00"},{"$error":"#REF!"},{"$error":"#REF!"},{"$f":"'E4-Baseline Measurements'!#REF!","v":{"$error":"#REF!"}}]
[{"$f":"'E4-Baseline Measurements'!$B$73","v":"00:00:00"},{"$error":"#REF!"},{"$error":"#REF!"},{"$f":"'E4-Baseline Measurements'!#REF!","v":{"$error":"#REF!"}}]
[{"$f":"'E4-Baseline Measurements'!$B$74","v":"00:00:00"},{"$f":"1.05*$F$2-0.05*$F$4","v":{"$error":"#REF!"}},{"$f":"1.05*$F$4-0.05*$F$2","v":{"$error":"#REF!"}},{"$f":"'E4-Baseline Measurements'!#REF!","v":{"$error":"#REF!"}}]
[{"$f":"'E4-Baseline Measurements'!$B$75","v":"00:00:00"},{"$error":"#REF!"},{"$error":"#REF!"},{"$f":"'E4-Baseline Measurements'!#REF!","v":{"$error":"#REF!"}}]
[{"$f":"'E4-Baseline Measurements'!$B$76","v":"00:00:00"},{"$error":"#REF!"},{"$error":"#REF!"},{"$f":"'E4-Baseline Measurements'!#REF!","v":{"$error":"#REF!"}}]
[{"$f":"'E4-Baseline Measurements'!$B$77","v":"00:00:00"},{"$error":"#REF!"},{"$error":"#REF!"},{"$f":"'E4-Baseline Measurements'!#REF!","v":{"$error":"#REF!"}}]
[{"$f":"'E4-Baseline Measurements'!$B$78","v":"00:00:00"},{"$error":"#REF!"},{"$error":"#REF!"},{"$f":"'E4-Baseline Measurements'!#REF!","v":{"$error":"#REF!"}}]
[{"$f":"'E4-Baseline Measurements'!$B$79","v":"00:00:00"},{"$error":"#REF!"},{"$error":"#REF!"},{"$f":"'E4-Baseline Measurements'!#REF!","v":{"$error":"#REF!"}}]
[{"$f":"'E4-Baseline Measurements'!$B$80","v":"00:00:00"},{"$error":"#REF!"},{"$error":"#REF!"},{"$f":"'E4-Baseline Measurements'!#REF!","v":{"$error":"#REF!"}}]
[{"$f":"'E4-Baseline Measurements'!$B$81","v":"00:00:00"},{"$error":"#REF!"},{"$error":"#REF!"},{"$f":"'E4-Baseline Measurements'!#REF!","v":{"$error":"#REF!"}}]
[{"$f":"'E4-Baseline Measurements'!$B$82","v":"00:00:00"},{"$error":"#REF!"},{"$error":"#REF!"},{"$f":"'E4-Baseline Measurements'!#REF!","v":{"$error":"#REF!"}}]
[{"$f":"'E4-Baseline Measurements'!$B$83","v":"00:00:00"},{"$error":"#REF!"},{"$error":"#REF!"},{"$f":"'E4-Baseline Measurements'!#REF!","v":{"$error":"#REF!"}}]
[{"$f":"'E4-Baseline Measurements'!$B$84","v":"00:00:00"},{"$error":"#REF!"},{"$error":"#REF!"},{"$f":"'E4-Baseline Measurements'!#REF!","v":{"$error":"#REF!"}}]
[{"$f":"'E4-Baseline Measurements'!$B$85","v":"00:00:00"},{"$error":"#REF!"},{"$error":"#REF!"},{"$f":"'E4-Baseline Measurements'!#REF!","v":{"$error":"#REF!"}}]
[{"$f":"'E4-Baseline Measurements'!$B$86","v":"00:00:00"},{"$error":"#REF!"},{"$error":"#REF!"},{"$f":"'E4-Baseline Measurements'!#REF!","v":{"$error":"#REF!"}}]
[{"$f":"'E4-Baseline Measurements'!$B$87","v":"00:00:00"},{"$error":"#REF!"},{"$error":"#REF!"},{"$f":"'E4-Baseline Measurements'!#REF!","v":{"$error":"#REF!"}}]
[{"$f":"'E4-Baseline Measurements'!$B$88","v":"00:00:00"},{"$error":"#REF!"},{"$error":"#REF!"},{"$f":"'E4-Baseline Measurements'!#REF!","v":{"$error":"#REF!"}}]
[{"$f":"'E4-Baseline Measurements'!$B$89","v":"00:00:00"},{"$error":"#REF!"},{"$error":"#REF!"},{"$f":"'E4-Baseline Measurements'!#REF!","v":{"$error":"#REF!"}}]
[{"$f":"'E4-Baseline Measurements'!$B$90","v":"00:00:00"},{"$error":"#REF!"},{"$error":"#REF!"},{"$f":"'E4-Baseline Measurements'!#REF!","v":{"$error":"#REF!"}}]
[{"$f":"'E4-Baseline Measurements'!$B$91","v":"00:00:00"},{"$error":"#REF!"},{"$error":"#REF!"},{"$f":"'E4-Baseline Measurements'!#REF!","v":{"$error":"#REF!"}}]
[{"$f":"'E4-Baseline Measurements'!$B$92","v":"00:00:00"},{"$error":"#REF!"},{"$error":"#REF!"},{"$f":"'E4-Baseline Measurements'!#REF!","v":{"$error":"#REF!"}}]
[{"$f":"'E4-Baseline Measurements'!$B$93","v":"00:00:00"},{"$error":"#REF!"},{"$error":"#REF!"},{"$f":"'E4-Baseline Measurements'!#REF!","v":{"$error":"#REF!"}}]
[{"$f":"'E4-Baseline Measurements'!$B$94","v":"00:00:00"},{"$error":"#REF!"},{"$error":"#REF!"},{"$f":"'E4-Baseline Measurements'!#REF!","v":{"$error":"#REF!"}}]
[{"$f":"'E4-Baseline Measurements'!$B$95","v":"00:00:00"},{"$error":"#REF!"},{"$error":"#REF!"},{"$f":"'E4-Baseline Measurements'!#REF!","v":{"$error":"#REF!"}}]
[{"$f":"'E4-Baseline Measurements'!$B$96","v":"00:00:00"},{"$error":"#REF!"},{"$error":"#REF!"},{"$f":"'E4-Baseline Measurements'!#REF!","v":{"$error":"#REF!"}}]
[{"$f":"'E4-Baseline Measurements'!$B$97","v":"00:00:00"},{"$error":"#REF!"},{"$error":"#REF!"},{"$f":"'E4-Baseline Measurements'!#REF!","v":{"$error":"#REF!"}}]
[{"$f":"'E4-Baseline Measurements'!$B$98","v":"00:00:00"},{"$error":"#REF!"},{"$error":"#REF!"},{"$f":"'E4-Baseline Measurements'!#REF!","v":{"$error":"#REF!"}}]
[{"$f":"'E4-Baseline Measurements'!$B$99","v":"00:00:00"},{"$error":"#REF!"},{"$error":"#REF!"},{"$f":"'E4-Baseline Measurements'!#REF!","v":{"$error":"#REF!"}}]
[{"$f":"'E4-Baseline Measurements'!$B$100","v":"00:00:00"},{"$error":"#REF!"},{"$error":"#REF!"},{"$f":"'E4-Baseline Measurements'!#REF!","v":{"$error":"#REF!"}}]
[{"$f":"'E4-Baseline Measurements'!$B$101","v":"00:00:00"},{"$error":"#REF!"},{"$error":"#REF!"},{"$f":"'E4-Baseline Measurements'!#REF!","v":{"$error":"#REF!"}}]
[{"$f":"'E4-Baseline Measurements'!$B$102","v":"00:00:00"},{"$error":"#REF!"},{"$error":"#REF!"},{"$f":"'E4-Baseline Measurements'!#REF!","v":{"$error":"#REF!"}}]
[{"$f":"'E4-Baseline Measurements'!$B$103","v":"00:00:00"},{"$error":"#REF!"},{"$error":"#REF!"},{"$f":"'E4-Baseline Measurements'!#REF!","v":{"$error":"#REF!"}}]
[{"$f":"'E4-Baseline Measurements'!$B$104","v":"00:00:00"},{"$error":"#REF!"},{"$error":"#REF!"},{"$f":"'E4-Baseline Measurements'!#REF!","v":{"$error":"#REF!"}}]
[{"$f":"'E4-Baseline Measurements'!$B$105","v":"00:00:00"},{"$error":"#REF!"},{"$error":"#REF!"},{"$f":"'E4-Baseline Measurements'!#REF!","v":{"$error":"#REF!"}}]
[{"$f":"'E4-Baseline Measurements'!$B$106","v":"00:00:00"},{"$error":"#REF!"},{"$error":"#REF!"},{"$f":"'E4-Baseline Measurements'!#REF!","v":{"$error":"#REF!"}}]
[{"$f":"'E4-Baseline Measurements'!$B$107","v":"00:00:00"},{"$error":"#REF!"},{"$error":"#REF!"},{"$f":"'E4-Baseline Measurements'!#REF!","v":{"$error":"#REF!"}}]
[{"$f":"'E4-Baseline Measurements'!$B$108","v":"00:00:00"},{"$error":"#REF!"},{"$error":"#REF!"},{"$f":"'E4-Baseline Measurements'!#REF!","v":{"$error":"#REF!"}}]
[{"$f":"'E4-Baseline Measurements'!$B$109","v":"00:00:00"},{"$error":"#REF!"},{"$error":"#REF!"},{"$f":"'E4-Baseline Measurements'!#REF!","v":{"$error":"#REF!"}}]
[{"$f":"'E4-Baseline Measurements'!$B$110","v":"00:00:00"},{"$error":"#REF!"},{"$error":"#REF!"},{"$f":"'E4-Baseline Measurements'!#REF!","v":{"$error":"#REF!"}}]
[{"$f":"'E4-Baseline Measurements'!$B$111","v":"00:00:00"},{"$error":"#REF!"},{"$error":"#REF!"},{"$f":"'E4-Baseline Measurements'!#REF!","v":{"$error":"#REF!"}}]
[{"$f":"'E4-Baseline Measurements'!$B$112","v":"00:00:00"},{"$error":"#REF!"},{"$error":"#REF!"},{"$f":"'E4-Baseline Measurements'!#REF!","v":{"$error":"#REF!"}}]
[{"$f":"'E4-Baseline Measurements'!$B$113","v":"00:00:00"},{"$error":"#REF!"},{"$error":"#REF!"},{"$f":"'E4-Baseline Measurements'!#REF!","v":{"$error":"#REF!"}}]
[{"$f":"'E4-Baseline Measurements'!#REF!","v":{"$error":"#REF!"}},{"$error":"#REF!"},{"$error":"#REF!"},{"$f":"'E4-Baseline Measurements'!#REF!","v":{"$error":"#REF!"}}]
[{"$f":"'E4-Baseline Measurements'!#REF!","v":{"$error":"#REF!"}},{"$error":"#REF!"},{"$error":"#REF!"},{"$f":"'E4-Baseline Measurements'!#REF!","v":{"$error":"#REF!"}}]
[{"$f":"'E4-Baseline Measurements'!#REF!","v":{"$error":"#REF!"}},{"$error":"#REF!"},{"$error":"#REF!"},{"$f":"'E4-Baseline Measurements'!#REF!","v":{"$error":"#REF!"}}]
[{"$f":"'E4-Baseline Measurements'!#REF!","v":{"$error":"#REF!"}},{"$error":"#REF!"},{"$error":"#REF!"},{"$f":"'E4-Baseline Measurements'!#REF!","v":{"$error":"#REF!"}}]
[{"$f":"'E4-Baseline Measurements'!#REF!","v":{"$error":"#REF!"}},{"$error":"#REF!"},{"$error":"#REF!"},{"$f":"'E4-Baseline Measurements'!#REF!","v":{"$error":"#REF!"}}]
[{"$f":"'E4-Baseline Measurements'!#REF!","v":{"$error":"#REF!"}},{"$error":"#REF!"},{"$error":"#REF!"},{"$f":"'E4-Baseline Measurements'!#REF!","v":{"$error":"#REF!"}}]
[{"$f":"'E4-Baseline Measurements'!#REF!","v":{"$error":"#REF!"}},{"$error":"#REF!"},{"$error":"#REF!"},{"$f":"'E4-Baseline Measurements'!#REF!","v":{"$error":"#REF!"}}]
[{"$f":"'E4-Baseline Measurements'!#REF!","v":{"$error":"#REF!"}},{"$error":"#REF!"},{"$error":"#REF!"},{"$f":"'E4-Baseline Measurements'!#REF!","v":{"$error":"#REF!"}}]
[{"$f":"'E4-Baseline Measurements'!#REF!","v":{"$error":"#REF!"}},{"$error":"#REF!"},{"$error":"#REF!"},{"$f":"'E4-Baseline Measurements'!#REF!","v":{"$error":"#REF!"}}]
[{"$f":"'E4-Baseline Measurements'!#REF!","v":{"$error":"#REF!"}},{"$error":"#REF!"},{"$error":"#REF!"},{"$f":"'E4-Baseline Measurements'!#REF!","v":{"$error":"#REF!"}}]
[{"$f":"'E4-Baseline Measurements'!#REF!","v":{"$error":"#REF!"}},{"$error":"#REF!"},{"$error":"#REF!"},{"$f":"'E4-Baseline Measurements'!#REF!","v":{"$error":"#REF!"}}]
[{"$f":"'E4-Baseline Measurements'!#REF!","v":{"$error":"#REF!"}},{"$error":"#REF!"},{"$error":"#REF!"},{"$f":"'E4-Baseline Measurements'!#REF!","v":{"$error":"#REF!"}}]
[{"$f":"'E4-Baseline Measurements'!#REF!","v":{"$error":"#REF!"}},{"$error":"#REF!"},{"$error":"#REF!"},{"$f":"'E4-Baseline Measurements'!#REF!","v":{"$error":"#REF!"}}]
[{"$f":"'E4-Baseline Measurements'!#REF!","v":{"$error":"#REF!"}},{"$error":"#REF!"},{"$error":"#REF!"},{"$f":"'E4-Baseline Measurements'!#REF!","v":{"$error":"#REF!"}}]
[{"$f":"'E4-Baseline Measurements'!#REF!","v":{"$error":"#REF!"}},{"$error":"#REF!"},{"$error":"#REF!"},{"$f":"'E4-Baseline Measurements'!#REF!","v":{"$error":"#REF!"}}]
[{"$f":"'E4-Baseline Measurements'!#REF!","v":{"$error":"#REF!"}},{"$error":"#REF!"},{"$error":"#REF!"},{"$f":"'E4-Baseline Measurements'!#REF!","v":{"$error":"#REF!"}}]
[{"$f":"'E4-Baseline Measurements'!#REF!","v":{"$error":"#REF!"}},{"$error":"#REF!"},{"$error":"#REF!"},{"$f":"'E4-Baseline Measurements'!#REF!","v":{"$error":"#REF!"}}]
[{"$f":"'E4-Baseline Measurements'!#REF!","v":{"$error":"#REF!"}},{"$error":"#REF!"},{"$error":"#REF!"},{"$f":"'E4-Baseline Measurements'!#REF!","v":{"$error":"#REF!"}}]
[{"$f":"'E4-Baseline Measurements'!#REF!","v":{"$error":"#REF!"}},{"$error":"#REF!"},{"$error":"#REF!"},{"$f":"'E4-Baseline Measurements'!#REF!","v":{"$error":"#REF!"}}]
[{"$f":"'E4-Baseline Measurements'!#REF!","v":{"$error":"#REF!"}},{"$error":"#REF!"},{"$error":"#REF!"},{"$f":"'E4-Baseline Measurements'!#REF!","v":{"$error":"#REF!"}}]
[{"$f":"'E4-Baseline Measurements'!#REF!","v":{"$error":"#REF!"}},{"$error":"#REF!"},{"$error":"#REF!"},{"$f":"'E4-Baseline Measurements'!#REF!","v":{"$error":"#REF!"}}]
[{"$f":"'E4-Baseline Measurements'!#REF!","v":{"$error":"#REF!"}},{"$error":"#REF!"},{"$error":"#REF!"},{"$f":"'E4-Baseline Measurements'!#REF!","v":{"$error":"#REF!"}}]
[{"$f":"'E4-Baseline Measurements'!#REF!","v":{"$error":"#REF!"}},{"$error":"#REF!"},{"$error":"#REF!"},{"$f":"'E4-Baseline Measurements'!#REF!","v":{"$error":"#REF!"}}]
[{"$f":"'E4-Baseline Measurements'!#REF!","v":{"$error":"#REF!"}},{"$error":"#REF!"},{"$error":"#REF!"},{"$f":"'E4-Baseline Measurements'!#REF!","v":{"$error":"#REF!"}}]
[{"$f":"'E4-Baseline Measurements'!#REF!","v":{"$error":"#REF!"}},{"$f":"1.05*$F$2-0.05*$F$4","v":{"$error":"#REF!"}},{"$f":"1.05*$F$4-0.05*$F$2","v":{"$error":"#REF!"}},{"$f":"'E4-Baseline Measurements'!#REF!","v":{"$error":"#REF!"}}]
[{"$f":"'E4-Baseline Measurements'!#REF!","v":{"$error":"#REF!"}},{"$error":"#REF!"},{"$error":"#REF!"},{"$f":"'E4-Baseline Measurements'!#REF!","v":{"$error":"#REF!"}}]
[{"$f":"'E4-Baseline Measurements'!#REF!","v":{"$error":"#REF!"}},{"$error":"#REF!"},{"$error":"#REF!"},{"$f":"'E4-Baseline Measurements'!#REF!","v":{"$error":"#REF!"}}]
[{"$f":"'E4-Baseline Measurements'!#REF!","v":{"$error":"#REF!"}},{"$error":"#REF!"},{"$error":"#REF!"},{"$f":"'E4-Baseline Measurements'!#REF!","v":{"$error":"#REF!"}}]
[{"$f":"'E4-Baseline Measurements'!#REF!","v":{"$error":"#REF!"}},{"$error":"#REF!"},{"$error":"#REF!"},{"$f":"'E4-Baseline Measurements'!#REF!","v":{"$error":"#REF!"}}]
[{"$f":"'E4-Baseline Measurements'!#REF!","v":{"$error":"#REF!"}},{"$error":"#REF!"},{"$error":"#REF!"},{"$f":"'E4-Baseline Measurements'!#REF!","v":{"$error":"#REF!"}}]
[{"$f":"'E4-Baseline Measurements'!#REF!","v":{"$error":"#REF!"}},{"$error":"#REF!"},{"$error":"#REF!"},{"$f":"'E4-Baseline Measurements'!#REF!","v":{"$error":"#REF!"}}]
[{"$f":"'E4-Baseline Measurements'!#REF!","v":{"$error":"#REF!"}},{"$error":"#REF!"},{"$error":"#REF!"},{"$f":"'E4-Baseline Measurements'!#REF!","v":{"$error":"#REF!"}}]
[{"$f":"'E4-Baseline Measurements'!#REF!","v":{"$error":"#REF!"}},{"$error":"#REF!"},{"$error":"#REF!"},{"$f":"'E4-Baseline Measurements'!#REF!","v":{"$error":"#REF!"}}]
[{"$f":"'E4-Baseline Measurements'!#REF!","v":{"$error":"#REF!"}},{"$error":"#REF!"},{"$error":"#REF!"},{"$f":"'E4-Baseline Measurements'!#REF!","v":{"$error":"#REF!"}}]
[{"$f":"'E4-Baseline Measurements'!#REF!","v":{"$error":"#REF!"}},{"$error":"#REF!"},{"$error":"#REF!"},{"$f":"'E4-Baseline Measurements'!#REF!","v":{"$error":"#REF!"}}]
[{"$f":"'E4-Baseline Measurements'!#REF!","v":{"$error":"#REF!"}},{"$error":"#REF!"},{"$error":"#REF!"},{"$f":"'E4-Baseline Measurements'!#REF!","v":{"$error":"#REF!"}}]
[{"$f":"'E4-Baseline Measurements'!#REF!","v":{"$error":"#REF!"}},{"$error":"#REF!"},{"$error":"#REF!"},{"$f":"'E4-Baseline Measurements'!#REF!","v":{"$error":"#REF!"}}]
[{"$f":"'E4-Baseline Measurements'!#REF!","v":{"$error":"#REF!"}},{"$error":"#REF!"},{"$error":"#REF!"},{"$f":"'E4-Baseline Measurements'!#REF!","v":{"$error":"#REF!"}}]
[{"$f":"'E4-Baseline Measurements'!#REF!","v":{"$error":"#REF!"}},{"$error":"#REF!"},{"$error":"#REF!"},{"$f":"'E4-Baseline Measurements'!#REF!","v":{"$error":"#REF!"}}]
[{"$f":"'E4-Baseline Measurements'!#REF!","v":{"$error":"#REF!"}},{"$error":"#REF!"},{"$error":"#REF!"},{"$f":"'E4-Baseline Measurements'!#REF!","v":{"$error":"#REF!"}}]
[{"$f":"'E4-Baseline Measurements'!#REF!","v":{"$error":"#REF!"}},{"$error":"#REF!"},{"$error":"#REF!"},{"$f":"'E4-Baseline Measurements'!#REF!","v":{"$error":"#REF!"}}]
[{"$f":"'E4-Baseline Measurements'!#REF!","v":{"$error":"#REF!"}},{"$error":"#REF!"},{"$error":"#REF!"},{"$f":"'E4-Baseline Measurements'!#REF!","v":{"$error":"#REF!"}}]
[{"$f":"'E4-Baseline Measurements'!#REF!","v":{"$error":"#REF!"}},{"$error":"#REF!"},{"$error":"#REF!"},{"$f":"'E4-Baseline Measurements'!#REF!","v":{"$error":"#REF!"}}]
[{"$f":"'E4-Baseline Measurements'!#REF!","v":{"$error":"#REF!"}},{"$error":"#REF!"},{"$error":"#REF!"},{"$f":"'E4-Baseline Measurements'!#REF!","v":{"$error":"#REF!"}}]
[{"$f":"'E4-Baseline Measurements'!#REF!","v":{"$error":"#REF!"}},{"$error":"#REF!"},{"$error":"#REF!"},{"$f":"'E4-Baseline Measurements'!#REF!","v":{"$error":"#REF!"}}]
[{"$f":"'E4-Baseline Measurements'!#REF!","v":{"$error":"#REF!"}},{"$error":"#REF!"},{"$error":"#REF!"},{"$f":"'E4-Baseline Measurements'!#REF!","v":{"$error":"#REF!"}}]
[{"$f":"'E4-Baseline Measurements'!#REF!","v":{"$error":"#REF!"}},{"$error":"#REF!"},{"$error":"#REF!"},{"$f":"'E4-Baseline Measurements'!#REF!","v":{"$error":"#REF!"}}]
[{"$f":"'E4-Baseline Measurements'!#REF!","v":{"$error":"#REF!"}},{"$error":"#REF!"},{"$error":"#REF!"},{"$f":"'E4-Baseline Measurements'!#REF!","v":{"$error":"#REF!"}}]
[{"$f":"'E4-Baseline Measurements'!#REF!","v":{"$error":"#REF!"}},{"$error":"#REF!"},{"$error":"#REF!"},{"$f":"'E4-Baseline Measurements'!#REF!","v":{"$error":"#REF!"}}]
[{"$f":"'E4-Baseline Measurements'!#REF!","v":{"$error":"#REF!"}},{"$error":"#REF!"},{"$error":"#REF!"},{"$f":"'E4-Baseline Measurements'!#REF!","v":{"$error":"#REF!"}}]
[{"$f":"'E4-Baseline Measurements'!#REF!","v":{"$error":"#REF!"}},{"$error":"#REF!"},{"$error":"#REF!"},{"$f":"'E4-Baseline Measurements'!#REF!","v":{"$error":"#REF!"}}]
[{"$f":"'E4-Baseline Measurements'!#REF!","v":{"$error":"#REF!"}},{"$error":"#REF!"},{"$error":"#REF!"},{"$f":"'E4-Baseline Measurements'!#REF!","v":{"$error":"#REF!"}}]
[{"$f":"'E4-Baseline Measurements'!#REF!","v":{"$error":"#REF!"}},{"$error":"#REF!"},{"$error":"#REF!"},{"$f":"'E4-Baseline Measurements'!#REF!","v":{"$error":"#REF!"}}]
[{"$f":"'E4-Baseline Measurements'!#REF!","v":{"$error":"#REF!"}},{"$error":"#REF!"},{"$error":"#REF!"},{"$f":"'E4-Baseline Measurements'!#REF!","v":{"$error":"#REF!"}}]
[{"$f":"'E4-Baseline Measurements'!#REF!","v":{"$error":"#REF!"}},{"$error":"#REF!"},{"$error":"#REF!"},{"$f":"'E4-Baseline Measurements'!#REF!","v":{"$error":"#REF!"}}]
[{"$f":"'E4-Baseline Measurements'!#REF!","v":{"$error":"#REF!"}},{"$error":"#REF!"},{"$error":"#REF!"},{"$f":"'E4-Baseline Measurements'!#REF!","v":{"$error":"#REF!"}}]
[{"$f":"'E4-Baseline Measurements'!#REF!","v":{"$error":"#REF!"}},{"$error":"#REF!"},{"$error":"#REF!"},{"$f":"'E4-Baseline Measurements'!#REF!","v":{"$error":"#REF!"}}]
[{"$f":"'E4-Baseline Measurements'!#REF!","v":{"$error":"#REF!"}},{"$error":"#REF!"},{"$error":"#REF!"},{"$f":"'E4-Baseline Measurements'!#REF!","v":{"$error":"#REF!"}}]
[{"$f":"'E4-Baseline Measurements'!#REF!","v":{"$error":"#REF!"}},{"$error":"#REF!"},{"$error":"#REF!"},{"$f":"'E4-Baseline Measurements'!#REF!","v":{"$error":"#REF!"}}]
[{"$f":"'E4-Baseline Measurements'!#REF!","v":{"$error":"#REF!"}},{"$error":"#REF!"},{"$error":"#REF!"},{"$f":"'E4-Baseline Measurements'!#REF!","v":{"$error":"#REF!"}}]
[{"$f":"'E4-Baseline Measurements'!#REF!","v":{"$error":"#REF!"}},{"$error":"#REF!"},{"$error":"#REF!"},{"$f":"'E4-Baseline Measurements'!#REF!","v":{"$error":"#REF!"}}]
[{"$f":"'E4-Baseline Measurements'!#REF!","v":{"$error":"#REF!"}},{"$error":"#REF!"},{"$error":"#REF!"},{"$f":"'E4-Baseline Measurements'!#REF!","v":{"$error":"#REF!"}}]
[{"$f":"'E4-Baseline Measurements'!#REF!","v":{"$error":"#REF!"}},{"$error":"#REF!"},{"$error":"#REF!"},{"$f":"'E4-Baseline Measurements'!#REF!","v":{"$error":"#REF!"}}]
[{"$f":"'E4-Baseline Measurements'!#REF!","v":{"$error":"#REF!"}},{"$error":"#REF!"},{"$error":"#REF!"},{"$f":"'E4-Baseline Measurements'!#REF!","v":{"$error":"#REF!"}}]
[{"$f":"'E4-Baseline Measurements'!#REF!","v":{"$error":"#REF!"}},{"$error":"#REF!"},{"$error":"#REF!"},{"$f":"'E4-Baseline Measurements'!#REF!","v":{"$error":"#REF!"}}]
[{"$f":"'E4-Baseline Measurements'!#REF!","v":{"$error":"#REF!"}},{"$error":"#REF!"},{"$error":"#REF!"},{"$f":"'E4-Baseline Measurements'!#REF!","v":{"$error":"#REF!"}}]
[{"$f":"'E4-Baseline Measurements'!#REF!","v":{"$error":"#REF!"}},{"$error":"#REF!"},{"$error":"#REF!"},{"$f":"'E4-Baseline Measurements'!#REF!","v":{"$error":"#REF!"}}]
[{"$f":"'E4-Baseline Measurements'!#REF!","v":{"$error":"#REF!"}},{"$error":"#REF!"},{"$error":"#REF!"},{"$f":"'E4-Baseline Measurements'!#REF!","v":{"$error":"#REF!"}}]
[{"$f":"'E4-Baseline Measurements'!#REF!","v":{"$error":"#REF!"}},{"$error":"#REF!"},{"$error":"#REF!"},{"$f":"'E4-Baseline Measurements'!#REF!","v":{"$error":"#REF!"}}]
[{"$f":"'E4-Baseline Measurements'!#REF!","v":{"$error":"#REF!"}},{"$error":"#REF!"},{"$error":"#REF!"},{"$f":"'E4-Baseline Measurements'!#REF!","v":{"$error":"#REF!"}}]
[{"$f":"'E4-Baseline Measurements'!#REF!","v":{"$error":"#REF!"}},{"$error":"#REF!"},{"$error":"#REF!"},{"$f":"'E4-Baseline Measurements'!#REF!","v":{"$error":"#REF!"}}]
[{"$f":"'E4-Baseline Measurements'!#REF!","v":{"$error":"#REF!"}},{"$error":"#REF!"},{"$error":"#REF!"},{"$f":"'E4-Baseline Measurements'!#REF!","v":{"$error":"#REF!"}}]
[{"$f":"'E4-Baseline Measurements'!#REF!","v":{"$error":"#REF!"}},{"$error":"#REF!"},{"$error":"#REF!"},{"$f":"'E4-Baseline Measurements'!#REF!","v":{"$error":"#REF!"}}]
[{"$f":"'E4-Baseline Measurements'!#REF!","v":{"$error":"#REF!"}},{"$error":"#REF!"},{"$error":"#REF!"},{"$f":"'E4-Baseline Measurements'!#REF!","v":{"$error":"#REF!"}}]
[{"$f":"'E4-Baseline Measurements'!#REF!","v":{"$error":"#REF!"}},{"$error":"#REF!"},{"$error":"#REF!"},{"$f":"'E4-Baseline Measurements'!#REF!","v":{"$error":"#REF!"}}]
[{"$f":"'E4-Baseline Measurements'!#REF!","v":{"$error":"#REF!"}},{"$error":"#REF!"},{"$error":"#REF!"},{"$f":"'E4-Baseline Measurements'!#REF!","v":{"$error":"#REF!"}}]
[{"$f":"'E4-Baseline Measurements'!#REF!","v":{"$error":"#REF!"}},{"$error":"#REF!"},{"$error":"#REF!"},{"$f":"'E4-Baseline Measurements'!#REF!","v":{"$error":"#REF!"}}]
[{"$f":"'E4-Baseline Measurements'!#REF!","v":{"$error":"#REF!"}},{"$error":"#REF!"},{"$error":"#REF!"},{"$f":"'E4-Baseline Measurements'!#REF!","v":{"$error":"#REF!"}}]
[{"$f":"'E4-Baseline Measurements'!#REF!","v":{"$error":"#REF!"}},{"$error":"#REF!"},{"$error":"#REF!"},{"$f":"'E4-Baseline Measurements'!#REF!","v":{"$error":"#REF!"}}]
[{"$f":"'E4-Baseline Measurements'!#REF!","v":{"$error":"#REF!"}},{"$error":"#REF!"},{"$error":"#REF!"},{"$f":"'E4-Baseline Measurements'!#REF!","v":{"$error":"#REF!"}}]
[{"$f":"'E4-Baseline Measurements'!#REF!","v":{"$error":"#REF!"}},{"$error":"#REF!"},{"$error":"#REF!"},{"$f":"'E4-Baseline Measurements'!#REF!","v":{"$error":"#REF!"}}]
[{"$f":"'E4-Baseline Measurements'!#REF!","v":{"$error":"#REF!"}},{"$error":"#REF!"},{"$error":"#REF!"},{"$f":"'E4-Baseline Measurements'!#REF!","v":{"$error":"#REF!"}}]
[{"$f":"'E4-Baseline Measurements'!#REF!","v":{"$error":"#REF!"}},{"$error":"#REF!"},{"$error":"#REF!"},{"$f":"'E4-Baseline Measurements'!#REF!","v":{"$error":"#REF!"}}]
[{"$f":"'E4-Baseline Measurements'!#REF!","v":{"$error":"#REF!"}},{"$error":"#REF!"},{"$error":"#REF!"},{"$f":"'E4-Baseline Measurements'!#REF!","v":{"$error":"#REF!"}}]
[{"$f":"'E4-Baseline Measurements'!#REF!","v":{"$error":"#REF!"}},{"$error":"#REF!"},{"$error":"#REF!"},{"$f":"'E4-Baseline Measurements'!#REF!","v":{"$error":"#REF!"}}]
[{"$f":"'E4-Baseline Measurements'!#REF!","v":{"$error":"#REF!"}},{"$error":"#REF!"},{"$error":"#REF!"},{"$f":"'E4-Baseline Measurements'!#REF!","v":{"$error":"#REF!"}}]
[{"$f":"'E4-Baseline Measurements'!#REF!","v":{"$error":"#REF!"}},{"$error":"#REF!"},{"$error":"#REF!"},{"$f":"'E4-Baseline Measurements'!#REF!","v":{"$error":"#REF!"}}]
[{"$f":"'E4-Baseline Measurements'!#REF!","v":{"$error":"#REF!"}},{"$error":"#REF!"},{"$error":"#REF!"},{"$f":"'E4-Baseline Measurements'!#REF!","v":{"$error":"#REF!"}}]
[{"$f":"'E4-Baseline Measurements'!#REF!","v":{"$error":"#REF!"}},{"$f":"1.05*$F$2-0.05*$F$4","v":{"$error":"#REF!"}},{"$f":"1.05*$F$4-0.05*$F$2","v":{"$error":"#REF!"}},{"$f":"'E4-Baseline Measurements'!#REF!","v":{"$error":"#REF!"}}]
[{"$f":"'E4-Baseline Measurements'!#REF!","v":{"$error":"#REF!"}},{"$error":"#REF!"},{"$error":"#REF!"},{"$f":"'E4-Baseline Measurements'!#REF!","v":{"$error":"#REF!"}}]
[{"$f":"'E4-Baseline Measurements'!#REF!","v":{"$error":"#REF!"}},{"$error":"#REF!"},{"$error":"#REF!"},{"$f":"'E4-Baseline Measurements'!#REF!","v":{"$error":"#REF!"}}]
[{"$f":"'E4-Baseline Measurements'!#REF!","v":{"$error":"#REF!"}},{"$error":"#REF!"},{"$error":"#REF!"},{"$f":"'E4-Baseline Measurements'!#REF!","v":{"$error":"#REF!"}}]
[{"$f":"'E4-Baseline Measurements'!#REF!","v":{"$error":"#REF!"}},{"$error":"#REF!"},{"$error":"#REF!"},{"$f":"'E4-Baseline Measurements'!#REF!","v":{"$error":"#REF!"}}]
[{"$f":"'E4-Baseline Measurements'!#REF!","v":{"$error":"#REF!"}},{"$error":"#REF!"},{"$error":"#REF!"},{"$f":"'E4-Baseline Measurements'!#REF!","v":{"$error":"#REF!"}}]
[{"$f":"'E4-Baseline Measurements'!#REF!","v":{"$error":"#REF!"}},{"$error":"#REF!"},{"$error":"#REF!"},{"$f":"'E4-Baseline Measurements'!#REF!","v":{"$error":"#REF!"}}]
[{"$f":"'E4-Baseline Measurements'!#REF!","v":{"$error":"#REF!"}},{"$error":"#REF!"},{"$error":"#REF!"},{"$f":"'E4-Baseline Measurements'!#REF!","v":{"$error":"#REF!"}}]
[{"$f":"'E4-Baseline Measurements'!#REF!","v":{"$error":"#REF!"}},{"$error":"#REF!"},{"$error":"#REF!"},{"$f":"'E4-Baseline Measurements'!#REF!","v":{"$error":"#REF!"}}]
[{"$f":"'E4-Baseline Measurements'!#REF!","v":{"$error":"#REF!"}},{"$error":"#REF!"},{"$error":"#REF!"},{"$f":"'E4-Baseline Measurements'!#REF!","v":{"$error":"#REF!"}}]
[{"$f":"'E4-Baseline Measurements'!#REF!","v":{"$error":"#REF!"}},{"$error":"#REF!"},{"$error":"#REF!"},{"$f":"'E4-Baseline Measurements'!#REF!","v":{"$error":"#REF!"}}]
[{"$f":"'E4-Baseline Measurements'!#REF!","v":{"$error":"#REF!"}},{"$error":"#REF!"},{"$error":"#REF!"},{"$f":"'E4-Baseline Measurements'!#REF!","v":{"$error":"#REF!"}}]
[{"$f":"'E4-Baseline Measurements'!#REF!","v":{"$error":"#REF!"}},{"$error":"#REF!"},{"$error":"#REF!"},{"$f":"'E4-Baseline Measurements'!#REF!","v":{"$error":"#REF!"}}]
[{"$f":"'E4-Baseline Measurements'!#REF!","v":{"$error":"#REF!"}},{"$error":"#REF!"},{"$error":"#REF!"},{"$f":"'E4-Baseline Measurements'!#REF!","v":{"$error":"#REF!"}}]
[{"$f":"'E4-Baseline Measurements'!#REF!","v":{"$error":"#REF!"}},{"$error":"#REF!"},{"$error":"#REF!"},{"$f":"'E4-Baseline Measurements'!#REF!","v":{"$error":"#REF!"}}]
[{"$f":"'E4-Baseline Measurements'!#REF!","v":{"$error":"#REF!"}},{"$error":"#REF!"},{"$error":"#REF!"},{"$f":"'E4-Baseline Measurements'!#REF!","v":{"$error":"#REF!"}}]
[{"$f":"'E4-Baseline Measurements'!#REF!","v":{"$error":"#REF!"}},{"$error":"#REF!"},{"$error":"#REF!"},{"$f":"'E4-Baseline Measurements'!#REF!","v":{"$error":"#REF!"}}]
[{"$f":"'E4-Baseline Measurements'!#REF!","v":{"$error":"#REF!"}},{"$error":"#REF!"},{"$error":"#REF!"},{"$f":"'E4-Baseline Measurements'!#REF!","v":{"$error":"#REF!"}}]
[{"$f":"'E4-Baseline Measurements'!#REF!","v":{"$error":"#REF!"}},{"$error":"#REF!"},{"$error":"#REF!"},{"$f":"'E4-Baseline Measurements'!#REF!","v":{"$error":"#REF!"}}]
[{"$f":"'E4-Baseline Measurements'!#REF!","v":{"$error":"#REF!"}},{"$error":"#REF!"},{"$error":"#REF!"},{"$f":"'E4-Baseline Measurements'!#REF!","v":{"$error":"#REF!"}}]
[{"$f":"'E4-Baseline Measurements'!#REF!","v":{"$error":"#REF!"}},{"$error":"#REF!"},{"$error":"#REF!"},{"$f":"'E4-Baseline Measurements'!#REF!","v":{"$error":"#REF!"}}]
[{"$f":"'E4-Baseline Measurements'!#REF!","v":{"$error":"#REF!"}},{"$error":"#REF!"},{"$error":"#REF!"},{"$f":"'E4-Baseline Measurements'!#REF!","v":{"$error":"#REF!"}}]
[{"$f":"'E4-Baseline Measurements'!#REF!","v":{"$error":"#REF!"}},{"$error":"#REF!"},{"$error":"#REF!"},{"$f":"'E4-Baseline Measurements'!#REF!","v":{"$error":"#REF!"}}]
[{"$f":"'E4-Baseline Measurements'!#REF!","v":{"$error":"#REF!"}},{"$error":"#REF!"},{"$error":"#REF!"},{"$f":"'E4-Baseline Measurements'!#REF!","v":{"$error":"#REF!"}}]
[{"$f":"'E4-Baseline Measurements'!#REF!","v":{"$error":"#REF!"}},{"$error":"#REF!"},{"$error":"#REF!"},{"$f":"'E4-Baseline Measurements'!#REF!","v":{"$error":"#REF!"}}]
[{"$f":"'E4-Baseline Measurements'!#REF!","v":{"$error":"#REF!"}},{"$error":"#REF!"},{"$error":"#REF!"},{"$f":"'E4-Baseline Measurements'!#REF!","v":{"$error":"#REF!"}}]
[{"$f":"'E4-Baseline Measurements'!#REF!","v":{"$error":"#REF!"}},{"$error":"#REF!"},{"$error":"#REF!"},{"$f":"'E4-Baseline Measurements'!#REF!","v":{"$error":"#REF!"}}]
[{"$f":"'E4-Baseline Measurements'!#REF!","v":{"$error":"#REF!"}},{"$error":"#REF!"},{"$error":"#REF!"},{"$f":"'E4-Baseline Measurements'!#REF!","v":{"$error":"#REF!"}}]
[{"$f":"'E4-Baseline Measurements'!#REF!","v":{"$error":"#REF!"}},{"$error":"#REF!"},{"$error":"#REF!"},{"$f":"'E4-Baseline Measurements'!#REF!","v":{"$error":"#REF!"}}]
[{"$f":"'E4-Baseline Measurements'!#REF!","v":{"$error":"#REF!"}},{"$error":"#REF!"},{"$error":"#REF!"},{"$f":"'E4-Baseline Measurements'!#REF!","v":{"$error":"#REF!"}}]
[{"$f":"'E4-Baseline Measurements'!#REF!","v":{"$error":"#REF!"}},{"$error":"#REF!"},{"$error":"#REF!"},{"$f":"'E4-Baseline Measurements'!#REF!","v":{"$error":"#REF!"}}]
[{"$f":"'E4-Baseline Measurements'!#REF!","v":{"$error":"#REF!"}},{"$error":"#REF!"},{"$error":"#REF!"},{"$f":"'E4-Baseline Measurements'!#REF!","v":{"$error":"#REF!"}}]
[{"$f":"'E4-Baseline Measurements'!#REF!","v":{"$error":"#REF!"}},{"$error":"#REF!"},{"$error":"#REF!"},{"$f":"'E4-Baseline Measurements'!#REF!","v":{"$error":"#REF!"}}]
[{"$f":"'E4-Baseline Measurements'!#REF!","v":{"$error":"#REF!"}},{"$error":"#REF!"},{"$error":"#REF!"},{"$f":"'E4-Baseline Measurements'!#REF!","v":{"$error":"#REF!"}}]
[{"$f":"'E4-Baseline Measurements'!#REF!","v":{"$error":"#REF!"}},{"$error":"#REF!"},{"$error":"#REF!"},{"$f":"'E4-Baseline Measurements'!#REF!","v":{"$error":"#REF!"}}]
[{"$f":"'E4-Baseline Measurements'!#REF!","v":{"$error":"#REF!"}},{"$error":"#REF!"},{"$error":"#REF!"},{"$f":"'E4-Baseline Measurements'!#REF!","v":{"$error":"#REF!"}}]
[{"$f":"'E4-Baseline Measurements'!#REF!","v":{"$error":"#REF!"}},{"$error":"#REF!"},{"$error":"#REF!"},{"$f":"'E4-Baseline Measurements'!#REF!","v":{"$error":"#REF!"}}]
[{"$f":"'E4-Baseline Measurements'!#REF!","v":{"$error":"#REF!"}},{"$error":"#REF!"},{"$error":"#REF!"},{"$f":"'E4-Baseline Measurements'!#REF!","v":{"$error":"#REF!"}}]
[{"$f":"'E4-Baseline Measurements'!#REF!","v":{"$error":"#REF!"}},{"$error":"#REF!"},{"$error":"#REF!"},{"$f":"'E4-Baseline Measurements'!#REF!","v":{"$error":"#REF!"}}]
[{"$f":"'E4-Baseline Measurements'!#REF!","v":{"$error":"#REF!"}},{"$error":"#REF!"},{"$error":"#REF!"},{"$f":"'E4-Baseline Measurements'!#REF!","v":{"$error":"#REF!"}}]
[{"$f":"'E4-Baseline Measurements'!#REF!","v":{"$error":"#REF!"}},{"$error":"#REF!"},{"$error":"#REF!"},{"$f":"'E4-Baseline Measurements'!#REF!","v":{"$error":"#REF!"}}]
[{"$f":"'E4-Baseline Measurements'!#REF!","v":{"$error":"#REF!"}},{"$error":"#REF!"},{"$error":"#REF!"},{"$f":"'E4-Baseline Measurements'!#REF!","v":{"$error":"#REF!"}}]
[{"$f":"'E4-Baseline Measurements'!#REF!","v":{"$error":"#REF!"}},{"$error":"#REF!"},{"$error":"#REF!"},{"$f":"'E4-Baseline Measurements'!#REF!","v":{"$error":"#REF!"}}]
[{"$f":"'E4-Baseline Measurements'!#REF!","v":{"$error":"#REF!"}},{"$error":"#REF!"},{"$error":"#REF!"},{"$f":"'E4-Baseline Measurements'!#REF!","v":{"$error":"#REF!"}}]
[{"$f":"'E4-Baseline Measurements'!#REF!","v":{"$error":"#REF!"}},{"$error":"#REF!"},{"$error":"#REF!"},{"$f":"'E4-Baseline Measurements'!#REF!","v":{"$error":"#REF!"}}]
[{"$f":"'E4-Baseline Measurements'!#REF!","v":{"$error":"#REF!"}},{"$error":"#REF!"},{"$error":"#REF!"},{"$f":"'E4-Baseline Measurements'!#REF!","v":{"$error":"#REF!"}}]
[{"$f":"'E4-Baseline Measurements'!#REF!","v":{"$error":"#REF!"}},{"$error":"#REF!"},{"$error":"#REF!"},{"$f":"'E4-Baseline Measurements'!#REF!","v":{"$error":"#REF!"}}]
[{"$f":"'E4-Baseline Measurements'!#REF!","v":{"$error":"#REF!"}},{"$error":"#REF!"},{"$error":"#REF!"},{"$f":"'E4-Baseline Measurements'!#REF!","v":{"$error":"#REF!"}}]
[{"$f":"'E4-Baseline Measurements'!#REF!","v":{"$error":"#REF!"}},{"$error":"#REF!"},{"$error":"#REF!"},{"$f":"'E4-Baseline Measurements'!#REF!","v":{"$error":"#REF!"}}]
[{"$f":"'E4-Baseline Measurements'!#REF!","v":{"$error":"#REF!"}},{"$error":"#REF!"},{"$error":"#REF!"},{"$f":"'E4-Baseline Measurements'!#REF!","v":{"$error":"#REF!"}}]
[{"$f":"'E4-Baseline Measurements'!#REF!","v":{"$error":"#REF!"}},{"$error":"#REF!"},{"$error":"#REF!"},{"$f":"'E4-Baseline Measurements'!#REF!","v":{"$error":"#REF!"}}]
[{"$f":"'E4-Baseline Measurements'!#REF!","v":{"$error":"#REF!"}},{"$error":"#REF!"},{"$error":"#REF!"},{"$f":"'E4-Baseline Measurements'!#REF!","v":{"$error":"#REF!"}}]
[{"$f":"'E4-Baseline Measurements'!#REF!","v":{"$error":"#REF!"}},{"$error":"#REF!"},{"$error":"#REF!"},{"$f":"'E4-Baseline Measurements'!#REF!","v":{"$error":"#REF!"}}]
[{"$f":"'E4-Baseline Measurements'!#REF!","v":{"$error":"#REF!"}},{"$error":"#REF!"},{"$error":"#REF!"},{"$f":"'E4-Baseline Measurements'!#REF!","v":{"$error":"#REF!"}}]
[{"$f":"'E4-Baseline Measurements'!#REF!","v":{"$error":"#REF!"}},{"$error":"#REF!"},{"$error":"#REF!"},{"$f":"'E4-Baseline Measurements'!#REF!","v":{"$error":"#REF!"}}]
[{"$f":"'E4-Baseline Measurements'!#REF!","v":{"$error":"#REF!"}},{"$error":"#REF!"},{"$error":"#REF!"},{"$f":"'E4-Baseline Measurements'!#REF!","v":{"$error":"#REF!"}}]
[{"$f":"'E4-Baseline Measurements'!#REF!","v":{"$error":"#REF!"}},{"$error":"#REF!"},{"$error":"#REF!"},{"$f":"'E4-Baseline Measurements'!#REF!","v":{"$error":"#REF!"}}]
[{"$f":"'E4-Baseline Measurements'!#REF!","v":{"$error":"#REF!"}},{"$error":"#REF!"},{"$error":"#REF!"},{"$f":"'E4-Baseline Measurements'!#REF!","v":{"$error":"#REF!"}}]
[{"$f":"'E4-Baseline Measurements'!#REF!","v":{"$error":"#REF!"}},{"$error":"#REF!"},{"$error":"#REF!"},{"$f":"'E4-Baseline Measurements'!#REF!","v":{"$error":"#REF!"}}]
[{"$f":"'E4-Baseline Measurements'!#REF!","v":{"$error":"#REF!"}},{"$error":"#REF!"},{"$error":"#REF!"},{"$f":"'E4-Baseline Measurements'!#REF!","v":{"$error":"#REF!"}}]
[{"$f":"'E4-Baseline Measurements'!#REF!","v":{"$error":"#REF!"}},{"$error":"#REF!"},{"$error":"#REF!"},{"$f":"'E4-Baseline Measurements'!#REF!","v":{"$error":"#REF!"}}]
[{"$f":"'E4-Baseline Measurements'!#REF!","v":{"$error":"#REF!"}},{"$error":"#REF!"},{"$error":"#REF!"},{"$f":"'E4-Baseline Measurements'!#REF!","v":{"$error":"#REF!"}}]
[{"$f":"'E4-Baseline Measurements'!#REF!","v":{"$error":"#REF!"}},{"$error":"#REF!"},{"$error":"#REF!"},{"$f":"'E4-Baseline Measurements'!#REF!","v":{"$error":"#REF!"}}]
[{"$f":"'E4-Baseline Measurements'!#REF!","v":{"$error":"#REF!"}},{"$error":"#REF!"},{"$error":"#REF!"},{"$f":"'E4-Baseline Measurements'!#REF!","v":{"$error":"#REF!"}}]
[{"$f":"'E4-Baseline Measurements'!#REF!","v":{"$error":"#REF!"}},{"$f":"1.05*$F$2-0.05*$F$4","v":{"$error":"#REF!"}},{"$f":"1.05*$F$4-0.05*$F$2","v":{"$error":"#REF!"}},{"$f":"'E4-Baseline Measurements'!#REF!","v":{"$error":"#REF!"}}]
[{"$f":"'E4-Baseline Measurements'!#REF!","v":{"$error":"#REF!"}},{"$error":"#REF!"},{"$error":"#REF!"},{"$f":"'E4-Baseline Measurements'!#REF!","v":{"$error":"#REF!"}}]
[{"$f":"'E4-Baseline Measurements'!#REF!","v":{"$error":"#REF!"}},{"$error":"#REF!"},{"$error":"#REF!"},{"$f":"'E4-Baseline Measurements'!#REF!","v":{"$error":"#REF!"}}]
[{"$f":"'E4-Baseline Measurements'!#REF!","v":{"$error":"#REF!"}},{"$error":"#REF!"},{"$error":"#REF!"},{"$f":"'E4-Baseline Measurements'!#REF!","v":{"$error":"#REF!"}}]
[{"$f":"'E4-Baseline Measurements'!#REF!","v":{"$error":"#REF!"}},{"$error":"#REF!"},{"$error":"#REF!"},{"$f":"'E4-Baseline Measurements'!#REF!","v":{"$error":"#REF!"}}]
[{"$f":"'E4-Baseline Measurements'!#REF!","v":{"$error":"#REF!"}},{"$error":"#REF!"},{"$error":"#REF!"},{"$f":"'E4-Baseline Measurements'!#REF!","v":{"$error":"#REF!"}}]
[{"$f":"'E4-Baseline Measurements'!#REF!","v":{"$error":"#REF!"}},{"$error":"#REF!"},{"$error":"#REF!"},{"$f":"'E4-Baseline Measurements'!#REF!","v":{"$error":"#REF!"}}]
[{"$f":"'E4-Baseline Measurements'!#REF!","v":{"$error":"#REF!"}},{"$error":"#REF!"},{"$error":"#REF!"},{"$f":"'E4-Baseline Measurements'!#REF!","v":{"$error":"#REF!"}}]
[{"$f":"'E4-Baseline Measurements'!#REF!","v":{"$error":"#REF!"}},{"$error":"#REF!"},{"$error":"#REF!"},{"$f":"'E4-Baseline Measurements'!#REF!","v":{"$error":"#REF!"}}]
[{"$f":"'E4-Baseline Measurements'!#REF!","v":{"$error":"#REF!"}},{"$error":"#REF!"},{"$error":"#REF!"},{"$f":"'E4-Baseline Measurements'!#REF!","v":{"$error":"#REF!"}}]
[{"$f":"'E4-Baseline Measurements'!#REF!","v":{"$error":"#REF!"}},{"$error":"#REF!"},{"$error":"#REF!"},{"$f":"'E4-Baseline Measurements'!#REF!","v":{"$error":"#REF!"}}]
[{"$f":"'E4-Baseline Measurements'!#REF!","v":{"$error":"#REF!"}},{"$error":"#REF!"},{"$error":"#REF!"},{"$f":"'E4-Baseline Measurements'!#REF!","v":{"$error":"#REF!"}}]
[{"$f":"'E4-Baseline Measurements'!#REF!","v":{"$error":"#REF!"}},{"$error":"#REF!"},{"$error":"#REF!"},{"$f":"'E4-Baseline Measurements'!#REF!","v":{"$error":"#REF!"}}]
[{"$f":"'E4-Baseline Measurements'!#REF!","v":{"$error":"#REF!"}},{"$error":"#REF!"},{"$error":"#REF!"},{"$f":"'E4-Baseline Measurements'!#REF!","v":{"$error":"#REF!"}}]
[{"$f":"'E4-Baseline Measurements'!#REF!","v":{"$error":"#REF!"}},{"$error":"#REF!"},{"$error":"#REF!"},{"$f":"'E4-Baseline Measurements'!#REF!","v":{"$error":"#REF!"}}]
[{"$f":"'E4-Baseline Measurements'!#REF!","v":{"$error":"#REF!"}},{"$error":"#REF!"},{"$error":"#REF!"},{"$f":"'E4-Baseline Measurements'!#REF!","v":{"$error":"#REF!"}}]
[{"$f":"'E4-Baseline Measurements'!#REF!","v":{"$error":"#REF!"}},{"$error":"#REF!"},{"$error":"#REF!"},{"$f":"'E4-Baseline Measurements'!#REF!","v":{"$error":"#REF!"}}]
[{"$f":"'E4-Baseline Measurements'!#REF!","v":{"$error":"#REF!"}},{"$error":"#REF!"},{"$error":"#REF!"},{"$f":"'E4-Baseline Measurements'!#REF!","v":{"$error":"#REF!"}}]
[{"$f":"'E4-Baseline Measurements'!#REF!","v":{"$error":"#REF!"}},{"$error":"#REF!"},{"$error":"#REF!"},{"$f":"'E4-Baseline Measurements'!#REF!","v":{"$error":"#REF!"}}]
[{"$f":"'E4-Baseline Measurements'!#REF!","v":{"$error":"#REF!"}},{"$error":"#REF!"},{"$error":"#REF!"},{"$f":"'E4-Baseline Measurements'!#REF!","v":{"$error":"#REF!"}}]
[{"$f":"'E4-Baseline Measurements'!#REF!","v":{"$error":"#REF!"}},{"$error":"#REF!"},{"$error":"#REF!"},{"$f":"'E4-Baseline Measurements'!#REF!","v":{"$error":"#REF!"}}]
[{"$f":"'E4-Baseline Measurements'!#REF!","v":{"$error":"#REF!"}},{"$error":"#REF!"},{"$error":"#REF!"},{"$f":"'E4-Baseline Measurements'!#REF!","v":{"$error":"#REF!"}}]
[{"$f":"'E4-Baseline Measurements'!#REF!","v":{"$error":"#REF!"}},{"$error":"#REF!"},{"$error":"#REF!"},{"$f":"'E4-Baseline Measurements'!#REF!","v":{"$error":"#REF!"}}]
[{"$f":"'E4-Baseline Measurements'!#REF!","v":{"$error":"#REF!"}},{"$error":"#REF!"},{"$error":"#REF!"},{"$f":"'E4-Baseline Measurements'!#REF!","v":{"$error":"#REF!"}}]
[{"$f":"'E4-Baseline Measurements'!#REF!","v":{"$error":"#REF!"}},{"$error":"#REF!"},{"$error":"#REF!"},{"$f":"'E4-Baseline Measurements'!#REF!","v":{"$error":"#REF!"}}]
[{"$f":"'E4-Baseline Measurements'!#REF!","v":{"$error":"#REF!"}},{"$error":"#REF!"},{"$error":"#REF!"},{"$f":"'E4-Baseline Measurements'!#REF!","v":{"$error":"#REF!"}}]
[{"$f":"'E4-Baseline Measurements'!#REF!","v":{"$error":"#REF!"}},{"$error":"#REF!"},{"$error":"#REF!"},{"$f":"'E4-Baseline Measurements'!#REF!","v":{"$error":"#REF!"}}]
[{"$f":"'E4-Baseline Measurements'!#REF!","v":{"$error":"#REF!"}},{"$error":"#REF!"},{"$error":"#REF!"},{"$f":"'E4-Baseline Measurements'!#REF!","v":{"$error":"#REF!"}}]
[{"$f":"'E4-Baseline Measurements'!#REF!","v":{"$error":"#REF!"}},{"$error":"#REF!"},{"$error":"#REF!"},{"$f":"'E4-Baseline Measurements'!#REF!","v":{"$error":"#REF!"}}]
[{"$f":"'E4-Baseline Measurements'!#REF!","v":{"$error":"#REF!"}},{"$error":"#REF!"},{"$error":"#REF!"},{"$f":"'E4-Baseline Measurements'!#REF!","v":{"$error":"#REF!"}}]
[{"$f":"'E4-Baseline Measurements'!#REF!","v":{"$error":"#REF!"}},{"$error":"#REF!"},{"$error":"#REF!"},{"$f":"'E4-Baseline Measurements'!#REF!","v":{"$error":"#REF!"}}]
[{"$f":"'E4-Baseline Measurements'!#REF!","v":{"$error":"#REF!"}},{"$error":"#REF!"},{"$error":"#REF!"},{"$f":"'E4-Baseline Measurements'!#REF!","v":{"$error":"#REF!"}}]
[{"$f":"'E4-Baseline Measurements'!#REF!","v":{"$error":"#REF!"}},{"$error":"#REF!"},{"$error":"#REF!"},{"$f":"'E4-Baseline Measurements'!#REF!","v":{"$error":"#REF!"}}]
[{"$f":"'E4-Baseline Measurements'!#REF!","v":{"$error":"#REF!"}},{"$error":"#REF!"},{"$error":"#REF!"},{"$f":"'E4-Baseline Measurements'!#REF!","v":{"$error":"#REF!"}}]
[{"$f":"'E4-Baseline Measurements'!#REF!","v":{"$error":"#REF!"}},{"$error":"#REF!"},{"$error":"#REF!"},{"$f":"'E4-Baseline Measurements'!#REF!","v":{"$error":"#REF!"}}]
[{"$f":"'E4-Baseline Measurements'!#REF!","v":{"$error":"#REF!"}},{"$error":"#REF!"},{"$error":"#REF!"},{"$f":"'E4-Baseline Measurements'!#REF!","v":{"$error":"#REF!"}}]
[{"$f":"'E4-Baseline Measurements'!#REF!","v":{"$error":"#REF!"}},{"$error":"#REF!"},{"$error":"#REF!"},{"$f":"'E4-Baseline Measurements'!#REF!","v":{"$error":"#REF!"}}]
[{"$f":"'E4-Baseline Measurements'!#REF!","v":{"$error":"#REF!"}},{"$error":"#REF!"},{"$error":"#REF!"},{"$f":"'E4-Baseline Measurements'!#REF!","v":{"$error":"#REF!"}}]
[{"$f":"'E4-Baseline Measurements'!#REF!","v":{"$error":"#REF!"}},{"$error":"#REF!"},{"$error":"#REF!"},{"$f":"'E4-Baseline Measurements'!#REF!","v":{"$error":"#REF!"}}]
[{"$f":"'E4-Baseline Measurements'!#REF!","v":{"$error":"#REF!"}},{"$error":"#REF!"},{"$error":"#REF!"},{"$f":"'E4-Baseline Measurements'!#REF!","v":{"$error":"#REF!"}}]
[{"$f":"'E4-Baseline Measurements'!#REF!","v":{"$error":"#REF!"}},{"$error":"#REF!"},{"$error":"#REF!"},{"$f":"'E4-Baseline Measurements'!#REF!","v":{"$error":"#REF!"}}]
[{"$f":"'E4-Baseline Measurements'!#REF!","v":{"$error":"#REF!"}},{"$error":"#REF!"},{"$error":"#REF!"},{"$f":"'E4-Baseline Measurements'!#REF!","v":{"$error":"#REF!"}}]
[{"$f":"'E4-Baseline Measurements'!#REF!","v":{"$error":"#REF!"}},{"$error":"#REF!"},{"$error":"#REF!"},{"$f":"'E4-Baseline Measurements'!#REF!","v":{"$error":"#REF!"}}]
[{"$f":"'E4-Baseline Measurements'!#REF!","v":{"$error":"#REF!"}},{"$error":"#REF!"},{"$error":"#REF!"},{"$f":"'E4-Baseline Measurements'!#REF!","v":{"$error":"#REF!"}}]
[{"$f":"'E4-Baseline Measurements'!#REF!","v":{"$error":"#REF!"}},{"$error":"#REF!"},{"$error":"#REF!"},{"$f":"'E4-Baseline Measurements'!#REF!","v":{"$error":"#REF!"}}]
[{"$f":"'E4-Baseline Measurements'!#REF!","v":{"$error":"#REF!"}},{"$error":"#REF!"},{"$error":"#REF!"},{"$f":"'E4-Baseline Measurements'!#REF!","v":{"$error":"#REF!"}}]
[{"$f":"'E4-Baseline Measurements'!#REF!","v":{"$error":"#REF!"}},{"$error":"#REF!"},{"$error":"#REF!"},{"$f":"'E4-Baseline Measurements'!#REF!","v":{"$error":"#REF!"}}]
[{"$f":"'E4-Baseline Measurements'!#REF!","v":{"$error":"#REF!"}},{"$error":"#REF!"},{"$error":"#REF!"},{"$f":"'E4-Baseline Measurements'!#REF!","v":{"$error":"#REF!"}}]
[{"$f":"'E4-Baseline Measurements'!#REF!","v":{"$error":"#REF!"}},{"$error":"#REF!"},{"$error":"#REF!"},{"$f":"'E4-Baseline Measurements'!#REF!","v":{"$error":"#REF!"}}]
[{"$f":"'E4-Baseline Measurements'!#REF!","v":{"$error":"#REF!"}},{"$error":"#REF!"},{"$error":"#REF!"},{"$f":"'E4-Baseline Measurements'!#REF!","v":{"$error":"#REF!"}}]
[{"$f":"'E4-Baseline Measurements'!#REF!","v":{"$error":"#REF!"}},{"$error":"#REF!"},{"$error":"#REF!"},{"$f":"'E4-Baseline Measurements'!#REF!","v":{"$error":"#REF!"}}]
[{"$f":"'E4-Baseline Measurements'!#REF!","v":{"$error":"#REF!"}},{"$error":"#REF!"},{"$error":"#REF!"},{"$f":"'E4-Baseline Measurements'!#REF!","v":{"$error":"#REF!"}}]
[{"$f":"'E4-Baseline Measurements'!#REF!","v":{"$error":"#REF!"}},{"$error":"#REF!"},{"$error":"#REF!"},{"$f":"'E4-Baseline Measurements'!#REF!","v":{"$error":"#REF!"}}]
[{"$f":"'E4-Baseline Measurements'!#REF!","v":{"$error":"#REF!"}},{"$error":"#REF!"},{"$error":"#REF!"},{"$f":"'E4-Baseline Measurements'!#REF!","v":{"$error":"#REF!"}}]
[{"$f":"'E4-Baseline Measurements'!#REF!","v":{"$error":"#REF!"}},{"$error":"#REF!"},{"$error":"#REF!"},{"$f":"'E4-Baseline Measurements'!#REF!","v":{"$error":"#REF!"}}]
[{"$f":"'E4-Baseline Measurements'!#REF!","v":{"$error":"#REF!"}},{"$error":"#REF!"},{"$error":"#REF!"},{"$f":"'E4-Baseline Measurements'!#REF!","v":{"$error":"#REF!"}}]
[{"$f":"'E4-Baseline Measurements'!#REF!","v":{"$error":"#REF!"}},{"$error":"#REF!"},{"$error":"#REF!"},{"$f":"'E4-Baseline Measurements'!#REF!","v":{"$error":"#REF!"}}]
[{"$f":"'E4-Baseline Measurements'!#REF!","v":{"$error":"#REF!"}},{"$error":"#REF!"},{"$error":"#REF!"},{"$f":"'E4-Baseline Measurements'!#REF!","v":{"$error":"#REF!"}}]
[{"$f":"'E4-Baseline Measurements'!#REF!","v":{"$error":"#REF!"}},{"$error":"#REF!"},{"$error":"#REF!"},{"$f":"'E4-Baseline Measurements'!#REF!","v":{"$error":"#REF!"}}]
[{"$f":"'E4-Baseline Measurements'!#REF!","v":{"$error":"#REF!"}},{"$error":"#REF!"},{"$error":"#REF!"},{"$f":"'E4-Baseline Measurements'!#REF!","v":{"$error":"#REF!"}}]
[{"$f":"'E4-Baseline Measurements'!#REF!","v":{"$error":"#REF!"}},{"$error":"#REF!"},{"$error":"#REF!"},{"$f":"'E4-Baseline Measurements'!#REF!","v":{"$error":"#REF!"}}]
[{"$f":"'E4-Baseline Measurements'!#REF!","v":{"$error":"#REF!"}},{"$error":"#REF!"},{"$error":"#REF!"},{"$f":"'E4-Baseline Measurements'!#REF!","v":{"$error":"#REF!"}}]
[{"$f":"'E4-Baseline Measurements'!#REF!","v":{"$error":"#REF!"}},{"$error":"#REF!"},{"$error":"#REF!"},{"$f":"'E4-Baseline Measurements'!#REF!","v":{"$error":"#REF!"}}]
[{"$f":"'E4-Baseline Measurements'!#REF!","v":{"$error":"#REF!"}},{"$error":"#REF!"},{"$error":"#REF!"},{"$f":"'E4-Baseline Measurements'!#REF!","v":{"$error":"#REF!"}}]
[{"$f":"'E4-Baseline Measurements'!#REF!","v":{"$error":"#REF!"}},{"$f":"1.05*$F$2-0.05*$F$4","v":{"$error":"#REF!"}},{"$f":"1.05*$F$4-0.05*$F$2","v":{"$error":"#REF!"}},{"$f":"'E4-Baseline Measurements'!#REF!","v":{"$error":"#REF!"}}]
[{"$f":"'E4-Baseline Measurements'!#REF!","v":{"$error":"#REF!"}},{"$error":"#REF!"},{"$error":"#REF!"},{"$f":"'E4-Baseline Measurements'!#REF!","v":{"$error":"#REF!"}}]
[{"$f":"'E4-Baseline Measurements'!#REF!","v":{"$error":"#REF!"}},{"$error":"#REF!"},{"$error":"#REF!"},{"$f":"'E4-Baseline Measurements'!#REF!","v":{"$error":"#REF!"}}]
[{"$f":"'E4-Baseline Measurements'!#REF!","v":{"$error":"#REF!"}},{"$error":"#REF!"},{"$error":"#REF!"},{"$f":"'E4-Baseline Measurements'!#REF!","v":{"$error":"#REF!"}}]
[{"$f":"'E4-Baseline Measurements'!#REF!","v":{"$error":"#REF!"}},{"$error":"#REF!"},{"$error":"#REF!"},{"$f":"'E4-Baseline Measurements'!#REF!","v":{"$error":"#REF!"}}]
[{"$f":"'E4-Baseline Measurements'!#REF!","v":{"$error":"#REF!"}},{"$error":"#REF!"},{"$error":"#REF!"},{"$f":"'E4-Baseline Measurements'!#REF!","v":{"$error":"#REF!"}}]
[{"$f":"'E4-Baseline Measurements'!#REF!","v":{"$error":"#REF!"}},{"$error":"#REF!"},{"$error":"#REF!"},{"$f":"'E4-Baseline Measurements'!#REF!","v":{"$error":"#REF!"}}]
[{"$f":"'E4-Baseline Measurements'!#REF!","v":{"$error":"#REF!"}},{"$error":"#REF!"},{"$error":"#REF!"},{"$f":"'E4-Baseline Measurements'!#REF!","v":{"$error":"#REF!"}}]
[{"$f":"'E4-Baseline Measurements'!#REF!","v":{"$error":"#REF!"}},{"$error":"#REF!"},{"$error":"#REF!"},{"$f":"'E4-Baseline Measurements'!#REF!","v":{"$error":"#REF!"}}]
[{"$f":"'E4-Baseline Measurements'!#REF!","v":{"$error":"#REF!"}},{"$error":"#REF!"},{"$error":"#REF!"},{"$f":"'E4-Baseline Measurements'!#REF!","v":{"$error":"#REF!"}}]
[{"$f":"'E4-Baseline Measurements'!#REF!","v":{"$error":"#REF!"}},{"$error":"#REF!"},{"$error":"#REF!"},{"$f":"'E4-Baseline Measurements'!#REF!","v":{"$error":"#REF!"}}]
[{"$f":"'E4-Baseline Measurements'!#REF!","v":{"$error":"#REF!"}},{"$error":"#REF!"},{"$error":"#REF!"},{"$f":"'E4-Baseline Measurements'!#REF!","v":{"$error":"#REF!"}}]
[{"$f":"'E4-Baseline Measurements'!#REF!","v":{"$error":"#REF!"}},{"$error":"#REF!"},{"$error":"#REF!"},{"$f":"'E4-Baseline Measurements'!#REF!","v":{"$error":"#REF!"}}]
[{"$f":"'E4-Baseline Measurements'!#REF!","v":{"$error":"#REF!"}},{"$error":"#REF!"},{"$error":"#REF!"},{"$f":"'E4-Baseline Measurements'!#REF!","v":{"$error":"#REF!"}}]
[{"$f":"'E4-Baseline Measurements'!#REF!","v":{"$error":"#REF!"}},{"$error":"#REF!"},{"$error":"#REF!"},{"$f":"'E4-Baseline Measurements'!#REF!","v":{"$error":"#REF!"}}]
[{"$f":"'E4-Baseline Measurements'!#REF!","v":{"$error":"#REF!"}},{"$error":"#REF!"},{"$error":"#REF!"},{"$f":"'E4-Baseline Measurements'!#REF!","v":{"$error":"#REF!"}}]
[{"$f":"'E4-Baseline Measurements'!#REF!","v":{"$error":"#REF!"}},{"$error":"#REF!"},{"$error":"#REF!"},{"$f":"'E4-Baseline Measurements'!#REF!","v":{"$error":"#REF!"}}]
[{"$f":"'E4-Baseline Measurements'!#REF!","v":{"$error":"#REF!"}},{"$error":"#REF!"},{"$error":"#REF!"},{"$f":"'E4-Baseline Measurements'!#REF!","v":{"$error":"#REF!"}}]
[{"$f":"'E4-Baseline Measurements'!#REF!","v":{"$error":"#REF!"}},{"$error":"#REF!"},{"$error":"#REF!"},{"$f":"'E4-Baseline Measurements'!#REF!","v":{"$error":"#REF!"}}]
[{"$f":"'E4-Baseline Measurements'!#REF!","v":{"$error":"#REF!"}},{"$error":"#REF!"},{"$error":"#REF!"},{"$f":"'E4-Baseline Measurements'!#REF!","v":{"$error":"#REF!"}}]
[{"$f":"'E4-Baseline Measurements'!#REF!","v":{"$error":"#REF!"}},{"$error":"#REF!"},{"$error":"#REF!"},{"$f":"'E4-Baseline Measurements'!#REF!","v":{"$error":"#REF!"}}]
[{"$f":"'E4-Baseline Measurements'!#REF!","v":{"$error":"#REF!"}},{"$error":"#REF!"},{"$error":"#REF!"},{"$f":"'E4-Baseline Measurements'!#REF!","v":{"$error":"#REF!"}}]
[{"$f":"'E4-Baseline Measurements'!#REF!","v":{"$error":"#REF!"}},{"$error":"#REF!"},{"$error":"#REF!"},{"$f":"'E4-Baseline Measurements'!#REF!","v":{"$error":"#REF!"}}]
[{"$f":"'E4-Baseline Measurements'!#REF!","v":{"$error":"#REF!"}},{"$error":"#REF!"},{"$error":"#REF!"},{"$f":"'E4-Baseline Measurements'!#REF!","v":{"$error":"#REF!"}}]
[{"$f":"'E4-Baseline Measurements'!#REF!","v":{"$error":"#REF!"}},{"$error":"#REF!"},{"$error":"#REF!"},{"$f":"'E4-Baseline Measurements'!#REF!","v":{"$error":"#REF!"}}]
[{"$f":"'E4-Baseline Measurements'!#REF!","v":{"$error":"#REF!"}},{"$error":"#REF!"},{"$error":"#REF!"},{"$f":"'E4-Baseline Measurements'!#REF!","v":{"$error":"#REF!"}}]
[{"$f":"'E4-Baseline Measurements'!#REF!","v":{"$error":"#REF!"}},{"$error":"#REF!"},{"$error":"#REF!"},{"$f":"'E4-Baseline Measurements'!#REF!","v":{"$error":"#REF!"}}]
[{"$f":"'E4-Baseline Measurements'!#REF!","v":{"$error":"#REF!"}},{"$error":"#REF!"},{"$error":"#REF!"},{"$f":"'E4-Baseline Measurements'!#REF!","v":{"$error":"#REF!"}}]
[{"$f":"'E4-Baseline Measurements'!#REF!","v":{"$error":"#REF!"}},{"$error":"#REF!"},{"$error":"#REF!"},{"$f":"'E4-Baseline Measurements'!#REF!","v":{"$error":"#REF!"}}]
[{"$f":"'E4-Baseline Measurements'!#REF!","v":{"$error":"#REF!"}},{"$error":"#REF!"},{"$error":"#REF!"},{"$f":"'E4-Baseline Measurements'!#REF!","v":{"$error":"#REF!"}}]
[{"$f":"'E4-Baseline Measurements'!#REF!","v":{"$error":"#REF!"}},{"$error":"#REF!"},{"$error":"#REF!"},{"$f":"'E4-Baseline Measurements'!#REF!","v":{"$error":"#REF!"}}]
[{"$f":"'E4-Baseline Measurements'!#REF!","v":{"$error":"#REF!"}},{"$error":"#REF!"},{"$error":"#REF!"},{"$f":"'E4-Baseline Measurements'!#REF!","v":{"$error":"#REF!"}}]
[{"$f":"'E4-Baseline Measurements'!#REF!","v":{"$error":"#REF!"}},{"$error":"#REF!"},{"$error":"#REF!"},{"$f":"'E4-Baseline Measurements'!#REF!","v":{"$error":"#REF!"}}]
[{"$f":"'E4-Baseline Measurements'!#REF!","v":{"$error":"#REF!"}},{"$error":"#REF!"},{"$error":"#REF!"},{"$f":"'E4-Baseline Measurements'!#REF!","v":{"$error":"#REF!"}}]
[{"$f":"'E4-Baseline Measurements'!#REF!","v":{"$error":"#REF!"}},{"$error":"#REF!"},{"$error":"#REF!"},{"$f":"'E4-Baseline Measurements'!#REF!","v":{"$error":"#REF!"}}]
[{"$f":"'E4-Baseline Measurements'!#REF!","v":{"$error":"#REF!"}},{"$error":"#REF!"},{"$error":"#REF!"},{"$f":"'E4-Baseline Measurements'!#REF!","v":{"$error":"#REF!"}}]
[{"$f":"'E4-Baseline Measurements'!#REF!","v":{"$error":"#REF!"}},{"$error":"#REF!"},{"$error":"#REF!"},{"$f":"'E4-Baseline Measurements'!#REF!","v":{"$error":"#REF!"}}]
[{"$f":"'E4-Baseline Measurements'!#REF!","v":{"$error":"#REF!"}},{"$error":"#REF!"},{"$error":"#REF!"},{"$f":"'E4-Baseline Measurements'!#REF!","v":{"$error":"#REF!"}}]
[{"$f":"'E4-Baseline Measurements'!#REF!","v":{"$error":"#REF!"}},{"$error":"#REF!"},{"$error":"#REF!"},{"$f":"'E4-Baseline Measurements'!#REF!","v":{"$error":"#REF!"}}]
[{"$f":"'E4-Baseline Measurements'!#REF!","v":{"$error":"#REF!"}},{"$error":"#REF!"},{"$error":"#REF!"},{"$f":"'E4-Baseline Measurements'!#REF!","v":{"$error":"#REF!"}}]
[{"$f":"'E4-Baseline Measurements'!#REF!","v":{"$error":"#REF!"}},{"$error":"#REF!"},{"$error":"#REF!"},{"$f":"'E4-Baseline Measurements'!#REF!","v":{"$error":"#REF!"}}]
[{"$f":"'E4-Baseline Measurements'!#REF!","v":{"$error":"#REF!"}},{"$error":"#REF!"},{"$error":"#REF!"},{"$f":"'E4-Baseline Measurements'!#REF!","v":{"$error":"#REF!"}}]
[{"$f":"'E4-Baseline Measurements'!#REF!","v":{"$error":"#REF!"}},{"$error":"#REF!"},{"$error":"#REF!"},{"$f":"'E4-Baseline Measurements'!#REF!","v":{"$error":"#REF!"}}]
[{"$f":"'E4-Baseline Measurements'!#REF!","v":{"$error":"#REF!"}},{"$error":"#REF!"},{"$error":"#REF!"},{"$f":"'E4-Baseline Measurements'!#REF!","v":{"$error":"#REF!"}}]
[{"$f":"'E4-Baseline Measurements'!#REF!","v":{"$error":"#REF!"}},{"$error":"#REF!"},{"$error":"#REF!"},{"$f":"'E4-Baseline Measurements'!#REF!","v":{"$error":"#REF!"}}]

{"sheet":"N5-Baseline Model","index":61,"n_rows":122,"n_cols":23,"rows_kept":122,"cut":false,"hidden":true,"merged":[[63,1,64,3],[63,4,63,6],[47,13,47,14],[47,1,47,2],[47,3,47,4],[47,5,47,6],[52,1,52,10],[54,1,54,12],[56,1,56,2],[56,3,56,4],[61,1,61,12],[57,1,57,2],[57,3,57,4],[58,1,58,2],[58,3,58,4],[59,1,59,2],[59,3,59,4],[47,7,47,8],[47,9,47,10],[47,11,47,12],[49,1,50,3],[49,4,49,6],[26,1,26,4],[26,5,26,6],[38,1,38,3],[41,1,41,11],[43,1,43,12],[45,1,45,10],[46,3,46,6],[46,7,46,10],[46,11,46,14],[27,1,27,4],[27,5,27,6],[29,1,29,12],[31,4,31,6],[33,1,33,2],[36,1,36,12],[3,1,3,12],[5,1,5,12],[7,1,7,12],[9,1,9,12],[12,1,12,12],[14,1,14,6],[24,1,24,4],[24,5,24,6],[25,1,25,4],[25,5,25,6],[18,1,18,3],[18,4,18,6],[19,1,19,3],[19,4,19,6],[21,1,21,12],[23,1,23,4],[23,5,23,6],[15,1,15,3],[15,4,15,6],[16,1,16,3],[16,4,16,6],[17,1,17,3],[17,4,17,6],[66,1,66,2],[66,3,66,4],[66,5,66,6],[76,1,76,2],[76,5,76,6],[70,1,70,12],[72,1,72,7],[73,1,73,6],[75,1,75,2],[75,5,75,6],[67,1,67,2],[67,3,67,4],[67,5,67,6],[68,1,68,2],[68,3,68,4],[68,5,68,6],[81,1,81,2],[85,1,85,12],[87,1,87,2],[87,3,87,4],[88,1,88,2],[88,3,88,4],[78,1,78,2],[92,1,92,2],[92,3,92,4],[93,1,93,2],[93,3,93,4],[94,1,94,2],[94,3,94,4],[89,1,89,2],[89,3,89,4],[90,1,90,2],[90,3,90,4],[91,1,91,2],[91,3,91,4],[102,1,102,2],[102,3,102,4],[102,5,102,6],[102,7,102,8],[103,1,103,2],[103,3,103,4],[103,5,103,6],[103,7,103,8],[99,1,99,12],[100,1,100,2],[100,3,100,4],[100,5,100,6],[100,7,100,8],[101,1,101,2],[101,3,101,4],[101,5,101,6],[101,7,101,8],[112,1,112,2],[112,3,112,4],[113,1,113,2],[113,3,113,4],[114,1,114,2],[114,3,114,4],[105,1,105,12],[107,1,107,12],[109,1,109,12],[110,1,110,2],[110,3,110,4],[111,1,111,2],[111,3,111,4],[118,1,118,2],[118,3,118,4],[119,1,119,2],[119,3,119,4],[121,2,121,12],[115,1,115,2],[115,3,115,4],[116,1,116,2],[116,3,116,4],[117,1,117,2],[117,3,117,4]]}
[null,null,"N5-Baseline Energy Model"]
[]
[{"$f":"LEFT(C1,1)","v":"N"},{"$f":"VLOOKUP(A3,EnergySourceLookup,2,FALSE)","v":"Renewables"},{"$f":"VLOOKUP(A3,EnergySourceLookup,3,FALSE)","v":"GJ"}]
[null,{"$f":"\"Warning: The 'Baseline Energy Model - Data (\" & VLOOKUP(LEFT($C$1,1),EnergySourceLookup,2,FALSE) & \")' is not continuous or covers a short period. Please ensure that the M&V Professional has examined your data and approved your M&V Plan.\"","v":"Warning: The 'Baseline Energy Model - Data (Renewables)' is not continuous or covers a short period. Please ensure that the M&V Professional has examined your data and approved your M&V Plan."}]
[]
[true,{"$f":"\"Warning: The 'Baseline Energy Model - Data (\"&VLOOKUP(LEFT($C$1,1),EnergySourceLookup,2,FALSE)&\")' contains site constant values that are different to the typical value specified on the 'Boundaries and Variables (\"&VLOOKUP(LEFT($C$1,1),EnergySourceLookup,2,FALSE)&\")' step and have not be excluded as a non-normal measurement.\nNote: Please ensure you mark excluded values with the letter 'Y'.\"","v":"Warning: The 'Baseline Energy Model - Data (Renewables)' contains site constant values that are different to the typical value specified on the 'Boundaries and Variables (Renewables)' step and have not be excluded as a non-normal measurement.\nNote: Please ensure you mark excluded values with the letter 'Y'."}]
[]
[null,{"$f":"\"Baseline Energy Model (\" & VLOOKUP(LEFT($C$1,1),EnergySourceLookup,2,FALSE) & \")\"","v":"Baseline Energy Model (Renewables)"}]
[]
[null,"This tool requires multi-linear regression and energy models in the form: \nEBaseline( x1, x2, … xp) = a0 + a1x1 + a2x2 + a3x3 + … + apxp (where a0, a1, …, ap are constants determined by the regression analysis)."]
[]
[]
[null,"Measurement period"]
[]
[null,"Measurement period:"]
[null,"Item Name",null,null,"Item Value"]
[null,"Start time",null,null,{"$f":"MIN(INDEX(N4DataTable,0,1))","v":"00:00:00"}]
[null,"End time",null,null,{"$f":"MAX(INDEX(N4DataTable,0,1))","v":"00:00:00"}]
[null,"Measurement Period (years)",null,null,{"$f":"(E18-E17)/365","v":0}]
[null,"Gross # time intervals",null,null,{"$f":"COUNT(INDEX(N4DataTable,0,1))","v":0}]
[]
[null,"Excluded time intervals"]
[]
[null,"Item Name",null,null,null,"Item Value"]
[null,"Number of time intervals excluded",null,null,null,{"$f":"COUNTIFS(INDEX(N4DataTable,0,COLUMNS(N4DataTable)-1),\"Y\")","v":0}]
[null,"Remaining # of time intervals",null,null,null,{"$f":"IFERROR(E20-F25,0)","v":0}]
[null,"Proportion of time intervals remaining",null,null,null,{"$f":"IFERROR(F26/E20,0)","v":0}]
[{"$f":"IF(F28=\"Pass\", TRUE, FALSE)","v":false},"Test for sufficient time intervals (>= 80%)",null,null,null,{"$f":"IF(F27>=80%, \"Pass\", \"Fail\")","v":"Fail"}]
[]
[null,"Chart of Independent Variable values over baseline measurement period"]
[]
[null,"Independent variable:"]
[]
[null,"Chart"]
[]
[]
[null,"Analysis: Test for Correlation between Independent Variables"]
[]
[null,"Correlation coefficient:"]
[]
[]
[null,"Note: Review any variables that are strongly correlated (highlighted in red) and consider refining your regression equation."]
[]
[null,"Effective range of baseline measurements"]
[]
[null,"Analysis - Effective range of measurements used to establish baseline energy model:"]
[null,null,null,"Normal Year Range",null,null,null,"Baseline Measurement Period Effective Range",null,null,null,"# of Normal Year Values Outside of Baseline Effective Range",null,null,null,null,null,null,null,"Normal Without Excluded Values",null,"Without Excluded Values"]
[null,"Variable",null,"Minimum",null,"Maximum",null,"Minimum",null,"Maximum",null,"< Minimum",null,"> Maximum",null,null,null,null,null,"Min","Max","Min","Max"]
[]
[null,"% of Normal Year Values within Baseline Measurements Effective Range:",null,null,{"$f":"COUNTIFS('N2-Normal Year Values'!$C$10,\"<>Y\")/COUNTIFS('N2-Normal Year Values'!$C$10,\"<>Y\")","v":1}]
[]
[]
[null,"Note: If less than 100% then consider extending the baseline measurement period to increase the Baseline Measurement Range. This will avoid the Energy Savings being reduced."]
[]
[null,"Degrees of freedom"]
[]
[null,"Item Name",null,"Item Value"]
[null,"# of valid data points",null,{"$f":"F26","v":0}]
[null,"# of independent variables",null,{"$f":"GetVariableCount($C$1,\"IV\")","v":0}]
[{"$f":"'NCharts-Baseline'!$P$10","v":""},"Degrees of freedom",null,{"$f":"D58-D59-1","v":-1}]
[]
[null,"Calculation Method"]
[]
[{"$f":"(EBEMMethodType_deprecated=ModelMethodRegressionAnalysis)","v":true},"Method for developing baseline energy model:"]
[]
[]
[null,"Statistical test",null,"Test value",null,"Result"]
[{"$f":"IF(F68=\"Pass\", TRUE,FALSE)","v":false},"Coefficient of Variation (≤15%) (only relevant if Estimate of the Mean)",null,{"$f":"N5COV","v":""},null,{"$f":"IF(D68>=0.15, \"Fail\", \"Pass\")","v":"Fail"}]
[{"$f":"IF(F69=\"Pass\", TRUE,FALSE)","v":true},"Ratio # valid data points to # independent variables (only relevant if Regression Analysis)",null,{"$f":"IFERROR(D58/D59,\"\")","v":""},null,{"$f":"IF(D69<getsetting(\"IndependentVariablesDataPointMultiplier\"),\"Fail\",\"Pass\")","v":"Pass"}]
[]
[null,"Build Baseline Energy Model"]
[]
[null,"What software/tool was used to generate your regression equation (if relevant):"]
[]
[{"$f":"IFERROR(AVERAGEIF(INDEX(N4DataTable,0,COLUMNS(G4DataTable)-1), \"<>Y\", INDEX(N4DataTable,0,2)), 0)","v":0}]
[{"$f":"IFERROR(COUNTIF(INDEX(N5RegressionEquationCoefficientList,0,7), \"Warning\"),0)","v":0},"Variable",null,"Coefficient","t-statistic","Check"]
[null,"Intercept",null,null,null,"N/A"]
[]
[null,"Regression equation:"]
[null,"E(baseline)  = "]
[]
[null,"Chart"]
[]
[]
[]
[null,"Statistical analysis of energy model"]
[]
[null,"Item",null,"Value"]
[{"$f":"IFERROR('NCharts-Baseline'!$P$14,\"\")","v":""},"Coefficient of determination (R2)",null,{"$f":"N5R2","v":""}]
[{"$f":"IFERROR('NCharts-Baseline'!$P$15,\"\")","v":""},"Adjusted R2",null,{"$f":"N5AdjR2","v":""}]
[{"$f":"'NCharts-Baseline'!$P$12","v":{"$error":"#DIV/0!"}},"Standard error (SE)",null,0]
[null,"t-value (at 90% confidence level)",null,{"$f":"IFERROR(TINV(VLOOKUP(\"tValueConfidenceMultiplier\",SettingsList,2,FALSE),D60),\"\")","v":""}]
[null,"Baseline average modelled energy",null,{"$f":"IFERROR(VLOOKUP(\"Intercept\",N5RegressionEquationCoefficientList, 3, FALSE), \"\")","v":0}]
[null,"Absolute modelling precision",null,{"$f":"IFERROR(D92*D91,\"\")","v":""}]
[null,"Relative modelling precision (based on mean value)",null,{"$f":"IFERROR(D94/D93,0)","v":0}]
[]
[]
[]
[]
[null,"Analysis - Check the baseline energy model meets best practice benchmarks:"]
[{"$f":"IF(IFERROR(COUNTIF(OFFSET(N5StatisticalRequirementsStartCell,1,6,3,2), \"Warning\"),0)=0, TRUE,FALSE)","v":false},"Modelling Criteria",null,"Best Practice Benchmark",null,"Baseline Energy Model Value",null,"Result"]
[null,"t-statistics of independent variables",null,"> 2",null,"N/A",null,{"$f":"IF(COUNTIF(INDEX(N5RegressionEquationCoefficientList,0,5),\"Warning\")>0, \"Warning\", \"Pass\")","v":"Pass"}]
[{"$f":"(F103>0.75)","v":false},"Lesser of R2 or adjusted R2 (only relevant for regression analysis)",null,"> 0.75",null,{"$f":"MIN(D89:E90)","v":0},null,{"$f":"IF(F103>0.75, \"Pass\", \"Warning\")","v":"Warning"}]
[null,"Relative precision calculated at 90% confidence level",null,"within ± 100%",null,{"$f":"D95","v":0},null,{"$f":"IF(F104<1, \"Pass\", \"Fail\")","v":"Pass"}]
[]
[null,"Warning: Value does not meet best practice benchmark. Ensure review included in M&V Professional reasoning."]
[]
[null,"Estimated Accuracy Factor"]
[]
[null,"Analysis - Estimated accuracy factor:"]
[null,"Item",null,"Value"]
[null,"Baseline model standard error",null,{"$f":"D91","v":0}]
[null,"Estimated operating model standard error"]
[null,"Estimated average gross annual energy savings %"]
[null,"Number of baseline measurement periods in 1 year",null,{"$f":"IFERROR(VLOOKUP(N1ModelFrequency, FrequencyLookup, 2, FALSE),\"\")","v":""}]
[null,"Estimated average annual energy savings",null,{"$f":"IFERROR(N5AvgModelledEnergy*D114*D115,\"\")","v":""}]
[null,"Estimated standard error of annual savings",null,{"$f":"IFERROR(SQRT(D115)*SQRT(D112^2+D113^2),\"\")","v":""}]
[null,"Estimated absolute precision of savings",null,{"$f":"IFERROR(D117*D92,\"\")","v":""}]
[null,"Estimated relative precision of savings",null,{"$f":"IFERROR(D118/D116,0)","v":0}]
[null,"Estimated ACCURACY FACTOR ",null,{"$f":"GetAccuracyFactor(D119, FALSE)","v":1}]
[]
[null,null,"Note: The estimated Accuracy Factor has no impact on the final Accuracy Factor applied."]

{"sheet":"N6-Operating Measurements","index":62,"n_rows":9,"n_cols":5,"rows_kept":9,"cut":false,"hidden":true,"merged":[[3,1,3,11],[5,1,5,11],[7,1,8,1],[7,2,8,2],[7,3,8,3],[7,4,8,4]]}
[null,null,"N6 - Operating Period Measurements"]
[]
[{"$f":"LEFT(C1,1)","v":"N"},{"$f":"VLOOKUP(A3,EnergySourceLookup,2,FALSE)","v":"Renewables"},{"$f":"VLOOKUP(A3,EnergySourceLookup,3,FALSE)","v":"GJ"}]
[null,"Measure and Convert Operating Period Measurements"]
[]
[null,"Note: Click the 'Update Tool' button in the navigation bar above after entering the data."]
[]
[null,"Date / Time","Energy","Exclude non-normal measurement? (Mark with 'Y')","Reason for exclusion"]
["Modelled Operating Energy"]

{"sheet":"NCharts-Operating","index":63,"n_rows":15,"n_cols":21,"rows_kept":15,"cut":false,"hidden":true,"merged":[]}
["Time period start","Lower bound","Upper bound","Independent Variable",null,"Minimum IV value",null,"Time interval","Excluded?","Measured operating energy","Modelled operating energy","Residual Rank","Residual",null,"Count",{"$f":"COUNT(M:M)","v":0},null,"Cumulative distribution","z-value","Actual residuals","Expect residual value if normal distribution"]
[{"$f":"'N6-Operating Measurements'!$B$10","v":"00:00:00"},{"$f":"1.05*$F$2-0.05*$F$4","v":{"$error":"#REF!"}},{"$f":"1.05*$F$4-0.05*$F$2","v":{"$error":"#REF!"}},{"$f":"'N6-Operating Measurements'!#REF!","v":{"$error":"#REF!"}},null,{"$f":"MIN($D$2:$D$366)","v":{"$error":"#REF!"}},null,null,null,null,null,null,null,null,"Mean",{"$f":"AVERAGE(M:M)","v":{"$error":"#DIV/0!"}}]
[null,null,null,null,null,"Maximum IV value",null,null,null,null,null,null,null,null,"StDev",{"$f":"_xlfn.STDEV.S(M:M)","v":{"$error":"#DIV/0!"}}]
[null,null,null,null,null,{"$f":"MAX($D$2:$D$366)","v":{"$error":"#REF!"}}]
[null,null,null,null,null,null,null,null,null,null,null,null,null,null,"Measured"]
[null,null,null,null,null,null,null,null,null,null,null,null,null,null,"Count",{"$f":"COUNT(J:J)","v":0}]
[null,null,null,null,null,null,null,null,null,null,null,null,null,null,"Mean",{"$f":"AVERAGE(J:J)","v":{"$error":"#DIV/0!"}}]
[null,null,null,null,null,null,null,null,null,null,null,null,null,null,"StDev",{"$f":"_xlfn.STDEV.S(J:J)","v":{"$error":"#DIV/0!"}}]
[null,null,null,null,null,null,null,null,null,null,null,null,null,null,"IV count",{"$f":"GetVariableCount(MID(CELL(\"filename\"),FIND(\"]\",CELL(\"filename\"))+1,1),\"IV\")","v":0}]
[null,null,null,null,null,null,null,null,null,null,null,null,null,null,"COV",{"$f":"IFERROR(P8/P7,\"\")","v":""}]
[]
[null,null,null,null,null,null,null,null,null,null,null,null,null,null,"Standard Error",{"$f":"IF(P9=0,P8/SQRT(P6),SQRT(SUMSQ(M:M)/(P6-2)))","v":{"$error":"#DIV/0!"}}]
[]
[null,null,null,null,null,null,null,null,null,null,null,null,null,null,"R2",{"$f":"1-_xlfn.VAR.S(M:M)/_xlfn.VAR.S(J:J)","v":{"$error":"#DIV/0!"}}]
[null,null,null,null,null,null,null,null,null,null,null,null,null,null,"Adjusted R2",{"$f":"1-(1-P14)*(P6-1)/(P6-P9-1)","v":{"$error":"#DIV/0!"}}]

{"sheet":"N7-Operating Model","index":64,"n_rows":106,"n_cols":23,"rows_kept":106,"cut":false,"hidden":true,"merged":[[27,1,27,4],[27,5,27,6],[49,1,50,3],[49,4,49,6],[52,1,52,12],[54,1,54,12],[56,1,56,2],[56,3,56,4],[26,1,26,4],[26,5,26,6],[38,1,38,3],[29,1,29,12],[31,4,31,6],[33,1,33,2],[36,1,36,12],[41,1,41,12],[43,1,43,12],[45,1,45,10],[46,3,46,6],[46,7,46,10],[46,11,46,14],[3,1,3,12],[5,1,5,12],[7,1,7,12],[9,1,9,12],[12,1,12,12],[14,1,14,12],[24,1,24,4],[24,5,24,6],[25,1,25,4],[25,5,25,6],[18,1,18,3],[18,4,18,6],[19,1,19,3],[19,4,19,6],[21,1,21,12],[23,1,23,4],[15,1,15,3],[15,4,15,6],[16,1,16,3],[16,4,16,6],[17,1,17,3],[17,4,17,6],[23,5,23,6],[66,1,66,2],[66,3,66,4],[66,5,66,6],[67,1,67,2],[67,3,67,4],[47,13,47,14],[47,1,47,2],[47,3,47,4],[47,5,47,6],[47,7,47,8],[47,9,47,10],[47,11,47,12],[57,1,57,2],[57,3,57,4],[58,1,58,2],[58,3,58,4],[59,1,59,2],[59,3,59,4],[61,1,61,12],[63,1,64,3],[63,4,63,6],[67,5,67,6],[68,1,68,2],[68,3,68,4],[68,5,68,6],[76,1,76,2],[76,5,76,6],[70,1,70,12],[72,1,72,7],[73,1,73,6],[75,1,75,2],[75,5,75,6],[81,1,81,2],[85,1,85,12],[87,1,87,2],[87,3,87,4],[88,1,88,2],[88,3,88,4],[78,1,78,2],[99,1,99,12],[100,1,100,2],[100,3,100,4],[100,5,100,6],[100,7,100,8],[92,1,92,2],[92,3,92,4],[93,1,93,2],[93,3,93,4],[94,1,94,2],[94,3,94,4],[89,1,89,2],[89,3,89,4],[90,1,90,2],[90,3,90,4],[91,1,91,2],[91,3,91,4],[101,1,101,2],[101,3,101,4],[101,5,101,6],[101,7,101,8],[105,1,105,12],[102,1,102,2],[102,3,102,4],[102,5,102,6],[102,7,102,8],[103,1,103,2],[103,3,103,4],[103,5,103,6],[103,7,103,8]]}
[null,null,"N7 - Operating Energy Model"]
[]
[{"$f":"LEFT(C1,1)","v":"N"},{"$f":"VLOOKUP(A3,EnergySourceLookup,2,FALSE)","v":"Renewables"},{"$f":"VLOOKUP(A3,EnergySourceLookup,3,FALSE)","v":"GJ"}]
[null,{"$f":"\"Warning: The 'Operating Energy Model - Data (\" & VLOOKUP(LEFT($C$1,1),EnergySourceLookup,2,FALSE) & \")' is not continuous or covers a short period. Please ensure that the M&V Professional has examined your data and approved your M&V Plan.\"","v":"Warning: The 'Operating Energy Model - Data (Renewables)' is not continuous or covers a short period. Please ensure that the M&V Professional has examined your data and approved your M&V Plan."}]
[]
[false,{"$f":"\"Warning: The 'Operating Energy Model - Data (\"&VLOOKUP(LEFT($C$1,1),EnergySourceLookup,2,FALSE)&\")' contains site constant values that are different to the typical value specified on the 'Boundaries and Variables (\"&VLOOKUP(LEFT($C$1,1),EnergySourceLookup,2,FALSE)&\")' step and have not be excluded as a non-normal measurement.\nNote: Please ensure you mark excluded values with the letter 'Y'.\"","v":"Warning: The 'Operating Energy Model - Data (Renewables)' contains site constant values that are different to the typical value specified on the 'Boundaries and Variables (Renewables)' step and have not be excluded as a non-normal measurement.\nNote: Please ensure you mark excluded values with the letter 'Y'."}]
[]
[null,{"$f":"\"Operating Energy Model (\" & VLOOKUP(LEFT($C$1,1),EnergySourceLookup,2,FALSE) & \")\"","v":"Operating Energy Model (Renewables)"}]
[]
[null,"This tool requires multi-linear regression and energy models in the form: \nEOperating( x1, x2, … xp) = a0 + a1x1 + a2x2 + a3x3 + … + apxp (where a0, a1, …, ap are constants determined by the regression analysis)."]
[]
[]
[null,"Measurement period"]
[]
[null,"Measurement period:"]
[null,"Item Name",null,null,"Item Value"]
[null,"Start date",null,null,{"$f":"MIN(INDEX(N6DataTable,0,1))","v":"00:00:00"}]
[null,"End date",null,null,{"$f":"MAX(INDEX(N6DataTable,0,1))","v":"00:00:00"}]
[null,"Measurement Period (years)",null,null,{"$f":"(E18-E17)/365","v":0}]
[null,"Gross # time intervals",null,null,{"$f":"COUNT(INDEX(N6DataTable,0,1))","v":0}]
[]
[null,"Excluded time intervals"]
[]
[null,"Item Name",null,null,null,"Item Value"]
[null,"Number of time intervals excluded",null,null,null,{"$f":"COUNTIFS(INDEX(N6DataTable,0,COLUMNS(N6DataTable)-1),\"Y\")","v":0}]
[null,"Remaining # of time intervals",null,null,null,{"$f":"IFERROR(E20-F25,0)","v":0}]
[null,"Proportion of time intervals remaining",null,null,null,{"$f":"IFERROR(F26/E20,0)","v":0}]
[{"$f":"IF(F28=\"Pass\", TRUE, FALSE)","v":false},"Test for sufficient time intervals (>= 80%)",null,null,null,{"$f":"IF(F27>=80%, \"Pass\", \"Fail\")","v":"Fail"}]
[]
[null,"Chart of Independent Variable values over operating measurement period"]
[]
[null,"Independent variable:"]
[]
[null,"Chart"]
[]
[]
[null,"Analysis: Test for Correlation between Independent Variables"]
[]
[null,"Correlation coefficient:"]
[]
[]
[null,"Note: Review any variables that are strongly correlated (highlighted in red) and consider refining your regression equation."]
[]
[null,"Effective range"]
[]
[null,"Analysis - Effective range of measurements used to establish operating energy model:"]
[null,null,null,"Normal Year Range",null,null,null,"Operating Measurement Period Effective Range",null,null,null,"# of Normal Year Values Outside of Operating Effective Range",null,null,null,null,null,null,null,"Normal Without Excluded Values",null,"Without Excluded Values"]
[null,"Variable",null,"Minimum",null,"Maximum",null,"Minimum",null,"Maximum",null,"< Minimum",null,"> Maximum",null,null,null,null,null,"Min","Max","Min","Max"]
[]
[null,"% of Normal Range within Operating Measurement Range:",null,null,{"$f":"COUNTIFS('N2-Normal Year Values'!$C$10,\"<>Y\")/COUNTIFS('N2-Normal Year Values'!$C$10,\"<>Y\")","v":1}]
[]
[]
[null,"NB: If less than 100% then consider extending the operating measurement period to increase the Operating Measurement Range. This will avoid the Energy Savings being reduced."]
[]
[null,"Degrees of freedom"]
[]
[null,"Item Name",null,"Item Value"]
[null,"# of valid data points",null,{"$f":"F26","v":0}]
[null,"# of independent variables",null,{"$f":"GetVariableCount($C$1,\"IV\")","v":0}]
[{"$f":"'NCharts-Operating'!$P$10","v":""},"Degrees of freedom",null,{"$f":"D58-D59-1","v":-1}]
[]
[null,"Calculation Method"]
[]
[null,"Method for developing operating energy model:"]
[]
[]
[null,"Statistical test",null,"Test value",null,"Result"]
[{"$f":"IF(F68=\"Pass\", TRUE,FALSE)","v":false},"Coefficient of Variation (≤15%) (only relevant if Estimate of the Mean)",null,{"$f":"N7COV","v":""},null,{"$f":"IF(D68>=0.15, \"Fail\", \"Pass\")","v":"Fail"}]
[{"$f":"IF(F69=\"Pass\", TRUE,FALSE)","v":true},"Ratio # valid data points to # independent variables",null,{"$f":"IFERROR(D58/D59,\"\")","v":""},null,{"$f":"IF(D69<getsetting(\"IndependentVariablesDataPointMultiplier\"),\"Fail\",\"Pass\")","v":"Pass"}]
[]
[null,"Build Operating Energy Model"]
[]
[null,"What software/tool was used to generate your regression equation (if relevant):"]
[]
[{"$f":"IFERROR(AVERAGEIF(INDEX(N6DataTable,0,COLUMNS(N6DataTable)-1), \"<>Y\", INDEX(N6DataTable,0,2)), 0)","v":0}]
[{"$f":"IFERROR(COUNTIF(INDEX(N7RegressionEquationCoefficientList,0,7), \"Warning\"),0)","v":0},"Variable",null,"Coefficient","t-statistic","Check"]
[null,"Intercept",null,0,null,"N/A"]
[]
[null,"Working Formula:"]
[null,"E(operating)  = 0.000"]
[]
[null,"Chart"]
[{"$f":"MIN(IF(ISNUMBER(#REF!),#REF!))","v":0}]
[{"$f":"MAX(IF(ISNUMBER(#REF!),#REF!))","v":0}]
[{"$f":"MAX(IF(ISNUMBER(#REF!),#REF!))","v":0}]
[null,"Statistical analysis of energy model"]
[]
[null,"Item",null,"Value"]
[{"$f":"IFERROR('NCharts-Operating'!$P$14,\"\")","v":""},"Coefficient of determination (R2)",null,{"$f":"N7R2","v":""}]
[{"$f":"IFERROR('NCharts-Operating'!$P$15,\"\")","v":""},"Adjusted R2",null,{"$f":"N7AdjR2","v":""}]
[{"$f":"'NCharts-Operating'!$P$12","v":{"$error":"#DIV/0!"}},"Standard error (SE)"]
[null,"t-value (at 90% confidence level)",null,{"$f":"IFERROR(TINV(VLOOKUP(\"tValueConfidenceMultiplier\",SettingsList,2,FALSE),D60),\"\")","v":""}]
[null,"Operating average modelled energy",null,{"$f":"IFERROR(VLOOKUP(\"Intercept\",N7RegressionEquationCoefficientList, 3, FALSE), \"\")","v":0}]
[null,"Absolute modelling precision",null,{"$f":"IFERROR(D92*D91,\"\")","v":""}]
[null,"Relative modelling precision (based on mean value)",null,{"$f":"IFERROR(D94/D93,0)","v":0}]
[]
[]
[]
[]
[null,"Analysis - Check the operating energy model meets best practice benchmarks:"]
[{"$f":"IF(IFERROR(COUNTIF(H102:I104, \"Warning\"),0)=0, TRUE,FALSE)","v":false},"Modelling Criteria",null,"Best Practice Benchmark",null,"Operating Energy Model Value",null,"Result"]
[null,"t-statistics of independent variables",null,"> 2",null,"N/A",null,{"$f":"IF(COUNTIF(INDEX(N7RegressionEquationCoefficientList,0,5),\"Warning\")>0, \"Warning\", \"Pass\")","v":"Pass"}]
[null,"Lesser of R2 or adjusted R2 (only relevant for regression analysis)",null,"> 0.75",null,{"$f":"MIN(D88:E89)","v":0},null,{"$f":"IF(F103>0.75, \"Pass\", \"Warning\")","v":"Warning"}]
[null,"Relative precision calculated at 90% confidence level",null,"within ± 100%",null,{"$f":"D95","v":0},null,{"$f":"IF(F104<1, \"Pass\", \"Fail\")","v":"Pass"}]
[]
[null,"Warning: Value does not meet best practice benchmark. Ensure review included in M&V Professional reasoning."]

{"sheet":"N8-Reporting Period Values","index":65,"n_rows":8,"n_cols":5,"rows_kept":8,"cut":false,"hidden":true,"merged":[[3,1,3,12],[5,1,5,12],[7,1,8,1],[7,2,8,2],[7,3,8,3],[7,4,8,4]]}
[null,null,"N8 - Reporting Period Values"]
[]
[{"$f":"LEFT(C1,1)","v":"N"},{"$f":"VLOOKUP(A3,EnergySourceLookup,2,FALSE)","v":"Renewables"},{"$f":"VLOOKUP(A3,EnergySourceLookup,3,FALSE)","v":"GJ"}]
[null,"Establish Values for all Independent Variables during the Reporting Period"]
[]
[null,{"$f":"\"Note: Click the 'Update Tool' button in the navigation bar above after entering the data. \" & IF(N1ModelFrequency<>\"\", \"This step should contain \" & VLOOKUP(N1ModelFrequency, FrequencyLookup,2,FALSE) & \" data points based on the selected \" & N1ModelFrequency & \" Measurement Frequency.\", \"\")","v":"Note: Click the 'Update Tool' button in the navigation bar above after entering the data. "}]
[]
[null,"Date / Time","Energy","Exclude non-normal measurement? (Mark with 'Y')","Reason for exclusion"]

{"sheet":"N9-Interactive Savings","index":66,"n_rows":15,"n_cols":5,"rows_kept":15,"cut":false,"hidden":true,"merged":[[6,8,7,13],[7,1,7,6],[9,1,9,6],[11,1,12,3],[11,4,11,6],[14,1,14,6],[3,1,3,6],[4,1,4,6],[5,1,5,3],[6,1,6,6]]}
[null,null,"N9 - Interactive Energy Savings"]
[]
[{"$f":"LEFT(C1,1)","v":"N"},{"$f":"VLOOKUP(A3,EnergySourceLookup,2,FALSE)","v":"Renewables"},{"$f":"VLOOKUP(A3,EnergySourceLookup,3,FALSE)","v":"GJ"}]
[null,"Identify and define the effects of the project on the performance of energy consuming products outside the Measurement Boundary (interactive effects):"]
[]
[]
[null,"Describe how the Interactive Energy Savings due to those interactive effects were calculated:"]
[]
[]
[null,"Note: Interactive energy savings must be estimated in accordance with a repeatable method that:\n(i) uses data recorded for the premises where the project is undertaken; or\n(ii) is consistent with generally accepted estimation approaches in the science and engineering field applicable to the kind of effects being estimated. \n\nFor example, Schedule 34 of the Victorian Energy Upgrades Prescribed Activities includes an air-conditioning multiplier for lighting projects."]
[]
[{"$f":"IFERROR(IF(IESEndUseInAirConSpace=\"Yes\",TRUE,IF(E11BaselineConsumption-E11OperatingConsumption<>0, E9AnnualInteractiveSavings/(E11BaselineConsumption-E11OperatingConsumption),0)<=getsetting(\"IESAirConSpaceMaxPerc\")), FALSE)","v":false},{"$f":"\"Specify the ANNUAL Interactive Energy Savings (\"&$C$3&\"/yr):\"","v":"Specify the ANNUAL Interactive Energy Savings (GJ/yr):"}]
[null,null,null,null,{"$f":"IF(PSCalculationMethod=CalculationMethodNYES,\"Normal Year Value (same for each year)\",IF(PSCalculationMethod=CalculationMethodMAES,\"Savings for the single reporting year.\",\"\"))","v":""}]
[]
[null,"ERROR: The total Interactive Energy Savings are greater than 10% of Total Energy Savings. You will need to change your measurement boundary."]

{"sheet":"N10-MAES","index":67,"n_rows":39,"n_cols":11,"rows_kept":39,"cut":false,"hidden":true,"merged":[[13,1,13,12],[3,1,3,12],[5,1,5,3],[8,1,8,12],[10,1,10,2],[10,3,10,4],[10,5,10,6],[10,7,10,8],[10,9,10,10],[11,1,11,2],[34,1,34,7],[15,1,15,5],[16,1,16,5],[17,1,17,5],[18,1,18,5],[20,1,20,12],[22,1,22,4],[23,1,23,4],[24,1,24,4],[25,1,25,4],[26,1,26,4],[28,1,28,7],[36,6,37,6],[36,7,37,7],[36,8,37,8],[36,1,37,1],[36,2,37,2],[36,3,37,3],[36,4,37,4],[36,5,37,5]]}
[null,null,"N10 - Measured Annual Energy Savings"]
[]
[{"$f":"LEFT(C1,1)","v":"N"},{"$f":"VLOOKUP(A3,EnergySourceLookup,2,FALSE)","v":"Renewables"},{"$f":"VLOOKUP(A3,EnergySourceLookup,3,FALSE)","v":"GJ"}]
[null,"Equation"]
[]
[null,"Equation 5:"]
[null,null,"measured annual energy savings =  Σt ( EBM,t – Emeas,t ) + Eint"]
[]
[null,"Effective range"]
[]
[null,"BASELINE ENERGY MODEL",null,"Reporting Year Values",null,"Baseline Measurements",null,"Baseline Energy Model Effective Range",null,"# of Reporting Year Values Outside of Baseline Effective Range"]
[null,"Variable",null,"Minimum","Maximum","Minimum","Maximum","Minimum","Maximum","< Minimum","> Maximum"]
[]
[null,"Eligible Time Intervals"]
[null,null,null,null,null,null,null,null,"NYESBaselineEnergyMin","NYESOperatingEnergyMin","NYESSavingsEnergyMin"]
[null,"Number of time intervals in Reporting Year:",null,null,null,null,{"$f":"COUNTA($H$39)","v":1},null,"NYESBaselineEnergyMax","NYESOperatingEnergyMax","NYESSavingsEnergyMax"]
[null,"Number of ineligible time intervals:",null,null,null,null,{"$f":"COUNTIF($H$39,FALSE)","v":0},null,"NYESBaselineEnergyMax","NYESOperatingEnergyMax","NYESSavingsEnergyMax"]
[null,"Number of eligible time intervals:",null,null,null,null,{"$f":"G16-G17","v":1},null,"NYESBaselineEnergyMax","NYESOperatingEnergyMax","NYESSavingsEnergyMax"]
[null,"% eligible time intervals",null,null,null,null,{"$f":"IFERROR(G18/G16,\"\")","v":1},null,"NYESBaselineEnergyMax","NYESOperatingEnergyMax","NYESSavingsEnergyMax"]
[]
[null,"Energy Savings"]
[]
[null,"Item Name",null,null,null,"Units","Energy"]
[null,"Baseline Normal Year Annual Energy Consumption",null,null,null,{"$f":"$C$3","v":"GJ"},{"$f":"SUMIF($H$39,TRUE,$G$39)","v":0}]
[null,"Reporting Period Measured Annual Energy Consumption",null,null,null,{"$f":"F24","v":"GJ"},{"$f":"SUMIF($H$39,TRUE,$C$39)","v":0}]
[null,"Annual Interactive Energy Savings",null,null,null,{"$f":"F25","v":"GJ"},{"$f":"N9AnnualInteractiveSavings","v":0}]
[null,"Measured Annual Energy Savings",null,null,null,{"$f":"F26","v":"GJ"},{"$f":"IFERROR(G24-G25+G26,\"\")","v":0}]
[]
[null,"Chart of Gross Measured Annual Energy Savings"]
[]
[]
[]
[]
[]
[null,"Reporting Period Values and Calculated Energy"]
[]
[null,"Date / Time",{"$f":"\"Reported energy consumption (\" & $C$3 & \")\"","v":"Reported energy consumption (GJ)"},"Time interval data excluded?","Site constants all at normal values?","Within baseline model effective range?",{"$f":"\"Baseline energy consumption (\" & $C$3 & \")\"","v":"Baseline energy consumption (GJ)"},"Eligible time interval?","Energy savings"]
[]
[null,null,null,null,{"$f":"TRUE","v":true},{"$f":"TRUE","v":true},{"$f":"IFERROR(NA(),N5InterceptValue + 0)","v":0},{"$f":"AND(UPPER(LEFT(D39))<>\"Y\",E39,F39)","v":true},{"$f":"IF(H39,G39-C39,NA())","v":0}]

{"sheet":"N11-NYES","index":68,"n_rows":41,"n_cols":11,"rows_kept":41,"cut":false,"hidden":true,"merged":[[38,0,39,0],[11,1,11,2],[3,1,3,12],[5,1,5,3],[8,1,8,12],[10,1,10,2],[10,3,10,4],[10,5,10,6],[10,7,10,8],[10,9,10,10],[13,1,13,2],[13,3,13,4],[13,5,13,6],[13,7,13,8],[13,9,13,10],[14,1,14,2],[27,1,27,4],[16,1,16,12],[18,1,18,5],[19,1,19,5],[20,1,20,5],[21,1,21,5],[23,1,23,12],[25,1,25,4],[26,1,26,4],[38,6,39,6],[38,7,39,7],[38,8,39,8],[38,9,39,9],[28,1,28,4],[29,1,29,4],[31,1,31,7],[36,1,36,12],[38,1,39,1],[38,2,39,2],[38,3,39,3],[38,4,39,4],[38,5,39,5]]}
[null,null,"N11 - Normal Year Energy Savings"]
[]
[{"$f":"LEFT(C1,1)","v":"N"},{"$f":"VLOOKUP(A3,EnergySourceLookup,2,FALSE)","v":"Renewables"},{"$f":"VLOOKUP(A3,EnergySourceLookup,3,FALSE)","v":"GJ"}]
[null,"Equation"]
[]
[null,"Equation 4:"]
[null,null,"normal year savings =  Σt ( EBM,t – EOM,t ) + Eint"]
[]
[null,"Effective range"]
[]
[null,"BASELINE ENERGY MODEL",null,"Normal Year Values",null,"Baseline Measurements",null,"Baseline Energy Model Effective Range",null,"# of Normal Year Values Outside of Baseline Effective Range"]
[null,"Variable",null,"Minimum","Maximum","Minimum","Maximum","Minimum","Maximum","< Minimum","> Maximum"]
[]
[null,"OPERATING ENERGY MODEL",null,"Normal Year Values",null,"Operating Measurements",null,"Operating Energy Model Effective Range",null,"# of Normal Year Values Outside of Operating Effective Range"]
[null,"Variable",null,"Minimum","Maximum","Minimum","Maximum","Minimum","Maximum","< Minimum","> Maximum"]
[]
[null,"Eligible Time Intervals"]
[null,null,null,null,null,null,null,null,"NYESBaselineEnergyMin","NYESOperatingEnergyMin","NYESSavingsEnergyMin"]
[null,"Number of time intervals in Normal Year:",null,null,null,null,{"$f":"COUNTA($I$41)","v":1},null,"NYESBaselineEnergyMax","NYESOperatingEnergyMax","NYESSavingsEnergyMax"]
[null,"Number of ineligible time intervals:",null,null,null,null,{"$f":"COUNTIF($I$41,FALSE)","v":0}]
[null,"Number of eligible time intervals:",null,null,null,null,{"$f":"G19-G20","v":1}]
[null,"% eligible time intervals",null,null,null,null,{"$f":"G21/G19","v":1},null,"NYESBaselineEnergyMax","NYESOperatingEnergyMax","NYESSavingsEnergyMax"]
[]
[null,"Energy Savings"]
[]
[null,"Item Name",null,null,null,"Units","Energy"]
[null,"Baseline Normal Year Energy Consumption",null,null,null,{"$f":"$C$3","v":"GJ"},{"$f":"SUMIF($I$41,TRUE,$F$41)","v":0}]
[null,"Operating Normal Year Energy Consumption",null,null,null,{"$f":"$C$3","v":"GJ"},{"$f":"SUMIF($I$41,TRUE,$H$41)","v":0}]
[null,"Annual Interactive Energy Savings",null,null,null,{"$f":"$C$3","v":"GJ"},{"$f":"N9AnnualInteractiveSavings","v":0}]
[null,"Normal Year Savings",null,null,null,{"$f":"$C$3","v":"GJ"},{"$f":"G27-G28+G29","v":0}]
[]
[{"$f":"\"Normal Year Energy Consumption (\"&$B$3&\")\"","v":"Normal Year Energy Consumption (Renewables)"},"Chart of Gross Normal Year Energy Savings"]
[{"$f":"\"Gross Normal Year Energy Savings (\"&$B$3&\")\"","v":"Gross Normal Year Energy Savings (Renewables)"}]
[]
[]
[]
[null,"Normal Year Values and Calculated Energy"]
[]
["blank","Date / Time","Time interval data excluded","Site constants all at normal values?","Within baseline model effective range?",{"$f":"\"Baseline energy consumption (\" & $C$3& \")\"","v":"Baseline energy consumption (GJ)"},"Within operating model effective range?",{"$f":"\"Operating energy consumption (\" & $C$3 & \")\"","v":"Operating energy consumption (GJ)"},"Eligible time interval?","Energy savings"]
[]
[null,null,null,{"$f":"TRUE","v":true},{"$f":"TRUE","v":true},{"$f":"IFERROR(NA(),N5InterceptValue + 0)","v":0},{"$f":"TRUE","v":true},{"$f":"IFERROR(NA(),N7InterceptValue + 0)","v":0},{"$f":"AND(UPPER(LEFT(C41))<>\"Y\",D41,E41,G41)","v":true},{"$f":"IF(AND(D41,I41),F41-H41,NA())","v":0}]

{"sheet":"NCharts-Savings","index":69,"n_rows":366,"n_cols":12,"rows_kept":366,"cut":false,"hidden":true,"merged":[]}
["Time period start","CDD","isSaturday","isSunday","isPublicHoliday","Is within Baseline Model effective range?","Is within Operating Model effective range?","Within all ranges?","Baseline energy consumption","Operating Year energy consumption","Normal Year / Reporting Period energy consumption","Energy savings"]
[42736,8.85,0,0,1,true,true,{"$f":"IF(PSCalculationMethod=CalculationMethodMAES,F2,IF(PSCalculationMethod=CalculationMethodNYES,AND(F2,G2),FALSE))","v":false},{"$f":"'E5-Baseline Model'!#REF!+SUMPRODUCT(B2:E2,TRANSPOSE('E5-Baseline Model'!#REF!))","v":{"$error":"#REF!"}},{"$f":"'E5-Baseline Model'!#REF!+SUMPRODUCT(B2:E2,TRANSPOSE('E5-Baseline Model'!#REF!))+RAND()-0.5","v":{"$error":"#REF!"}},{"$f":"IF(PSCalculationMethod=CalculationMethodNYES,J2,IF(PSCalculationMethod=CalculationMethodNYES,'E8-Reporting Period Values'!#REF!,\"\"))","v":""},{"$f":"IF(H2,I2-K2,0)","v":0}]
[42737,9.9499999999999993,0,0,1,true,true,false,{"$f":"'E5-Baseline Model'!#REF!+SUMPRODUCT(B3:E3,TRANSPOSE('E5-Baseline Model'!#REF!))","v":{"$error":"#REF!"}},{"$f":"'E5-Baseline Model'!#REF!+SUMPRODUCT(B3:E3,TRANSPOSE('E5-Baseline Model'!#REF!))+RAND()-0.5","v":{"$error":"#REF!"}},{"$f":"IF(PSCalculationMethod=CalculationMethodNYES,J3,IF(PSCalculationMethod=CalculationMethodNYES,'E8-Reporting Period Values'!#REF!,\"\"))","v":""},{"$f":"IF(H3,I3-K3,0)","v":0}]
[42738,9.65,0,0,0,true,true,false,{"$f":"'E5-Baseline Model'!#REF!+SUMPRODUCT(B4:E4,TRANSPOSE('E5-Baseline Model'!#REF!))","v":{"$error":"#REF!"}},{"$f":"'E5-Baseline Model'!#REF!+SUMPRODUCT(B4:E4,TRANSPOSE('E5-Baseline Model'!#REF!))+RAND()-0.5","v":{"$error":"#REF!"}},{"$f":"IF(PSCalculationMethod=CalculationMethodNYES,J4,IF(PSCalculationMethod=CalculationMethodNYES,'E8-Reporting Period Values'!#REF!,\"\"))","v":""},0]
[42739,9.1999999999999993,0,0,0,true,true,false,{"$f":"'E5-Baseline Model'!#REF!+SUMPRODUCT(B5:E5,TRANSPOSE('E5-Baseline Model'!#REF!))","v":{"$error":"#REF!"}},{"$f":"'E5-Baseline Model'!#REF!+SUMPRODUCT(B5:E5,TRANSPOSE('E5-Baseline Model'!#REF!))+RAND()-0.5","v":{"$error":"#REF!"}},{"$f":"IF(PSCalculationMethod=CalculationMethodNYES,J5,IF(PSCalculationMethod=CalculationMethodNYES,'E8-Reporting Period Values'!#REF!,\"\"))","v":""},0]
[42740,10.7,0,0,0,true,true,false,{"$f":"'E5-Baseline Model'!#REF!+SUMPRODUCT(B6:E6,TRANSPOSE('E5-Baseline Model'!#REF!))","v":{"$error":"#REF!"}},{"$f":"'E5-Baseline Model'!#REF!+SUMPRODUCT(B6:E6,TRANSPOSE('E5-Baseline Model'!#REF!))+RAND()-0.5","v":{"$error":"#REF!"}},{"$f":"IF(PSCalculationMethod=CalculationMethodNYES,J6,IF(PSCalculationMethod=CalculationMethodNYES,'E8-Reporting Period Values'!#REF!,\"\"))","v":""},0]
[42741,10.4,0,0,0,true,true,false,{"$f":"'E5-Baseline Model'!#REF!+SUMPRODUCT(B7:E7,TRANSPOSE('E5-Baseline Model'!#REF!))","v":{"$error":"#REF!"}},{"$f":"'E5-Baseline Model'!#REF!+SUMPRODUCT(B7:E7,TRANSPOSE('E5-Baseline Model'!#REF!))+RAND()-0.5","v":{"$error":"#REF!"}},{"$f":"IF(PSCalculationMethod=CalculationMethodNYES,J7,IF(PSCalculationMethod=CalculationMethodNYES,'E8-Reporting Period Values'!#REF!,\"\"))","v":""},0]
[42742,8.9,1,0,0,true,true,false,{"$f":"'E5-Baseline Model'!#REF!+SUMPRODUCT(B8:E8,TRANSPOSE('E5-Baseline Model'!#REF!))","v":{"$error":"#REF!"}},{"$f":"'E5-Baseline Model'!#REF!+SUMPRODUCT(B8:E8,TRANSPOSE('E5-Baseline Model'!#REF!))+RAND()-0.5","v":{"$error":"#REF!"}},{"$f":"IF(PSCalculationMethod=CalculationMethodNYES,J8,IF(PSCalculationMethod=CalculationMethodNYES,'E8-Reporting Period Values'!#REF!,\"\"))","v":""},0]
[42743,10.65,0,1,0,true,true,false,{"$f":"'E5-Baseline Model'!#REF!+SUMPRODUCT(B9:E9,TRANSPOSE('E5-Baseline Model'!#REF!))","v":{"$error":"#REF!"}},{"$f":"'E5-Baseline Model'!#REF!+SUMPRODUCT(B9:E9,TRANSPOSE('E5-Baseline Model'!#REF!))+RAND()-0.5","v":{"$error":"#REF!"}},{"$f":"IF(PSCalculationMethod=CalculationMethodNYES,J9,IF(PSCalculationMethod=CalculationMethodNYES,'E8-Reporting Period Values'!#REF!,\"\"))","v":""},0]
[42744,10.5,0,0,0,true,true,false,{"$f":"'E5-Baseline Model'!#REF!+SUMPRODUCT(B10:E10,TRANSPOSE('E5-Baseline Model'!#REF!))","v":{"$error":"#REF!"}},{"$f":"'E5-Baseline Model'!#REF!+SUMPRODUCT(B10:E10,TRANSPOSE('E5-Baseline Model'!#REF!))+RAND()-0.5","v":{"$error":"#REF!"}},{"$f":"IF(PSCalculationMethod=CalculationMethodNYES,J10,IF(PSCalculationMethod=CalculationMethodNYES,'E8-Reporting Period Values'!#REF!,\"\"))","v":""},0]
[42745,9.85,0,0,0,true,true,false,{"$f":"'E5-Baseline Model'!#REF!+SUMPRODUCT(B11:E11,TRANSPOSE('E5-Baseline Model'!#REF!))","v":{"$error":"#REF!"}},{"$f":"'E5-Baseline Model'!#REF!+SUMPRODUCT(B11:E11,TRANSPOSE('E5-Baseline Model'!#REF!))+RAND()-0.5","v":{"$error":"#REF!"}},{"$f":"IF(PSCalculationMethod=CalculationMethodNYES,J11,IF(PSCalculationMethod=CalculationMethodNYES,'E8-Reporting Period Values'!#REF!,\"\"))","v":""},0]
[42746,9.9499999999999993,0,0,0,true,true,false,{"$f":"'E5-Baseline Model'!#REF!+SUMPRODUCT(B12:E12,TRANSPOSE('E5-Baseline Model'!#REF!))","v":{"$error":"#REF!"}},{"$f":"'E5-Baseline Model'!#REF!+SUMPRODUCT(B12:E12,TRANSPOSE('E5-Baseline Model'!#REF!))+RAND()-0.5","v":{"$error":"#REF!"}},{"$f":"IF(PSCalculationMethod=CalculationMethodNYES,J12,IF(PSCalculationMethod=CalculationMethodNYES,'E8-Reporting Period Values'!#REF!,\"\"))","v":""},0]
[42747,12.25,0,0,0,true,true,false,{"$f":"'E5-Baseline Model'!#REF!+SUMPRODUCT(B13:E13,TRANSPOSE('E5-Baseline Model'!#REF!))","v":{"$error":"#REF!"}},{"$f":"'E5-Baseline Model'!#REF!+SUMPRODUCT(B13:E13,TRANSPOSE('E5-Baseline Model'!#REF!))+RAND()-0.5","v":{"$error":"#REF!"}},{"$f":"IF(PSCalculationMethod=CalculationMethodNYES,J13,IF(PSCalculationMethod=CalculationMethodNYES,'E8-Reporting Period Values'!#REF!,\"\"))","v":""},0]
[42748,6.85,0,0,0,true,true,false,{"$f":"'E5-Baseline Model'!#REF!+SUMPRODUCT(B14:E14,TRANSPOSE('E5-Baseline Model'!#REF!))","v":{"$error":"#REF!"}},{"$f":"'E5-Baseline Model'!#REF!+SUMPRODUCT(B14:E14,TRANSPOSE('E5-Baseline Model'!#REF!))+RAND()-0.5","v":{"$error":"#REF!"}},{"$f":"IF(PSCalculationMethod=CalculationMethodNYES,J14,IF(PSCalculationMethod=CalculationMethodNYES,'E8-Reporting Period Values'!#REF!,\"\"))","v":""},0]
[42749,8.25,1,0,0,true,true,false,{"$f":"'E5-Baseline Model'!#REF!+SUMPRODUCT(B15:E15,TRANSPOSE('E5-Baseline Model'!#REF!))","v":{"$error":"#REF!"}},{"$f":"'E5-Baseline Model'!#REF!+SUMPRODUCT(B15:E15,TRANSPOSE('E5-Baseline Model'!#REF!))+RAND()-0.5","v":{"$error":"#REF!"}},{"$f":"IF(PSCalculationMethod=CalculationMethodNYES,J15,IF(PSCalculationMethod=CalculationMethodNYES,'E8-Reporting Period Values'!#REF!,\"\"))","v":""},0]
[42750,11.2,0,1,0,true,true,false,{"$f":"'E5-Baseline Model'!#REF!+SUMPRODUCT(B16:E16,TRANSPOSE('E5-Baseline Model'!#REF!))","v":{"$error":"#REF!"}},{"$f":"'E5-Baseline Model'!#REF!+SUMPRODUCT(B16:E16,TRANSPOSE('E5-Baseline Model'!#REF!))+RAND()-0.5","v":{"$error":"#REF!"}},{"$f":"IF(PSCalculationMethod=CalculationMethodNYES,J16,IF(PSCalculationMethod=CalculationMethodNYES,'E8-Reporting Period Values'!#REF!,\"\"))","v":""},0]
[42751,7.6,0,0,0,true,true,false,{"$f":"'E5-Baseline Model'!#REF!+SUMPRODUCT(B17:E17,TRANSPOSE('E5-Baseline Model'!#REF!))","v":{"$error":"#REF!"}},{"$f":"'E5-Baseline Model'!#REF!+SUMPRODUCT(B17:E17,TRANSPOSE('E5-Baseline Model'!#REF!))+RAND()-0.5","v":{"$error":"#REF!"}},{"$f":"IF(PSCalculationMethod=CalculationMethodNYES,J17,IF(PSCalculationMethod=CalculationMethodNYES,'E8-Reporting Period Values'!#REF!,\"\"))","v":""},0]
[42752,7.25,0,0,0,true,true,false,{"$f":"'E5-Baseline Model'!#REF!+SUMPRODUCT(B18:E18,TRANSPOSE('E5-Baseline Model'!#REF!))","v":{"$error":"#REF!"}},{"$f":"'E5-Baseline Model'!#REF!+SUMPRODUCT(B18:E18,TRANSPOSE('E5-Baseline Model'!#REF!))+RAND()-0.5","v":{"$error":"#REF!"}},{"$f":"IF(PSCalculationMethod=CalculationMethodNYES,J18,IF(PSCalculationMethod=CalculationMethodNYES,'E8-Reporting Period Values'!#REF!,\"\"))","v":""},0]
[42753,7.3,0,0,0,true,true,false,{"$f":"'E5-Baseline Model'!#REF!+SUMPRODUCT(B19:E19,TRANSPOSE('E5-Baseline Model'!#REF!))","v":{"$error":"#REF!"}},{"$f":"'E5-Baseline Model'!#REF!+SUMPRODUCT(B19:E19,TRANSPOSE('E5-Baseline Model'!#REF!))+RAND()-0.5","v":{"$error":"#REF!"}},{"$f":"IF(PSCalculationMethod=CalculationMethodNYES,J19,IF(PSCalculationMethod=CalculationMethodNYES,'E8-Reporting Period Values'!#REF!,\"\"))","v":""},0]
[42754,10.15,0,0,0,true,true,false,{"$f":"'E5-Baseline Model'!#REF!+SUMPRODUCT(B20:E20,TRANSPOSE('E5-Baseline Model'!#REF!))","v":{"$error":"#REF!"}},{"$f":"'E5-Baseline Model'!#REF!+SUMPRODUCT(B20:E20,TRANSPOSE('E5-Baseline Model'!#REF!))+RAND()-0.5","v":{"$error":"#REF!"}},{"$f":"IF(PSCalculationMethod=CalculationMethodNYES,J20,IF(PSCalculationMethod=CalculationMethodNYES,'E8-Reporting Period Values'!#REF!,\"\"))","v":""},0]
[42755,7.5,0,0,0,true,true,false,{"$f":"'E5-Baseline Model'!#REF!+SUMPRODUCT(B21:E21,TRANSPOSE('E5-Baseline Model'!#REF!))","v":{"$error":"#REF!"}},{"$f":"'E5-Baseline Model'!#REF!+SUMPRODUCT(B21:E21,TRANSPOSE('E5-Baseline Model'!#REF!))+RAND()-0.5","v":{"$error":"#REF!"}},{"$f":"IF(PSCalculationMethod=CalculationMethodNYES,J21,IF(PSCalculationMethod=CalculationMethodNYES,'E8-Reporting Period Values'!#REF!,\"\"))","v":""},0]
[42756,6.4,1,0,0,true,true,false,{"$f":"'E5-Baseline Model'!#REF!+SUMPRODUCT(B22:E22,TRANSPOSE('E5-Baseline Model'!#REF!))","v":{"$error":"#REF!"}},{"$f":"'E5-Baseline Model'!#REF!+SUMPRODUCT(B22:E22,TRANSPOSE('E5-Baseline Model'!#REF!))+RAND()-0.5","v":{"$error":"#REF!"}},{"$f":"IF(PSCalculationMethod=CalculationMethodNYES,J22,IF(PSCalculationMethod=CalculationMethodNYES,'E8-Reporting Period Values'!#REF!,\"\"))","v":""},0]
[42757,6.7,0,1,0,true,true,false,{"$f":"'E5-Baseline Model'!#REF!+SUMPRODUCT(B23:E23,TRANSPOSE('E5-Baseline Model'!#REF!))","v":{"$error":"#REF!"}},{"$f":"'E5-Baseline Model'!#REF!+SUMPRODUCT(B23:E23,TRANSPOSE('E5-Baseline Model'!#REF!))+RAND()-0.5","v":{"$error":"#REF!"}},{"$f":"IF(PSCalculationMethod=CalculationMethodNYES,J23,IF(PSCalculationMethod=CalculationMethodNYES,'E8-Reporting Period Values'!#REF!,\"\"))","v":""},0]
[42758,6.65,0,0,0,true,true,false,{"$f":"'E5-Baseline Model'!#REF!+SUMPRODUCT(B24:E24,TRANSPOSE('E5-Baseline Model'!#REF!))","v":{"$error":"#REF!"}},{"$f":"'E5-Baseline Model'!#REF!+SUMPRODUCT(B24:E24,TRANSPOSE('E5-Baseline Model'!#REF!))+RAND()-0.5","v":{"$error":"#REF!"}},{"$f":"IF(PSCalculationMethod=CalculationMethodNYES,J24,IF(PSCalculationMethod=CalculationMethodNYES,'E8-Reporting Period Values'!#REF!,\"\"))","v":""},0]
[42759,8,0,0,0,true,true,false,{"$f":"'E5-Baseline Model'!#REF!+SUMPRODUCT(B25:E25,TRANSPOSE('E5-Baseline Model'!#REF!))","v":{"$error":"#REF!"}},{"$f":"'E5-Baseline Model'!#REF!+SUMPRODUCT(B25:E25,TRANSPOSE('E5-Baseline Model'!#REF!))+RAND()-0.5","v":{"$error":"#REF!"}},{"$f":"IF(PSCalculationMethod=CalculationMethodNYES,J25,IF(PSCalculationMethod=CalculationMethodNYES,'E8-Reporting Period Values'!#REF!,\"\"))","v":""},0]
[42760,8.3000000000000007,0,0,0,true,true,false,{"$f":"'E5-Baseline Model'!#REF!+SUMPRODUCT(B26:E26,TRANSPOSE('E5-Baseline Model'!#REF!))","v":{"$error":"#REF!"}},{"$f":"'E5-Baseline Model'!#REF!+SUMPRODUCT(B26:E26,TRANSPOSE('E5-Baseline Model'!#REF!))+RAND()-0.5","v":{"$error":"#REF!"}},{"$f":"IF(PSCalculationMethod=CalculationMethodNYES,J26,IF(PSCalculationMethod=CalculationMethodNYES,'E8-Reporting Period Values'!#REF!,\"\"))","v":""},0]
[42761,8.6999999999999993,0,0,1,true,true,false,{"$f":"'E5-Baseline Model'!#REF!+SUMPRODUCT(B27:E27,TRANSPOSE('E5-Baseline Model'!#REF!))","v":{"$error":"#REF!"}},{"$f":"'E5-Baseline Model'!#REF!+SUMPRODUCT(B27:E27,TRANSPOSE('E5-Baseline Model'!#REF!))+RAND()-0.5","v":{"$error":"#REF!"}},{"$f":"IF(PSCalculationMethod=CalculationMethodNYES,J27,IF(PSCalculationMethod=CalculationMethodNYES,'E8-Reporting Period Values'!#REF!,\"\"))","v":""},0]
[42762,10.25,0,0,0,true,true,false,{"$f":"'E5-Baseline Model'!#REF!+SUMPRODUCT(B28:E28,TRANSPOSE('E5-Baseline Model'!#REF!))","v":{"$error":"#REF!"}},{"$f":"'E5-Baseline Model'!#REF!+SUMPRODUCT(B28:E28,TRANSPOSE('E5-Baseline Model'!#REF!))+RAND()-0.5","v":{"$error":"#REF!"}},{"$f":"IF(PSCalculationMethod=CalculationMethodNYES,J28,IF(PSCalculationMethod=CalculationMethodNYES,'E8-Reporting Period Values'!#REF!,\"\"))","v":""},0]
[42763,10.199999999999999,1,0,0,true,true,false,{"$f":"'E5-Baseline Model'!#REF!+SUMPRODUCT(B29:E29,TRANSPOSE('E5-Baseline Model'!#REF!))","v":{"$error":"#REF!"}},{"$f":"'E5-Baseline Model'!#REF!+SUMPRODUCT(B29:E29,TRANSPOSE('E5-Baseline Model'!#REF!))+RAND()-0.5","v":{"$error":"#REF!"}},{"$f":"IF(PSCalculationMethod=CalculationMethodNYES,J29,IF(PSCalculationMethod=CalculationMethodNYES,'E8-Reporting Period Values'!#REF!,\"\"))","v":""},0]
[42764,11.5,0,1,0,true,true,false,{"$f":"'E5-Baseline Model'!#REF!+SUMPRODUCT(B30:E30,TRANSPOSE('E5-Baseline Model'!#REF!))","v":{"$error":"#REF!"}},{"$f":"'E5-Baseline Model'!#REF!+SUMPRODUCT(B30:E30,TRANSPOSE('E5-Baseline Model'!#REF!))+RAND()-0.5","v":{"$error":"#REF!"}},{"$f":"IF(PSCalculationMethod=CalculationMethodNYES,J30,IF(PSCalculationMethod=CalculationMethodNYES,'E8-Reporting Period Values'!#REF!,\"\"))","v":""},0]
[42765,11.25,0,0,0,true,true,false,{"$f":"'E5-Baseline Model'!#REF!+SUMPRODUCT(B31:E31,TRANSPOSE('E5-Baseline Model'!#REF!))","v":{"$error":"#REF!"}},{"$f":"'E5-Baseline Model'!#REF!+SUMPRODUCT(B31:E31,TRANSPOSE('E5-Baseline Model'!#REF!))+RAND()-0.5","v":{"$error":"#REF!"}},{"$f":"IF(PSCalculationMethod=CalculationMethodNYES,J31,IF(PSCalculationMethod=CalculationMethodNYES,'E8-Reporting Period Values'!#REF!,\"\"))","v":""},0]
[42766,6.95,0,0,0,true,true,false,{"$f":"'E5-Baseline Model'!#REF!+SUMPRODUCT(B32:E32,TRANSPOSE('E5-Baseline Model'!#REF!))","v":{"$error":"#REF!"}},{"$f":"'E5-Baseline Model'!#REF!+SUMPRODUCT(B32:E32,TRANSPOSE('E5-Baseline Model'!#REF!))+RAND()-0.5","v":{"$error":"#REF!"}},{"$f":"IF(PSCalculationMethod=CalculationMethodNYES,J32,IF(PSCalculationMethod=CalculationMethodNYES,'E8-Reporting Period Values'!#REF!,\"\"))","v":""},0]
[42767,3.7,0,0,0,true,true,false,{"$f":"'E5-Baseline Model'!#REF!+SUMPRODUCT(B33:E33,TRANSPOSE('E5-Baseline Model'!#REF!))","v":{"$error":"#REF!"}},{"$f":"'E5-Baseline Model'!#REF!+SUMPRODUCT(B33:E33,TRANSPOSE('E5-Baseline Model'!#REF!))+RAND()-0.5","v":{"$error":"#REF!"}},{"$f":"IF(PSCalculationMethod=CalculationMethodNYES,J33,IF(PSCalculationMethod=CalculationMethodNYES,'E8-Reporting Period Values'!#REF!,\"\"))","v":""},0]
[42768,5,0,0,0,true,true,false,{"$f":"'E5-Baseline Model'!#REF!+SUMPRODUCT(B34:E34,TRANSPOSE('E5-Baseline Model'!#REF!))","v":{"$error":"#REF!"}},{"$f":"'E5-Baseline Model'!#REF!+SUMPRODUCT(B34:E34,TRANSPOSE('E5-Baseline Model'!#REF!))+RAND()-0.5","v":{"$error":"#REF!"}},{"$f":"IF(PSCalculationMethod=CalculationMethodNYES,J34,IF(PSCalculationMethod=CalculationMethodNYES,'E8-Reporting Period Values'!#REF!,\"\"))","v":""},0]
[42769,6.85,0,0,0,true,true,false,{"$f":"'E5-Baseline Model'!#REF!+SUMPRODUCT(B35:E35,TRANSPOSE('E5-Baseline Model'!#REF!))","v":{"$error":"#REF!"}},{"$f":"'E5-Baseline Model'!#REF!+SUMPRODUCT(B35:E35,TRANSPOSE('E5-Baseline Model'!#REF!))+RAND()-0.5","v":{"$error":"#REF!"}},{"$f":"IF(PSCalculationMethod=CalculationMethodNYES,J35,IF(PSCalculationMethod=CalculationMethodNYES,'E8-Reporting Period Values'!#REF!,\"\"))","v":""},0]
[42770,7.3,1,0,0,true,true,false,{"$f":"'E5-Baseline Model'!#REF!+SUMPRODUCT(B36:E36,TRANSPOSE('E5-Baseline Model'!#REF!))","v":{"$error":"#REF!"}},{"$f":"'E5-Baseline Model'!#REF!+SUMPRODUCT(B36:E36,TRANSPOSE('E5-Baseline Model'!#REF!))+RAND()-0.5","v":{"$error":"#REF!"}},{"$f":"IF(PSCalculationMethod=CalculationMethodNYES,J36,IF(PSCalculationMethod=CalculationMethodNYES,'E8-Reporting Period Values'!#REF!,\"\"))","v":""},0]
[42771,8.4,0,1,0,true,true,false,{"$f":"'E5-Baseline Model'!#REF!+SUMPRODUCT(B37:E37,TRANSPOSE('E5-Baseline Model'!#REF!))","v":{"$error":"#REF!"}},{"$f":"'E5-Baseline Model'!#REF!+SUMPRODUCT(B37:E37,TRANSPOSE('E5-Baseline Model'!#REF!))+RAND()-0.5","v":{"$error":"#REF!"}},{"$f":"IF(PSCalculationMethod=CalculationMethodNYES,J37,IF(PSCalculationMethod=CalculationMethodNYES,'E8-Reporting Period Values'!#REF!,\"\"))","v":""},0]
[42772,9.15,0,0,0,true,true,false,{"$f":"'E5-Baseline Model'!#REF!+SUMPRODUCT(B38:E38,TRANSPOSE('E5-Baseline Model'!#REF!))","v":{"$error":"#REF!"}},{"$f":"'E5-Baseline Model'!#REF!+SUMPRODUCT(B38:E38,TRANSPOSE('E5-Baseline Model'!#REF!))+RAND()-0.5","v":{"$error":"#REF!"}},{"$f":"IF(PSCalculationMethod=CalculationMethodNYES,J38,IF(PSCalculationMethod=CalculationMethodNYES,'E8-Reporting Period Values'!#REF!,\"\"))","v":""},0]
[42773,10.25,0,0,0,true,true,false,{"$f":"'E5-Baseline Model'!#REF!+SUMPRODUCT(B39:E39,TRANSPOSE('E5-Baseline Model'!#REF!))","v":{"$error":"#REF!"}},{"$f":"'E5-Baseline Model'!#REF!+SUMPRODUCT(B39:E39,TRANSPOSE('E5-Baseline Model'!#REF!))+RAND()-0.5","v":{"$error":"#REF!"}},{"$f":"IF(PSCalculationMethod=CalculationMethodNYES,J39,IF(PSCalculationMethod=CalculationMethodNYES,'E8-Reporting Period Values'!#REF!,\"\"))","v":""},0]
[42774,10.75,0,0,0,true,true,false,{"$f":"'E5-Baseline Model'!#REF!+SUMPRODUCT(B40:E40,TRANSPOSE('E5-Baseline Model'!#REF!))","v":{"$error":"#REF!"}},{"$f":"'E5-Baseline Model'!#REF!+SUMPRODUCT(B40:E40,TRANSPOSE('E5-Baseline Model'!#REF!))+RAND()-0.5","v":{"$error":"#REF!"}},{"$f":"IF(PSCalculationMethod=CalculationMethodNYES,J40,IF(PSCalculationMethod=CalculationMethodNYES,'E8-Reporting Period Values'!#REF!,\"\"))","v":""},0]
[42775,11.45,0,0,0,true,true,false,{"$f":"'E5-Baseline Model'!#REF!+SUMPRODUCT(B41:E41,TRANSPOSE('E5-Baseline Model'!#REF!))","v":{"$error":"#REF!"}},{"$f":"'E5-Baseline Model'!#REF!+SUMPRODUCT(B41:E41,TRANSPOSE('E5-Baseline Model'!#REF!))+RAND()-0.5","v":{"$error":"#REF!"}},{"$f":"IF(PSCalculationMethod=CalculationMethodNYES,J41,IF(PSCalculationMethod=CalculationMethodNYES,'E8-Reporting Period Values'!#REF!,\"\"))","v":""},0]
[42776,6.5,0,0,0,true,true,false,{"$f":"'E5-Baseline Model'!#REF!+SUMPRODUCT(B42:E42,TRANSPOSE('E5-Baseline Model'!#REF!))","v":{"$error":"#REF!"}},{"$f":"'E5-Baseline Model'!#REF!+SUMPRODUCT(B42:E42,TRANSPOSE('E5-Baseline Model'!#REF!))+RAND()-0.5","v":{"$error":"#REF!"}},{"$f":"IF(PSCalculationMethod=CalculationMethodNYES,J42,IF(PSCalculationMethod=CalculationMethodNYES,'E8-Reporting Period Values'!#REF!,\"\"))","v":""},0]
[42777,6.9,1,0,0,true,true,false,{"$f":"'E5-Baseline Model'!#REF!+SUMPRODUCT(B43:E43,TRANSPOSE('E5-Baseline Model'!#REF!))","v":{"$error":"#REF!"}},{"$f":"'E5-Baseline Model'!#REF!+SUMPRODUCT(B43:E43,TRANSPOSE('E5-Baseline Model'!#REF!))+RAND()-0.5","v":{"$error":"#REF!"}},{"$f":"IF(PSCalculationMethod=CalculationMethodNYES,J43,IF(PSCalculationMethod=CalculationMethodNYES,'E8-Reporting Period Values'!#REF!,\"\"))","v":""},0]
[42778,8.0500000000000007,0,1,0,true,true,false,{"$f":"'E5-Baseline Model'!#REF!+SUMPRODUCT(B44:E44,TRANSPOSE('E5-Baseline Model'!#REF!))","v":{"$error":"#REF!"}},{"$f":"'E5-Baseline Model'!#REF!+SUMPRODUCT(B44:E44,TRANSPOSE('E5-Baseline Model'!#REF!))+RAND()-0.5","v":{"$error":"#REF!"}},{"$f":"IF(PSCalculationMethod=CalculationMethodNYES,J44,IF(PSCalculationMethod=CalculationMethodNYES,'E8-Reporting Period Values'!#REF!,\"\"))","v":""},0]
[42779,7.9,0,0,0,true,true,false,{"$f":"'E5-Baseline Model'!#REF!+SUMPRODUCT(B45:E45,TRANSPOSE('E5-Baseline Model'!#REF!))","v":{"$error":"#REF!"}},{"$f":"'E5-Baseline Model'!#REF!+SUMPRODUCT(B45:E45,TRANSPOSE('E5-Baseline Model'!#REF!))+RAND()-0.5","v":{"$error":"#REF!"}},{"$f":"IF(PSCalculationMethod=CalculationMethodNYES,J45,IF(PSCalculationMethod=CalculationMethodNYES,'E8-Reporting Period Values'!#REF!,\"\"))","v":""},0]
[42780,8.75,0,0,0,true,true,false,{"$f":"'E5-Baseline Model'!#REF!+SUMPRODUCT(B46:E46,TRANSPOSE('E5-Baseline Model'!#REF!))","v":{"$error":"#REF!"}},{"$f":"'E5-Baseline Model'!#REF!+SUMPRODUCT(B46:E46,TRANSPOSE('E5-Baseline Model'!#REF!))+RAND()-0.5","v":{"$error":"#REF!"}},{"$f":"IF(PSCalculationMethod=CalculationMethodNYES,J46,IF(PSCalculationMethod=CalculationMethodNYES,'E8-Reporting Period Values'!#REF!,\"\"))","v":""},0]
[42781,8.25,0,0,0,true,true,false,{"$f":"'E5-Baseline Model'!#REF!+SUMPRODUCT(B47:E47,TRANSPOSE('E5-Baseline Model'!#REF!))","v":{"$error":"#REF!"}},{"$f":"'E5-Baseline Model'!#REF!+SUMPRODUCT(B47:E47,TRANSPOSE('E5-Baseline Model'!#REF!))+RAND()-0.5","v":{"$error":"#REF!"}},{"$f":"IF(PSCalculationMethod=CalculationMethodNYES,J47,IF(PSCalculationMethod=CalculationMethodNYES,'E8-Reporting Period Values'!#REF!,\"\"))","v":""},0]
[42782,8.4,0,0,0,true,true,false,{"$f":"'E5-Baseline Model'!#REF!+SUMPRODUCT(B48:E48,TRANSPOSE('E5-Baseline Model'!#REF!))","v":{"$error":"#REF!"}},{"$f":"'E5-Baseline Model'!#REF!+SUMPRODUCT(B48:E48,TRANSPOSE('E5-Baseline Model'!#REF!))+RAND()-0.5","v":{"$error":"#REF!"}},{"$f":"IF(PSCalculationMethod=CalculationMethodNYES,J48,IF(PSCalculationMethod=CalculationMethodNYES,'E8-Reporting Period Values'!#REF!,\"\"))","v":""},0]
[42783,8.5,0,0,0,true,true,false,{"$f":"'E5-Baseline Model'!#REF!+SUMPRODUCT(B49:E49,TRANSPOSE('E5-Baseline Model'!#REF!))","v":{"$error":"#REF!"}},{"$f":"'E5-Baseline Model'!#REF!+SUMPRODUCT(B49:E49,TRANSPOSE('E5-Baseline Model'!#REF!))+RAND()-0.5","v":{"$error":"#REF!"}},{"$f":"IF(PSCalculationMethod=CalculationMethodNYES,J49,IF(PSCalculationMethod=CalculationMethodNYES,'E8-Reporting Period Values'!#REF!,\"\"))","v":""},0]
[42784,9.3000000000000007,1,0,0,true,true,false,{"$f":"'E5-Baseline Model'!#REF!+SUMPRODUCT(B50:E50,TRANSPOSE('E5-Baseline Model'!#REF!))","v":{"$error":"#REF!"}},{"$f":"'E5-Baseline Model'!#REF!+SUMPRODUCT(B50:E50,TRANSPOSE('E5-Baseline Model'!#REF!))+RAND()-0.5","v":{"$error":"#REF!"}},{"$f":"IF(PSCalculationMethod=CalculationMethodNYES,J50,IF(PSCalculationMethod=CalculationMethodNYES,'E8-Reporting Period Values'!#REF!,\"\"))","v":""},0]
[42785,10.7,0,1,0,true,true,false,{"$f":"'E5-Baseline Model'!#REF!+SUMPRODUCT(B51:E51,TRANSPOSE('E5-Baseline Model'!#REF!))","v":{"$error":"#REF!"}},{"$f":"'E5-Baseline Model'!#REF!+SUMPRODUCT(B51:E51,TRANSPOSE('E5-Baseline Model'!#REF!))+RAND()-0.5","v":{"$error":"#REF!"}},{"$f":"IF(PSCalculationMethod=CalculationMethodNYES,J51,IF(PSCalculationMethod=CalculationMethodNYES,'E8-Reporting Period Values'!#REF!,\"\"))","v":""},0]
[42786,10.8,0,0,0,true,true,false,{"$f":"'E5-Baseline Model'!#REF!+SUMPRODUCT(B52:E52,TRANSPOSE('E5-Baseline Model'!#REF!))","v":{"$error":"#REF!"}},{"$f":"'E5-Baseline Model'!#REF!+SUMPRODUCT(B52:E52,TRANSPOSE('E5-Baseline Model'!#REF!))+RAND()-0.5","v":{"$error":"#REF!"}},{"$f":"IF(PSCalculationMethod=CalculationMethodNYES,J52,IF(PSCalculationMethod=CalculationMethodNYES,'E8-Reporting Period Values'!#REF!,\"\"))","v":""},0]
[42787,10.95,0,0,0,true,true,false,{"$f":"'E5-Baseline Model'!#REF!+SUMPRODUCT(B53:E53,TRANSPOSE('E5-Baseline Model'!#REF!))","v":{"$error":"#REF!"}},{"$f":"'E5-Baseline Model'!#REF!+SUMPRODUCT(B53:E53,TRANSPOSE('E5-Baseline Model'!#REF!))+RAND()-0.5","v":{"$error":"#REF!"}},{"$f":"IF(PSCalculationMethod=CalculationMethodNYES,J53,IF(PSCalculationMethod=CalculationMethodNYES,'E8-Reporting Period Values'!#REF!,\"\"))","v":""},0]
[42788,8.15,0,0,0,true,true,false,{"$f":"'E5-Baseline Model'!#REF!+SUMPRODUCT(B54:E54,TRANSPOSE('E5-Baseline Model'!#REF!))","v":{"$error":"#REF!"}},{"$f":"'E5-Baseline Model'!#REF!+SUMPRODUCT(B54:E54,TRANSPOSE('E5-Baseline Model'!#REF!))+RAND()-0.5","v":{"$error":"#REF!"}},{"$f":"IF(PSCalculationMethod=CalculationMethodNYES,J54,IF(PSCalculationMethod=CalculationMethodNYES,'E8-Reporting Period Values'!#REF!,\"\"))","v":""},0]
[42789,10.15,0,0,0,true,true,false,{"$f":"'E5-Baseline Model'!#REF!+SUMPRODUCT(B55:E55,TRANSPOSE('E5-Baseline Model'!#REF!))","v":{"$error":"#REF!"}},{"$f":"'E5-Baseline Model'!#REF!+SUMPRODUCT(B55:E55,TRANSPOSE('E5-Baseline Model'!#REF!))+RAND()-0.5","v":{"$error":"#REF!"}},{"$f":"IF(PSCalculationMethod=CalculationMethodNYES,J55,IF(PSCalculationMethod=CalculationMethodNYES,'E8-Reporting Period Values'!#REF!,\"\"))","v":""},0]
[42790,11.5,0,0,0,true,true,false,{"$f":"'E5-Baseline Model'!#REF!+SUMPRODUCT(B56:E56,TRANSPOSE('E5-Baseline Model'!#REF!))","v":{"$error":"#REF!"}},{"$f":"'E5-Baseline Model'!#REF!+SUMPRODUCT(B56:E56,TRANSPOSE('E5-Baseline Model'!#REF!))+RAND()-0.5","v":{"$error":"#REF!"}},{"$f":"IF(PSCalculationMethod=CalculationMethodNYES,J56,IF(PSCalculationMethod=CalculationMethodNYES,'E8-Reporting Period Values'!#REF!,\"\"))","v":""},0]
[42791,10.8,1,0,0,true,true,false,{"$f":"'E5-Baseline Model'!#REF!+SUMPRODUCT(B57:E57,TRANSPOSE('E5-Baseline Model'!#REF!))","v":{"$error":"#REF!"}},{"$f":"'E5-Baseline Model'!#REF!+SUMPRODUCT(B57:E57,TRANSPOSE('E5-Baseline Model'!#REF!))+RAND()-0.5","v":{"$error":"#REF!"}},{"$f":"IF(PSCalculationMethod=CalculationMethodNYES,J57,IF(PSCalculationMethod=CalculationMethodNYES,'E8-Reporting Period Values'!#REF!,\"\"))","v":""},0]
[42792,10.65,0,1,0,true,true,false,{"$f":"'E5-Baseline Model'!#REF!+SUMPRODUCT(B58:E58,TRANSPOSE('E5-Baseline Model'!#REF!))","v":{"$error":"#REF!"}},{"$f":"'E5-Baseline Model'!#REF!+SUMPRODUCT(B58:E58,TRANSPOSE('E5-Baseline Model'!#REF!))+RAND()-0.5","v":{"$error":"#REF!"}},{"$f":"IF(PSCalculationMethod=CalculationMethodNYES,J58,IF(PSCalculationMethod=CalculationMethodNYES,'E8-Reporting Period Values'!#REF!,\"\"))","v":""},0]
[42793,11.4,0,0,0,true,true,false,{"$f":"'E5-Baseline Model'!#REF!+SUMPRODUCT(B59:E59,TRANSPOSE('E5-Baseline Model'!#REF!))","v":{"$error":"#REF!"}},{"$f":"'E5-Baseline Model'!#REF!+SUMPRODUCT(B59:E59,TRANSPOSE('E5-Baseline Model'!#REF!))+RAND()-0.5","v":{"$error":"#REF!"}},{"$f":"IF(PSCalculationMethod=CalculationMethodNYES,J59,IF(PSCalculationMethod=CalculationMethodNYES,'E8-Reporting Period Values'!#REF!,\"\"))","v":""},0]
[42794,4.3,0,0,0,true,true,false,{"$f":"'E5-Baseline Model'!#REF!+SUMPRODUCT(B60:E60,TRANSPOSE('E5-Baseline Model'!#REF!))","v":{"$error":"#REF!"}},{"$f":"'E5-Baseline Model'!#REF!+SUMPRODUCT(B60:E60,TRANSPOSE('E5-Baseline Model'!#REF!))+RAND()-0.5","v":{"$error":"#REF!"}},{"$f":"IF(PSCalculationMethod=CalculationMethodNYES,J60,IF(PSCalculationMethod=CalculationMethodNYES,'E8-Reporting Period Values'!#REF!,\"\"))","v":""},0]
[42795,9.65,0,0,0,true,true,false,{"$f":"'E5-Baseline Model'!#REF!+SUMPRODUCT(B61:E61,TRANSPOSE('E5-Baseline Model'!#REF!))","v":{"$error":"#REF!"}},{"$f":"'E5-Baseline Model'!#REF!+SUMPRODUCT(B61:E61,TRANSPOSE('E5-Baseline Model'!#REF!))+RAND()-0.5","v":{"$error":"#REF!"}},{"$f":"IF(PSCalculationMethod=CalculationMethodNYES,J61,IF(PSCalculationMethod=CalculationMethodNYES,'E8-Reporting Period Values'!#REF!,\"\"))","v":""},0]
[42796,9.85,0,0,0,true,true,false,{"$f":"'E5-Baseline Model'!#REF!+SUMPRODUCT(B62:E62,TRANSPOSE('E5-Baseline Model'!#REF!))","v":{"$error":"#REF!"}},{"$f":"'E5-Baseline Model'!#REF!+SUMPRODUCT(B62:E62,TRANSPOSE('E5-Baseline Model'!#REF!))+RAND()-0.5","v":{"$error":"#REF!"}},{"$f":"IF(PSCalculationMethod=CalculationMethodNYES,J62,IF(PSCalculationMethod=CalculationMethodNYES,'E8-Reporting Period Values'!#REF!,\"\"))","v":""},0]
[42797,9.8000000000000007,0,0,0,true,true,false,{"$f":"'E5-Baseline Model'!#REF!+SUMPRODUCT(B63:E63,TRANSPOSE('E5-Baseline Model'!#REF!))","v":{"$error":"#REF!"}},{"$f":"'E5-Baseline Model'!#REF!+SUMPRODUCT(B63:E63,TRANSPOSE('E5-Baseline Model'!#REF!))+RAND()-0.5","v":{"$error":"#REF!"}},{"$f":"IF(PSCalculationMethod=CalculationMethodNYES,J63,IF(PSCalculationMethod=CalculationMethodNYES,'E8-Reporting Period Values'!#REF!,\"\"))","v":""},0]
[42798,6.7,1,0,0,true,true,false,{"$f":"'E5-Baseline Model'!#REF!+SUMPRODUCT(B64:E64,TRANSPOSE('E5-Baseline Model'!#REF!))","v":{"$error":"#REF!"}},{"$f":"'E5-Baseline Model'!#REF!+SUMPRODUCT(B64:E64,TRANSPOSE('E5-Baseline Model'!#REF!))+RAND()-0.5","v":{"$error":"#REF!"}},{"$f":"IF(PSCalculationMethod=CalculationMethodNYES,J64,IF(PSCalculationMethod=CalculationMethodNYES,'E8-Reporting Period Values'!#REF!,\"\"))","v":""},0]
[42799,5,0,1,0,true,true,false,{"$f":"'E5-Baseline Model'!#REF!+SUMPRODUCT(B65:E65,TRANSPOSE('E5-Baseline Model'!#REF!))","v":{"$error":"#REF!"}},{"$f":"'E5-Baseline Model'!#REF!+SUMPRODUCT(B65:E65,TRANSPOSE('E5-Baseline Model'!#REF!))+RAND()-0.5","v":{"$error":"#REF!"}},{"$f":"IF(PSCalculationMethod=CalculationMethodNYES,J65,IF(PSCalculationMethod=CalculationMethodNYES,'E8-Reporting Period Values'!#REF!,\"\"))","v":""},0]
[42800,8,0,0,0,true,true,{"$f":"IF(PSCalculationMethod=CalculationMethodMAES,F66,IF(PSCalculationMethod=CalculationMethodNYES,AND(F66,G66),FALSE))","v":false},{"$f":"'E5-Baseline Model'!#REF!+SUMPRODUCT(B66:E66,TRANSPOSE('E5-Baseline Model'!#REF!))","v":{"$error":"#REF!"}},{"$f":"'E5-Baseline Model'!#REF!+SUMPRODUCT(B66:E66,TRANSPOSE('E5-Baseline Model'!#REF!))+RAND()-0.5","v":{"$error":"#REF!"}},{"$f":"IF(PSCalculationMethod=CalculationMethodNYES,J66,IF(PSCalculationMethod=CalculationMethodNYES,'E8-Reporting Period Values'!#REF!,\"\"))","v":""},0]
[42801,8.75,0,0,0,true,true,false,{"$f":"'E5-Baseline Model'!#REF!+SUMPRODUCT(B67:E67,TRANSPOSE('E5-Baseline Model'!#REF!))","v":{"$error":"#REF!"}},{"$f":"'E5-Baseline Model'!#REF!+SUMPRODUCT(B67:E67,TRANSPOSE('E5-Baseline Model'!#REF!))+RAND()-0.5","v":{"$error":"#REF!"}},{"$f":"IF(PSCalculationMethod=CalculationMethodNYES,J67,IF(PSCalculationMethod=CalculationMethodNYES,'E8-Reporting Period Values'!#REF!,\"\"))","v":""},{"$f":"IF(H67,I67-K67,0)","v":0}]
[42802,7.35,0,0,0,true,true,false,{"$f":"'E5-Baseline Model'!#REF!+SUMPRODUCT(B68:E68,TRANSPOSE('E5-Baseline Model'!#REF!))","v":{"$error":"#REF!"}},{"$f":"'E5-Baseline Model'!#REF!+SUMPRODUCT(B68:E68,TRANSPOSE('E5-Baseline Model'!#REF!))+RAND()-0.5","v":{"$error":"#REF!"}},{"$f":"IF(PSCalculationMethod=CalculationMethodNYES,J68,IF(PSCalculationMethod=CalculationMethodNYES,'E8-Reporting Period Values'!#REF!,\"\"))","v":""},0]
[42803,7.8,0,0,0,true,true,false,{"$f":"'E5-Baseline Model'!#REF!+SUMPRODUCT(B69:E69,TRANSPOSE('E5-Baseline Model'!#REF!))","v":{"$error":"#REF!"}},{"$f":"'E5-Baseline Model'!#REF!+SUMPRODUCT(B69:E69,TRANSPOSE('E5-Baseline Model'!#REF!))+RAND()-0.5","v":{"$error":"#REF!"}},{"$f":"IF(PSCalculationMethod=CalculationMethodNYES,J69,IF(PSCalculationMethod=CalculationMethodNYES,'E8-Reporting Period Values'!#REF!,\"\"))","v":""},0]
[42804,7.8,0,0,0,true,true,false,{"$f":"'E5-Baseline Model'!#REF!+SUMPRODUCT(B70:E70,TRANSPOSE('E5-Baseline Model'!#REF!))","v":{"$error":"#REF!"}},{"$f":"'E5-Baseline Model'!#REF!+SUMPRODUCT(B70:E70,TRANSPOSE('E5-Baseline Model'!#REF!))+RAND()-0.5","v":{"$error":"#REF!"}},{"$f":"IF(PSCalculationMethod=CalculationMethodNYES,J70,IF(PSCalculationMethod=CalculationMethodNYES,'E8-Reporting Period Values'!#REF!,\"\"))","v":""},0]
[42805,7.75,1,0,0,true,true,false,{"$f":"'E5-Baseline Model'!#REF!+SUMPRODUCT(B71:E71,TRANSPOSE('E5-Baseline Model'!#REF!))","v":{"$error":"#REF!"}},{"$f":"'E5-Baseline Model'!#REF!+SUMPRODUCT(B71:E71,TRANSPOSE('E5-Baseline Model'!#REF!))+RAND()-0.5","v":{"$error":"#REF!"}},{"$f":"IF(PSCalculationMethod=CalculationMethodNYES,J71,IF(PSCalculationMethod=CalculationMethodNYES,'E8-Reporting Period Values'!#REF!,\"\"))","v":""},0]
[42806,8.5500000000000007,0,1,0,true,true,false,{"$f":"'E5-Baseline Model'!#REF!+SUMPRODUCT(B72:E72,TRANSPOSE('E5-Baseline Model'!#REF!))","v":{"$error":"#REF!"}},{"$f":"'E5-Baseline Model'!#REF!+SUMPRODUCT(B72:E72,TRANSPOSE('E5-Baseline Model'!#REF!))+RAND()-0.5","v":{"$error":"#REF!"}},{"$f":"IF(PSCalculationMethod=CalculationMethodNYES,J72,IF(PSCalculationMethod=CalculationMethodNYES,'E8-Reporting Period Values'!#REF!,\"\"))","v":""},0]
[42807,9.5500000000000007,0,0,0,true,true,false,{"$f":"'E5-Baseline Model'!#REF!+SUMPRODUCT(B73:E73,TRANSPOSE('E5-Baseline Model'!#REF!))","v":{"$error":"#REF!"}},{"$f":"'E5-Baseline Model'!#REF!+SUMPRODUCT(B73:E73,TRANSPOSE('E5-Baseline Model'!#REF!))+RAND()-0.5","v":{"$error":"#REF!"}},{"$f":"IF(PSCalculationMethod=CalculationMethodNYES,J73,IF(PSCalculationMethod=CalculationMethodNYES,'E8-Reporting Period Values'!#REF!,\"\"))","v":""},0]
[42808,9.3000000000000007,0,0,0,true,true,false,{"$f":"'E5-Baseline Model'!#REF!+SUMPRODUCT(B74:E74,TRANSPOSE('E5-Baseline Model'!#REF!))","v":{"$error":"#REF!"}},{"$f":"'E5-Baseline Model'!#REF!+SUMPRODUCT(B74:E74,TRANSPOSE('E5-Baseline Model'!#REF!))+RAND()-0.5","v":{"$error":"#REF!"}},{"$f":"IF(PSCalculationMethod=CalculationMethodNYES,J74,IF(PSCalculationMethod=CalculationMethodNYES,'E8-Reporting Period Values'!#REF!,\"\"))","v":""},0]
[42809,7.45,0,0,0,true,true,false,{"$f":"'E5-Baseline Model'!#REF!+SUMPRODUCT(B75:E75,TRANSPOSE('E5-Baseline Model'!#REF!))","v":{"$error":"#REF!"}},{"$f":"'E5-Baseline Model'!#REF!+SUMPRODUCT(B75:E75,TRANSPOSE('E5-Baseline Model'!#REF!))+RAND()-0.5","v":{"$error":"#REF!"}},{"$f":"IF(PSCalculationMethod=CalculationMethodNYES,J75,IF(PSCalculationMethod=CalculationMethodNYES,'E8-Reporting Period Values'!#REF!,\"\"))","v":""},0]
[42810,6.8,0,0,0,true,true,false,{"$f":"'E5-Baseline Model'!#REF!+SUMPRODUCT(B76:E76,TRANSPOSE('E5-Baseline Model'!#REF!))","v":{"$error":"#REF!"}},{"$f":"'E5-Baseline Model'!#REF!+SUMPRODUCT(B76:E76,TRANSPOSE('E5-Baseline Model'!#REF!))+RAND()-0.5","v":{"$error":"#REF!"}},{"$f":"IF(PSCalculationMethod=CalculationMethodNYES,J76,IF(PSCalculationMethod=CalculationMethodNYES,'E8-Reporting Period Values'!#REF!,\"\"))","v":""},0]
[42811,6.8,0,0,0,true,true,false,{"$f":"'E5-Baseline Model'!#REF!+SUMPRODUCT(B77:E77,TRANSPOSE('E5-Baseline Model'!#REF!))","v":{"$error":"#REF!"}},{"$f":"'E5-Baseline Model'!#REF!+SUMPRODUCT(B77:E77,TRANSPOSE('E5-Baseline Model'!#REF!))+RAND()-0.5","v":{"$error":"#REF!"}},{"$f":"IF(PSCalculationMethod=CalculationMethodNYES,J77,IF(PSCalculationMethod=CalculationMethodNYES,'E8-Reporting Period Values'!#REF!,\"\"))","v":""},0]
[42812,8.6,1,0,0,true,true,false,{"$f":"'E5-Baseline Model'!#REF!+SUMPRODUCT(B78:E78,TRANSPOSE('E5-Baseline Model'!#REF!))","v":{"$error":"#REF!"}},{"$f":"'E5-Baseline Model'!#REF!+SUMPRODUCT(B78:E78,TRANSPOSE('E5-Baseline Model'!#REF!))+RAND()-0.5","v":{"$error":"#REF!"}},{"$f":"IF(PSCalculationMethod=CalculationMethodNYES,J78,IF(PSCalculationMethod=CalculationMethodNYES,'E8-Reporting Period Values'!#REF!,\"\"))","v":""},0]
[42813,9,0,1,0,true,true,false,{"$f":"'E5-Baseline Model'!#REF!+SUMPRODUCT(B79:E79,TRANSPOSE('E5-Baseline Model'!#REF!))","v":{"$error":"#REF!"}},{"$f":"'E5-Baseline Model'!#REF!+SUMPRODUCT(B79:E79,TRANSPOSE('E5-Baseline Model'!#REF!))+RAND()-0.5","v":{"$error":"#REF!"}},{"$f":"IF(PSCalculationMethod=CalculationMethodNYES,J79,IF(PSCalculationMethod=CalculationMethodNYES,'E8-Reporting Period Values'!#REF!,\"\"))","v":""},0]
[42814,8.4499999999999993,0,0,0,true,true,false,{"$f":"'E5-Baseline Model'!#REF!+SUMPRODUCT(B80:E80,TRANSPOSE('E5-Baseline Model'!#REF!))","v":{"$error":"#REF!"}},{"$f":"'E5-Baseline Model'!#REF!+SUMPRODUCT(B80:E80,TRANSPOSE('E5-Baseline Model'!#REF!))+RAND()-0.5","v":{"$error":"#REF!"}},{"$f":"IF(PSCalculationMethod=CalculationMethodNYES,J80,IF(PSCalculationMethod=CalculationMethodNYES,'E8-Reporting Period Values'!#REF!,\"\"))","v":""},0]
[42815,8.15,0,0,0,true,true,false,{"$f":"'E5-Baseline Model'!#REF!+SUMPRODUCT(B81:E81,TRANSPOSE('E5-Baseline Model'!#REF!))","v":{"$error":"#REF!"}},{"$f":"'E5-Baseline Model'!#REF!+SUMPRODUCT(B81:E81,TRANSPOSE('E5-Baseline Model'!#REF!))+RAND()-0.5","v":{"$error":"#REF!"}},{"$f":"IF(PSCalculationMethod=CalculationMethodNYES,J81,IF(PSCalculationMethod=CalculationMethodNYES,'E8-Reporting Period Values'!#REF!,\"\"))","v":""},0]
[42816,8.6,0,0,0,true,true,false,{"$f":"'E5-Baseline Model'!#REF!+SUMPRODUCT(B82:E82,TRANSPOSE('E5-Baseline Model'!#REF!))","v":{"$error":"#REF!"}},{"$f":"'E5-Baseline Model'!#REF!+SUMPRODUCT(B82:E82,TRANSPOSE('E5-Baseline Model'!#REF!))+RAND()-0.5","v":{"$error":"#REF!"}},{"$f":"IF(PSCalculationMethod=CalculationMethodNYES,J82,IF(PSCalculationMethod=CalculationMethodNYES,'E8-Reporting Period Values'!#REF!,\"\"))","v":""},0]
[42817,9.3000000000000007,0,0,0,true,true,false,{"$f":"'E5-Baseline Model'!#REF!+SUMPRODUCT(B83:E83,TRANSPOSE('E5-Baseline Model'!#REF!))","v":{"$error":"#REF!"}},{"$f":"'E5-Baseline Model'!#REF!+SUMPRODUCT(B83:E83,TRANSPOSE('E5-Baseline Model'!#REF!))+RAND()-0.5","v":{"$error":"#REF!"}},{"$f":"IF(PSCalculationMethod=CalculationMethodNYES,J83,IF(PSCalculationMethod=CalculationMethodNYES,'E8-Reporting Period Values'!#REF!,\"\"))","v":""},0]
[42818,9.4,0,0,0,true,true,false,{"$f":"'E5-Baseline Model'!#REF!+SUMPRODUCT(B84:E84,TRANSPOSE('E5-Baseline Model'!#REF!))","v":{"$error":"#REF!"}},{"$f":"'E5-Baseline Model'!#REF!+SUMPRODUCT(B84:E84,TRANSPOSE('E5-Baseline Model'!#REF!))+RAND()-0.5","v":{"$error":"#REF!"}},{"$f":"IF(PSCalculationMethod=CalculationMethodNYES,J84,IF(PSCalculationMethod=CalculationMethodNYES,'E8-Reporting Period Values'!#REF!,\"\"))","v":""},0]
[42819,9.5500000000000007,1,0,0,true,true,false,{"$f":"'E5-Baseline Model'!#REF!+SUMPRODUCT(B85:E85,TRANSPOSE('E5-Baseline Model'!#REF!))","v":{"$error":"#REF!"}},{"$f":"'E5-Baseline Model'!#REF!+SUMPRODUCT(B85:E85,TRANSPOSE('E5-Baseline Model'!#REF!))+RAND()-0.5","v":{"$error":"#REF!"}},{"$f":"IF(PSCalculationMethod=CalculationMethodNYES,J85,IF(PSCalculationMethod=CalculationMethodNYES,'E8-Reporting Period Values'!#REF!,\"\"))","v":""},0]
[42820,8.0500000000000007,0,1,0,true,true,false,{"$f":"'E5-Baseline Model'!#REF!+SUMPRODUCT(B86:E86,TRANSPOSE('E5-Baseline Model'!#REF!))","v":{"$error":"#REF!"}},{"$f":"'E5-Baseline Model'!#REF!+SUMPRODUCT(B86:E86,TRANSPOSE('E5-Baseline Model'!#REF!))+RAND()-0.5","v":{"$error":"#REF!"}},{"$f":"IF(PSCalculationMethod=CalculationMethodNYES,J86,IF(PSCalculationMethod=CalculationMethodNYES,'E8-Reporting Period Values'!#REF!,\"\"))","v":""},0]
[42821,5.95,0,0,0,true,true,false,{"$f":"'E5-Baseline Model'!#REF!+SUMPRODUCT(B87:E87,TRANSPOSE('E5-Baseline Model'!#REF!))","v":{"$error":"#REF!"}},{"$f":"'E5-Baseline Model'!#REF!+SUMPRODUCT(B87:E87,TRANSPOSE('E5-Baseline Model'!#REF!))+RAND()-0.5","v":{"$error":"#REF!"}},{"$f":"IF(PSCalculationMethod=CalculationMethodNYES,J87,IF(PSCalculationMethod=CalculationMethodNYES,'E8-Reporting Period Values'!#REF!,\"\"))","v":""},0]
[42822,6.25,0,0,0,true,true,false,{"$f":"'E5-Baseline Model'!#REF!+SUMPRODUCT(B88:E88,TRANSPOSE('E5-Baseline Model'!#REF!))","v":{"$error":"#REF!"}},{"$f":"'E5-Baseline Model'!#REF!+SUMPRODUCT(B88:E88,TRANSPOSE('E5-Baseline Model'!#REF!))+RAND()-0.5","v":{"$error":"#REF!"}},{"$f":"IF(PSCalculationMethod=CalculationMethodNYES,J88,IF(PSCalculationMethod=CalculationMethodNYES,'E8-Reporting Period Values'!#REF!,\"\"))","v":""},0]
[42823,8.4,0,0,0,true,true,false,{"$f":"'E5-Baseline Model'!#REF!+SUMPRODUCT(B89:E89,TRANSPOSE('E5-Baseline Model'!#REF!))","v":{"$error":"#REF!"}},{"$f":"'E5-Baseline Model'!#REF!+SUMPRODUCT(B89:E89,TRANSPOSE('E5-Baseline Model'!#REF!))+RAND()-0.5","v":{"$error":"#REF!"}},{"$f":"IF(PSCalculationMethod=CalculationMethodNYES,J89,IF(PSCalculationMethod=CalculationMethodNYES,'E8-Reporting Period Values'!#REF!,\"\"))","v":""},0]
[42824,7.15,0,0,0,true,true,false,{"$f":"'E5-Baseline Model'!#REF!+SUMPRODUCT(B90:E90,TRANSPOSE('E5-Baseline Model'!#REF!))","v":{"$error":"#REF!"}},{"$f":"'E5-Baseline Model'!#REF!+SUMPRODUCT(B90:E90,TRANSPOSE('E5-Baseline Model'!#REF!))+RAND()-0.5","v":{"$error":"#REF!"}},{"$f":"IF(PSCalculationMethod=CalculationMethodNYES,J90,IF(PSCalculationMethod=CalculationMethodNYES,'E8-Reporting Period Values'!#REF!,\"\"))","v":""},0]
[42825,7.55,0,0,0,true,true,false,{"$f":"'E5-Baseline Model'!#REF!+SUMPRODUCT(B91:E91,TRANSPOSE('E5-Baseline Model'!#REF!))","v":{"$error":"#REF!"}},{"$f":"'E5-Baseline Model'!#REF!+SUMPRODUCT(B91:E91,TRANSPOSE('E5-Baseline Model'!#REF!))+RAND()-0.5","v":{"$error":"#REF!"}},{"$f":"IF(PSCalculationMethod=CalculationMethodNYES,J91,IF(PSCalculationMethod=CalculationMethodNYES,'E8-Reporting Period Values'!#REF!,\"\"))","v":""},0]
[42826,8.0500000000000007,1,0,0,true,true,false,{"$f":"'E5-Baseline Model'!#REF!+SUMPRODUCT(B92:E92,TRANSPOSE('E5-Baseline Model'!#REF!))","v":{"$error":"#REF!"}},{"$f":"'E5-Baseline Model'!#REF!+SUMPRODUCT(B92:E92,TRANSPOSE('E5-Baseline Model'!#REF!))+RAND()-0.5","v":{"$error":"#REF!"}},{"$f":"IF(PSCalculationMethod=CalculationMethodNYES,J92,IF(PSCalculationMethod=CalculationMethodNYES,'E8-Reporting Period Values'!#REF!,\"\"))","v":""},0]
[42827,8.6,0,1,0,true,true,false,{"$f":"'E5-Baseline Model'!#REF!+SUMPRODUCT(B93:E93,TRANSPOSE('E5-Baseline Model'!#REF!))","v":{"$error":"#REF!"}},{"$f":"'E5-Baseline Model'!#REF!+SUMPRODUCT(B93:E93,TRANSPOSE('E5-Baseline Model'!#REF!))+RAND()-0.5","v":{"$error":"#REF!"}},{"$f":"IF(PSCalculationMethod=CalculationMethodNYES,J93,IF(PSCalculationMethod=CalculationMethodNYES,'E8-Reporting Period Values'!#REF!,\"\"))","v":""},0]
[42828,7.1,0,0,0,true,true,false,{"$f":"'E5-Baseline Model'!#REF!+SUMPRODUCT(B94:E94,TRANSPOSE('E5-Baseline Model'!#REF!))","v":{"$error":"#REF!"}},{"$f":"'E5-Baseline Model'!#REF!+SUMPRODUCT(B94:E94,TRANSPOSE('E5-Baseline Model'!#REF!))+RAND()-0.5","v":{"$error":"#REF!"}},{"$f":"IF(PSCalculationMethod=CalculationMethodNYES,J94,IF(PSCalculationMethod=CalculationMethodNYES,'E8-Reporting Period Values'!#REF!,\"\"))","v":""},0]
[42829,8,0,0,0,true,true,false,{"$f":"'E5-Baseline Model'!#REF!+SUMPRODUCT(B95:E95,TRANSPOSE('E5-Baseline Model'!#REF!))","v":{"$error":"#REF!"}},{"$f":"'E5-Baseline Model'!#REF!+SUMPRODUCT(B95:E95,TRANSPOSE('E5-Baseline Model'!#REF!))+RAND()-0.5","v":{"$error":"#REF!"}},{"$f":"IF(PSCalculationMethod=CalculationMethodNYES,J95,IF(PSCalculationMethod=CalculationMethodNYES,'E8-Reporting Period Values'!#REF!,\"\"))","v":""},0]
[42830,5.45,0,0,0,true,true,false,{"$f":"'E5-Baseline Model'!#REF!+SUMPRODUCT(B96:E96,TRANSPOSE('E5-Baseline Model'!#REF!))","v":{"$error":"#REF!"}},{"$f":"'E5-Baseline Model'!#REF!+SUMPRODUCT(B96:E96,TRANSPOSE('E5-Baseline Model'!#REF!))+RAND()-0.5","v":{"$error":"#REF!"}},{"$f":"IF(PSCalculationMethod=CalculationMethodNYES,J96,IF(PSCalculationMethod=CalculationMethodNYES,'E8-Reporting Period Values'!#REF!,\"\"))","v":""},0]
[42831,4.8499999999999996,0,0,0,true,true,false,{"$f":"'E5-Baseline Model'!#REF!+SUMPRODUCT(B97:E97,TRANSPOSE('E5-Baseline Model'!#REF!))","v":{"$error":"#REF!"}},{"$f":"'E5-Baseline Model'!#REF!+SUMPRODUCT(B97:E97,TRANSPOSE('E5-Baseline Model'!#REF!))+RAND()-0.5","v":{"$error":"#REF!"}},{"$f":"IF(PSCalculationMethod=CalculationMethodNYES,J97,IF(PSCalculationMethod=CalculationMethodNYES,'E8-Reporting Period Values'!#REF!,\"\"))","v":""},0]
[42832,6.2,0,0,0,true,true,false,{"$f":"'E5-Baseline Model'!#REF!+SUMPRODUCT(B98:E98,TRANSPOSE('E5-Baseline Model'!#REF!))","v":{"$error":"#REF!"}},{"$f":"'E5-Baseline Model'!#REF!+SUMPRODUCT(B98:E98,TRANSPOSE('E5-Baseline Model'!#REF!))+RAND()-0.5","v":{"$error":"#REF!"}},{"$f":"IF(PSCalculationMethod=CalculationMethodNYES,J98,IF(PSCalculationMethod=CalculationMethodNYES,'E8-Reporting Period Values'!#REF!,\"\"))","v":""},0]
[42833,6,1,0,0,true,true,false,{"$f":"'E5-Baseline Model'!#REF!+SUMPRODUCT(B99:E99,TRANSPOSE('E5-Baseline Model'!#REF!))","v":{"$error":"#REF!"}},{"$f":"'E5-Baseline Model'!#REF!+SUMPRODUCT(B99:E99,TRANSPOSE('E5-Baseline Model'!#REF!))+RAND()-0.5","v":{"$error":"#REF!"}},{"$f":"IF(PSCalculationMethod=CalculationMethodNYES,J99,IF(PSCalculationMethod=CalculationMethodNYES,'E8-Reporting Period Values'!#REF!,\"\"))","v":""},0]
[42834,7.25,0,1,0,true,true,false,{"$f":"'E5-Baseline Model'!#REF!+SUMPRODUCT(B100:E100,TRANSPOSE('E5-Baseline Model'!#REF!))","v":{"$error":"#REF!"}},{"$f":"'E5-Baseline Model'!#REF!+SUMPRODUCT(B100:E100,TRANSPOSE('E5-Baseline Model'!#REF!))+RAND()-0.5","v":{"$error":"#REF!"}},{"$f":"IF(PSCalculationMethod=CalculationMethodNYES,J100,IF(PSCalculationMethod=CalculationMethodNYES,'E8-Reporting Period Values'!#REF!,\"\"))","v":""},0]
[42835,9.4499999999999993,0,0,0,true,true,false,{"$f":"'E5-Baseline Model'!#REF!+SUMPRODUCT(B101:E101,TRANSPOSE('E5-Baseline Model'!#REF!))","v":{"$error":"#REF!"}},{"$f":"'E5-Baseline Model'!#REF!+SUMPRODUCT(B101:E101,TRANSPOSE('E5-Baseline Model'!#REF!))+RAND()-0.5","v":{"$error":"#REF!"}},{"$f":"IF(PSCalculationMethod=CalculationMethodNYES,J101,IF(PSCalculationMethod=CalculationMethodNYES,'E8-Reporting Period Values'!#REF!,\"\"))","v":""},0]
[42836,5.45,0,0,0,true,true,false,{"$f":"'E5-Baseline Model'!#REF!+SUMPRODUCT(B102:E102,TRANSPOSE('E5-Baseline Model'!#REF!))","v":{"$error":"#REF!"}},{"$f":"'E5-Baseline Model'!#REF!+SUMPRODUCT(B102:E102,TRANSPOSE('E5-Baseline Model'!#REF!))+RAND()-0.5","v":{"$error":"#REF!"}},{"$f":"IF(PSCalculationMethod=CalculationMethodNYES,J102,IF(PSCalculationMethod=CalculationMethodNYES,'E8-Reporting Period Values'!#REF!,\"\"))","v":""},0]
[42837,4.3,0,0,0,true,true,false,{"$f":"'E5-Baseline Model'!#REF!+SUMPRODUCT(B103:E103,TRANSPOSE('E5-Baseline Model'!#REF!))","v":{"$error":"#REF!"}},{"$f":"'E5-Baseline Model'!#REF!+SUMPRODUCT(B103:E103,TRANSPOSE('E5-Baseline Model'!#REF!))+RAND()-0.5","v":{"$error":"#REF!"}},{"$f":"IF(PSCalculationMethod=CalculationMethodNYES,J103,IF(PSCalculationMethod=CalculationMethodNYES,'E8-Reporting Period Values'!#REF!,\"\"))","v":""},0]
[42838,3.25,0,0,0,true,true,false,{"$f":"'E5-Baseline Model'!#REF!+SUMPRODUCT(B104:E104,TRANSPOSE('E5-Baseline Model'!#REF!))","v":{"$error":"#REF!"}},{"$f":"'E5-Baseline Model'!#REF!+SUMPRODUCT(B104:E104,TRANSPOSE('E5-Baseline Model'!#REF!))+RAND()-0.5","v":{"$error":"#REF!"}},{"$f":"IF(PSCalculationMethod=CalculationMethodNYES,J104,IF(PSCalculationMethod=CalculationMethodNYES,'E8-Reporting Period Values'!#REF!,\"\"))","v":""},0]
[42839,3.65,0,0,1,true,true,false,{"$f":"'E5-Baseline Model'!#REF!+SUMPRODUCT(B105:E105,TRANSPOSE('E5-Baseline Model'!#REF!))","v":{"$error":"#REF!"}},{"$f":"'E5-Baseline Model'!#REF!+SUMPRODUCT(B105:E105,TRANSPOSE('E5-Baseline Model'!#REF!))+RAND()-0.5","v":{"$error":"#REF!"}},{"$f":"IF(PSCalculationMethod=CalculationMethodNYES,J105,IF(PSCalculationMethod=CalculationMethodNYES,'E8-Reporting Period Values'!#REF!,\"\"))","v":""},0]
[42840,4.8,1,0,0,true,true,false,{"$f":"'E5-Baseline Model'!#REF!+SUMPRODUCT(B106:E106,TRANSPOSE('E5-Baseline Model'!#REF!))","v":{"$error":"#REF!"}},{"$f":"'E5-Baseline Model'!#REF!+SUMPRODUCT(B106:E106,TRANSPOSE('E5-Baseline Model'!#REF!))+RAND()-0.5","v":{"$error":"#REF!"}},{"$f":"IF(PSCalculationMethod=CalculationMethodNYES,J106,IF(PSCalculationMethod=CalculationMethodNYES,'E8-Reporting Period Values'!#REF!,\"\"))","v":""},0]
[42841,4.4000000000000004,0,1,0,true,true,false,{"$f":"'E5-Baseline Model'!#REF!+SUMPRODUCT(B107:E107,TRANSPOSE('E5-Baseline Model'!#REF!))","v":{"$error":"#REF!"}},{"$f":"'E5-Baseline Model'!#REF!+SUMPRODUCT(B107:E107,TRANSPOSE('E5-Baseline Model'!#REF!))+RAND()-0.5","v":{"$error":"#REF!"}},{"$f":"IF(PSCalculationMethod=CalculationMethodNYES,J107,IF(PSCalculationMethod=CalculationMethodNYES,'E8-Reporting Period Values'!#REF!,\"\"))","v":""},0]
[42842,6,0,0,1,true,true,false,{"$f":"'E5-Baseline Model'!#REF!+SUMPRODUCT(B108:E108,TRANSPOSE('E5-Baseline Model'!#REF!))","v":{"$error":"#REF!"}},{"$f":"'E5-Baseline Model'!#REF!+SUMPRODUCT(B108:E108,TRANSPOSE('E5-Baseline Model'!#REF!))+RAND()-0.5","v":{"$error":"#REF!"}},{"$f":"IF(PSCalculationMethod=CalculationMethodNYES,J108,IF(PSCalculationMethod=CalculationMethodNYES,'E8-Reporting Period Values'!#REF!,\"\"))","v":""},0]
[42843,4.8499999999999996,0,0,0,true,true,false,{"$f":"'E5-Baseline Model'!#REF!+SUMPRODUCT(B109:E109,TRANSPOSE('E5-Baseline Model'!#REF!))","v":{"$error":"#REF!"}},{"$f":"'E5-Baseline Model'!#REF!+SUMPRODUCT(B109:E109,TRANSPOSE('E5-Baseline Model'!#REF!))+RAND()-0.5","v":{"$error":"#REF!"}},{"$f":"IF(PSCalculationMethod=CalculationMethodNYES,J109,IF(PSCalculationMethod=CalculationMethodNYES,'E8-Reporting Period Values'!#REF!,\"\"))","v":""},0]
[42844,4.05,0,0,0,true,true,false,{"$f":"'E5-Baseline Model'!#REF!+SUMPRODUCT(B110:E110,TRANSPOSE('E5-Baseline Model'!#REF!))","v":{"$error":"#REF!"}},{"$f":"'E5-Baseline Model'!#REF!+SUMPRODUCT(B110:E110,TRANSPOSE('E5-Baseline Model'!#REF!))+RAND()-0.5","v":{"$error":"#REF!"}},{"$f":"IF(PSCalculationMethod=CalculationMethodNYES,J110,IF(PSCalculationMethod=CalculationMethodNYES,'E8-Reporting Period Values'!#REF!,\"\"))","v":""},0]
[42845,5.25,0,0,0,true,true,false,{"$f":"'E5-Baseline Model'!#REF!+SUMPRODUCT(B111:E111,TRANSPOSE('E5-Baseline Model'!#REF!))","v":{"$error":"#REF!"}},{"$f":"'E5-Baseline Model'!#REF!+SUMPRODUCT(B111:E111,TRANSPOSE('E5-Baseline Model'!#REF!))+RAND()-0.5","v":{"$error":"#REF!"}},{"$f":"IF(PSCalculationMethod=CalculationMethodNYES,J111,IF(PSCalculationMethod=CalculationMethodNYES,'E8-Reporting Period Values'!#REF!,\"\"))","v":""},0]
[42846,5.0999999999999996,0,0,0,true,true,false,{"$f":"'E5-Baseline Model'!#REF!+SUMPRODUCT(B112:E112,TRANSPOSE('E5-Baseline Model'!#REF!))","v":{"$error":"#REF!"}},{"$f":"'E5-Baseline Model'!#REF!+SUMPRODUCT(B112:E112,TRANSPOSE('E5-Baseline Model'!#REF!))+RAND()-0.5","v":{"$error":"#REF!"}},{"$f":"IF(PSCalculationMethod=CalculationMethodNYES,J112,IF(PSCalculationMethod=CalculationMethodNYES,'E8-Reporting Period Values'!#REF!,\"\"))","v":""},0]
[42847,5.75,1,0,0,true,true,false,{"$f":"'E5-Baseline Model'!#REF!+SUMPRODUCT(B113:E113,TRANSPOSE('E5-Baseline Model'!#REF!))","v":{"$error":"#REF!"}},{"$f":"'E5-Baseline Model'!#REF!+SUMPRODUCT(B113:E113,TRANSPOSE('E5-Baseline Model'!#REF!))+RAND()-0.5","v":{"$error":"#REF!"}},{"$f":"IF(PSCalculationMethod=CalculationMethodNYES,J113,IF(PSCalculationMethod=CalculationMethodNYES,'E8-Reporting Period Values'!#REF!,\"\"))","v":""},0]
[42848,8,0,1,0,true,true,false,{"$f":"'E5-Baseline Model'!#REF!+SUMPRODUCT(B114:E114,TRANSPOSE('E5-Baseline Model'!#REF!))","v":{"$error":"#REF!"}},{"$f":"'E5-Baseline Model'!#REF!+SUMPRODUCT(B114:E114,TRANSPOSE('E5-Baseline Model'!#REF!))+RAND()-0.5","v":{"$error":"#REF!"}},{"$f":"IF(PSCalculationMethod=CalculationMethodNYES,J114,IF(PSCalculationMethod=CalculationMethodNYES,'E8-Reporting Period Values'!#REF!,\"\"))","v":""},0]
[42849,5.25,0,0,0,true,true,false,{"$f":"'E5-Baseline Model'!#REF!+SUMPRODUCT(B115:E115,TRANSPOSE('E5-Baseline Model'!#REF!))","v":{"$error":"#REF!"}},{"$f":"'E5-Baseline Model'!#REF!+SUMPRODUCT(B115:E115,TRANSPOSE('E5-Baseline Model'!#REF!))+RAND()-0.5","v":{"$error":"#REF!"}},{"$f":"IF(PSCalculationMethod=CalculationMethodNYES,J115,IF(PSCalculationMethod=CalculationMethodNYES,'E8-Reporting Period Values'!#REF!,\"\"))","v":""},0]
[42850,5.3,0,0,1,true,true,false,{"$f":"'E5-Baseline Model'!#REF!+SUMPRODUCT(B116:E116,TRANSPOSE('E5-Baseline Model'!#REF!))","v":{"$error":"#REF!"}},{"$f":"'E5-Baseline Model'!#REF!+SUMPRODUCT(B116:E116,TRANSPOSE('E5-Baseline Model'!#REF!))+RAND()-0.5","v":{"$error":"#REF!"}},{"$f":"IF(PSCalculationMethod=CalculationMethodNYES,J116,IF(PSCalculationMethod=CalculationMethodNYES,'E8-Reporting Period Values'!#REF!,\"\"))","v":""},0]
[42851,3.4,0,0,0,true,true,false,{"$f":"'E5-Baseline Model'!#REF!+SUMPRODUCT(B117:E117,TRANSPOSE('E5-Baseline Model'!#REF!))","v":{"$error":"#REF!"}},{"$f":"'E5-Baseline Model'!#REF!+SUMPRODUCT(B117:E117,TRANSPOSE('E5-Baseline Model'!#REF!))+RAND()-0.5","v":{"$error":"#REF!"}},{"$f":"IF(PSCalculationMethod=CalculationMethodNYES,J117,IF(PSCalculationMethod=CalculationMethodNYES,'E8-Reporting Period Values'!#REF!,\"\"))","v":""},0]
[42852,3.8,0,0,0,true,true,false,{"$f":"'E5-Baseline Model'!#REF!+SUMPRODUCT(B118:E118,TRANSPOSE('E5-Baseline Model'!#REF!))","v":{"$error":"#REF!"}},{"$f":"'E5-Baseline Model'!#REF!+SUMPRODUCT(B118:E118,TRANSPOSE('E5-Baseline Model'!#REF!))+RAND()-0.5","v":{"$error":"#REF!"}},{"$f":"IF(PSCalculationMethod=CalculationMethodNYES,J118,IF(PSCalculationMethod=CalculationMethodNYES,'E8-Reporting Period Values'!#REF!,\"\"))","v":""},0]
[42853,6.3,0,0,0,true,true,false,{"$f":"'E5-Baseline Model'!#REF!+SUMPRODUCT(B119:E119,TRANSPOSE('E5-Baseline Model'!#REF!))","v":{"$error":"#REF!"}},{"$f":"'E5-Baseline Model'!#REF!+SUMPRODUCT(B119:E119,TRANSPOSE('E5-Baseline Model'!#REF!))+RAND()-0.5","v":{"$error":"#REF!"}},{"$f":"IF(PSCalculationMethod=CalculationMethodNYES,J119,IF(PSCalculationMethod=CalculationMethodNYES,'E8-Reporting Period Values'!#REF!,\"\"))","v":""},0]
[42854,7.75,1,0,0,true,true,false,{"$f":"'E5-Baseline Model'!#REF!+SUMPRODUCT(B120:E120,TRANSPOSE('E5-Baseline Model'!#REF!))","v":{"$error":"#REF!"}},{"$f":"'E5-Baseline Model'!#REF!+SUMPRODUCT(B120:E120,TRANSPOSE('E5-Baseline Model'!#REF!))+RAND()-0.5","v":{"$error":"#REF!"}},{"$f":"IF(PSCalculationMethod=CalculationMethodNYES,J120,IF(PSCalculationMethod=CalculationMethodNYES,'E8-Reporting Period Values'!#REF!,\"\"))","v":""},0]
[42855,3.15,0,1,0,true,true,false,{"$f":"'E5-Baseline Model'!#REF!+SUMPRODUCT(B121:E121,TRANSPOSE('E5-Baseline Model'!#REF!))","v":{"$error":"#REF!"}},{"$f":"'E5-Baseline Model'!#REF!+SUMPRODUCT(B121:E121,TRANSPOSE('E5-Baseline Model'!#REF!))+RAND()-0.5","v":{"$error":"#REF!"}},{"$f":"IF(PSCalculationMethod=CalculationMethodNYES,J121,IF(PSCalculationMethod=CalculationMethodNYES,'E8-Reporting Period Values'!#REF!,\"\"))","v":""},0]
[42856,5.8,0,0,0,true,true,false,{"$f":"'E5-Baseline Model'!#REF!+SUMPRODUCT(B122:E122,TRANSPOSE('E5-Baseline Model'!#REF!))","v":{"$error":"#REF!"}},{"$f":"'E5-Baseline Model'!#REF!+SUMPRODUCT(B122:E122,TRANSPOSE('E5-Baseline Model'!#REF!))+RAND()-0.5","v":{"$error":"#REF!"}},{"$f":"IF(PSCalculationMethod=CalculationMethodNYES,J122,IF(PSCalculationMethod=CalculationMethodNYES,'E8-Reporting Period Values'!#REF!,\"\"))","v":""},0]
[42857,5.9,0,0,0,true,true,false,{"$f":"'E5-Baseline Model'!#REF!+SUMPRODUCT(B123:E123,TRANSPOSE('E5-Baseline Model'!#REF!))","v":{"$error":"#REF!"}},{"$f":"'E5-Baseline Model'!#REF!+SUMPRODUCT(B123:E123,TRANSPOSE('E5-Baseline Model'!#REF!))+RAND()-0.5","v":{"$error":"#REF!"}},{"$f":"IF(PSCalculationMethod=CalculationMethodNYES,J123,IF(PSCalculationMethod=CalculationMethodNYES,'E8-Reporting Period Values'!#REF!,\"\"))","v":""},0]
[42858,5.55,0,0,0,true,true,false,{"$f":"'E5-Baseline Model'!#REF!+SUMPRODUCT(B124:E124,TRANSPOSE('E5-Baseline Model'!#REF!))","v":{"$error":"#REF!"}},{"$f":"'E5-Baseline Model'!#REF!+SUMPRODUCT(B124:E124,TRANSPOSE('E5-Baseline Model'!#REF!))+RAND()-0.5","v":{"$error":"#REF!"}},{"$f":"IF(PSCalculationMethod=CalculationMethodNYES,J124,IF(PSCalculationMethod=CalculationMethodNYES,'E8-Reporting Period Values'!#REF!,\"\"))","v":""},0]
[42859,7.1,0,0,0,true,true,false,{"$f":"'E5-Baseline Model'!#REF!+SUMPRODUCT(B125:E125,TRANSPOSE('E5-Baseline Model'!#REF!))","v":{"$error":"#REF!"}},{"$f":"'E5-Baseline Model'!#REF!+SUMPRODUCT(B125:E125,TRANSPOSE('E5-Baseline Model'!#REF!))+RAND()-0.5","v":{"$error":"#REF!"}},{"$f":"IF(PSCalculationMethod=CalculationMethodNYES,J125,IF(PSCalculationMethod=CalculationMethodNYES,'E8-Reporting Period Values'!#REF!,\"\"))","v":""},0]
[42860,3.2,0,0,0,true,true,false,{"$f":"'E5-Baseline Model'!#REF!+SUMPRODUCT(B126:E126,TRANSPOSE('E5-Baseline Model'!#REF!))","v":{"$error":"#REF!"}},{"$f":"'E5-Baseline Model'!#REF!+SUMPRODUCT(B126:E126,TRANSPOSE('E5-Baseline Model'!#REF!))+RAND()-0.5","v":{"$error":"#REF!"}},{"$f":"IF(PSCalculationMethod=CalculationMethodNYES,J126,IF(PSCalculationMethod=CalculationMethodNYES,'E8-Reporting Period Values'!#REF!,\"\"))","v":""},0]
[42861,1.9,1,0,0,true,true,false,{"$f":"'E5-Baseline Model'!#REF!+SUMPRODUCT(B127:E127,TRANSPOSE('E5-Baseline Model'!#REF!))","v":{"$error":"#REF!"}},{"$f":"'E5-Baseline Model'!#REF!+SUMPRODUCT(B127:E127,TRANSPOSE('E5-Baseline Model'!#REF!))+RAND()-0.5","v":{"$error":"#REF!"}},{"$f":"IF(PSCalculationMethod=CalculationMethodNYES,J127,IF(PSCalculationMethod=CalculationMethodNYES,'E8-Reporting Period Values'!#REF!,\"\"))","v":""},0]
[42862,2.0499999999999998,0,1,0,true,true,false,{"$f":"'E5-Baseline Model'!#REF!+SUMPRODUCT(B128:E128,TRANSPOSE('E5-Baseline Model'!#REF!))","v":{"$error":"#REF!"}},{"$f":"'E5-Baseline Model'!#REF!+SUMPRODUCT(B128:E128,TRANSPOSE('E5-Baseline Model'!#REF!))+RAND()-0.5","v":{"$error":"#REF!"}},{"$f":"IF(PSCalculationMethod=CalculationMethodNYES,J128,IF(PSCalculationMethod=CalculationMethodNYES,'E8-Reporting Period Values'!#REF!,\"\"))","v":""},0]
[42863,2.2000000000000002,0,0,0,true,true,false,{"$f":"'E5-Baseline Model'!#REF!+SUMPRODUCT(B129:E129,TRANSPOSE('E5-Baseline Model'!#REF!))","v":{"$error":"#REF!"}},{"$f":"'E5-Baseline Model'!#REF!+SUMPRODUCT(B129:E129,TRANSPOSE('E5-Baseline Model'!#REF!))+RAND()-0.5","v":{"$error":"#REF!"}},{"$f":"IF(PSCalculationMethod=CalculationMethodNYES,J129,IF(PSCalculationMethod=CalculationMethodNYES,'E8-Reporting Period Values'!#REF!,\"\"))","v":""},0]
[42864,2.25,0,0,0,true,true,{"$f":"IF(PSCalculationMethod=CalculationMethodMAES,F130,IF(PSCalculationMethod=CalculationMethodNYES,AND(F130,G130),FALSE))","v":false},{"$f":"'E5-Baseline Model'!#REF!+SUMPRODUCT(B130:E130,TRANSPOSE('E5-Baseline Model'!#REF!))","v":{"$error":"#REF!"}},{"$f":"'E5-Baseline Model'!#REF!+SUMPRODUCT(B130:E130,TRANSPOSE('E5-Baseline Model'!#REF!))+RAND()-0.5","v":{"$error":"#REF!"}},{"$f":"IF(PSCalculationMethod=CalculationMethodNYES,J130,IF(PSCalculationMethod=CalculationMethodNYES,'E8-Reporting Period Values'!#REF!,\"\"))","v":""},0]
[42865,4.6500000000000004,0,0,0,true,true,false,{"$f":"'E5-Baseline Model'!#REF!+SUMPRODUCT(B131:E131,TRANSPOSE('E5-Baseline Model'!#REF!))","v":{"$error":"#REF!"}},{"$f":"'E5-Baseline Model'!#REF!+SUMPRODUCT(B131:E131,TRANSPOSE('E5-Baseline Model'!#REF!))+RAND()-0.5","v":{"$error":"#REF!"}},{"$f":"IF(PSCalculationMethod=CalculationMethodNYES,J131,IF(PSCalculationMethod=CalculationMethodNYES,'E8-Reporting Period Values'!#REF!,\"\"))","v":""},{"$f":"IF(H131,I131-K131,0)","v":0}]
[42866,3.35,0,0,0,true,true,false,{"$f":"'E5-Baseline Model'!#REF!+SUMPRODUCT(B132:E132,TRANSPOSE('E5-Baseline Model'!#REF!))","v":{"$error":"#REF!"}},{"$f":"'E5-Baseline Model'!#REF!+SUMPRODUCT(B132:E132,TRANSPOSE('E5-Baseline Model'!#REF!))+RAND()-0.5","v":{"$error":"#REF!"}},{"$f":"IF(PSCalculationMethod=CalculationMethodNYES,J132,IF(PSCalculationMethod=CalculationMethodNYES,'E8-Reporting Period Values'!#REF!,\"\"))","v":""},0]
[42867,1.25,0,0,0,true,true,false,{"$f":"'E5-Baseline Model'!#REF!+SUMPRODUCT(B133:E133,TRANSPOSE('E5-Baseline Model'!#REF!))","v":{"$error":"#REF!"}},{"$f":"'E5-Baseline Model'!#REF!+SUMPRODUCT(B133:E133,TRANSPOSE('E5-Baseline Model'!#REF!))+RAND()-0.5","v":{"$error":"#REF!"}},{"$f":"IF(PSCalculationMethod=CalculationMethodNYES,J133,IF(PSCalculationMethod=CalculationMethodNYES,'E8-Reporting Period Values'!#REF!,\"\"))","v":""},0]
[42868,0,1,0,0,true,true,false,{"$f":"'E5-Baseline Model'!#REF!+SUMPRODUCT(B134:E134,TRANSPOSE('E5-Baseline Model'!#REF!))","v":{"$error":"#REF!"}},{"$f":"'E5-Baseline Model'!#REF!+SUMPRODUCT(B134:E134,TRANSPOSE('E5-Baseline Model'!#REF!))+RAND()-0.5","v":{"$error":"#REF!"}},{"$f":"IF(PSCalculationMethod=CalculationMethodNYES,J134,IF(PSCalculationMethod=CalculationMethodNYES,'E8-Reporting Period Values'!#REF!,\"\"))","v":""},0]
[42869,1.1000000000000001,0,1,0,true,true,false,{"$f":"'E5-Baseline Model'!#REF!+SUMPRODUCT(B135:E135,TRANSPOSE('E5-Baseline Model'!#REF!))","v":{"$error":"#REF!"}},{"$f":"'E5-Baseline Model'!#REF!+SUMPRODUCT(B135:E135,TRANSPOSE('E5-Baseline Model'!#REF!))+RAND()-0.5","v":{"$error":"#REF!"}},{"$f":"IF(PSCalculationMethod=CalculationMethodNYES,J135,IF(PSCalculationMethod=CalculationMethodNYES,'E8-Reporting Period Values'!#REF!,\"\"))","v":""},0]
[42870,2.9,0,0,0,true,true,false,{"$f":"'E5-Baseline Model'!#REF!+SUMPRODUCT(B136:E136,TRANSPOSE('E5-Baseline Model'!#REF!))","v":{"$error":"#REF!"}},{"$f":"'E5-Baseline Model'!#REF!+SUMPRODUCT(B136:E136,TRANSPOSE('E5-Baseline Model'!#REF!))+RAND()-0.5","v":{"$error":"#REF!"}},{"$f":"IF(PSCalculationMethod=CalculationMethodNYES,J136,IF(PSCalculationMethod=CalculationMethodNYES,'E8-Reporting Period Values'!#REF!,\"\"))","v":""},0]
[42871,1.8,0,0,0,true,true,false,{"$f":"'E5-Baseline Model'!#REF!+SUMPRODUCT(B137:E137,TRANSPOSE('E5-Baseline Model'!#REF!))","v":{"$error":"#REF!"}},{"$f":"'E5-Baseline Model'!#REF!+SUMPRODUCT(B137:E137,TRANSPOSE('E5-Baseline Model'!#REF!))+RAND()-0.5","v":{"$error":"#REF!"}},{"$f":"IF(PSCalculationMethod=CalculationMethodNYES,J137,IF(PSCalculationMethod=CalculationMethodNYES,'E8-Reporting Period Values'!#REF!,\"\"))","v":""},0]
[42872,1.4,0,0,0,true,true,false,{"$f":"'E5-Baseline Model'!#REF!+SUMPRODUCT(B138:E138,TRANSPOSE('E5-Baseline Model'!#REF!))","v":{"$error":"#REF!"}},{"$f":"'E5-Baseline Model'!#REF!+SUMPRODUCT(B138:E138,TRANSPOSE('E5-Baseline Model'!#REF!))+RAND()-0.5","v":{"$error":"#REF!"}},{"$f":"IF(PSCalculationMethod=CalculationMethodNYES,J138,IF(PSCalculationMethod=CalculationMethodNYES,'E8-Reporting Period Values'!#REF!,\"\"))","v":""},0]
[42873,3.65,0,0,0,true,true,false,{"$f":"'E5-Baseline Model'!#REF!+SUMPRODUCT(B139:E139,TRANSPOSE('E5-Baseline Model'!#REF!))","v":{"$error":"#REF!"}},{"$f":"'E5-Baseline Model'!#REF!+SUMPRODUCT(B139:E139,TRANSPOSE('E5-Baseline Model'!#REF!))+RAND()-0.5","v":{"$error":"#REF!"}},{"$f":"IF(PSCalculationMethod=CalculationMethodNYES,J139,IF(PSCalculationMethod=CalculationMethodNYES,'E8-Reporting Period Values'!#REF!,\"\"))","v":""},0]
[42874,6.8,0,0,0,true,true,false,{"$f":"'E5-Baseline Model'!#REF!+SUMPRODUCT(B140:E140,TRANSPOSE('E5-Baseline Model'!#REF!))","v":{"$error":"#REF!"}},{"$f":"'E5-Baseline Model'!#REF!+SUMPRODUCT(B140:E140,TRANSPOSE('E5-Baseline Model'!#REF!))+RAND()-0.5","v":{"$error":"#REF!"}},{"$f":"IF(PSCalculationMethod=CalculationMethodNYES,J140,IF(PSCalculationMethod=CalculationMethodNYES,'E8-Reporting Period Values'!#REF!,\"\"))","v":""},0]
[42875,4.1500000000000004,1,0,0,true,true,false,{"$f":"'E5-Baseline Model'!#REF!+SUMPRODUCT(B141:E141,TRANSPOSE('E5-Baseline Model'!#REF!))","v":{"$error":"#REF!"}},{"$f":"'E5-Baseline Model'!#REF!+SUMPRODUCT(B141:E141,TRANSPOSE('E5-Baseline Model'!#REF!))+RAND()-0.5","v":{"$error":"#REF!"}},{"$f":"IF(PSCalculationMethod=CalculationMethodNYES,J141,IF(PSCalculationMethod=CalculationMethodNYES,'E8-Reporting Period Values'!#REF!,\"\"))","v":""},0]
[42876,1.35,0,1,0,true,true,false,{"$f":"'E5-Baseline Model'!#REF!+SUMPRODUCT(B142:E142,TRANSPOSE('E5-Baseline Model'!#REF!))","v":{"$error":"#REF!"}},{"$f":"'E5-Baseline Model'!#REF!+SUMPRODUCT(B142:E142,TRANSPOSE('E5-Baseline Model'!#REF!))+RAND()-0.5","v":{"$error":"#REF!"}},{"$f":"IF(PSCalculationMethod=CalculationMethodNYES,J142,IF(PSCalculationMethod=CalculationMethodNYES,'E8-Reporting Period Values'!#REF!,\"\"))","v":""},0]
[42877,0.6,0,0,0,true,true,false,{"$f":"'E5-Baseline Model'!#REF!+SUMPRODUCT(B143:E143,TRANSPOSE('E5-Baseline Model'!#REF!))","v":{"$error":"#REF!"}},{"$f":"'E5-Baseline Model'!#REF!+SUMPRODUCT(B143:E143,TRANSPOSE('E5-Baseline Model'!#REF!))+RAND()-0.5","v":{"$error":"#REF!"}},{"$f":"IF(PSCalculationMethod=CalculationMethodNYES,J143,IF(PSCalculationMethod=CalculationMethodNYES,'E8-Reporting Period Values'!#REF!,\"\"))","v":""},0]
[42878,0.30000000000000099,0,0,0,true,true,false,{"$f":"'E5-Baseline Model'!#REF!+SUMPRODUCT(B144:E144,TRANSPOSE('E5-Baseline Model'!#REF!))","v":{"$error":"#REF!"}},{"$f":"'E5-Baseline Model'!#REF!+SUMPRODUCT(B144:E144,TRANSPOSE('E5-Baseline Model'!#REF!))+RAND()-0.5","v":{"$error":"#REF!"}},{"$f":"IF(PSCalculationMethod=CalculationMethodNYES,J144,IF(PSCalculationMethod=CalculationMethodNYES,'E8-Reporting Period Values'!#REF!,\"\"))","v":""},0]
[42879,0.44999999999999901,0,0,0,true,true,false,{"$f":"'E5-Baseline Model'!#REF!+SUMPRODUCT(B145:E145,TRANSPOSE('E5-Baseline Model'!#REF!))","v":{"$error":"#REF!"}},{"$f":"'E5-Baseline Model'!#REF!+SUMPRODUCT(B145:E145,TRANSPOSE('E5-Baseline Model'!#REF!))+RAND()-0.5","v":{"$error":"#REF!"}},{"$f":"IF(PSCalculationMethod=CalculationMethodNYES,J145,IF(PSCalculationMethod=CalculationMethodNYES,'E8-Reporting Period Values'!#REF!,\"\"))","v":""},0]
[42880,0,0,0,0,true,true,false,{"$f":"'E5-Baseline Model'!#REF!+SUMPRODUCT(B146:E146,TRANSPOSE('E5-Baseline Model'!#REF!))","v":{"$error":"#REF!"}},{"$f":"'E5-Baseline Model'!#REF!+SUMPRODUCT(B146:E146,TRANSPOSE('E5-Baseline Model'!#REF!))+RAND()-0.5","v":{"$error":"#REF!"}},{"$f":"IF(PSCalculationMethod=CalculationMethodNYES,J146,IF(PSCalculationMethod=CalculationMethodNYES,'E8-Reporting Period Values'!#REF!,\"\"))","v":""},0]
[42881,2,0,0,0,true,true,false,{"$f":"'E5-Baseline Model'!#REF!+SUMPRODUCT(B147:E147,TRANSPOSE('E5-Baseline Model'!#REF!))","v":{"$error":"#REF!"}},{"$f":"'E5-Baseline Model'!#REF!+SUMPRODUCT(B147:E147,TRANSPOSE('E5-Baseline Model'!#REF!))+RAND()-0.5","v":{"$error":"#REF!"}},{"$f":"IF(PSCalculationMethod=CalculationMethodNYES,J147,IF(PSCalculationMethod=CalculationMethodNYES,'E8-Reporting Period Values'!#REF!,\"\"))","v":""},0]
[42882,2.35,1,0,0,true,true,false,{"$f":"'E5-Baseline Model'!#REF!+SUMPRODUCT(B148:E148,TRANSPOSE('E5-Baseline Model'!#REF!))","v":{"$error":"#REF!"}},{"$f":"'E5-Baseline Model'!#REF!+SUMPRODUCT(B148:E148,TRANSPOSE('E5-Baseline Model'!#REF!))+RAND()-0.5","v":{"$error":"#REF!"}},{"$f":"IF(PSCalculationMethod=CalculationMethodNYES,J148,IF(PSCalculationMethod=CalculationMethodNYES,'E8-Reporting Period Values'!#REF!,\"\"))","v":""},0]
[42883,2.4,0,1,0,true,true,false,{"$f":"'E5-Baseline Model'!#REF!+SUMPRODUCT(B149:E149,TRANSPOSE('E5-Baseline Model'!#REF!))","v":{"$error":"#REF!"}},{"$f":"'E5-Baseline Model'!#REF!+SUMPRODUCT(B149:E149,TRANSPOSE('E5-Baseline Model'!#REF!))+RAND()-0.5","v":{"$error":"#REF!"}},{"$f":"IF(PSCalculationMethod=CalculationMethodNYES,J149,IF(PSCalculationMethod=CalculationMethodNYES,'E8-Reporting Period Values'!#REF!,\"\"))","v":""},0]
[42884,0.69999999999999896,0,0,0,true,true,false,{"$f":"'E5-Baseline Model'!#REF!+SUMPRODUCT(B150:E150,TRANSPOSE('E5-Baseline Model'!#REF!))","v":{"$error":"#REF!"}},{"$f":"'E5-Baseline Model'!#REF!+SUMPRODUCT(B150:E150,TRANSPOSE('E5-Baseline Model'!#REF!))+RAND()-0.5","v":{"$error":"#REF!"}},{"$f":"IF(PSCalculationMethod=CalculationMethodNYES,J150,IF(PSCalculationMethod=CalculationMethodNYES,'E8-Reporting Period Values'!#REF!,\"\"))","v":""},0]
[42885,0,0,0,0,true,true,false,{"$f":"'E5-Baseline Model'!#REF!+SUMPRODUCT(B151:E151,TRANSPOSE('E5-Baseline Model'!#REF!))","v":{"$error":"#REF!"}},{"$f":"'E5-Baseline Model'!#REF!+SUMPRODUCT(B151:E151,TRANSPOSE('E5-Baseline Model'!#REF!))+RAND()-0.5","v":{"$error":"#REF!"}},{"$f":"IF(PSCalculationMethod=CalculationMethodNYES,J151,IF(PSCalculationMethod=CalculationMethodNYES,'E8-Reporting Period Values'!#REF!,\"\"))","v":""},0]
[42886,0,0,0,0,true,true,false,{"$f":"'E5-Baseline Model'!#REF!+SUMPRODUCT(B152:E152,TRANSPOSE('E5-Baseline Model'!#REF!))","v":{"$error":"#REF!"}},{"$f":"'E5-Baseline Model'!#REF!+SUMPRODUCT(B152:E152,TRANSPOSE('E5-Baseline Model'!#REF!))+RAND()-0.5","v":{"$error":"#REF!"}},{"$f":"IF(PSCalculationMethod=CalculationMethodNYES,J152,IF(PSCalculationMethod=CalculationMethodNYES,'E8-Reporting Period Values'!#REF!,\"\"))","v":""},0]
[42887,0.19999999999999901,0,0,0,true,true,false,{"$f":"'E5-Baseline Model'!#REF!+SUMPRODUCT(B153:E153,TRANSPOSE('E5-Baseline Model'!#REF!))","v":{"$error":"#REF!"}},{"$f":"'E5-Baseline Model'!#REF!+SUMPRODUCT(B153:E153,TRANSPOSE('E5-Baseline Model'!#REF!))+RAND()-0.5","v":{"$error":"#REF!"}},{"$f":"IF(PSCalculationMethod=CalculationMethodNYES,J153,IF(PSCalculationMethod=CalculationMethodNYES,'E8-Reporting Period Values'!#REF!,\"\"))","v":""},0]
[42888,0.15,0,0,0,true,true,false,{"$f":"'E5-Baseline Model'!#REF!+SUMPRODUCT(B154:E154,TRANSPOSE('E5-Baseline Model'!#REF!))","v":{"$error":"#REF!"}},{"$f":"'E5-Baseline Model'!#REF!+SUMPRODUCT(B154:E154,TRANSPOSE('E5-Baseline Model'!#REF!))+RAND()-0.5","v":{"$error":"#REF!"}},{"$f":"IF(PSCalculationMethod=CalculationMethodNYES,J154,IF(PSCalculationMethod=CalculationMethodNYES,'E8-Reporting Period Values'!#REF!,\"\"))","v":""},0]
[42889,1.25,1,0,0,true,true,false,{"$f":"'E5-Baseline Model'!#REF!+SUMPRODUCT(B155:E155,TRANSPOSE('E5-Baseline Model'!#REF!))","v":{"$error":"#REF!"}},{"$f":"'E5-Baseline Model'!#REF!+SUMPRODUCT(B155:E155,TRANSPOSE('E5-Baseline Model'!#REF!))+RAND()-0.5","v":{"$error":"#REF!"}},{"$f":"IF(PSCalculationMethod=CalculationMethodNYES,J155,IF(PSCalculationMethod=CalculationMethodNYES,'E8-Reporting Period Values'!#REF!,\"\"))","v":""},0]
[42890,0.75,0,1,0,true,true,false,{"$f":"'E5-Baseline Model'!#REF!+SUMPRODUCT(B156:E156,TRANSPOSE('E5-Baseline Model'!#REF!))","v":{"$error":"#REF!"}},{"$f":"'E5-Baseline Model'!#REF!+SUMPRODUCT(B156:E156,TRANSPOSE('E5-Baseline Model'!#REF!))+RAND()-0.5","v":{"$error":"#REF!"}},{"$f":"IF(PSCalculationMethod=CalculationMethodNYES,J156,IF(PSCalculationMethod=CalculationMethodNYES,'E8-Reporting Period Values'!#REF!,\"\"))","v":""},0]
[42891,2.5499999999999998,0,0,0,true,true,false,{"$f":"'E5-Baseline Model'!#REF!+SUMPRODUCT(B157:E157,TRANSPOSE('E5-Baseline Model'!#REF!))","v":{"$error":"#REF!"}},{"$f":"'E5-Baseline Model'!#REF!+SUMPRODUCT(B157:E157,TRANSPOSE('E5-Baseline Model'!#REF!))+RAND()-0.5","v":{"$error":"#REF!"}},{"$f":"IF(PSCalculationMethod=CalculationMethodNYES,J157,IF(PSCalculationMethod=CalculationMethodNYES,'E8-Reporting Period Values'!#REF!,\"\"))","v":""},0]
[42892,2.1,0,0,0,true,true,false,{"$f":"'E5-Baseline Model'!#REF!+SUMPRODUCT(B158:E158,TRANSPOSE('E5-Baseline Model'!#REF!))","v":{"$error":"#REF!"}},{"$f":"'E5-Baseline Model'!#REF!+SUMPRODUCT(B158:E158,TRANSPOSE('E5-Baseline Model'!#REF!))+RAND()-0.5","v":{"$error":"#REF!"}},{"$f":"IF(PSCalculationMethod=CalculationMethodNYES,J158,IF(PSCalculationMethod=CalculationMethodNYES,'E8-Reporting Period Values'!#REF!,\"\"))","v":""},0]
[42893,2.25,0,0,0,true,true,false,{"$f":"'E5-Baseline Model'!#REF!+SUMPRODUCT(B159:E159,TRANSPOSE('E5-Baseline Model'!#REF!))","v":{"$error":"#REF!"}},{"$f":"'E5-Baseline Model'!#REF!+SUMPRODUCT(B159:E159,TRANSPOSE('E5-Baseline Model'!#REF!))+RAND()-0.5","v":{"$error":"#REF!"}},{"$f":"IF(PSCalculationMethod=CalculationMethodNYES,J159,IF(PSCalculationMethod=CalculationMethodNYES,'E8-Reporting Period Values'!#REF!,\"\"))","v":""},0]
[42894,2.1,0,0,0,true,true,false,{"$f":"'E5-Baseline Model'!#REF!+SUMPRODUCT(B160:E160,TRANSPOSE('E5-Baseline Model'!#REF!))","v":{"$error":"#REF!"}},{"$f":"'E5-Baseline Model'!#REF!+SUMPRODUCT(B160:E160,TRANSPOSE('E5-Baseline Model'!#REF!))+RAND()-0.5","v":{"$error":"#REF!"}},{"$f":"IF(PSCalculationMethod=CalculationMethodNYES,J160,IF(PSCalculationMethod=CalculationMethodNYES,'E8-Reporting Period Values'!#REF!,\"\"))","v":""},0]
[42895,2.5,0,0,0,true,true,false,{"$f":"'E5-Baseline Model'!#REF!+SUMPRODUCT(B161:E161,TRANSPOSE('E5-Baseline Model'!#REF!))","v":{"$error":"#REF!"}},{"$f":"'E5-Baseline Model'!#REF!+SUMPRODUCT(B161:E161,TRANSPOSE('E5-Baseline Model'!#REF!))+RAND()-0.5","v":{"$error":"#REF!"}},{"$f":"IF(PSCalculationMethod=CalculationMethodNYES,J161,IF(PSCalculationMethod=CalculationMethodNYES,'E8-Reporting Period Values'!#REF!,\"\"))","v":""},0]
[42896,2.7,1,0,0,true,true,false,{"$f":"'E5-Baseline Model'!#REF!+SUMPRODUCT(B162:E162,TRANSPOSE('E5-Baseline Model'!#REF!))","v":{"$error":"#REF!"}},{"$f":"'E5-Baseline Model'!#REF!+SUMPRODUCT(B162:E162,TRANSPOSE('E5-Baseline Model'!#REF!))+RAND()-0.5","v":{"$error":"#REF!"}},{"$f":"IF(PSCalculationMethod=CalculationMethodNYES,J162,IF(PSCalculationMethod=CalculationMethodNYES,'E8-Reporting Period Values'!#REF!,\"\"))","v":""},0]
[42897,3.35,0,1,0,true,true,false,{"$f":"'E5-Baseline Model'!#REF!+SUMPRODUCT(B163:E163,TRANSPOSE('E5-Baseline Model'!#REF!))","v":{"$error":"#REF!"}},{"$f":"'E5-Baseline Model'!#REF!+SUMPRODUCT(B163:E163,TRANSPOSE('E5-Baseline Model'!#REF!))+RAND()-0.5","v":{"$error":"#REF!"}},{"$f":"IF(PSCalculationMethod=CalculationMethodNYES,J163,IF(PSCalculationMethod=CalculationMethodNYES,'E8-Reporting Period Values'!#REF!,\"\"))","v":""},0]
[42898,1.1499999999999999,0,0,1,true,true,false,{"$f":"'E5-Baseline Model'!#REF!+SUMPRODUCT(B164:E164,TRANSPOSE('E5-Baseline Model'!#REF!))","v":{"$error":"#REF!"}},{"$f":"'E5-Baseline Model'!#REF!+SUMPRODUCT(B164:E164,TRANSPOSE('E5-Baseline Model'!#REF!))+RAND()-0.5","v":{"$error":"#REF!"}},{"$f":"IF(PSCalculationMethod=CalculationMethodNYES,J164,IF(PSCalculationMethod=CalculationMethodNYES,'E8-Reporting Period Values'!#REF!,\"\"))","v":""},0]
[42899,3.1,0,0,0,true,true,false,{"$f":"'E5-Baseline Model'!#REF!+SUMPRODUCT(B165:E165,TRANSPOSE('E5-Baseline Model'!#REF!))","v":{"$error":"#REF!"}},{"$f":"'E5-Baseline Model'!#REF!+SUMPRODUCT(B165:E165,TRANSPOSE('E5-Baseline Model'!#REF!))+RAND()-0.5","v":{"$error":"#REF!"}},{"$f":"IF(PSCalculationMethod=CalculationMethodNYES,J165,IF(PSCalculationMethod=CalculationMethodNYES,'E8-Reporting Period Values'!#REF!,\"\"))","v":""},0]
[42900,1.4,0,0,0,true,true,false,{"$f":"'E5-Baseline Model'!#REF!+SUMPRODUCT(B166:E166,TRANSPOSE('E5-Baseline Model'!#REF!))","v":{"$error":"#REF!"}},{"$f":"'E5-Baseline Model'!#REF!+SUMPRODUCT(B166:E166,TRANSPOSE('E5-Baseline Model'!#REF!))+RAND()-0.5","v":{"$error":"#REF!"}},{"$f":"IF(PSCalculationMethod=CalculationMethodNYES,J166,IF(PSCalculationMethod=CalculationMethodNYES,'E8-Reporting Period Values'!#REF!,\"\"))","v":""},0]
[42901,0.44999999999999901,0,0,0,true,true,false,{"$f":"'E5-Baseline Model'!#REF!+SUMPRODUCT(B167:E167,TRANSPOSE('E5-Baseline Model'!#REF!))","v":{"$error":"#REF!"}},{"$f":"'E5-Baseline Model'!#REF!+SUMPRODUCT(B167:E167,TRANSPOSE('E5-Baseline Model'!#REF!))+RAND()-0.5","v":{"$error":"#REF!"}},{"$f":"IF(PSCalculationMethod=CalculationMethodNYES,J167,IF(PSCalculationMethod=CalculationMethodNYES,'E8-Reporting Period Values'!#REF!,\"\"))","v":""},0]
[42902,0,0,0,0,true,true,false,{"$f":"'E5-Baseline Model'!#REF!+SUMPRODUCT(B168:E168,TRANSPOSE('E5-Baseline Model'!#REF!))","v":{"$error":"#REF!"}},{"$f":"'E5-Baseline Model'!#REF!+SUMPRODUCT(B168:E168,TRANSPOSE('E5-Baseline Model'!#REF!))+RAND()-0.5","v":{"$error":"#REF!"}},{"$f":"IF(PSCalculationMethod=CalculationMethodNYES,J168,IF(PSCalculationMethod=CalculationMethodNYES,'E8-Reporting Period Values'!#REF!,\"\"))","v":""},0]
[42903,0,1,0,0,true,true,false,{"$f":"'E5-Baseline Model'!#REF!+SUMPRODUCT(B169:E169,TRANSPOSE('E5-Baseline Model'!#REF!))","v":{"$error":"#REF!"}},{"$f":"'E5-Baseline Model'!#REF!+SUMPRODUCT(B169:E169,TRANSPOSE('E5-Baseline Model'!#REF!))+RAND()-0.5","v":{"$error":"#REF!"}},{"$f":"IF(PSCalculationMethod=CalculationMethodNYES,J169,IF(PSCalculationMethod=CalculationMethodNYES,'E8-Reporting Period Values'!#REF!,\"\"))","v":""},0]
[42904,0.64999999999999902,0,1,0,true,true,false,{"$f":"'E5-Baseline Model'!#REF!+SUMPRODUCT(B170:E170,TRANSPOSE('E5-Baseline Model'!#REF!))","v":{"$error":"#REF!"}},{"$f":"'E5-Baseline Model'!#REF!+SUMPRODUCT(B170:E170,TRANSPOSE('E5-Baseline Model'!#REF!))+RAND()-0.5","v":{"$error":"#REF!"}},{"$f":"IF(PSCalculationMethod=CalculationMethodNYES,J170,IF(PSCalculationMethod=CalculationMethodNYES,'E8-Reporting Period Values'!#REF!,\"\"))","v":""},0]
[42905,2.2999999999999998,0,0,0,true,true,false,{"$f":"'E5-Baseline Model'!#REF!+SUMPRODUCT(B171:E171,TRANSPOSE('E5-Baseline Model'!#REF!))","v":{"$error":"#REF!"}},{"$f":"'E5-Baseline Model'!#REF!+SUMPRODUCT(B171:E171,TRANSPOSE('E5-Baseline Model'!#REF!))+RAND()-0.5","v":{"$error":"#REF!"}},{"$f":"IF(PSCalculationMethod=CalculationMethodNYES,J171,IF(PSCalculationMethod=CalculationMethodNYES,'E8-Reporting Period Values'!#REF!,\"\"))","v":""},0]
[42906,0.65,0,0,0,true,true,false,{"$f":"'E5-Baseline Model'!#REF!+SUMPRODUCT(B172:E172,TRANSPOSE('E5-Baseline Model'!#REF!))","v":{"$error":"#REF!"}},{"$f":"'E5-Baseline Model'!#REF!+SUMPRODUCT(B172:E172,TRANSPOSE('E5-Baseline Model'!#REF!))+RAND()-0.5","v":{"$error":"#REF!"}},{"$f":"IF(PSCalculationMethod=CalculationMethodNYES,J172,IF(PSCalculationMethod=CalculationMethodNYES,'E8-Reporting Period Values'!#REF!,\"\"))","v":""},0]
[42907,0,0,0,0,true,true,false,{"$f":"'E5-Baseline Model'!#REF!+SUMPRODUCT(B173:E173,TRANSPOSE('E5-Baseline Model'!#REF!))","v":{"$error":"#REF!"}},{"$f":"'E5-Baseline Model'!#REF!+SUMPRODUCT(B173:E173,TRANSPOSE('E5-Baseline Model'!#REF!))+RAND()-0.5","v":{"$error":"#REF!"}},{"$f":"IF(PSCalculationMethod=CalculationMethodNYES,J173,IF(PSCalculationMethod=CalculationMethodNYES,'E8-Reporting Period Values'!#REF!,\"\"))","v":""},0]
[42908,0,0,0,0,true,true,false,{"$f":"'E5-Baseline Model'!#REF!+SUMPRODUCT(B174:E174,TRANSPOSE('E5-Baseline Model'!#REF!))","v":{"$error":"#REF!"}},{"$f":"'E5-Baseline Model'!#REF!+SUMPRODUCT(B174:E174,TRANSPOSE('E5-Baseline Model'!#REF!))+RAND()-0.5","v":{"$error":"#REF!"}},{"$f":"IF(PSCalculationMethod=CalculationMethodNYES,J174,IF(PSCalculationMethod=CalculationMethodNYES,'E8-Reporting Period Values'!#REF!,\"\"))","v":""},0]
[42909,0,0,0,0,true,true,false,{"$f":"'E5-Baseline Model'!#REF!+SUMPRODUCT(B175:E175,TRANSPOSE('E5-Baseline Model'!#REF!))","v":{"$error":"#REF!"}},{"$f":"'E5-Baseline Model'!#REF!+SUMPRODUCT(B175:E175,TRANSPOSE('E5-Baseline Model'!#REF!))+RAND()-0.5","v":{"$error":"#REF!"}},{"$f":"IF(PSCalculationMethod=CalculationMethodNYES,J175,IF(PSCalculationMethod=CalculationMethodNYES,'E8-Reporting Period Values'!#REF!,\"\"))","v":""},0]
[42910,0,1,0,0,true,true,false,{"$f":"'E5-Baseline Model'!#REF!+SUMPRODUCT(B176:E176,TRANSPOSE('E5-Baseline Model'!#REF!))","v":{"$error":"#REF!"}},{"$f":"'E5-Baseline Model'!#REF!+SUMPRODUCT(B176:E176,TRANSPOSE('E5-Baseline Model'!#REF!))+RAND()-0.5","v":{"$error":"#REF!"}},{"$f":"IF(PSCalculationMethod=CalculationMethodNYES,J176,IF(PSCalculationMethod=CalculationMethodNYES,'E8-Reporting Period Values'!#REF!,\"\"))","v":""},0]
[42911,0,0,1,0,true,true,false,{"$f":"'E5-Baseline Model'!#REF!+SUMPRODUCT(B177:E177,TRANSPOSE('E5-Baseline Model'!#REF!))","v":{"$error":"#REF!"}},{"$f":"'E5-Baseline Model'!#REF!+SUMPRODUCT(B177:E177,TRANSPOSE('E5-Baseline Model'!#REF!))+RAND()-0.5","v":{"$error":"#REF!"}},{"$f":"IF(PSCalculationMethod=CalculationMethodNYES,J177,IF(PSCalculationMethod=CalculationMethodNYES,'E8-Reporting Period Values'!#REF!,\"\"))","v":""},0]
[42912,0,0,0,0,true,true,false,{"$f":"'E5-Baseline Model'!#REF!+SUMPRODUCT(B178:E178,TRANSPOSE('E5-Baseline Model'!#REF!))","v":{"$error":"#REF!"}},{"$f":"'E5-Baseline Model'!#REF!+SUMPRODUCT(B178:E178,TRANSPOSE('E5-Baseline Model'!#REF!))+RAND()-0.5","v":{"$error":"#REF!"}},{"$f":"IF(PSCalculationMethod=CalculationMethodNYES,J178,IF(PSCalculationMethod=CalculationMethodNYES,'E8-Reporting Period Values'!#REF!,\"\"))","v":""},0]
[42913,0,0,0,0,true,true,false,{"$f":"'E5-Baseline Model'!#REF!+SUMPRODUCT(B179:E179,TRANSPOSE('E5-Baseline Model'!#REF!))","v":{"$error":"#REF!"}},{"$f":"'E5-Baseline Model'!#REF!+SUMPRODUCT(B179:E179,TRANSPOSE('E5-Baseline Model'!#REF!))+RAND()-0.5","v":{"$error":"#REF!"}},{"$f":"IF(PSCalculationMethod=CalculationMethodNYES,J179,IF(PSCalculationMethod=CalculationMethodNYES,'E8-Reporting Period Values'!#REF!,\"\"))","v":""},0]
[42914,0.4,0,0,0,true,true,false,{"$f":"'E5-Baseline Model'!#REF!+SUMPRODUCT(B180:E180,TRANSPOSE('E5-Baseline Model'!#REF!))","v":{"$error":"#REF!"}},{"$f":"'E5-Baseline Model'!#REF!+SUMPRODUCT(B180:E180,TRANSPOSE('E5-Baseline Model'!#REF!))+RAND()-0.5","v":{"$error":"#REF!"}},{"$f":"IF(PSCalculationMethod=CalculationMethodNYES,J180,IF(PSCalculationMethod=CalculationMethodNYES,'E8-Reporting Period Values'!#REF!,\"\"))","v":""},0]
[42915,2.1,0,0,0,true,true,false,{"$f":"'E5-Baseline Model'!#REF!+SUMPRODUCT(B181:E181,TRANSPOSE('E5-Baseline Model'!#REF!))","v":{"$error":"#REF!"}},{"$f":"'E5-Baseline Model'!#REF!+SUMPRODUCT(B181:E181,TRANSPOSE('E5-Baseline Model'!#REF!))+RAND()-0.5","v":{"$error":"#REF!"}},{"$f":"IF(PSCalculationMethod=CalculationMethodNYES,J181,IF(PSCalculationMethod=CalculationMethodNYES,'E8-Reporting Period Values'!#REF!,\"\"))","v":""},0]
[42916,0.75,0,0,0,true,true,false,{"$f":"'E5-Baseline Model'!#REF!+SUMPRODUCT(B182:E182,TRANSPOSE('E5-Baseline Model'!#REF!))","v":{"$error":"#REF!"}},{"$f":"'E5-Baseline Model'!#REF!+SUMPRODUCT(B182:E182,TRANSPOSE('E5-Baseline Model'!#REF!))+RAND()-0.5","v":{"$error":"#REF!"}},{"$f":"IF(PSCalculationMethod=CalculationMethodNYES,J182,IF(PSCalculationMethod=CalculationMethodNYES,'E8-Reporting Period Values'!#REF!,\"\"))","v":""},0]
[42917,0,1,0,0,true,true,false,{"$f":"'E5-Baseline Model'!#REF!+SUMPRODUCT(B183:E183,TRANSPOSE('E5-Baseline Model'!#REF!))","v":{"$error":"#REF!"}},{"$f":"'E5-Baseline Model'!#REF!+SUMPRODUCT(B183:E183,TRANSPOSE('E5-Baseline Model'!#REF!))+RAND()-0.5","v":{"$error":"#REF!"}},{"$f":"IF(PSCalculationMethod=CalculationMethodNYES,J183,IF(PSCalculationMethod=CalculationMethodNYES,'E8-Reporting Period Values'!#REF!,\"\"))","v":""},0]
[42918,0,0,1,0,true,true,false,{"$f":"'E5-Baseline Model'!#REF!+SUMPRODUCT(B184:E184,TRANSPOSE('E5-Baseline Model'!#REF!))","v":{"$error":"#REF!"}},{"$f":"'E5-Baseline Model'!#REF!+SUMPRODUCT(B184:E184,TRANSPOSE('E5-Baseline Model'!#REF!))+RAND()-0.5","v":{"$error":"#REF!"}},{"$f":"IF(PSCalculationMethod=CalculationMethodNYES,J184,IF(PSCalculationMethod=CalculationMethodNYES,'E8-Reporting Period Values'!#REF!,\"\"))","v":""},0]
[42919,0,0,0,0,true,true,false,{"$f":"'E5-Baseline Model'!#REF!+SUMPRODUCT(B185:E185,TRANSPOSE('E5-Baseline Model'!#REF!))","v":{"$error":"#REF!"}},{"$f":"'E5-Baseline Model'!#REF!+SUMPRODUCT(B185:E185,TRANSPOSE('E5-Baseline Model'!#REF!))+RAND()-0.5","v":{"$error":"#REF!"}},{"$f":"IF(PSCalculationMethod=CalculationMethodNYES,J185,IF(PSCalculationMethod=CalculationMethodNYES,'E8-Reporting Period Values'!#REF!,\"\"))","v":""},0]
[42920,0,0,0,0,true,true,false,{"$f":"'E5-Baseline Model'!#REF!+SUMPRODUCT(B186:E186,TRANSPOSE('E5-Baseline Model'!#REF!))","v":{"$error":"#REF!"}},{"$f":"'E5-Baseline Model'!#REF!+SUMPRODUCT(B186:E186,TRANSPOSE('E5-Baseline Model'!#REF!))+RAND()-0.5","v":{"$error":"#REF!"}},{"$f":"IF(PSCalculationMethod=CalculationMethodNYES,J186,IF(PSCalculationMethod=CalculationMethodNYES,'E8-Reporting Period Values'!#REF!,\"\"))","v":""},0]
[42921,0,0,0,0,true,true,false,{"$f":"'E5-Baseline Model'!#REF!+SUMPRODUCT(B187:E187,TRANSPOSE('E5-Baseline Model'!#REF!))","v":{"$error":"#REF!"}},{"$f":"'E5-Baseline Model'!#REF!+SUMPRODUCT(B187:E187,TRANSPOSE('E5-Baseline Model'!#REF!))+RAND()-0.5","v":{"$error":"#REF!"}},{"$f":"IF(PSCalculationMethod=CalculationMethodNYES,J187,IF(PSCalculationMethod=CalculationMethodNYES,'E8-Reporting Period Values'!#REF!,\"\"))","v":""},0]
[42922,0,0,0,0,true,true,false,{"$f":"'E5-Baseline Model'!#REF!+SUMPRODUCT(B188:E188,TRANSPOSE('E5-Baseline Model'!#REF!))","v":{"$error":"#REF!"}},{"$f":"'E5-Baseline Model'!#REF!+SUMPRODUCT(B188:E188,TRANSPOSE('E5-Baseline Model'!#REF!))+RAND()-0.5","v":{"$error":"#REF!"}},{"$f":"IF(PSCalculationMethod=CalculationMethodNYES,J188,IF(PSCalculationMethod=CalculationMethodNYES,'E8-Reporting Period Values'!#REF!,\"\"))","v":""},0]
[42923,0,0,0,0,true,true,false,{"$f":"'E5-Baseline Model'!#REF!+SUMPRODUCT(B189:E189,TRANSPOSE('E5-Baseline Model'!#REF!))","v":{"$error":"#REF!"}},{"$f":"'E5-Baseline Model'!#REF!+SUMPRODUCT(B189:E189,TRANSPOSE('E5-Baseline Model'!#REF!))+RAND()-0.5","v":{"$error":"#REF!"}},{"$f":"IF(PSCalculationMethod=CalculationMethodNYES,J189,IF(PSCalculationMethod=CalculationMethodNYES,'E8-Reporting Period Values'!#REF!,\"\"))","v":""},0]
[42924,0,1,0,0,true,true,false,{"$f":"'E5-Baseline Model'!#REF!+SUMPRODUCT(B190:E190,TRANSPOSE('E5-Baseline Model'!#REF!))","v":{"$error":"#REF!"}},{"$f":"'E5-Baseline Model'!#REF!+SUMPRODUCT(B190:E190,TRANSPOSE('E5-Baseline Model'!#REF!))+RAND()-0.5","v":{"$error":"#REF!"}},{"$f":"IF(PSCalculationMethod=CalculationMethodNYES,J190,IF(PSCalculationMethod=CalculationMethodNYES,'E8-Reporting Period Values'!#REF!,\"\"))","v":""},0]
[42925,0,0,1,0,true,true,false,{"$f":"'E5-Baseline Model'!#REF!+SUMPRODUCT(B191:E191,TRANSPOSE('E5-Baseline Model'!#REF!))","v":{"$error":"#REF!"}},{"$f":"'E5-Baseline Model'!#REF!+SUMPRODUCT(B191:E191,TRANSPOSE('E5-Baseline Model'!#REF!))+RAND()-0.5","v":{"$error":"#REF!"}},{"$f":"IF(PSCalculationMethod=CalculationMethodNYES,J191,IF(PSCalculationMethod=CalculationMethodNYES,'E8-Reporting Period Values'!#REF!,\"\"))","v":""},0]
[42926,0.44999999999999901,0,0,0,true,true,false,{"$f":"'E5-Baseline Model'!#REF!+SUMPRODUCT(B192:E192,TRANSPOSE('E5-Baseline Model'!#REF!))","v":{"$error":"#REF!"}},{"$f":"'E5-Baseline Model'!#REF!+SUMPRODUCT(B192:E192,TRANSPOSE('E5-Baseline Model'!#REF!))+RAND()-0.5","v":{"$error":"#REF!"}},{"$f":"IF(PSCalculationMethod=CalculationMethodNYES,J192,IF(PSCalculationMethod=CalculationMethodNYES,'E8-Reporting Period Values'!#REF!,\"\"))","v":""},0]
[42927,0,0,0,0,true,true,false,{"$f":"'E5-Baseline Model'!#REF!+SUMPRODUCT(B193:E193,TRANSPOSE('E5-Baseline Model'!#REF!))","v":{"$error":"#REF!"}},{"$f":"'E5-Baseline Model'!#REF!+SUMPRODUCT(B193:E193,TRANSPOSE('E5-Baseline Model'!#REF!))+RAND()-0.5","v":{"$error":"#REF!"}},{"$f":"IF(PSCalculationMethod=CalculationMethodNYES,J193,IF(PSCalculationMethod=CalculationMethodNYES,'E8-Reporting Period Values'!#REF!,\"\"))","v":""},0]
[42928,1,0,0,0,true,true,{"$f":"IF(PSCalculationMethod=CalculationMethodMAES,F194,IF(PSCalculationMethod=CalculationMethodNYES,AND(F194,G194),FALSE))","v":false},{"$f":"'E5-Baseline Model'!#REF!+SUMPRODUCT(B194:E194,TRANSPOSE('E5-Baseline Model'!#REF!))","v":{"$error":"#REF!"}},{"$f":"'E5-Baseline Model'!#REF!+SUMPRODUCT(B194:E194,TRANSPOSE('E5-Baseline Model'!#REF!))+RAND()-0.5","v":{"$error":"#REF!"}},{"$f":"IF(PSCalculationMethod=CalculationMethodNYES,J194,IF(PSCalculationMethod=CalculationMethodNYES,'E8-Reporting Period Values'!#REF!,\"\"))","v":""},0]
[42929,2,0,0,0,true,true,false,{"$f":"'E5-Baseline Model'!#REF!+SUMPRODUCT(B195:E195,TRANSPOSE('E5-Baseline Model'!#REF!))","v":{"$error":"#REF!"}},{"$f":"'E5-Baseline Model'!#REF!+SUMPRODUCT(B195:E195,TRANSPOSE('E5-Baseline Model'!#REF!))+RAND()-0.5","v":{"$error":"#REF!"}},{"$f":"IF(PSCalculationMethod=CalculationMethodNYES,J195,IF(PSCalculationMethod=CalculationMethodNYES,'E8-Reporting Period Values'!#REF!,\"\"))","v":""},{"$f":"IF(H195,I195-K195,0)","v":0}]
[42930,0.30000000000000099,0,0,0,true,true,false,{"$f":"'E5-Baseline Model'!#REF!+SUMPRODUCT(B196:E196,TRANSPOSE('E5-Baseline Model'!#REF!))","v":{"$error":"#REF!"}},{"$f":"'E5-Baseline Model'!#REF!+SUMPRODUCT(B196:E196,TRANSPOSE('E5-Baseline Model'!#REF!))+RAND()-0.5","v":{"$error":"#REF!"}},{"$f":"IF(PSCalculationMethod=CalculationMethodNYES,J196,IF(PSCalculationMethod=CalculationMethodNYES,'E8-Reporting Period Values'!#REF!,\"\"))","v":""},0]
[42931,0,1,0,0,true,true,false,{"$f":"'E5-Baseline Model'!#REF!+SUMPRODUCT(B197:E197,TRANSPOSE('E5-Baseline Model'!#REF!))","v":{"$error":"#REF!"}},{"$f":"'E5-Baseline Model'!#REF!+SUMPRODUCT(B197:E197,TRANSPOSE('E5-Baseline Model'!#REF!))+RAND()-0.5","v":{"$error":"#REF!"}},{"$f":"IF(PSCalculationMethod=CalculationMethodNYES,J197,IF(PSCalculationMethod=CalculationMethodNYES,'E8-Reporting Period Values'!#REF!,\"\"))","v":""},0]
[42932,0,0,1,0,true,true,false,{"$f":"'E5-Baseline Model'!#REF!+SUMPRODUCT(B198:E198,TRANSPOSE('E5-Baseline Model'!#REF!))","v":{"$error":"#REF!"}},{"$f":"'E5-Baseline Model'!#REF!+SUMPRODUCT(B198:E198,TRANSPOSE('E5-Baseline Model'!#REF!))+RAND()-0.5","v":{"$error":"#REF!"}},{"$f":"IF(PSCalculationMethod=CalculationMethodNYES,J198,IF(PSCalculationMethod=CalculationMethodNYES,'E8-Reporting Period Values'!#REF!,\"\"))","v":""},0]
[42933,0,0,0,0,true,true,false,{"$f":"'E5-Baseline Model'!#REF!+SUMPRODUCT(B199:E199,TRANSPOSE('E5-Baseline Model'!#REF!))","v":{"$error":"#REF!"}},{"$f":"'E5-Baseline Model'!#REF!+SUMPRODUCT(B199:E199,TRANSPOSE('E5-Baseline Model'!#REF!))+RAND()-0.5","v":{"$error":"#REF!"}},{"$f":"IF(PSCalculationMethod=CalculationMethodNYES,J199,IF(PSCalculationMethod=CalculationMethodNYES,'E8-Reporting Period Values'!#REF!,\"\"))","v":""},0]
[42934,0,0,0,0,true,true,false,{"$f":"'E5-Baseline Model'!#REF!+SUMPRODUCT(B200:E200,TRANSPOSE('E5-Baseline Model'!#REF!))","v":{"$error":"#REF!"}},{"$f":"'E5-Baseline Model'!#REF!+SUMPRODUCT(B200:E200,TRANSPOSE('E5-Baseline Model'!#REF!))+RAND()-0.5","v":{"$error":"#REF!"}},{"$f":"IF(PSCalculationMethod=CalculationMethodNYES,J200,IF(PSCalculationMethod=CalculationMethodNYES,'E8-Reporting Period Values'!#REF!,\"\"))","v":""},0]
[42935,0,0,0,0,true,true,false,{"$f":"'E5-Baseline Model'!#REF!+SUMPRODUCT(B201:E201,TRANSPOSE('E5-Baseline Model'!#REF!))","v":{"$error":"#REF!"}},{"$f":"'E5-Baseline Model'!#REF!+SUMPRODUCT(B201:E201,TRANSPOSE('E5-Baseline Model'!#REF!))+RAND()-0.5","v":{"$error":"#REF!"}},{"$f":"IF(PSCalculationMethod=CalculationMethodNYES,J201,IF(PSCalculationMethod=CalculationMethodNYES,'E8-Reporting Period Values'!#REF!,\"\"))","v":""},0]
[42936,0,0,0,0,true,true,false,{"$f":"'E5-Baseline Model'!#REF!+SUMPRODUCT(B202:E202,TRANSPOSE('E5-Baseline Model'!#REF!))","v":{"$error":"#REF!"}},{"$f":"'E5-Baseline Model'!#REF!+SUMPRODUCT(B202:E202,TRANSPOSE('E5-Baseline Model'!#REF!))+RAND()-0.5","v":{"$error":"#REF!"}},{"$f":"IF(PSCalculationMethod=CalculationMethodNYES,J202,IF(PSCalculationMethod=CalculationMethodNYES,'E8-Reporting Period Values'!#REF!,\"\"))","v":""},0]
[42937,0,0,0,0,true,true,false,{"$f":"'E5-Baseline Model'!#REF!+SUMPRODUCT(B203:E203,TRANSPOSE('E5-Baseline Model'!#REF!))","v":{"$error":"#REF!"}},{"$f":"'E5-Baseline Model'!#REF!+SUMPRODUCT(B203:E203,TRANSPOSE('E5-Baseline Model'!#REF!))+RAND()-0.5","v":{"$error":"#REF!"}},{"$f":"IF(PSCalculationMethod=CalculationMethodNYES,J203,IF(PSCalculationMethod=CalculationMethodNYES,'E8-Reporting Period Values'!#REF!,\"\"))","v":""},0]
[42938,0,1,0,0,true,true,false,{"$f":"'E5-Baseline Model'!#REF!+SUMPRODUCT(B204:E204,TRANSPOSE('E5-Baseline Model'!#REF!))","v":{"$error":"#REF!"}},{"$f":"'E5-Baseline Model'!#REF!+SUMPRODUCT(B204:E204,TRANSPOSE('E5-Baseline Model'!#REF!))+RAND()-0.5","v":{"$error":"#REF!"}},{"$f":"IF(PSCalculationMethod=CalculationMethodNYES,J204,IF(PSCalculationMethod=CalculationMethodNYES,'E8-Reporting Period Values'!#REF!,\"\"))","v":""},0]
[42939,0,0,1,0,true,true,false,{"$f":"'E5-Baseline Model'!#REF!+SUMPRODUCT(B205:E205,TRANSPOSE('E5-Baseline Model'!#REF!))","v":{"$error":"#REF!"}},{"$f":"'E5-Baseline Model'!#REF!+SUMPRODUCT(B205:E205,TRANSPOSE('E5-Baseline Model'!#REF!))+RAND()-0.5","v":{"$error":"#REF!"}},{"$f":"IF(PSCalculationMethod=CalculationMethodNYES,J205,IF(PSCalculationMethod=CalculationMethodNYES,'E8-Reporting Period Values'!#REF!,\"\"))","v":""},0]
[42940,0,0,0,0,true,true,false,{"$f":"'E5-Baseline Model'!#REF!+SUMPRODUCT(B206:E206,TRANSPOSE('E5-Baseline Model'!#REF!))","v":{"$error":"#REF!"}},{"$f":"'E5-Baseline Model'!#REF!+SUMPRODUCT(B206:E206,TRANSPOSE('E5-Baseline Model'!#REF!))+RAND()-0.5","v":{"$error":"#REF!"}},{"$f":"IF(PSCalculationMethod=CalculationMethodNYES,J206,IF(PSCalculationMethod=CalculationMethodNYES,'E8-Reporting Period Values'!#REF!,\"\"))","v":""},0]
[42941,0,0,0,0,true,true,false,{"$f":"'E5-Baseline Model'!#REF!+SUMPRODUCT(B207:E207,TRANSPOSE('E5-Baseline Model'!#REF!))","v":{"$error":"#REF!"}},{"$f":"'E5-Baseline Model'!#REF!+SUMPRODUCT(B207:E207,TRANSPOSE('E5-Baseline Model'!#REF!))+RAND()-0.5","v":{"$error":"#REF!"}},{"$f":"IF(PSCalculationMethod=CalculationMethodNYES,J207,IF(PSCalculationMethod=CalculationMethodNYES,'E8-Reporting Period Values'!#REF!,\"\"))","v":""},0]
[42942,0,0,0,0,true,true,false,{"$f":"'E5-Baseline Model'!#REF!+SUMPRODUCT(B208:E208,TRANSPOSE('E5-Baseline Model'!#REF!))","v":{"$error":"#REF!"}},{"$f":"'E5-Baseline Model'!#REF!+SUMPRODUCT(B208:E208,TRANSPOSE('E5-Baseline Model'!#REF!))+RAND()-0.5","v":{"$error":"#REF!"}},{"$f":"IF(PSCalculationMethod=CalculationMethodNYES,J208,IF(PSCalculationMethod=CalculationMethodNYES,'E8-Reporting Period Values'!#REF!,\"\"))","v":""},0]
[42943,0,0,0,0,true,true,false,{"$f":"'E5-Baseline Model'!#REF!+SUMPRODUCT(B209:E209,TRANSPOSE('E5-Baseline Model'!#REF!))","v":{"$error":"#REF!"}},{"$f":"'E5-Baseline Model'!#REF!+SUMPRODUCT(B209:E209,TRANSPOSE('E5-Baseline Model'!#REF!))+RAND()-0.5","v":{"$error":"#REF!"}},{"$f":"IF(PSCalculationMethod=CalculationMethodNYES,J209,IF(PSCalculationMethod=CalculationMethodNYES,'E8-Reporting Period Values'!#REF!,\"\"))","v":""},0]
[42944,0,0,0,0,true,true,false,{"$f":"'E5-Baseline Model'!#REF!+SUMPRODUCT(B210:E210,TRANSPOSE('E5-Baseline Model'!#REF!))","v":{"$error":"#REF!"}},{"$f":"'E5-Baseline Model'!#REF!+SUMPRODUCT(B210:E210,TRANSPOSE('E5-Baseline Model'!#REF!))+RAND()-0.5","v":{"$error":"#REF!"}},{"$f":"IF(PSCalculationMethod=CalculationMethodNYES,J210,IF(PSCalculationMethod=CalculationMethodNYES,'E8-Reporting Period Values'!#REF!,\"\"))","v":""},0]
[42945,2.5499999999999998,1,0,0,true,true,false,{"$f":"'E5-Baseline Model'!#REF!+SUMPRODUCT(B211:E211,TRANSPOSE('E5-Baseline Model'!#REF!))","v":{"$error":"#REF!"}},{"$f":"'E5-Baseline Model'!#REF!+SUMPRODUCT(B211:E211,TRANSPOSE('E5-Baseline Model'!#REF!))+RAND()-0.5","v":{"$error":"#REF!"}},{"$f":"IF(PSCalculationMethod=CalculationMethodNYES,J211,IF(PSCalculationMethod=CalculationMethodNYES,'E8-Reporting Period Values'!#REF!,\"\"))","v":""},0]
[42946,2.75,0,1,0,true,true,false,{"$f":"'E5-Baseline Model'!#REF!+SUMPRODUCT(B212:E212,TRANSPOSE('E5-Baseline Model'!#REF!))","v":{"$error":"#REF!"}},{"$f":"'E5-Baseline Model'!#REF!+SUMPRODUCT(B212:E212,TRANSPOSE('E5-Baseline Model'!#REF!))+RAND()-0.5","v":{"$error":"#REF!"}},{"$f":"IF(PSCalculationMethod=CalculationMethodNYES,J212,IF(PSCalculationMethod=CalculationMethodNYES,'E8-Reporting Period Values'!#REF!,\"\"))","v":""},0]
[42947,1.25,0,0,0,true,true,false,{"$f":"'E5-Baseline Model'!#REF!+SUMPRODUCT(B213:E213,TRANSPOSE('E5-Baseline Model'!#REF!))","v":{"$error":"#REF!"}},{"$f":"'E5-Baseline Model'!#REF!+SUMPRODUCT(B213:E213,TRANSPOSE('E5-Baseline Model'!#REF!))+RAND()-0.5","v":{"$error":"#REF!"}},{"$f":"IF(PSCalculationMethod=CalculationMethodNYES,J213,IF(PSCalculationMethod=CalculationMethodNYES,'E8-Reporting Period Values'!#REF!,\"\"))","v":""},0]
[42948,0,0,0,0,true,true,false,{"$f":"'E5-Baseline Model'!#REF!+SUMPRODUCT(B214:E214,TRANSPOSE('E5-Baseline Model'!#REF!))","v":{"$error":"#REF!"}},{"$f":"'E5-Baseline Model'!#REF!+SUMPRODUCT(B214:E214,TRANSPOSE('E5-Baseline Model'!#REF!))+RAND()-0.5","v":{"$error":"#REF!"}},{"$f":"IF(PSCalculationMethod=CalculationMethodNYES,J214,IF(PSCalculationMethod=CalculationMethodNYES,'E8-Reporting Period Values'!#REF!,\"\"))","v":""},0]
[42949,0,0,0,0,true,true,false,{"$f":"'E5-Baseline Model'!#REF!+SUMPRODUCT(B215:E215,TRANSPOSE('E5-Baseline Model'!#REF!))","v":{"$error":"#REF!"}},{"$f":"'E5-Baseline Model'!#REF!+SUMPRODUCT(B215:E215,TRANSPOSE('E5-Baseline Model'!#REF!))+RAND()-0.5","v":{"$error":"#REF!"}},{"$f":"IF(PSCalculationMethod=CalculationMethodNYES,J215,IF(PSCalculationMethod=CalculationMethodNYES,'E8-Reporting Period Values'!#REF!,\"\"))","v":""},0]
[42950,0,0,0,0,true,true,false,{"$f":"'E5-Baseline Model'!#REF!+SUMPRODUCT(B216:E216,TRANSPOSE('E5-Baseline Model'!#REF!))","v":{"$error":"#REF!"}},{"$f":"'E5-Baseline Model'!#REF!+SUMPRODUCT(B216:E216,TRANSPOSE('E5-Baseline Model'!#REF!))+RAND()-0.5","v":{"$error":"#REF!"}},{"$f":"IF(PSCalculationMethod=CalculationMethodNYES,J216,IF(PSCalculationMethod=CalculationMethodNYES,'E8-Reporting Period Values'!#REF!,\"\"))","v":""},0]
[42951,0.25,0,0,0,true,true,false,{"$f":"'E5-Baseline Model'!#REF!+SUMPRODUCT(B217:E217,TRANSPOSE('E5-Baseline Model'!#REF!))","v":{"$error":"#REF!"}},{"$f":"'E5-Baseline Model'!#REF!+SUMPRODUCT(B217:E217,TRANSPOSE('E5-Baseline Model'!#REF!))+RAND()-0.5","v":{"$error":"#REF!"}},{"$f":"IF(PSCalculationMethod=CalculationMethodNYES,J217,IF(PSCalculationMethod=CalculationMethodNYES,'E8-Reporting Period Values'!#REF!,\"\"))","v":""},0]
[42952,0.44999999999999901,1,0,0,true,true,false,{"$f":"'E5-Baseline Model'!#REF!+SUMPRODUCT(B218:E218,TRANSPOSE('E5-Baseline Model'!#REF!))","v":{"$error":"#REF!"}},{"$f":"'E5-Baseline Model'!#REF!+SUMPRODUCT(B218:E218,TRANSPOSE('E5-Baseline Model'!#REF!))+RAND()-0.5","v":{"$error":"#REF!"}},{"$f":"IF(PSCalculationMethod=CalculationMethodNYES,J218,IF(PSCalculationMethod=CalculationMethodNYES,'E8-Reporting Period Values'!#REF!,\"\"))","v":""},0]
[42953,1,0,1,0,true,true,false,{"$f":"'E5-Baseline Model'!#REF!+SUMPRODUCT(B219:E219,TRANSPOSE('E5-Baseline Model'!#REF!))","v":{"$error":"#REF!"}},{"$f":"'E5-Baseline Model'!#REF!+SUMPRODUCT(B219:E219,TRANSPOSE('E5-Baseline Model'!#REF!))+RAND()-0.5","v":{"$error":"#REF!"}},{"$f":"IF(PSCalculationMethod=CalculationMethodNYES,J219,IF(PSCalculationMethod=CalculationMethodNYES,'E8-Reporting Period Values'!#REF!,\"\"))","v":""},0]
[42954,0,0,0,0,true,true,false,{"$f":"'E5-Baseline Model'!#REF!+SUMPRODUCT(B220:E220,TRANSPOSE('E5-Baseline Model'!#REF!))","v":{"$error":"#REF!"}},{"$f":"'E5-Baseline Model'!#REF!+SUMPRODUCT(B220:E220,TRANSPOSE('E5-Baseline Model'!#REF!))+RAND()-0.5","v":{"$error":"#REF!"}},{"$f":"IF(PSCalculationMethod=CalculationMethodNYES,J220,IF(PSCalculationMethod=CalculationMethodNYES,'E8-Reporting Period Values'!#REF!,\"\"))","v":""},0]
[42955,5.0000000000000697E-2,0,0,0,true,true,false,{"$f":"'E5-Baseline Model'!#REF!+SUMPRODUCT(B221:E221,TRANSPOSE('E5-Baseline Model'!#REF!))","v":{"$error":"#REF!"}},{"$f":"'E5-Baseline Model'!#REF!+SUMPRODUCT(B221:E221,TRANSPOSE('E5-Baseline Model'!#REF!))+RAND()-0.5","v":{"$error":"#REF!"}},{"$f":"IF(PSCalculationMethod=CalculationMethodNYES,J221,IF(PSCalculationMethod=CalculationMethodNYES,'E8-Reporting Period Values'!#REF!,\"\"))","v":""},0]
[42956,2.5499999999999998,0,0,0,true,true,false,{"$f":"'E5-Baseline Model'!#REF!+SUMPRODUCT(B222:E222,TRANSPOSE('E5-Baseline Model'!#REF!))","v":{"$error":"#REF!"}},{"$f":"'E5-Baseline Model'!#REF!+SUMPRODUCT(B222:E222,TRANSPOSE('E5-Baseline Model'!#REF!))+RAND()-0.5","v":{"$error":"#REF!"}},{"$f":"IF(PSCalculationMethod=CalculationMethodNYES,J222,IF(PSCalculationMethod=CalculationMethodNYES,'E8-Reporting Period Values'!#REF!,\"\"))","v":""},0]
[42957,0,0,0,0,true,true,false,{"$f":"'E5-Baseline Model'!#REF!+SUMPRODUCT(B223:E223,TRANSPOSE('E5-Baseline Model'!#REF!))","v":{"$error":"#REF!"}},{"$f":"'E5-Baseline Model'!#REF!+SUMPRODUCT(B223:E223,TRANSPOSE('E5-Baseline Model'!#REF!))+RAND()-0.5","v":{"$error":"#REF!"}},{"$f":"IF(PSCalculationMethod=CalculationMethodNYES,J223,IF(PSCalculationMethod=CalculationMethodNYES,'E8-Reporting Period Values'!#REF!,\"\"))","v":""},0]
[42958,0,0,0,0,true,true,false,{"$f":"'E5-Baseline Model'!#REF!+SUMPRODUCT(B224:E224,TRANSPOSE('E5-Baseline Model'!#REF!))","v":{"$error":"#REF!"}},{"$f":"'E5-Baseline Model'!#REF!+SUMPRODUCT(B224:E224,TRANSPOSE('E5-Baseline Model'!#REF!))+RAND()-0.5","v":{"$error":"#REF!"}},{"$f":"IF(PSCalculationMethod=CalculationMethodNYES,J224,IF(PSCalculationMethod=CalculationMethodNYES,'E8-Reporting Period Values'!#REF!,\"\"))","v":""},0]
[42959,0,1,0,0,true,true,false,{"$f":"'E5-Baseline Model'!#REF!+SUMPRODUCT(B225:E225,TRANSPOSE('E5-Baseline Model'!#REF!))","v":{"$error":"#REF!"}},{"$f":"'E5-Baseline Model'!#REF!+SUMPRODUCT(B225:E225,TRANSPOSE('E5-Baseline Model'!#REF!))+RAND()-0.5","v":{"$error":"#REF!"}},{"$f":"IF(PSCalculationMethod=CalculationMethodNYES,J225,IF(PSCalculationMethod=CalculationMethodNYES,'E8-Reporting Period Values'!#REF!,\"\"))","v":""},0]
[42960,0,0,1,0,true,true,false,{"$f":"'E5-Baseline Model'!#REF!+SUMPRODUCT(B226:E226,TRANSPOSE('E5-Baseline Model'!#REF!))","v":{"$error":"#REF!"}},{"$f":"'E5-Baseline Model'!#REF!+SUMPRODUCT(B226:E226,TRANSPOSE('E5-Baseline Model'!#REF!))+RAND()-0.5","v":{"$error":"#REF!"}},{"$f":"IF(PSCalculationMethod=CalculationMethodNYES,J226,IF(PSCalculationMethod=CalculationMethodNYES,'E8-Reporting Period Values'!#REF!,\"\"))","v":""},0]
[42961,0,0,0,0,true,true,false,{"$f":"'E5-Baseline Model'!#REF!+SUMPRODUCT(B227:E227,TRANSPOSE('E5-Baseline Model'!#REF!))","v":{"$error":"#REF!"}},{"$f":"'E5-Baseline Model'!#REF!+SUMPRODUCT(B227:E227,TRANSPOSE('E5-Baseline Model'!#REF!))+RAND()-0.5","v":{"$error":"#REF!"}},{"$f":"IF(PSCalculationMethod=CalculationMethodNYES,J227,IF(PSCalculationMethod=CalculationMethodNYES,'E8-Reporting Period Values'!#REF!,\"\"))","v":""},0]
[42962,0,0,0,0,true,true,false,{"$f":"'E5-Baseline Model'!#REF!+SUMPRODUCT(B228:E228,TRANSPOSE('E5-Baseline Model'!#REF!))","v":{"$error":"#REF!"}},{"$f":"'E5-Baseline Model'!#REF!+SUMPRODUCT(B228:E228,TRANSPOSE('E5-Baseline Model'!#REF!))+RAND()-0.5","v":{"$error":"#REF!"}},{"$f":"IF(PSCalculationMethod=CalculationMethodNYES,J228,IF(PSCalculationMethod=CalculationMethodNYES,'E8-Reporting Period Values'!#REF!,\"\"))","v":""},0]
[42963,0,0,0,0,true,true,false,{"$f":"'E5-Baseline Model'!#REF!+SUMPRODUCT(B229:E229,TRANSPOSE('E5-Baseline Model'!#REF!))","v":{"$error":"#REF!"}},{"$f":"'E5-Baseline Model'!#REF!+SUMPRODUCT(B229:E229,TRANSPOSE('E5-Baseline Model'!#REF!))+RAND()-0.5","v":{"$error":"#REF!"}},{"$f":"IF(PSCalculationMethod=CalculationMethodNYES,J229,IF(PSCalculationMethod=CalculationMethodNYES,'E8-Reporting Period Values'!#REF!,\"\"))","v":""},0]
[42964,0,0,0,0,true,true,false,{"$f":"'E5-Baseline Model'!#REF!+SUMPRODUCT(B230:E230,TRANSPOSE('E5-Baseline Model'!#REF!))","v":{"$error":"#REF!"}},{"$f":"'E5-Baseline Model'!#REF!+SUMPRODUCT(B230:E230,TRANSPOSE('E5-Baseline Model'!#REF!))+RAND()-0.5","v":{"$error":"#REF!"}},{"$f":"IF(PSCalculationMethod=CalculationMethodNYES,J230,IF(PSCalculationMethod=CalculationMethodNYES,'E8-Reporting Period Values'!#REF!,\"\"))","v":""},0]
[42965,1.25,0,0,0,true,true,false,{"$f":"'E5-Baseline Model'!#REF!+SUMPRODUCT(B231:E231,TRANSPOSE('E5-Baseline Model'!#REF!))","v":{"$error":"#REF!"}},{"$f":"'E5-Baseline Model'!#REF!+SUMPRODUCT(B231:E231,TRANSPOSE('E5-Baseline Model'!#REF!))+RAND()-0.5","v":{"$error":"#REF!"}},{"$f":"IF(PSCalculationMethod=CalculationMethodNYES,J231,IF(PSCalculationMethod=CalculationMethodNYES,'E8-Reporting Period Values'!#REF!,\"\"))","v":""},0]
[42966,0,1,0,0,true,true,false,{"$f":"'E5-Baseline Model'!#REF!+SUMPRODUCT(B232:E232,TRANSPOSE('E5-Baseline Model'!#REF!))","v":{"$error":"#REF!"}},{"$f":"'E5-Baseline Model'!#REF!+SUMPRODUCT(B232:E232,TRANSPOSE('E5-Baseline Model'!#REF!))+RAND()-0.5","v":{"$error":"#REF!"}},{"$f":"IF(PSCalculationMethod=CalculationMethodNYES,J232,IF(PSCalculationMethod=CalculationMethodNYES,'E8-Reporting Period Values'!#REF!,\"\"))","v":""},0]
[42967,0,0,1,0,true,true,false,{"$f":"'E5-Baseline Model'!#REF!+SUMPRODUCT(B233:E233,TRANSPOSE('E5-Baseline Model'!#REF!))","v":{"$error":"#REF!"}},{"$f":"'E5-Baseline Model'!#REF!+SUMPRODUCT(B233:E233,TRANSPOSE('E5-Baseline Model'!#REF!))+RAND()-0.5","v":{"$error":"#REF!"}},{"$f":"IF(PSCalculationMethod=CalculationMethodNYES,J233,IF(PSCalculationMethod=CalculationMethodNYES,'E8-Reporting Period Values'!#REF!,\"\"))","v":""},0]
[42968,1.4,0,0,0,true,true,false,{"$f":"'E5-Baseline Model'!#REF!+SUMPRODUCT(B234:E234,TRANSPOSE('E5-Baseline Model'!#REF!))","v":{"$error":"#REF!"}},{"$f":"'E5-Baseline Model'!#REF!+SUMPRODUCT(B234:E234,TRANSPOSE('E5-Baseline Model'!#REF!))+RAND()-0.5","v":{"$error":"#REF!"}},{"$f":"IF(PSCalculationMethod=CalculationMethodNYES,J234,IF(PSCalculationMethod=CalculationMethodNYES,'E8-Reporting Period Values'!#REF!,\"\"))","v":""},0]
[42969,0.60000000000000098,0,0,0,true,true,false,{"$f":"'E5-Baseline Model'!#REF!+SUMPRODUCT(B235:E235,TRANSPOSE('E5-Baseline Model'!#REF!))","v":{"$error":"#REF!"}},{"$f":"'E5-Baseline Model'!#REF!+SUMPRODUCT(B235:E235,TRANSPOSE('E5-Baseline Model'!#REF!))+RAND()-0.5","v":{"$error":"#REF!"}},{"$f":"IF(PSCalculationMethod=CalculationMethodNYES,J235,IF(PSCalculationMethod=CalculationMethodNYES,'E8-Reporting Period Values'!#REF!,\"\"))","v":""},0]
[42970,1.25,0,0,0,true,true,false,{"$f":"'E5-Baseline Model'!#REF!+SUMPRODUCT(B236:E236,TRANSPOSE('E5-Baseline Model'!#REF!))","v":{"$error":"#REF!"}},{"$f":"'E5-Baseline Model'!#REF!+SUMPRODUCT(B236:E236,TRANSPOSE('E5-Baseline Model'!#REF!))+RAND()-0.5","v":{"$error":"#REF!"}},{"$f":"IF(PSCalculationMethod=CalculationMethodNYES,J236,IF(PSCalculationMethod=CalculationMethodNYES,'E8-Reporting Period Values'!#REF!,\"\"))","v":""},0]
[42971,0.9,0,0,0,true,true,false,{"$f":"'E5-Baseline Model'!#REF!+SUMPRODUCT(B237:E237,TRANSPOSE('E5-Baseline Model'!#REF!))","v":{"$error":"#REF!"}},{"$f":"'E5-Baseline Model'!#REF!+SUMPRODUCT(B237:E237,TRANSPOSE('E5-Baseline Model'!#REF!))+RAND()-0.5","v":{"$error":"#REF!"}},{"$f":"IF(PSCalculationMethod=CalculationMethodNYES,J237,IF(PSCalculationMethod=CalculationMethodNYES,'E8-Reporting Period Values'!#REF!,\"\"))","v":""},0]
[42972,0,0,0,0,true,true,false,{"$f":"'E5-Baseline Model'!#REF!+SUMPRODUCT(B238:E238,TRANSPOSE('E5-Baseline Model'!#REF!))","v":{"$error":"#REF!"}},{"$f":"'E5-Baseline Model'!#REF!+SUMPRODUCT(B238:E238,TRANSPOSE('E5-Baseline Model'!#REF!))+RAND()-0.5","v":{"$error":"#REF!"}},{"$f":"IF(PSCalculationMethod=CalculationMethodNYES,J238,IF(PSCalculationMethod=CalculationMethodNYES,'E8-Reporting Period Values'!#REF!,\"\"))","v":""},0]
[42973,2.6,1,0,0,true,true,false,{"$f":"'E5-Baseline Model'!#REF!+SUMPRODUCT(B239:E239,TRANSPOSE('E5-Baseline Model'!#REF!))","v":{"$error":"#REF!"}},{"$f":"'E5-Baseline Model'!#REF!+SUMPRODUCT(B239:E239,TRANSPOSE('E5-Baseline Model'!#REF!))+RAND()-0.5","v":{"$error":"#REF!"}},{"$f":"IF(PSCalculationMethod=CalculationMethodNYES,J239,IF(PSCalculationMethod=CalculationMethodNYES,'E8-Reporting Period Values'!#REF!,\"\"))","v":""},0]
[42974,2,0,1,0,true,true,false,{"$f":"'E5-Baseline Model'!#REF!+SUMPRODUCT(B240:E240,TRANSPOSE('E5-Baseline Model'!#REF!))","v":{"$error":"#REF!"}},{"$f":"'E5-Baseline Model'!#REF!+SUMPRODUCT(B240:E240,TRANSPOSE('E5-Baseline Model'!#REF!))+RAND()-0.5","v":{"$error":"#REF!"}},{"$f":"IF(PSCalculationMethod=CalculationMethodNYES,J240,IF(PSCalculationMethod=CalculationMethodNYES,'E8-Reporting Period Values'!#REF!,\"\"))","v":""},0]
[42975,0,0,0,0,true,true,false,{"$f":"'E5-Baseline Model'!#REF!+SUMPRODUCT(B241:E241,TRANSPOSE('E5-Baseline Model'!#REF!))","v":{"$error":"#REF!"}},{"$f":"'E5-Baseline Model'!#REF!+SUMPRODUCT(B241:E241,TRANSPOSE('E5-Baseline Model'!#REF!))+RAND()-0.5","v":{"$error":"#REF!"}},{"$f":"IF(PSCalculationMethod=CalculationMethodNYES,J241,IF(PSCalculationMethod=CalculationMethodNYES,'E8-Reporting Period Values'!#REF!,\"\"))","v":""},0]
[42976,5.0000000000000697E-2,0,0,0,true,true,false,{"$f":"'E5-Baseline Model'!#REF!+SUMPRODUCT(B242:E242,TRANSPOSE('E5-Baseline Model'!#REF!))","v":{"$error":"#REF!"}},{"$f":"'E5-Baseline Model'!#REF!+SUMPRODUCT(B242:E242,TRANSPOSE('E5-Baseline Model'!#REF!))+RAND()-0.5","v":{"$error":"#REF!"}},{"$f":"IF(PSCalculationMethod=CalculationMethodNYES,J242,IF(PSCalculationMethod=CalculationMethodNYES,'E8-Reporting Period Values'!#REF!,\"\"))","v":""},0]
[42977,2.25,0,0,0,true,true,false,{"$f":"'E5-Baseline Model'!#REF!+SUMPRODUCT(B243:E243,TRANSPOSE('E5-Baseline Model'!#REF!))","v":{"$error":"#REF!"}},{"$f":"'E5-Baseline Model'!#REF!+SUMPRODUCT(B243:E243,TRANSPOSE('E5-Baseline Model'!#REF!))+RAND()-0.5","v":{"$error":"#REF!"}},{"$f":"IF(PSCalculationMethod=CalculationMethodNYES,J243,IF(PSCalculationMethod=CalculationMethodNYES,'E8-Reporting Period Values'!#REF!,\"\"))","v":""},0]
[42978,3.15,0,0,0,true,true,false,{"$f":"'E5-Baseline Model'!#REF!+SUMPRODUCT(B244:E244,TRANSPOSE('E5-Baseline Model'!#REF!))","v":{"$error":"#REF!"}},{"$f":"'E5-Baseline Model'!#REF!+SUMPRODUCT(B244:E244,TRANSPOSE('E5-Baseline Model'!#REF!))+RAND()-0.5","v":{"$error":"#REF!"}},{"$f":"IF(PSCalculationMethod=CalculationMethodNYES,J244,IF(PSCalculationMethod=CalculationMethodNYES,'E8-Reporting Period Values'!#REF!,\"\"))","v":""},0]
[42979,2.0499999999999998,0,0,0,true,true,false,{"$f":"'E5-Baseline Model'!#REF!+SUMPRODUCT(B245:E245,TRANSPOSE('E5-Baseline Model'!#REF!))","v":{"$error":"#REF!"}},{"$f":"'E5-Baseline Model'!#REF!+SUMPRODUCT(B245:E245,TRANSPOSE('E5-Baseline Model'!#REF!))+RAND()-0.5","v":{"$error":"#REF!"}},{"$f":"IF(PSCalculationMethod=CalculationMethodNYES,J245,IF(PSCalculationMethod=CalculationMethodNYES,'E8-Reporting Period Values'!#REF!,\"\"))","v":""},0]
[42980,0.60000000000000098,1,0,0,true,true,false,{"$f":"'E5-Baseline Model'!#REF!+SUMPRODUCT(B246:E246,TRANSPOSE('E5-Baseline Model'!#REF!))","v":{"$error":"#REF!"}},{"$f":"'E5-Baseline Model'!#REF!+SUMPRODUCT(B246:E246,TRANSPOSE('E5-Baseline Model'!#REF!))+RAND()-0.5","v":{"$error":"#REF!"}},{"$f":"IF(PSCalculationMethod=CalculationMethodNYES,J246,IF(PSCalculationMethod=CalculationMethodNYES,'E8-Reporting Period Values'!#REF!,\"\"))","v":""},0]
[42981,1.3,0,1,0,true,true,false,{"$f":"'E5-Baseline Model'!#REF!+SUMPRODUCT(B247:E247,TRANSPOSE('E5-Baseline Model'!#REF!))","v":{"$error":"#REF!"}},{"$f":"'E5-Baseline Model'!#REF!+SUMPRODUCT(B247:E247,TRANSPOSE('E5-Baseline Model'!#REF!))+RAND()-0.5","v":{"$error":"#REF!"}},{"$f":"IF(PSCalculationMethod=CalculationMethodNYES,J247,IF(PSCalculationMethod=CalculationMethodNYES,'E8-Reporting Period Values'!#REF!,\"\"))","v":""},0]
[42982,4.3499999999999996,0,0,0,true,true,false,{"$f":"'E5-Baseline Model'!#REF!+SUMPRODUCT(B248:E248,TRANSPOSE('E5-Baseline Model'!#REF!))","v":{"$error":"#REF!"}},{"$f":"'E5-Baseline Model'!#REF!+SUMPRODUCT(B248:E248,TRANSPOSE('E5-Baseline Model'!#REF!))+RAND()-0.5","v":{"$error":"#REF!"}},{"$f":"IF(PSCalculationMethod=CalculationMethodNYES,J248,IF(PSCalculationMethod=CalculationMethodNYES,'E8-Reporting Period Values'!#REF!,\"\"))","v":""},0]
[42983,6.75,0,0,0,true,true,false,{"$f":"'E5-Baseline Model'!#REF!+SUMPRODUCT(B249:E249,TRANSPOSE('E5-Baseline Model'!#REF!))","v":{"$error":"#REF!"}},{"$f":"'E5-Baseline Model'!#REF!+SUMPRODUCT(B249:E249,TRANSPOSE('E5-Baseline Model'!#REF!))+RAND()-0.5","v":{"$error":"#REF!"}},{"$f":"IF(PSCalculationMethod=CalculationMethodNYES,J249,IF(PSCalculationMethod=CalculationMethodNYES,'E8-Reporting Period Values'!#REF!,\"\"))","v":""},0]
[42984,1.85,0,0,0,true,true,false,{"$f":"'E5-Baseline Model'!#REF!+SUMPRODUCT(B250:E250,TRANSPOSE('E5-Baseline Model'!#REF!))","v":{"$error":"#REF!"}},{"$f":"'E5-Baseline Model'!#REF!+SUMPRODUCT(B250:E250,TRANSPOSE('E5-Baseline Model'!#REF!))+RAND()-0.5","v":{"$error":"#REF!"}},{"$f":"IF(PSCalculationMethod=CalculationMethodNYES,J250,IF(PSCalculationMethod=CalculationMethodNYES,'E8-Reporting Period Values'!#REF!,\"\"))","v":""},0]
[42985,1.45,0,0,0,true,true,false,{"$f":"'E5-Baseline Model'!#REF!+SUMPRODUCT(B251:E251,TRANSPOSE('E5-Baseline Model'!#REF!))","v":{"$error":"#REF!"}},{"$f":"'E5-Baseline Model'!#REF!+SUMPRODUCT(B251:E251,TRANSPOSE('E5-Baseline Model'!#REF!))+RAND()-0.5","v":{"$error":"#REF!"}},{"$f":"IF(PSCalculationMethod=CalculationMethodNYES,J251,IF(PSCalculationMethod=CalculationMethodNYES,'E8-Reporting Period Values'!#REF!,\"\"))","v":""},0]
[42986,0,0,0,0,true,true,false,{"$f":"'E5-Baseline Model'!#REF!+SUMPRODUCT(B252:E252,TRANSPOSE('E5-Baseline Model'!#REF!))","v":{"$error":"#REF!"}},{"$f":"'E5-Baseline Model'!#REF!+SUMPRODUCT(B252:E252,TRANSPOSE('E5-Baseline Model'!#REF!))+RAND()-0.5","v":{"$error":"#REF!"}},{"$f":"IF(PSCalculationMethod=CalculationMethodNYES,J252,IF(PSCalculationMethod=CalculationMethodNYES,'E8-Reporting Period Values'!#REF!,\"\"))","v":""},0]
[42987,0,1,0,0,true,true,false,{"$f":"'E5-Baseline Model'!#REF!+SUMPRODUCT(B253:E253,TRANSPOSE('E5-Baseline Model'!#REF!))","v":{"$error":"#REF!"}},{"$f":"'E5-Baseline Model'!#REF!+SUMPRODUCT(B253:E253,TRANSPOSE('E5-Baseline Model'!#REF!))+RAND()-0.5","v":{"$error":"#REF!"}},{"$f":"IF(PSCalculationMethod=CalculationMethodNYES,J253,IF(PSCalculationMethod=CalculationMethodNYES,'E8-Reporting Period Values'!#REF!,\"\"))","v":""},0]
[42988,1.3,0,1,0,true,true,false,{"$f":"'E5-Baseline Model'!#REF!+SUMPRODUCT(B254:E254,TRANSPOSE('E5-Baseline Model'!#REF!))","v":{"$error":"#REF!"}},{"$f":"'E5-Baseline Model'!#REF!+SUMPRODUCT(B254:E254,TRANSPOSE('E5-Baseline Model'!#REF!))+RAND()-0.5","v":{"$error":"#REF!"}},{"$f":"IF(PSCalculationMethod=CalculationMethodNYES,J254,IF(PSCalculationMethod=CalculationMethodNYES,'E8-Reporting Period Values'!#REF!,\"\"))","v":""},0]
[42989,0.4,0,0,0,true,true,false,{"$f":"'E5-Baseline Model'!#REF!+SUMPRODUCT(B255:E255,TRANSPOSE('E5-Baseline Model'!#REF!))","v":{"$error":"#REF!"}},{"$f":"'E5-Baseline Model'!#REF!+SUMPRODUCT(B255:E255,TRANSPOSE('E5-Baseline Model'!#REF!))+RAND()-0.5","v":{"$error":"#REF!"}},{"$f":"IF(PSCalculationMethod=CalculationMethodNYES,J255,IF(PSCalculationMethod=CalculationMethodNYES,'E8-Reporting Period Values'!#REF!,\"\"))","v":""},0]
[42990,1.4,0,0,0,true,true,false,{"$f":"'E5-Baseline Model'!#REF!+SUMPRODUCT(B256:E256,TRANSPOSE('E5-Baseline Model'!#REF!))","v":{"$error":"#REF!"}},{"$f":"'E5-Baseline Model'!#REF!+SUMPRODUCT(B256:E256,TRANSPOSE('E5-Baseline Model'!#REF!))+RAND()-0.5","v":{"$error":"#REF!"}},{"$f":"IF(PSCalculationMethod=CalculationMethodNYES,J256,IF(PSCalculationMethod=CalculationMethodNYES,'E8-Reporting Period Values'!#REF!,\"\"))","v":""},0]
[42991,4.9000000000000004,0,0,0,true,true,false,{"$f":"'E5-Baseline Model'!#REF!+SUMPRODUCT(B257:E257,TRANSPOSE('E5-Baseline Model'!#REF!))","v":{"$error":"#REF!"}},{"$f":"'E5-Baseline Model'!#REF!+SUMPRODUCT(B257:E257,TRANSPOSE('E5-Baseline Model'!#REF!))+RAND()-0.5","v":{"$error":"#REF!"}},{"$f":"IF(PSCalculationMethod=CalculationMethodNYES,J257,IF(PSCalculationMethod=CalculationMethodNYES,'E8-Reporting Period Values'!#REF!,\"\"))","v":""},0]
[42992,3.25,0,0,0,true,true,{"$f":"IF(PSCalculationMethod=CalculationMethodMAES,F258,IF(PSCalculationMethod=CalculationMethodNYES,AND(F258,G258),FALSE))","v":false},{"$f":"'E5-Baseline Model'!#REF!+SUMPRODUCT(B258:E258,TRANSPOSE('E5-Baseline Model'!#REF!))","v":{"$error":"#REF!"}},{"$f":"'E5-Baseline Model'!#REF!+SUMPRODUCT(B258:E258,TRANSPOSE('E5-Baseline Model'!#REF!))+RAND()-0.5","v":{"$error":"#REF!"}},{"$f":"IF(PSCalculationMethod=CalculationMethodNYES,J258,IF(PSCalculationMethod=CalculationMethodNYES,'E8-Reporting Period Values'!#REF!,\"\"))","v":""},0]
[42993,2.4,0,0,0,true,true,false,{"$f":"'E5-Baseline Model'!#REF!+SUMPRODUCT(B259:E259,TRANSPOSE('E5-Baseline Model'!#REF!))","v":{"$error":"#REF!"}},{"$f":"'E5-Baseline Model'!#REF!+SUMPRODUCT(B259:E259,TRANSPOSE('E5-Baseline Model'!#REF!))+RAND()-0.5","v":{"$error":"#REF!"}},{"$f":"IF(PSCalculationMethod=CalculationMethodNYES,J259,IF(PSCalculationMethod=CalculationMethodNYES,'E8-Reporting Period Values'!#REF!,\"\"))","v":""},{"$f":"IF(H259,I259-K259,0)","v":0}]
[42994,5.85,1,0,0,true,true,false,{"$f":"'E5-Baseline Model'!#REF!+SUMPRODUCT(B260:E260,TRANSPOSE('E5-Baseline Model'!#REF!))","v":{"$error":"#REF!"}},{"$f":"'E5-Baseline Model'!#REF!+SUMPRODUCT(B260:E260,TRANSPOSE('E5-Baseline Model'!#REF!))+RAND()-0.5","v":{"$error":"#REF!"}},{"$f":"IF(PSCalculationMethod=CalculationMethodNYES,J260,IF(PSCalculationMethod=CalculationMethodNYES,'E8-Reporting Period Values'!#REF!,\"\"))","v":""},0]
[42995,9.15,0,1,0,true,true,false,{"$f":"'E5-Baseline Model'!#REF!+SUMPRODUCT(B261:E261,TRANSPOSE('E5-Baseline Model'!#REF!))","v":{"$error":"#REF!"}},{"$f":"'E5-Baseline Model'!#REF!+SUMPRODUCT(B261:E261,TRANSPOSE('E5-Baseline Model'!#REF!))+RAND()-0.5","v":{"$error":"#REF!"}},{"$f":"IF(PSCalculationMethod=CalculationMethodNYES,J261,IF(PSCalculationMethod=CalculationMethodNYES,'E8-Reporting Period Values'!#REF!,\"\"))","v":""},0]
[42996,6.3,0,0,0,true,true,false,{"$f":"'E5-Baseline Model'!#REF!+SUMPRODUCT(B262:E262,TRANSPOSE('E5-Baseline Model'!#REF!))","v":{"$error":"#REF!"}},{"$f":"'E5-Baseline Model'!#REF!+SUMPRODUCT(B262:E262,TRANSPOSE('E5-Baseline Model'!#REF!))+RAND()-0.5","v":{"$error":"#REF!"}},{"$f":"IF(PSCalculationMethod=CalculationMethodNYES,J262,IF(PSCalculationMethod=CalculationMethodNYES,'E8-Reporting Period Values'!#REF!,\"\"))","v":""},0]
[42997,8.8000000000000007,0,0,0,true,true,false,{"$f":"'E5-Baseline Model'!#REF!+SUMPRODUCT(B263:E263,TRANSPOSE('E5-Baseline Model'!#REF!))","v":{"$error":"#REF!"}},{"$f":"'E5-Baseline Model'!#REF!+SUMPRODUCT(B263:E263,TRANSPOSE('E5-Baseline Model'!#REF!))+RAND()-0.5","v":{"$error":"#REF!"}},{"$f":"IF(PSCalculationMethod=CalculationMethodNYES,J263,IF(PSCalculationMethod=CalculationMethodNYES,'E8-Reporting Period Values'!#REF!,\"\"))","v":""},0]
[42998,3.3,0,0,0,true,true,false,{"$f":"'E5-Baseline Model'!#REF!+SUMPRODUCT(B264:E264,TRANSPOSE('E5-Baseline Model'!#REF!))","v":{"$error":"#REF!"}},{"$f":"'E5-Baseline Model'!#REF!+SUMPRODUCT(B264:E264,TRANSPOSE('E5-Baseline Model'!#REF!))+RAND()-0.5","v":{"$error":"#REF!"}},{"$f":"IF(PSCalculationMethod=CalculationMethodNYES,J264,IF(PSCalculationMethod=CalculationMethodNYES,'E8-Reporting Period Values'!#REF!,\"\"))","v":""},0]
[42999,3,0,0,0,true,true,false,{"$f":"'E5-Baseline Model'!#REF!+SUMPRODUCT(B265:E265,TRANSPOSE('E5-Baseline Model'!#REF!))","v":{"$error":"#REF!"}},{"$f":"'E5-Baseline Model'!#REF!+SUMPRODUCT(B265:E265,TRANSPOSE('E5-Baseline Model'!#REF!))+RAND()-0.5","v":{"$error":"#REF!"}},{"$f":"IF(PSCalculationMethod=CalculationMethodNYES,J265,IF(PSCalculationMethod=CalculationMethodNYES,'E8-Reporting Period Values'!#REF!,\"\"))","v":""},0]
[43000,8.6,0,0,0,true,true,false,{"$f":"'E5-Baseline Model'!#REF!+SUMPRODUCT(B266:E266,TRANSPOSE('E5-Baseline Model'!#REF!))","v":{"$error":"#REF!"}},{"$f":"'E5-Baseline Model'!#REF!+SUMPRODUCT(B266:E266,TRANSPOSE('E5-Baseline Model'!#REF!))+RAND()-0.5","v":{"$error":"#REF!"}},{"$f":"IF(PSCalculationMethod=CalculationMethodNYES,J266,IF(PSCalculationMethod=CalculationMethodNYES,'E8-Reporting Period Values'!#REF!,\"\"))","v":""},0]
[43001,2,1,0,0,true,true,false,{"$f":"'E5-Baseline Model'!#REF!+SUMPRODUCT(B267:E267,TRANSPOSE('E5-Baseline Model'!#REF!))","v":{"$error":"#REF!"}},{"$f":"'E5-Baseline Model'!#REF!+SUMPRODUCT(B267:E267,TRANSPOSE('E5-Baseline Model'!#REF!))+RAND()-0.5","v":{"$error":"#REF!"}},{"$f":"IF(PSCalculationMethod=CalculationMethodNYES,J267,IF(PSCalculationMethod=CalculationMethodNYES,'E8-Reporting Period Values'!#REF!,\"\"))","v":""},0]
[43002,1.2,0,1,0,true,true,false,{"$f":"'E5-Baseline Model'!#REF!+SUMPRODUCT(B268:E268,TRANSPOSE('E5-Baseline Model'!#REF!))","v":{"$error":"#REF!"}},{"$f":"'E5-Baseline Model'!#REF!+SUMPRODUCT(B268:E268,TRANSPOSE('E5-Baseline Model'!#REF!))+RAND()-0.5","v":{"$error":"#REF!"}},{"$f":"IF(PSCalculationMethod=CalculationMethodNYES,J268,IF(PSCalculationMethod=CalculationMethodNYES,'E8-Reporting Period Values'!#REF!,\"\"))","v":""},0]
[43003,2,0,0,0,true,true,false,{"$f":"'E5-Baseline Model'!#REF!+SUMPRODUCT(B269:E269,TRANSPOSE('E5-Baseline Model'!#REF!))","v":{"$error":"#REF!"}},{"$f":"'E5-Baseline Model'!#REF!+SUMPRODUCT(B269:E269,TRANSPOSE('E5-Baseline Model'!#REF!))+RAND()-0.5","v":{"$error":"#REF!"}},{"$f":"IF(PSCalculationMethod=CalculationMethodNYES,J269,IF(PSCalculationMethod=CalculationMethodNYES,'E8-Reporting Period Values'!#REF!,\"\"))","v":""},0]
[43004,1.75,0,0,0,true,true,false,{"$f":"'E5-Baseline Model'!#REF!+SUMPRODUCT(B270:E270,TRANSPOSE('E5-Baseline Model'!#REF!))","v":{"$error":"#REF!"}},{"$f":"'E5-Baseline Model'!#REF!+SUMPRODUCT(B270:E270,TRANSPOSE('E5-Baseline Model'!#REF!))+RAND()-0.5","v":{"$error":"#REF!"}},{"$f":"IF(PSCalculationMethod=CalculationMethodNYES,J270,IF(PSCalculationMethod=CalculationMethodNYES,'E8-Reporting Period Values'!#REF!,\"\"))","v":""},0]
[43005,1.7,0,0,0,true,true,false,{"$f":"'E5-Baseline Model'!#REF!+SUMPRODUCT(B271:E271,TRANSPOSE('E5-Baseline Model'!#REF!))","v":{"$error":"#REF!"}},{"$f":"'E5-Baseline Model'!#REF!+SUMPRODUCT(B271:E271,TRANSPOSE('E5-Baseline Model'!#REF!))+RAND()-0.5","v":{"$error":"#REF!"}},{"$f":"IF(PSCalculationMethod=CalculationMethodNYES,J271,IF(PSCalculationMethod=CalculationMethodNYES,'E8-Reporting Period Values'!#REF!,\"\"))","v":""},0]
[43006,4.75,0,0,0,true,true,false,{"$f":"'E5-Baseline Model'!#REF!+SUMPRODUCT(B272:E272,TRANSPOSE('E5-Baseline Model'!#REF!))","v":{"$error":"#REF!"}},{"$f":"'E5-Baseline Model'!#REF!+SUMPRODUCT(B272:E272,TRANSPOSE('E5-Baseline Model'!#REF!))+RAND()-0.5","v":{"$error":"#REF!"}},{"$f":"IF(PSCalculationMethod=CalculationMethodNYES,J272,IF(PSCalculationMethod=CalculationMethodNYES,'E8-Reporting Period Values'!#REF!,\"\"))","v":""},0]
[43007,2.5,0,0,0,true,true,false,{"$f":"'E5-Baseline Model'!#REF!+SUMPRODUCT(B273:E273,TRANSPOSE('E5-Baseline Model'!#REF!))","v":{"$error":"#REF!"}},{"$f":"'E5-Baseline Model'!#REF!+SUMPRODUCT(B273:E273,TRANSPOSE('E5-Baseline Model'!#REF!))+RAND()-0.5","v":{"$error":"#REF!"}},{"$f":"IF(PSCalculationMethod=CalculationMethodNYES,J273,IF(PSCalculationMethod=CalculationMethodNYES,'E8-Reporting Period Values'!#REF!,\"\"))","v":""},0]
[43008,1.4,1,0,0,true,true,false,{"$f":"'E5-Baseline Model'!#REF!+SUMPRODUCT(B274:E274,TRANSPOSE('E5-Baseline Model'!#REF!))","v":{"$error":"#REF!"}},{"$f":"'E5-Baseline Model'!#REF!+SUMPRODUCT(B274:E274,TRANSPOSE('E5-Baseline Model'!#REF!))+RAND()-0.5","v":{"$error":"#REF!"}},{"$f":"IF(PSCalculationMethod=CalculationMethodNYES,J274,IF(PSCalculationMethod=CalculationMethodNYES,'E8-Reporting Period Values'!#REF!,\"\"))","v":""},0]
[43009,2.15,0,1,0,true,true,false,{"$f":"'E5-Baseline Model'!#REF!+SUMPRODUCT(B275:E275,TRANSPOSE('E5-Baseline Model'!#REF!))","v":{"$error":"#REF!"}},{"$f":"'E5-Baseline Model'!#REF!+SUMPRODUCT(B275:E275,TRANSPOSE('E5-Baseline Model'!#REF!))+RAND()-0.5","v":{"$error":"#REF!"}},{"$f":"IF(PSCalculationMethod=CalculationMethodNYES,J275,IF(PSCalculationMethod=CalculationMethodNYES,'E8-Reporting Period Values'!#REF!,\"\"))","v":""},0]
[43010,3.35,0,0,1,true,true,false,{"$f":"'E5-Baseline Model'!#REF!+SUMPRODUCT(B276:E276,TRANSPOSE('E5-Baseline Model'!#REF!))","v":{"$error":"#REF!"}},{"$f":"'E5-Baseline Model'!#REF!+SUMPRODUCT(B276:E276,TRANSPOSE('E5-Baseline Model'!#REF!))+RAND()-0.5","v":{"$error":"#REF!"}},{"$f":"IF(PSCalculationMethod=CalculationMethodNYES,J276,IF(PSCalculationMethod=CalculationMethodNYES,'E8-Reporting Period Values'!#REF!,\"\"))","v":""},0]
[43011,3.95,0,0,0,true,true,false,{"$f":"'E5-Baseline Model'!#REF!+SUMPRODUCT(B277:E277,TRANSPOSE('E5-Baseline Model'!#REF!))","v":{"$error":"#REF!"}},{"$f":"'E5-Baseline Model'!#REF!+SUMPRODUCT(B277:E277,TRANSPOSE('E5-Baseline Model'!#REF!))+RAND()-0.5","v":{"$error":"#REF!"}},{"$f":"IF(PSCalculationMethod=CalculationMethodNYES,J277,IF(PSCalculationMethod=CalculationMethodNYES,'E8-Reporting Period Values'!#REF!,\"\"))","v":""},0]
[43012,5.5,0,0,0,true,true,false,{"$f":"'E5-Baseline Model'!#REF!+SUMPRODUCT(B278:E278,TRANSPOSE('E5-Baseline Model'!#REF!))","v":{"$error":"#REF!"}},{"$f":"'E5-Baseline Model'!#REF!+SUMPRODUCT(B278:E278,TRANSPOSE('E5-Baseline Model'!#REF!))+RAND()-0.5","v":{"$error":"#REF!"}},{"$f":"IF(PSCalculationMethod=CalculationMethodNYES,J278,IF(PSCalculationMethod=CalculationMethodNYES,'E8-Reporting Period Values'!#REF!,\"\"))","v":""},0]
[43013,5.8,0,0,0,true,true,false,{"$f":"'E5-Baseline Model'!#REF!+SUMPRODUCT(B279:E279,TRANSPOSE('E5-Baseline Model'!#REF!))","v":{"$error":"#REF!"}},{"$f":"'E5-Baseline Model'!#REF!+SUMPRODUCT(B279:E279,TRANSPOSE('E5-Baseline Model'!#REF!))+RAND()-0.5","v":{"$error":"#REF!"}},{"$f":"IF(PSCalculationMethod=CalculationMethodNYES,J279,IF(PSCalculationMethod=CalculationMethodNYES,'E8-Reporting Period Values'!#REF!,\"\"))","v":""},0]
[43014,5.7,0,0,0,true,true,false,{"$f":"'E5-Baseline Model'!#REF!+SUMPRODUCT(B280:E280,TRANSPOSE('E5-Baseline Model'!#REF!))","v":{"$error":"#REF!"}},{"$f":"'E5-Baseline Model'!#REF!+SUMPRODUCT(B280:E280,TRANSPOSE('E5-Baseline Model'!#REF!))+RAND()-0.5","v":{"$error":"#REF!"}},{"$f":"IF(PSCalculationMethod=CalculationMethodNYES,J280,IF(PSCalculationMethod=CalculationMethodNYES,'E8-Reporting Period Values'!#REF!,\"\"))","v":""},0]
[43015,2.65,1,0,0,true,true,false,{"$f":"'E5-Baseline Model'!#REF!+SUMPRODUCT(B281:E281,TRANSPOSE('E5-Baseline Model'!#REF!))","v":{"$error":"#REF!"}},{"$f":"'E5-Baseline Model'!#REF!+SUMPRODUCT(B281:E281,TRANSPOSE('E5-Baseline Model'!#REF!))+RAND()-0.5","v":{"$error":"#REF!"}},{"$f":"IF(PSCalculationMethod=CalculationMethodNYES,J281,IF(PSCalculationMethod=CalculationMethodNYES,'E8-Reporting Period Values'!#REF!,\"\"))","v":""},0]
[43016,3.35,0,1,0,true,true,false,{"$f":"'E5-Baseline Model'!#REF!+SUMPRODUCT(B282:E282,TRANSPOSE('E5-Baseline Model'!#REF!))","v":{"$error":"#REF!"}},{"$f":"'E5-Baseline Model'!#REF!+SUMPRODUCT(B282:E282,TRANSPOSE('E5-Baseline Model'!#REF!))+RAND()-0.5","v":{"$error":"#REF!"}},{"$f":"IF(PSCalculationMethod=CalculationMethodNYES,J282,IF(PSCalculationMethod=CalculationMethodNYES,'E8-Reporting Period Values'!#REF!,\"\"))","v":""},0]
[43017,4.3,0,0,0,true,true,false,{"$f":"'E5-Baseline Model'!#REF!+SUMPRODUCT(B283:E283,TRANSPOSE('E5-Baseline Model'!#REF!))","v":{"$error":"#REF!"}},{"$f":"'E5-Baseline Model'!#REF!+SUMPRODUCT(B283:E283,TRANSPOSE('E5-Baseline Model'!#REF!))+RAND()-0.5","v":{"$error":"#REF!"}},{"$f":"IF(PSCalculationMethod=CalculationMethodNYES,J283,IF(PSCalculationMethod=CalculationMethodNYES,'E8-Reporting Period Values'!#REF!,\"\"))","v":""},0]
[43018,4.8,0,0,0,true,true,false,{"$f":"'E5-Baseline Model'!#REF!+SUMPRODUCT(B284:E284,TRANSPOSE('E5-Baseline Model'!#REF!))","v":{"$error":"#REF!"}},{"$f":"'E5-Baseline Model'!#REF!+SUMPRODUCT(B284:E284,TRANSPOSE('E5-Baseline Model'!#REF!))+RAND()-0.5","v":{"$error":"#REF!"}},{"$f":"IF(PSCalculationMethod=CalculationMethodNYES,J284,IF(PSCalculationMethod=CalculationMethodNYES,'E8-Reporting Period Values'!#REF!,\"\"))","v":""},0]
[43019,5.0999999999999996,0,0,0,true,true,false,{"$f":"'E5-Baseline Model'!#REF!+SUMPRODUCT(B285:E285,TRANSPOSE('E5-Baseline Model'!#REF!))","v":{"$error":"#REF!"}},{"$f":"'E5-Baseline Model'!#REF!+SUMPRODUCT(B285:E285,TRANSPOSE('E5-Baseline Model'!#REF!))+RAND()-0.5","v":{"$error":"#REF!"}},{"$f":"IF(PSCalculationMethod=CalculationMethodNYES,J285,IF(PSCalculationMethod=CalculationMethodNYES,'E8-Reporting Period Values'!#REF!,\"\"))","v":""},0]
[43020,6.3,0,0,0,true,true,false,{"$f":"'E5-Baseline Model'!#REF!+SUMPRODUCT(B286:E286,TRANSPOSE('E5-Baseline Model'!#REF!))","v":{"$error":"#REF!"}},{"$f":"'E5-Baseline Model'!#REF!+SUMPRODUCT(B286:E286,TRANSPOSE('E5-Baseline Model'!#REF!))+RAND()-0.5","v":{"$error":"#REF!"}},{"$f":"IF(PSCalculationMethod=CalculationMethodNYES,J286,IF(PSCalculationMethod=CalculationMethodNYES,'E8-Reporting Period Values'!#REF!,\"\"))","v":""},0]
[43021,9.35,0,0,0,true,true,false,{"$f":"'E5-Baseline Model'!#REF!+SUMPRODUCT(B287:E287,TRANSPOSE('E5-Baseline Model'!#REF!))","v":{"$error":"#REF!"}},{"$f":"'E5-Baseline Model'!#REF!+SUMPRODUCT(B287:E287,TRANSPOSE('E5-Baseline Model'!#REF!))+RAND()-0.5","v":{"$error":"#REF!"}},{"$f":"IF(PSCalculationMethod=CalculationMethodNYES,J287,IF(PSCalculationMethod=CalculationMethodNYES,'E8-Reporting Period Values'!#REF!,\"\"))","v":""},0]
[43022,8.1,1,0,0,true,true,false,{"$f":"'E5-Baseline Model'!#REF!+SUMPRODUCT(B288:E288,TRANSPOSE('E5-Baseline Model'!#REF!))","v":{"$error":"#REF!"}},{"$f":"'E5-Baseline Model'!#REF!+SUMPRODUCT(B288:E288,TRANSPOSE('E5-Baseline Model'!#REF!))+RAND()-0.5","v":{"$error":"#REF!"}},{"$f":"IF(PSCalculationMethod=CalculationMethodNYES,J288,IF(PSCalculationMethod=CalculationMethodNYES,'E8-Reporting Period Values'!#REF!,\"\"))","v":""},0]
[43023,0,0,1,0,true,true,false,{"$f":"'E5-Baseline Model'!#REF!+SUMPRODUCT(B289:E289,TRANSPOSE('E5-Baseline Model'!#REF!))","v":{"$error":"#REF!"}},{"$f":"'E5-Baseline Model'!#REF!+SUMPRODUCT(B289:E289,TRANSPOSE('E5-Baseline Model'!#REF!))+RAND()-0.5","v":{"$error":"#REF!"}},{"$f":"IF(PSCalculationMethod=CalculationMethodNYES,J289,IF(PSCalculationMethod=CalculationMethodNYES,'E8-Reporting Period Values'!#REF!,\"\"))","v":""},0]
[43024,2.95,0,0,0,true,true,false,{"$f":"'E5-Baseline Model'!#REF!+SUMPRODUCT(B290:E290,TRANSPOSE('E5-Baseline Model'!#REF!))","v":{"$error":"#REF!"}},{"$f":"'E5-Baseline Model'!#REF!+SUMPRODUCT(B290:E290,TRANSPOSE('E5-Baseline Model'!#REF!))+RAND()-0.5","v":{"$error":"#REF!"}},{"$f":"IF(PSCalculationMethod=CalculationMethodNYES,J290,IF(PSCalculationMethod=CalculationMethodNYES,'E8-Reporting Period Values'!#REF!,\"\"))","v":""},0]
[43025,4.4000000000000004,0,0,0,true,true,false,{"$f":"'E5-Baseline Model'!#REF!+SUMPRODUCT(B291:E291,TRANSPOSE('E5-Baseline Model'!#REF!))","v":{"$error":"#REF!"}},{"$f":"'E5-Baseline Model'!#REF!+SUMPRODUCT(B291:E291,TRANSPOSE('E5-Baseline Model'!#REF!))+RAND()-0.5","v":{"$error":"#REF!"}},{"$f":"IF(PSCalculationMethod=CalculationMethodNYES,J291,IF(PSCalculationMethod=CalculationMethodNYES,'E8-Reporting Period Values'!#REF!,\"\"))","v":""},0]
[43026,2.5,0,0,0,true,true,false,{"$f":"'E5-Baseline Model'!#REF!+SUMPRODUCT(B292:E292,TRANSPOSE('E5-Baseline Model'!#REF!))","v":{"$error":"#REF!"}},{"$f":"'E5-Baseline Model'!#REF!+SUMPRODUCT(B292:E292,TRANSPOSE('E5-Baseline Model'!#REF!))+RAND()-0.5","v":{"$error":"#REF!"}},{"$f":"IF(PSCalculationMethod=CalculationMethodNYES,J292,IF(PSCalculationMethod=CalculationMethodNYES,'E8-Reporting Period Values'!#REF!,\"\"))","v":""},0]
[43027,2.6,0,0,0,true,true,false,{"$f":"'E5-Baseline Model'!#REF!+SUMPRODUCT(B293:E293,TRANSPOSE('E5-Baseline Model'!#REF!))","v":{"$error":"#REF!"}},{"$f":"'E5-Baseline Model'!#REF!+SUMPRODUCT(B293:E293,TRANSPOSE('E5-Baseline Model'!#REF!))+RAND()-0.5","v":{"$error":"#REF!"}},{"$f":"IF(PSCalculationMethod=CalculationMethodNYES,J293,IF(PSCalculationMethod=CalculationMethodNYES,'E8-Reporting Period Values'!#REF!,\"\"))","v":""},0]
[43028,3.4,0,0,0,true,true,false,{"$f":"'E5-Baseline Model'!#REF!+SUMPRODUCT(B294:E294,TRANSPOSE('E5-Baseline Model'!#REF!))","v":{"$error":"#REF!"}},{"$f":"'E5-Baseline Model'!#REF!+SUMPRODUCT(B294:E294,TRANSPOSE('E5-Baseline Model'!#REF!))+RAND()-0.5","v":{"$error":"#REF!"}},{"$f":"IF(PSCalculationMethod=CalculationMethodNYES,J294,IF(PSCalculationMethod=CalculationMethodNYES,'E8-Reporting Period Values'!#REF!,\"\"))","v":""},0]
[43029,5.15,1,0,0,true,true,false,{"$f":"'E5-Baseline Model'!#REF!+SUMPRODUCT(B295:E295,TRANSPOSE('E5-Baseline Model'!#REF!))","v":{"$error":"#REF!"}},{"$f":"'E5-Baseline Model'!#REF!+SUMPRODUCT(B295:E295,TRANSPOSE('E5-Baseline Model'!#REF!))+RAND()-0.5","v":{"$error":"#REF!"}},{"$f":"IF(PSCalculationMethod=CalculationMethodNYES,J295,IF(PSCalculationMethod=CalculationMethodNYES,'E8-Reporting Period Values'!#REF!,\"\"))","v":""},0]
[43030,7.5,0,1,0,true,true,false,{"$f":"'E5-Baseline Model'!#REF!+SUMPRODUCT(B296:E296,TRANSPOSE('E5-Baseline Model'!#REF!))","v":{"$error":"#REF!"}},{"$f":"'E5-Baseline Model'!#REF!+SUMPRODUCT(B296:E296,TRANSPOSE('E5-Baseline Model'!#REF!))+RAND()-0.5","v":{"$error":"#REF!"}},{"$f":"IF(PSCalculationMethod=CalculationMethodNYES,J296,IF(PSCalculationMethod=CalculationMethodNYES,'E8-Reporting Period Values'!#REF!,\"\"))","v":""},0]
[43031,0.89999999999999902,0,0,0,true,true,false,{"$f":"'E5-Baseline Model'!#REF!+SUMPRODUCT(B297:E297,TRANSPOSE('E5-Baseline Model'!#REF!))","v":{"$error":"#REF!"}},{"$f":"'E5-Baseline Model'!#REF!+SUMPRODUCT(B297:E297,TRANSPOSE('E5-Baseline Model'!#REF!))+RAND()-0.5","v":{"$error":"#REF!"}},{"$f":"IF(PSCalculationMethod=CalculationMethodNYES,J297,IF(PSCalculationMethod=CalculationMethodNYES,'E8-Reporting Period Values'!#REF!,\"\"))","v":""},0]
[43032,2.75,0,0,0,true,true,false,{"$f":"'E5-Baseline Model'!#REF!+SUMPRODUCT(B298:E298,TRANSPOSE('E5-Baseline Model'!#REF!))","v":{"$error":"#REF!"}},{"$f":"'E5-Baseline Model'!#REF!+SUMPRODUCT(B298:E298,TRANSPOSE('E5-Baseline Model'!#REF!))+RAND()-0.5","v":{"$error":"#REF!"}},{"$f":"IF(PSCalculationMethod=CalculationMethodNYES,J298,IF(PSCalculationMethod=CalculationMethodNYES,'E8-Reporting Period Values'!#REF!,\"\"))","v":""},0]
[43033,5.8,0,0,0,true,true,false,{"$f":"'E5-Baseline Model'!#REF!+SUMPRODUCT(B299:E299,TRANSPOSE('E5-Baseline Model'!#REF!))","v":{"$error":"#REF!"}},{"$f":"'E5-Baseline Model'!#REF!+SUMPRODUCT(B299:E299,TRANSPOSE('E5-Baseline Model'!#REF!))+RAND()-0.5","v":{"$error":"#REF!"}},{"$f":"IF(PSCalculationMethod=CalculationMethodNYES,J299,IF(PSCalculationMethod=CalculationMethodNYES,'E8-Reporting Period Values'!#REF!,\"\"))","v":""},0]
[43034,5.3,0,0,0,true,true,false,{"$f":"'E5-Baseline Model'!#REF!+SUMPRODUCT(B300:E300,TRANSPOSE('E5-Baseline Model'!#REF!))","v":{"$error":"#REF!"}},{"$f":"'E5-Baseline Model'!#REF!+SUMPRODUCT(B300:E300,TRANSPOSE('E5-Baseline Model'!#REF!))+RAND()-0.5","v":{"$error":"#REF!"}},{"$f":"IF(PSCalculationMethod=CalculationMethodNYES,J300,IF(PSCalculationMethod=CalculationMethodNYES,'E8-Reporting Period Values'!#REF!,\"\"))","v":""},0]
[43035,4.9000000000000004,0,0,0,true,true,false,{"$f":"'E5-Baseline Model'!#REF!+SUMPRODUCT(B301:E301,TRANSPOSE('E5-Baseline Model'!#REF!))","v":{"$error":"#REF!"}},{"$f":"'E5-Baseline Model'!#REF!+SUMPRODUCT(B301:E301,TRANSPOSE('E5-Baseline Model'!#REF!))+RAND()-0.5","v":{"$error":"#REF!"}},{"$f":"IF(PSCalculationMethod=CalculationMethodNYES,J301,IF(PSCalculationMethod=CalculationMethodNYES,'E8-Reporting Period Values'!#REF!,\"\"))","v":""},0]
[43036,4.3,1,0,0,true,true,false,{"$f":"'E5-Baseline Model'!#REF!+SUMPRODUCT(B302:E302,TRANSPOSE('E5-Baseline Model'!#REF!))","v":{"$error":"#REF!"}},{"$f":"'E5-Baseline Model'!#REF!+SUMPRODUCT(B302:E302,TRANSPOSE('E5-Baseline Model'!#REF!))+RAND()-0.5","v":{"$error":"#REF!"}},{"$f":"IF(PSCalculationMethod=CalculationMethodNYES,J302,IF(PSCalculationMethod=CalculationMethodNYES,'E8-Reporting Period Values'!#REF!,\"\"))","v":""},0]
[43037,6.3,0,1,0,true,true,false,{"$f":"'E5-Baseline Model'!#REF!+SUMPRODUCT(B303:E303,TRANSPOSE('E5-Baseline Model'!#REF!))","v":{"$error":"#REF!"}},{"$f":"'E5-Baseline Model'!#REF!+SUMPRODUCT(B303:E303,TRANSPOSE('E5-Baseline Model'!#REF!))+RAND()-0.5","v":{"$error":"#REF!"}},{"$f":"IF(PSCalculationMethod=CalculationMethodNYES,J303,IF(PSCalculationMethod=CalculationMethodNYES,'E8-Reporting Period Values'!#REF!,\"\"))","v":""},0]
[43038,8,0,0,0,true,true,false,{"$f":"'E5-Baseline Model'!#REF!+SUMPRODUCT(B304:E304,TRANSPOSE('E5-Baseline Model'!#REF!))","v":{"$error":"#REF!"}},{"$f":"'E5-Baseline Model'!#REF!+SUMPRODUCT(B304:E304,TRANSPOSE('E5-Baseline Model'!#REF!))+RAND()-0.5","v":{"$error":"#REF!"}},{"$f":"IF(PSCalculationMethod=CalculationMethodNYES,J304,IF(PSCalculationMethod=CalculationMethodNYES,'E8-Reporting Period Values'!#REF!,\"\"))","v":""},0]
[43039,5.25,0,0,0,true,true,false,{"$f":"'E5-Baseline Model'!#REF!+SUMPRODUCT(B305:E305,TRANSPOSE('E5-Baseline Model'!#REF!))","v":{"$error":"#REF!"}},{"$f":"'E5-Baseline Model'!#REF!+SUMPRODUCT(B305:E305,TRANSPOSE('E5-Baseline Model'!#REF!))+RAND()-0.5","v":{"$error":"#REF!"}},{"$f":"IF(PSCalculationMethod=CalculationMethodNYES,J305,IF(PSCalculationMethod=CalculationMethodNYES,'E8-Reporting Period Values'!#REF!,\"\"))","v":""},0]
[43040,10.9424991503671,0,0,0,true,true,false,{"$f":"'E5-Baseline Model'!#REF!+SUMPRODUCT(B306:E306,TRANSPOSE('E5-Baseline Model'!#REF!))","v":{"$error":"#REF!"}},{"$f":"'E5-Baseline Model'!#REF!+SUMPRODUCT(B306:E306,TRANSPOSE('E5-Baseline Model'!#REF!))+RAND()-0.5","v":{"$error":"#REF!"}},{"$f":"IF(PSCalculationMethod=CalculationMethodNYES,J306,IF(PSCalculationMethod=CalculationMethodNYES,'E8-Reporting Period Values'!#REF!,\"\"))","v":""},0]
[43041,4.6924991503671096,0,0,0,true,true,false,{"$f":"'E5-Baseline Model'!#REF!+SUMPRODUCT(B307:E307,TRANSPOSE('E5-Baseline Model'!#REF!))","v":{"$error":"#REF!"}},{"$f":"'E5-Baseline Model'!#REF!+SUMPRODUCT(B307:E307,TRANSPOSE('E5-Baseline Model'!#REF!))+RAND()-0.5","v":{"$error":"#REF!"}},{"$f":"IF(PSCalculationMethod=CalculationMethodNYES,J307,IF(PSCalculationMethod=CalculationMethodNYES,'E8-Reporting Period Values'!#REF!,\"\"))","v":""},0]
[43042,4.2424991503670997,0,0,0,true,true,false,{"$f":"'E5-Baseline Model'!#REF!+SUMPRODUCT(B308:E308,TRANSPOSE('E5-Baseline Model'!#REF!))","v":{"$error":"#REF!"}},{"$f":"'E5-Baseline Model'!#REF!+SUMPRODUCT(B308:E308,TRANSPOSE('E5-Baseline Model'!#REF!))+RAND()-0.5","v":{"$error":"#REF!"}},{"$f":"IF(PSCalculationMethod=CalculationMethodNYES,J308,IF(PSCalculationMethod=CalculationMethodNYES,'E8-Reporting Period Values'!#REF!,\"\"))","v":""},0]
[43043,5.9424991503671096,1,0,0,true,true,false,{"$f":"'E5-Baseline Model'!#REF!+SUMPRODUCT(B309:E309,TRANSPOSE('E5-Baseline Model'!#REF!))","v":{"$error":"#REF!"}},{"$f":"'E5-Baseline Model'!#REF!+SUMPRODUCT(B309:E309,TRANSPOSE('E5-Baseline Model'!#REF!))+RAND()-0.5","v":{"$error":"#REF!"}},{"$f":"IF(PSCalculationMethod=CalculationMethodNYES,J309,IF(PSCalculationMethod=CalculationMethodNYES,'E8-Reporting Period Values'!#REF!,\"\"))","v":""},0]
[43044,10.0924991503671,0,1,0,true,true,false,{"$f":"'E5-Baseline Model'!#REF!+SUMPRODUCT(B310:E310,TRANSPOSE('E5-Baseline Model'!#REF!))","v":{"$error":"#REF!"}},{"$f":"'E5-Baseline Model'!#REF!+SUMPRODUCT(B310:E310,TRANSPOSE('E5-Baseline Model'!#REF!))+RAND()-0.5","v":{"$error":"#REF!"}},{"$f":"IF(PSCalculationMethod=CalculationMethodNYES,J310,IF(PSCalculationMethod=CalculationMethodNYES,'E8-Reporting Period Values'!#REF!,\"\"))","v":""},0]
[43045,6.8924991503671,0,0,0,true,true,false,{"$f":"'E5-Baseline Model'!#REF!+SUMPRODUCT(B311:E311,TRANSPOSE('E5-Baseline Model'!#REF!))","v":{"$error":"#REF!"}},{"$f":"'E5-Baseline Model'!#REF!+SUMPRODUCT(B311:E311,TRANSPOSE('E5-Baseline Model'!#REF!))+RAND()-0.5","v":{"$error":"#REF!"}},{"$f":"IF(PSCalculationMethod=CalculationMethodNYES,J311,IF(PSCalculationMethod=CalculationMethodNYES,'E8-Reporting Period Values'!#REF!,\"\"))","v":""},0]
[43046,4.1924991503670999,0,0,0,true,true,false,{"$f":"'E5-Baseline Model'!#REF!+SUMPRODUCT(B312:E312,TRANSPOSE('E5-Baseline Model'!#REF!))","v":{"$error":"#REF!"}},{"$f":"'E5-Baseline Model'!#REF!+SUMPRODUCT(B312:E312,TRANSPOSE('E5-Baseline Model'!#REF!))+RAND()-0.5","v":{"$error":"#REF!"}},{"$f":"IF(PSCalculationMethod=CalculationMethodNYES,J312,IF(PSCalculationMethod=CalculationMethodNYES,'E8-Reporting Period Values'!#REF!,\"\"))","v":""},0]
[43047,4.4924991503670997,0,0,0,true,true,false,{"$f":"'E5-Baseline Model'!#REF!+SUMPRODUCT(B313:E313,TRANSPOSE('E5-Baseline Model'!#REF!))","v":{"$error":"#REF!"}},{"$f":"'E5-Baseline Model'!#REF!+SUMPRODUCT(B313:E313,TRANSPOSE('E5-Baseline Model'!#REF!))+RAND()-0.5","v":{"$error":"#REF!"}},{"$f":"IF(PSCalculationMethod=CalculationMethodNYES,J313,IF(PSCalculationMethod=CalculationMethodNYES,'E8-Reporting Period Values'!#REF!,\"\"))","v":""},0]
[43048,7.4924991503670997,0,0,0,true,true,false,{"$f":"'E5-Baseline Model'!#REF!+SUMPRODUCT(B314:E314,TRANSPOSE('E5-Baseline Model'!#REF!))","v":{"$error":"#REF!"}},{"$f":"'E5-Baseline Model'!#REF!+SUMPRODUCT(B314:E314,TRANSPOSE('E5-Baseline Model'!#REF!))+RAND()-0.5","v":{"$error":"#REF!"}},{"$f":"IF(PSCalculationMethod=CalculationMethodNYES,J314,IF(PSCalculationMethod=CalculationMethodNYES,'E8-Reporting Period Values'!#REF!,\"\"))","v":""},0]
[43049,7.6924991503671096,0,0,0,true,true,false,{"$f":"'E5-Baseline Model'!#REF!+SUMPRODUCT(B315:E315,TRANSPOSE('E5-Baseline Model'!#REF!))","v":{"$error":"#REF!"}},{"$f":"'E5-Baseline Model'!#REF!+SUMPRODUCT(B315:E315,TRANSPOSE('E5-Baseline Model'!#REF!))+RAND()-0.5","v":{"$error":"#REF!"}},{"$f":"IF(PSCalculationMethod=CalculationMethodNYES,J315,IF(PSCalculationMethod=CalculationMethodNYES,'E8-Reporting Period Values'!#REF!,\"\"))","v":""},0]
[43050,8.2924991503670995,1,0,0,true,true,false,{"$f":"'E5-Baseline Model'!#REF!+SUMPRODUCT(B316:E316,TRANSPOSE('E5-Baseline Model'!#REF!))","v":{"$error":"#REF!"}},{"$f":"'E5-Baseline Model'!#REF!+SUMPRODUCT(B316:E316,TRANSPOSE('E5-Baseline Model'!#REF!))+RAND()-0.5","v":{"$error":"#REF!"}},{"$f":"IF(PSCalculationMethod=CalculationMethodNYES,J316,IF(PSCalculationMethod=CalculationMethodNYES,'E8-Reporting Period Values'!#REF!,\"\"))","v":""},0]
[43051,8.9924991503671006,0,1,0,true,true,false,{"$f":"'E5-Baseline Model'!#REF!+SUMPRODUCT(B317:E317,TRANSPOSE('E5-Baseline Model'!#REF!))","v":{"$error":"#REF!"}},{"$f":"'E5-Baseline Model'!#REF!+SUMPRODUCT(B317:E317,TRANSPOSE('E5-Baseline Model'!#REF!))+RAND()-0.5","v":{"$error":"#REF!"}},{"$f":"IF(PSCalculationMethod=CalculationMethodNYES,J317,IF(PSCalculationMethod=CalculationMethodNYES,'E8-Reporting Period Values'!#REF!,\"\"))","v":""},0]
[43052,4.7924991503671004,0,0,0,true,true,false,{"$f":"'E5-Baseline Model'!#REF!+SUMPRODUCT(B318:E318,TRANSPOSE('E5-Baseline Model'!#REF!))","v":{"$error":"#REF!"}},{"$f":"'E5-Baseline Model'!#REF!+SUMPRODUCT(B318:E318,TRANSPOSE('E5-Baseline Model'!#REF!))+RAND()-0.5","v":{"$error":"#REF!"}},{"$f":"IF(PSCalculationMethod=CalculationMethodNYES,J318,IF(PSCalculationMethod=CalculationMethodNYES,'E8-Reporting Period Values'!#REF!,\"\"))","v":""},0]
[43053,3.4424991503670999,0,0,0,true,true,false,{"$f":"'E5-Baseline Model'!#REF!+SUMPRODUCT(B319:E319,TRANSPOSE('E5-Baseline Model'!#REF!))","v":{"$error":"#REF!"}},{"$f":"'E5-Baseline Model'!#REF!+SUMPRODUCT(B319:E319,TRANSPOSE('E5-Baseline Model'!#REF!))+RAND()-0.5","v":{"$error":"#REF!"}},{"$f":"IF(PSCalculationMethod=CalculationMethodNYES,J319,IF(PSCalculationMethod=CalculationMethodNYES,'E8-Reporting Period Values'!#REF!,\"\"))","v":""},0]
[43054,4.1924991503670999,0,0,0,true,true,false,{"$f":"'E5-Baseline Model'!#REF!+SUMPRODUCT(B320:E320,TRANSPOSE('E5-Baseline Model'!#REF!))","v":{"$error":"#REF!"}},{"$f":"'E5-Baseline Model'!#REF!+SUMPRODUCT(B320:E320,TRANSPOSE('E5-Baseline Model'!#REF!))+RAND()-0.5","v":{"$error":"#REF!"}},{"$f":"IF(PSCalculationMethod=CalculationMethodNYES,J320,IF(PSCalculationMethod=CalculationMethodNYES,'E8-Reporting Period Values'!#REF!,\"\"))","v":""},0]
[43055,6.1924991503670999,0,0,0,true,true,false,{"$f":"'E5-Baseline Model'!#REF!+SUMPRODUCT(B321:E321,TRANSPOSE('E5-Baseline Model'!#REF!))","v":{"$error":"#REF!"}},{"$f":"'E5-Baseline Model'!#REF!+SUMPRODUCT(B321:E321,TRANSPOSE('E5-Baseline Model'!#REF!))+RAND()-0.5","v":{"$error":"#REF!"}},{"$f":"IF(PSCalculationMethod=CalculationMethodNYES,J321,IF(PSCalculationMethod=CalculationMethodNYES,'E8-Reporting Period Values'!#REF!,\"\"))","v":""},0]
[43056,13.2924991503671,0,0,0,true,true,{"$f":"IF(PSCalculationMethod=CalculationMethodMAES,F322,IF(PSCalculationMethod=CalculationMethodNYES,AND(F322,G322),FALSE))","v":false},{"$f":"'E5-Baseline Model'!#REF!+SUMPRODUCT(B322:E322,TRANSPOSE('E5-Baseline Model'!#REF!))","v":{"$error":"#REF!"}},{"$f":"'E5-Baseline Model'!#REF!+SUMPRODUCT(B322:E322,TRANSPOSE('E5-Baseline Model'!#REF!))+RAND()-0.5","v":{"$error":"#REF!"}},{"$f":"IF(PSCalculationMethod=CalculationMethodNYES,J322,IF(PSCalculationMethod=CalculationMethodNYES,'E8-Reporting Period Values'!#REF!,\"\"))","v":""},0]
[43057,12.5924991503671,1,0,0,true,true,false,{"$f":"'E5-Baseline Model'!#REF!+SUMPRODUCT(B323:E323,TRANSPOSE('E5-Baseline Model'!#REF!))","v":{"$error":"#REF!"}},{"$f":"'E5-Baseline Model'!#REF!+SUMPRODUCT(B323:E323,TRANSPOSE('E5-Baseline Model'!#REF!))+RAND()-0.5","v":{"$error":"#REF!"}},{"$f":"IF(PSCalculationMethod=CalculationMethodNYES,J323,IF(PSCalculationMethod=CalculationMethodNYES,'E8-Reporting Period Values'!#REF!,\"\"))","v":""},{"$f":"IF(H323,I323-K323,0)","v":0}]
[43058,17.7924991503671,0,1,0,true,true,false,{"$f":"'E5-Baseline Model'!#REF!+SUMPRODUCT(B324:E324,TRANSPOSE('E5-Baseline Model'!#REF!))","v":{"$error":"#REF!"}},{"$f":"'E5-Baseline Model'!#REF!+SUMPRODUCT(B324:E324,TRANSPOSE('E5-Baseline Model'!#REF!))+RAND()-0.5","v":{"$error":"#REF!"}},{"$f":"IF(PSCalculationMethod=CalculationMethodNYES,J324,IF(PSCalculationMethod=CalculationMethodNYES,'E8-Reporting Period Values'!#REF!,\"\"))","v":""},0]
[43059,6.9424991503671096,0,0,0,true,true,false,{"$f":"'E5-Baseline Model'!#REF!+SUMPRODUCT(B325:E325,TRANSPOSE('E5-Baseline Model'!#REF!))","v":{"$error":"#REF!"}},{"$f":"'E5-Baseline Model'!#REF!+SUMPRODUCT(B325:E325,TRANSPOSE('E5-Baseline Model'!#REF!))+RAND()-0.5","v":{"$error":"#REF!"}},{"$f":"IF(PSCalculationMethod=CalculationMethodNYES,J325,IF(PSCalculationMethod=CalculationMethodNYES,'E8-Reporting Period Values'!#REF!,\"\"))","v":""},0]
[43060,6.6924991503670999,0,0,0,true,true,false,{"$f":"'E5-Baseline Model'!#REF!+SUMPRODUCT(B326:E326,TRANSPOSE('E5-Baseline Model'!#REF!))","v":{"$error":"#REF!"}},{"$f":"'E5-Baseline Model'!#REF!+SUMPRODUCT(B326:E326,TRANSPOSE('E5-Baseline Model'!#REF!))+RAND()-0.5","v":{"$error":"#REF!"}},{"$f":"IF(PSCalculationMethod=CalculationMethodNYES,J326,IF(PSCalculationMethod=CalculationMethodNYES,'E8-Reporting Period Values'!#REF!,\"\"))","v":""},0]
[43061,6.6924991503670999,0,0,0,true,true,false,{"$f":"'E5-Baseline Model'!#REF!+SUMPRODUCT(B327:E327,TRANSPOSE('E5-Baseline Model'!#REF!))","v":{"$error":"#REF!"}},{"$f":"'E5-Baseline Model'!#REF!+SUMPRODUCT(B327:E327,TRANSPOSE('E5-Baseline Model'!#REF!))+RAND()-0.5","v":{"$error":"#REF!"}},{"$f":"IF(PSCalculationMethod=CalculationMethodNYES,J327,IF(PSCalculationMethod=CalculationMethodNYES,'E8-Reporting Period Values'!#REF!,\"\"))","v":""},0]
[43062,8.3424991503671002,0,0,0,true,true,false,{"$f":"'E5-Baseline Model'!#REF!+SUMPRODUCT(B328:E328,TRANSPOSE('E5-Baseline Model'!#REF!))","v":{"$error":"#REF!"}},{"$f":"'E5-Baseline Model'!#REF!+SUMPRODUCT(B328:E328,TRANSPOSE('E5-Baseline Model'!#REF!))+RAND()-0.5","v":{"$error":"#REF!"}},{"$f":"IF(PSCalculationMethod=CalculationMethodNYES,J328,IF(PSCalculationMethod=CalculationMethodNYES,'E8-Reporting Period Values'!#REF!,\"\"))","v":""},0]
[43063,11.992499150367101,0,0,0,true,true,false,{"$f":"'E5-Baseline Model'!#REF!+SUMPRODUCT(B329:E329,TRANSPOSE('E5-Baseline Model'!#REF!))","v":{"$error":"#REF!"}},{"$f":"'E5-Baseline Model'!#REF!+SUMPRODUCT(B329:E329,TRANSPOSE('E5-Baseline Model'!#REF!))+RAND()-0.5","v":{"$error":"#REF!"}},{"$f":"IF(PSCalculationMethod=CalculationMethodNYES,J329,IF(PSCalculationMethod=CalculationMethodNYES,'E8-Reporting Period Values'!#REF!,\"\"))","v":""},0]
[43064,16.0424991503671,1,0,0,true,true,false,{"$f":"'E5-Baseline Model'!#REF!+SUMPRODUCT(B330:E330,TRANSPOSE('E5-Baseline Model'!#REF!))","v":{"$error":"#REF!"}},{"$f":"'E5-Baseline Model'!#REF!+SUMPRODUCT(B330:E330,TRANSPOSE('E5-Baseline Model'!#REF!))+RAND()-0.5","v":{"$error":"#REF!"}},{"$f":"IF(PSCalculationMethod=CalculationMethodNYES,J330,IF(PSCalculationMethod=CalculationMethodNYES,'E8-Reporting Period Values'!#REF!,\"\"))","v":""},0]
[43065,6.2924991503671004,0,1,0,true,true,false,{"$f":"'E5-Baseline Model'!#REF!+SUMPRODUCT(B331:E331,TRANSPOSE('E5-Baseline Model'!#REF!))","v":{"$error":"#REF!"}},{"$f":"'E5-Baseline Model'!#REF!+SUMPRODUCT(B331:E331,TRANSPOSE('E5-Baseline Model'!#REF!))+RAND()-0.5","v":{"$error":"#REF!"}},{"$f":"IF(PSCalculationMethod=CalculationMethodNYES,J331,IF(PSCalculationMethod=CalculationMethodNYES,'E8-Reporting Period Values'!#REF!,\"\"))","v":""},0]
[43066,6.6424991503671,0,0,0,true,true,false,{"$f":"'E5-Baseline Model'!#REF!+SUMPRODUCT(B332:E332,TRANSPOSE('E5-Baseline Model'!#REF!))","v":{"$error":"#REF!"}},{"$f":"'E5-Baseline Model'!#REF!+SUMPRODUCT(B332:E332,TRANSPOSE('E5-Baseline Model'!#REF!))+RAND()-0.5","v":{"$error":"#REF!"}},{"$f":"IF(PSCalculationMethod=CalculationMethodNYES,J332,IF(PSCalculationMethod=CalculationMethodNYES,'E8-Reporting Period Values'!#REF!,\"\"))","v":""},0]
[43067,9.8424991503671002,0,0,0,true,true,false,{"$f":"'E5-Baseline Model'!#REF!+SUMPRODUCT(B333:E333,TRANSPOSE('E5-Baseline Model'!#REF!))","v":{"$error":"#REF!"}},{"$f":"'E5-Baseline Model'!#REF!+SUMPRODUCT(B333:E333,TRANSPOSE('E5-Baseline Model'!#REF!))+RAND()-0.5","v":{"$error":"#REF!"}},{"$f":"IF(PSCalculationMethod=CalculationMethodNYES,J333,IF(PSCalculationMethod=CalculationMethodNYES,'E8-Reporting Period Values'!#REF!,\"\"))","v":""},0]
[43068,9.2924991503670995,0,0,0,true,true,false,{"$f":"'E5-Baseline Model'!#REF!+SUMPRODUCT(B334:E334,TRANSPOSE('E5-Baseline Model'!#REF!))","v":{"$error":"#REF!"}},{"$f":"'E5-Baseline Model'!#REF!+SUMPRODUCT(B334:E334,TRANSPOSE('E5-Baseline Model'!#REF!))+RAND()-0.5","v":{"$error":"#REF!"}},{"$f":"IF(PSCalculationMethod=CalculationMethodNYES,J334,IF(PSCalculationMethod=CalculationMethodNYES,'E8-Reporting Period Values'!#REF!,\"\"))","v":""},0]
[43069,12.15,0,0,0,true,true,false,{"$f":"'E5-Baseline Model'!#REF!+SUMPRODUCT(B335:E335,TRANSPOSE('E5-Baseline Model'!#REF!))","v":{"$error":"#REF!"}},{"$f":"'E5-Baseline Model'!#REF!+SUMPRODUCT(B335:E335,TRANSPOSE('E5-Baseline Model'!#REF!))+RAND()-0.5","v":{"$error":"#REF!"}},{"$f":"IF(PSCalculationMethod=CalculationMethodNYES,J335,IF(PSCalculationMethod=CalculationMethodNYES,'E8-Reporting Period Values'!#REF!,\"\"))","v":""},0]
[43070,4.05,0,0,0,true,true,false,{"$f":"'E5-Baseline Model'!#REF!+SUMPRODUCT(B336:E336,TRANSPOSE('E5-Baseline Model'!#REF!))","v":{"$error":"#REF!"}},{"$f":"'E5-Baseline Model'!#REF!+SUMPRODUCT(B336:E336,TRANSPOSE('E5-Baseline Model'!#REF!))+RAND()-0.5","v":{"$error":"#REF!"}},{"$f":"IF(PSCalculationMethod=CalculationMethodNYES,J336,IF(PSCalculationMethod=CalculationMethodNYES,'E8-Reporting Period Values'!#REF!,\"\"))","v":""},0]
[43071,4.9000000000000004,1,0,0,true,true,false,{"$f":"'E5-Baseline Model'!#REF!+SUMPRODUCT(B337:E337,TRANSPOSE('E5-Baseline Model'!#REF!))","v":{"$error":"#REF!"}},{"$f":"'E5-Baseline Model'!#REF!+SUMPRODUCT(B337:E337,TRANSPOSE('E5-Baseline Model'!#REF!))+RAND()-0.5","v":{"$error":"#REF!"}},{"$f":"IF(PSCalculationMethod=CalculationMethodNYES,J337,IF(PSCalculationMethod=CalculationMethodNYES,'E8-Reporting Period Values'!#REF!,\"\"))","v":""},0]
[43072,6.85,0,1,0,true,true,false,{"$f":"'E5-Baseline Model'!#REF!+SUMPRODUCT(B338:E338,TRANSPOSE('E5-Baseline Model'!#REF!))","v":{"$error":"#REF!"}},{"$f":"'E5-Baseline Model'!#REF!+SUMPRODUCT(B338:E338,TRANSPOSE('E5-Baseline Model'!#REF!))+RAND()-0.5","v":{"$error":"#REF!"}},{"$f":"IF(PSCalculationMethod=CalculationMethodNYES,J338,IF(PSCalculationMethod=CalculationMethodNYES,'E8-Reporting Period Values'!#REF!,\"\"))","v":""},0]
[43073,6.8,0,0,0,true,true,false,{"$f":"'E5-Baseline Model'!#REF!+SUMPRODUCT(B339:E339,TRANSPOSE('E5-Baseline Model'!#REF!))","v":{"$error":"#REF!"}},{"$f":"'E5-Baseline Model'!#REF!+SUMPRODUCT(B339:E339,TRANSPOSE('E5-Baseline Model'!#REF!))+RAND()-0.5","v":{"$error":"#REF!"}},{"$f":"IF(PSCalculationMethod=CalculationMethodNYES,J339,IF(PSCalculationMethod=CalculationMethodNYES,'E8-Reporting Period Values'!#REF!,\"\"))","v":""},0]
[43074,8.15,0,0,0,true,true,false,{"$f":"'E5-Baseline Model'!#REF!+SUMPRODUCT(B340:E340,TRANSPOSE('E5-Baseline Model'!#REF!))","v":{"$error":"#REF!"}},{"$f":"'E5-Baseline Model'!#REF!+SUMPRODUCT(B340:E340,TRANSPOSE('E5-Baseline Model'!#REF!))+RAND()-0.5","v":{"$error":"#REF!"}},{"$f":"IF(PSCalculationMethod=CalculationMethodNYES,J340,IF(PSCalculationMethod=CalculationMethodNYES,'E8-Reporting Period Values'!#REF!,\"\"))","v":""},0]
[43075,11.1,0,0,0,true,true,false,{"$f":"'E5-Baseline Model'!#REF!+SUMPRODUCT(B341:E341,TRANSPOSE('E5-Baseline Model'!#REF!))","v":{"$error":"#REF!"}},{"$f":"'E5-Baseline Model'!#REF!+SUMPRODUCT(B341:E341,TRANSPOSE('E5-Baseline Model'!#REF!))+RAND()-0.5","v":{"$error":"#REF!"}},{"$f":"IF(PSCalculationMethod=CalculationMethodNYES,J341,IF(PSCalculationMethod=CalculationMethodNYES,'E8-Reporting Period Values'!#REF!,\"\"))","v":""},0]
[43076,9.85,0,0,0,true,true,false,{"$f":"'E5-Baseline Model'!#REF!+SUMPRODUCT(B342:E342,TRANSPOSE('E5-Baseline Model'!#REF!))","v":{"$error":"#REF!"}},{"$f":"'E5-Baseline Model'!#REF!+SUMPRODUCT(B342:E342,TRANSPOSE('E5-Baseline Model'!#REF!))+RAND()-0.5","v":{"$error":"#REF!"}},{"$f":"IF(PSCalculationMethod=CalculationMethodNYES,J342,IF(PSCalculationMethod=CalculationMethodNYES,'E8-Reporting Period Values'!#REF!,\"\"))","v":""},0]
[43077,7.2,0,0,0,true,true,false,{"$f":"'E5-Baseline Model'!#REF!+SUMPRODUCT(B343:E343,TRANSPOSE('E5-Baseline Model'!#REF!))","v":{"$error":"#REF!"}},{"$f":"'E5-Baseline Model'!#REF!+SUMPRODUCT(B343:E343,TRANSPOSE('E5-Baseline Model'!#REF!))+RAND()-0.5","v":{"$error":"#REF!"}},{"$f":"IF(PSCalculationMethod=CalculationMethodNYES,J343,IF(PSCalculationMethod=CalculationMethodNYES,'E8-Reporting Period Values'!#REF!,\"\"))","v":""},0]
[43078,10,1,0,0,true,true,false,{"$f":"'E5-Baseline Model'!#REF!+SUMPRODUCT(B344:E344,TRANSPOSE('E5-Baseline Model'!#REF!))","v":{"$error":"#REF!"}},{"$f":"'E5-Baseline Model'!#REF!+SUMPRODUCT(B344:E344,TRANSPOSE('E5-Baseline Model'!#REF!))+RAND()-0.5","v":{"$error":"#REF!"}},{"$f":"IF(PSCalculationMethod=CalculationMethodNYES,J344,IF(PSCalculationMethod=CalculationMethodNYES,'E8-Reporting Period Values'!#REF!,\"\"))","v":""},0]
[43079,10.35,0,1,0,true,true,false,{"$f":"'E5-Baseline Model'!#REF!+SUMPRODUCT(B345:E345,TRANSPOSE('E5-Baseline Model'!#REF!))","v":{"$error":"#REF!"}},{"$f":"'E5-Baseline Model'!#REF!+SUMPRODUCT(B345:E345,TRANSPOSE('E5-Baseline Model'!#REF!))+RAND()-0.5","v":{"$error":"#REF!"}},{"$f":"IF(PSCalculationMethod=CalculationMethodNYES,J345,IF(PSCalculationMethod=CalculationMethodNYES,'E8-Reporting Period Values'!#REF!,\"\"))","v":""},0]
[43080,8,0,0,0,true,true,false,{"$f":"'E5-Baseline Model'!#REF!+SUMPRODUCT(B346:E346,TRANSPOSE('E5-Baseline Model'!#REF!))","v":{"$error":"#REF!"}},{"$f":"'E5-Baseline Model'!#REF!+SUMPRODUCT(B346:E346,TRANSPOSE('E5-Baseline Model'!#REF!))+RAND()-0.5","v":{"$error":"#REF!"}},{"$f":"IF(PSCalculationMethod=CalculationMethodNYES,J346,IF(PSCalculationMethod=CalculationMethodNYES,'E8-Reporting Period Values'!#REF!,\"\"))","v":""},0]
[43081,9.85,0,0,0,true,true,false,{"$f":"'E5-Baseline Model'!#REF!+SUMPRODUCT(B347:E347,TRANSPOSE('E5-Baseline Model'!#REF!))","v":{"$error":"#REF!"}},{"$f":"'E5-Baseline Model'!#REF!+SUMPRODUCT(B347:E347,TRANSPOSE('E5-Baseline Model'!#REF!))+RAND()-0.5","v":{"$error":"#REF!"}},{"$f":"IF(PSCalculationMethod=CalculationMethodNYES,J347,IF(PSCalculationMethod=CalculationMethodNYES,'E8-Reporting Period Values'!#REF!,\"\"))","v":""},0]
[43082,8.15,0,0,0,true,true,false,{"$f":"'E5-Baseline Model'!#REF!+SUMPRODUCT(B348:E348,TRANSPOSE('E5-Baseline Model'!#REF!))","v":{"$error":"#REF!"}},{"$f":"'E5-Baseline Model'!#REF!+SUMPRODUCT(B348:E348,TRANSPOSE('E5-Baseline Model'!#REF!))+RAND()-0.5","v":{"$error":"#REF!"}},{"$f":"IF(PSCalculationMethod=CalculationMethodNYES,J348,IF(PSCalculationMethod=CalculationMethodNYES,'E8-Reporting Period Values'!#REF!,\"\"))","v":""},0]
[43083,7.8,0,0,0,true,true,false,{"$f":"'E5-Baseline Model'!#REF!+SUMPRODUCT(B349:E349,TRANSPOSE('E5-Baseline Model'!#REF!))","v":{"$error":"#REF!"}},{"$f":"'E5-Baseline Model'!#REF!+SUMPRODUCT(B349:E349,TRANSPOSE('E5-Baseline Model'!#REF!))+RAND()-0.5","v":{"$error":"#REF!"}},{"$f":"IF(PSCalculationMethod=CalculationMethodNYES,J349,IF(PSCalculationMethod=CalculationMethodNYES,'E8-Reporting Period Values'!#REF!,\"\"))","v":""},0]
[43084,10.1,0,0,0,true,true,false,{"$f":"'E5-Baseline Model'!#REF!+SUMPRODUCT(B350:E350,TRANSPOSE('E5-Baseline Model'!#REF!))","v":{"$error":"#REF!"}},{"$f":"'E5-Baseline Model'!#REF!+SUMPRODUCT(B350:E350,TRANSPOSE('E5-Baseline Model'!#REF!))+RAND()-0.5","v":{"$error":"#REF!"}},{"$f":"IF(PSCalculationMethod=CalculationMethodNYES,J350,IF(PSCalculationMethod=CalculationMethodNYES,'E8-Reporting Period Values'!#REF!,\"\"))","v":""},0]
[43085,12.75,1,0,0,true,true,false,{"$f":"'E5-Baseline Model'!#REF!+SUMPRODUCT(B351:E351,TRANSPOSE('E5-Baseline Model'!#REF!))","v":{"$error":"#REF!"}},{"$f":"'E5-Baseline Model'!#REF!+SUMPRODUCT(B351:E351,TRANSPOSE('E5-Baseline Model'!#REF!))+RAND()-0.5","v":{"$error":"#REF!"}},{"$f":"IF(PSCalculationMethod=CalculationMethodNYES,J351,IF(PSCalculationMethod=CalculationMethodNYES,'E8-Reporting Period Values'!#REF!,\"\"))","v":""},0]
[43086,6.8,0,1,0,true,true,false,{"$f":"'E5-Baseline Model'!#REF!+SUMPRODUCT(B352:E352,TRANSPOSE('E5-Baseline Model'!#REF!))","v":{"$error":"#REF!"}},{"$f":"'E5-Baseline Model'!#REF!+SUMPRODUCT(B352:E352,TRANSPOSE('E5-Baseline Model'!#REF!))+RAND()-0.5","v":{"$error":"#REF!"}},{"$f":"IF(PSCalculationMethod=CalculationMethodNYES,J352,IF(PSCalculationMethod=CalculationMethodNYES,'E8-Reporting Period Values'!#REF!,\"\"))","v":""},0]
[43087,8.9,0,0,0,true,true,false,{"$f":"'E5-Baseline Model'!#REF!+SUMPRODUCT(B353:E353,TRANSPOSE('E5-Baseline Model'!#REF!))","v":{"$error":"#REF!"}},{"$f":"'E5-Baseline Model'!#REF!+SUMPRODUCT(B353:E353,TRANSPOSE('E5-Baseline Model'!#REF!))+RAND()-0.5","v":{"$error":"#REF!"}},{"$f":"IF(PSCalculationMethod=CalculationMethodNYES,J353,IF(PSCalculationMethod=CalculationMethodNYES,'E8-Reporting Period Values'!#REF!,\"\"))","v":""},0]
[43088,7.05,0,0,0,true,true,false,{"$f":"'E5-Baseline Model'!#REF!+SUMPRODUCT(B354:E354,TRANSPOSE('E5-Baseline Model'!#REF!))","v":{"$error":"#REF!"}},{"$f":"'E5-Baseline Model'!#REF!+SUMPRODUCT(B354:E354,TRANSPOSE('E5-Baseline Model'!#REF!))+RAND()-0.5","v":{"$error":"#REF!"}},{"$f":"IF(PSCalculationMethod=CalculationMethodNYES,J354,IF(PSCalculationMethod=CalculationMethodNYES,'E8-Reporting Period Values'!#REF!,\"\"))","v":""},0]
[43089,8.4,0,0,0,true,true,false,{"$f":"'E5-Baseline Model'!#REF!+SUMPRODUCT(B355:E355,TRANSPOSE('E5-Baseline Model'!#REF!))","v":{"$error":"#REF!"}},{"$f":"'E5-Baseline Model'!#REF!+SUMPRODUCT(B355:E355,TRANSPOSE('E5-Baseline Model'!#REF!))+RAND()-0.5","v":{"$error":"#REF!"}},{"$f":"IF(PSCalculationMethod=CalculationMethodNYES,J355,IF(PSCalculationMethod=CalculationMethodNYES,'E8-Reporting Period Values'!#REF!,\"\"))","v":""},0]
[43090,10.55,0,0,0,true,true,false,{"$f":"'E5-Baseline Model'!#REF!+SUMPRODUCT(B356:E356,TRANSPOSE('E5-Baseline Model'!#REF!))","v":{"$error":"#REF!"}},{"$f":"'E5-Baseline Model'!#REF!+SUMPRODUCT(B356:E356,TRANSPOSE('E5-Baseline Model'!#REF!))+RAND()-0.5","v":{"$error":"#REF!"}},{"$f":"IF(PSCalculationMethod=CalculationMethodNYES,J356,IF(PSCalculationMethod=CalculationMethodNYES,'E8-Reporting Period Values'!#REF!,\"\"))","v":""},0]
[43091,11.2477983007501,0,0,0,true,true,false,{"$f":"'E5-Baseline Model'!#REF!+SUMPRODUCT(B357:E357,TRANSPOSE('E5-Baseline Model'!#REF!))","v":{"$error":"#REF!"}},{"$f":"'E5-Baseline Model'!#REF!+SUMPRODUCT(B357:E357,TRANSPOSE('E5-Baseline Model'!#REF!))+RAND()-0.5","v":{"$error":"#REF!"}},{"$f":"IF(PSCalculationMethod=CalculationMethodNYES,J357,IF(PSCalculationMethod=CalculationMethodNYES,'E8-Reporting Period Values'!#REF!,\"\"))","v":""},0]
[43092,12.8424991503671,1,0,0,true,true,false,{"$f":"'E5-Baseline Model'!#REF!+SUMPRODUCT(B358:E358,TRANSPOSE('E5-Baseline Model'!#REF!))","v":{"$error":"#REF!"}},{"$f":"'E5-Baseline Model'!#REF!+SUMPRODUCT(B358:E358,TRANSPOSE('E5-Baseline Model'!#REF!))+RAND()-0.5","v":{"$error":"#REF!"}},{"$f":"IF(PSCalculationMethod=CalculationMethodNYES,J358,IF(PSCalculationMethod=CalculationMethodNYES,'E8-Reporting Period Values'!#REF!,\"\"))","v":""},0]
[43093,10.6924991503671,0,1,0,true,true,false,{"$f":"'E5-Baseline Model'!#REF!+SUMPRODUCT(B359:E359,TRANSPOSE('E5-Baseline Model'!#REF!))","v":{"$error":"#REF!"}},{"$f":"'E5-Baseline Model'!#REF!+SUMPRODUCT(B359:E359,TRANSPOSE('E5-Baseline Model'!#REF!))+RAND()-0.5","v":{"$error":"#REF!"}},{"$f":"IF(PSCalculationMethod=CalculationMethodNYES,J359,IF(PSCalculationMethod=CalculationMethodNYES,'E8-Reporting Period Values'!#REF!,\"\"))","v":""},0]
[43094,4.95,0,0,1,true,true,false,{"$f":"'E5-Baseline Model'!#REF!+SUMPRODUCT(B360:E360,TRANSPOSE('E5-Baseline Model'!#REF!))","v":{"$error":"#REF!"}},{"$f":"'E5-Baseline Model'!#REF!+SUMPRODUCT(B360:E360,TRANSPOSE('E5-Baseline Model'!#REF!))+RAND()-0.5","v":{"$error":"#REF!"}},{"$f":"IF(PSCalculationMethod=CalculationMethodNYES,J360,IF(PSCalculationMethod=CalculationMethodNYES,'E8-Reporting Period Values'!#REF!,\"\"))","v":""},0]
[43095,6.3,0,0,1,true,true,false,{"$f":"'E5-Baseline Model'!#REF!+SUMPRODUCT(B361:E361,TRANSPOSE('E5-Baseline Model'!#REF!))","v":{"$error":"#REF!"}},{"$f":"'E5-Baseline Model'!#REF!+SUMPRODUCT(B361:E361,TRANSPOSE('E5-Baseline Model'!#REF!))+RAND()-0.5","v":{"$error":"#REF!"}},{"$f":"IF(PSCalculationMethod=CalculationMethodNYES,J361,IF(PSCalculationMethod=CalculationMethodNYES,'E8-Reporting Period Values'!#REF!,\"\"))","v":""},0]
[43096,7.6,0,0,0,true,true,false,{"$f":"'E5-Baseline Model'!#REF!+SUMPRODUCT(B362:E362,TRANSPOSE('E5-Baseline Model'!#REF!))","v":{"$error":"#REF!"}},{"$f":"'E5-Baseline Model'!#REF!+SUMPRODUCT(B362:E362,TRANSPOSE('E5-Baseline Model'!#REF!))+RAND()-0.5","v":{"$error":"#REF!"}},{"$f":"IF(PSCalculationMethod=CalculationMethodNYES,J362,IF(PSCalculationMethod=CalculationMethodNYES,'E8-Reporting Period Values'!#REF!,\"\"))","v":""},0]
[43097,8.9499999999999993,0,0,0,true,true,false,{"$f":"'E5-Baseline Model'!#REF!+SUMPRODUCT(B363:E363,TRANSPOSE('E5-Baseline Model'!#REF!))","v":{"$error":"#REF!"}},{"$f":"'E5-Baseline Model'!#REF!+SUMPRODUCT(B363:E363,TRANSPOSE('E5-Baseline Model'!#REF!))+RAND()-0.5","v":{"$error":"#REF!"}},{"$f":"IF(PSCalculationMethod=CalculationMethodNYES,J363,IF(PSCalculationMethod=CalculationMethodNYES,'E8-Reporting Period Values'!#REF!,\"\"))","v":""},0]
[43098,8.5,0,0,0,true,true,false,{"$f":"'E5-Baseline Model'!#REF!+SUMPRODUCT(B364:E364,TRANSPOSE('E5-Baseline Model'!#REF!))","v":{"$error":"#REF!"}},{"$f":"'E5-Baseline Model'!#REF!+SUMPRODUCT(B364:E364,TRANSPOSE('E5-Baseline Model'!#REF!))+RAND()-0.5","v":{"$error":"#REF!"}},{"$f":"IF(PSCalculationMethod=CalculationMethodNYES,J364,IF(PSCalculationMethod=CalculationMethodNYES,'E8-Reporting Period Values'!#REF!,\"\"))","v":""},0]
[43099,8.4499999999999993,1,0,0,true,true,false,{"$f":"'E5-Baseline Model'!#REF!+SUMPRODUCT(B365:E365,TRANSPOSE('E5-Baseline Model'!#REF!))","v":{"$error":"#REF!"}},{"$f":"'E5-Baseline Model'!#REF!+SUMPRODUCT(B365:E365,TRANSPOSE('E5-Baseline Model'!#REF!))+RAND()-0.5","v":{"$error":"#REF!"}},{"$f":"IF(PSCalculationMethod=CalculationMethodNYES,J365,IF(PSCalculationMethod=CalculationMethodNYES,'E8-Reporting Period Values'!#REF!,\"\"))","v":""},0]
[43100,11.1,0,1,0,true,true,false,{"$f":"'E5-Baseline Model'!#REF!+SUMPRODUCT(B366:E366,TRANSPOSE('E5-Baseline Model'!#REF!))","v":{"$error":"#REF!"}},{"$f":"'E5-Baseline Model'!#REF!+SUMPRODUCT(B366:E366,TRANSPOSE('E5-Baseline Model'!#REF!))+RAND()-0.5","v":{"$error":"#REF!"}},{"$f":"IF(PSCalculationMethod=CalculationMethodNYES,J366,IF(PSCalculationMethod=CalculationMethodNYES,'E8-Reporting Period Values'!#REF!,\"\"))","v":""},0]

{"sheet":"N12-Accuracy","index":70,"n_rows":28,"n_cols":8,"rows_kept":28,"cut":false,"hidden":true,"merged":[[8,1,8,2],[8,3,8,4],[3,1,3,12],[5,1,5,2],[5,3,5,4],[6,1,6,2],[6,3,6,4],[9,1,9,2],[9,3,9,4],[10,1,10,2],[10,3,10,4],[11,1,11,2],[11,3,11,4],[21,1,21,3],[21,4,21,6],[21,7,21,9],[12,1,12,2],[12,3,12,4],[13,1,13,2],[13,3,13,4],[14,1,14,2],[14,3,14,4],[15,1,15,2],[15,3,15,4],[20,1,20,3],[20,4,20,6],[20,7,20,9],[22,1,22,3],[22,4,22,6],[22,7,22,9],[23,1,23,3],[23,4,23,6],[23,7,23,9],[24,1,24,3],[24,4,24,6],[24,7,24,9],[25,1,25,3],[25,4,25,6],[25,7,25,9],[26,1,26,3],[26,4,26,6],[26,7,26,9],[27,1,27,3],[27,4,27,6],[27,7,27,9]]}
[null,null,"N12 - Accuracy Factor"]
[]
[{"$f":"LEFT(C1,1)","v":"N"},{"$f":"VLOOKUP(A3,EnergySourceLookup,2,FALSE)","v":"Renewables"},{"$f":"VLOOKUP(A3,EnergySourceLookup,3,FALSE)","v":"GJ"}]
[null,"Assign Accuracy Factor"]
[]
[null,"Item Name",null,"Item Value"]
[null,{"$f":"IF(PSCalculationMethod=CalculationMethodMAES,\"Measured Annual Energy Savings (\"&$C$3&\")\",IF(PSCalculationMethod=CalculationMethodNYES,\"Normal Year Renewables Savings (\"&$C$3&\")\",\"\"))","v":""},null,{"$f":"IF(PSCalculationMethod=CalculationMethodMAES,N10MeasuredAnnualEnergySavings,IF(PSCalculationMethod=CalculationMethodNYES,N11NormalYearSavings,\"\"))","v":""}]
[]
[null,"Item",null,"Value"]
[null,"Baseline Model Standard Error",null,{"$f":"IFERROR('N5-Baseline Model'!D112,\"\")","v":0}]
[null,"Operating Model Standard Error",null,{"$f":"IFERROR('N7-Operating Model'!D91,\"\")","v":0}]
[null,"Number of measurement periods in one year",null,{"$f":"IFERROR(VLOOKUP(N1ModelFrequency, FrequencyLookup, 2, FALSE),\"\")","v":""}]
[null,"Standard error of annual savings",null,{"$f":"IFERROR(SQRT((D12*IF(ISNUMBER(D10),D10,0)^2)+(D12*IF(ISNUMBER(D11),D11,0)^2)),\"\")","v":""}]
[null,"Absolute precision of annual savings",null,{"$f":"IFERROR(D13*MAX('N7-Operating Model'!D92,'N5-Baseline Model'!D92),\"\")","v":""}]
[null,"Relative precision of annual savings",null,{"$f":"IFERROR(D14/D7,0)","v":0}]
[null,"Assigned Accuracy Factor",null,{"$f":"IFERROR(GetAccuracyFactor($A$3,D15),\"\")","v":1}]
[]
[]
[]
[]
[null,"Relative error of energy savings estimate",null,null,"Accuracy Factor for an average energy model",null,null,"Accuracy Factor for all other energy models"]
[null,"< 25%",null,null,{"$f":"Lookups!X3","v":0.9},null,null,{"$f":"Lookups!Y3","v":1}]
[null,"25% - 50%",null,null,{"$f":"Lookups!X4","v":0.8},null,null,{"$f":"Lookups!Y4","v":0.9}]
[null,"50% - 75%",null,null,{"$f":"Lookups!X5","v":0.7},null,null,{"$f":"Lookups!Y5","v":0.8}]
[null,"75% - 100%",null,null,{"$f":"Lookups!X6","v":0.5},null,null,{"$f":"Lookups!Y6","v":0.6}]
[null,"100% - 150%",null,null,{"$f":"Lookups!X7","v":0.3},null,null,{"$f":"Lookups!Y7","v":0.4}]
[null,"150% - 200%",null,null,{"$f":"Lookups!X8","v":0.1},null,null,{"$f":"Lookups!Y8","v":0.2}]
[null,"> 200%",null,null,0,null,null,0]

{"sheet":"N13-Decay","index":71,"n_rows":24,"n_cols":5,"rows_kept":24,"cut":false,"hidden":true,"merged":[[10,1,10,6],[3,1,3,12],[6,1,6,3],[6,4,6,6],[8,1,8,3],[8,4,8,6],[11,1,11,3],[11,4,11,6],[12,1,12,3],[12,4,12,6],[13,1,13,3],[13,4,13,6],[14,1,14,3],[14,4,14,6],[15,1,15,3],[15,4,15,6],[16,1,16,3],[16,4,16,6],[17,1,17,3],[17,4,17,6],[18,1,18,3],[18,4,18,6],[19,1,19,3],[19,4,19,6],[20,1,20,3],[20,4,20,6],[21,1,21,3],[21,4,21,6],[23,1,23,6]]}
[null,null,"N13 - Decay Factor"]
[]
[{"$f":"LEFT(C1,1)","v":"N"},{"$f":"VLOOKUP(A3,EnergySourceLookup,2,FALSE)","v":"Renewables"},{"$f":"VLOOKUP(A3,EnergySourceLookup,3,FALSE)","v":"GJ"}]
[null,"Decay factor for forward creation"]
[]
[]
[{"$f":"AND(PSCalculationMethod=CalculationMethodNYES,N13DecayModelType=\"\")","v":false},"Model Type:"]
[]
[null,"Project lifetime (years):",null,null,10]
[]
[null,"Decay Factors Year by Year:"]
[null,"Year",null,null,"Decay Factor"]
[null,1,null,null,1]
[null,2,null,null,0.8]
[null,3,null,null,0.64]
[null,4,null,null,0.51]
[null,5,null,null,0.41]
[null,6,null,null,0.33]
[null,7,null,null,0.26]
[null,8,null,null,0.21]
[null,9,null,null,0.17]
[null,10,null,null,0.13]
[]
[null,"For forward creation method (NYES), you must choose a persistence model type."]

{"sheet":"N14-Energy Savings (MAES)","index":72,"n_rows":35,"n_cols":7,"rows_kept":35,"cut":false,"hidden":true,"merged":[[3,1,3,12],[5,1,5,3],[6,2,6,12],[8,1,8,12],[10,2,10,3],[10,4,10,5],[10,6,10,7],[11,2,11,3],[11,4,11,5],[11,6,11,7],[12,2,12,3],[12,4,12,5],[12,6,12,7],[13,2,13,3],[13,4,13,5],[13,6,13,7],[14,2,14,3],[14,4,14,5],[14,6,14,7],[15,2,15,3],[15,4,15,5],[15,6,15,7],[16,2,16,3],[16,4,16,5],[16,6,16,7],[17,2,17,3],[17,4,17,5],[17,6,17,7],[18,2,18,3],[18,4,18,5],[18,6,18,7],[19,2,19,3],[19,4,19,5],[19,6,19,7],[20,2,20,3],[20,4,20,5],[20,6,20,7],[21,2,21,5],[21,6,21,7],[24,1,24,14],[26,1,26,12],[28,2,28,5],[28,6,28,7],[29,2,29,5],[29,6,29,7],[30,2,30,5],[30,6,30,7],[31,2,31,5],[31,6,31,7],[32,2,32,5],[32,6,32,7],[33,2,33,5],[33,6,33,7],[34,2,34,5],[34,6,34,7]]}
[null,null,"N14 - Energy Savings (Annual creation)"]
[]
[{"$f":"LEFT(C1,1)","v":"N"},{"$f":"VLOOKUP(A3,EnergySourceLookup,2,FALSE)","v":"Renewables"},{"$f":"VLOOKUP(A3,EnergySourceLookup,3,FALSE)","v":"GJ"}]
[null,"Calculate Energy Savings based on Measured Annual Energy Savings"]
[]
[null,"Equation 3"]
[null,null,"energy savings = measured annual energy savings x AF ± previous energy savings"]
[]
[null,"Previous Energy Savings"]
[]
[null,"Reporting Year","Reporting\nYear From",null,"Reporting\nYear To",null,{"$f":"\"Previous Energy Savings (\"&C3& \")\"","v":"Previous Energy Savings (GJ)"}]
[null,1,{"$f":"'0-Project Summary'!D50","v":""},null,{"$f":"'0-Project Summary'!F50","v":""}]
[null,2,{"$f":"'0-Project Summary'!D51","v":""},null,{"$f":"'0-Project Summary'!F51","v":""}]
[null,3,{"$f":"'0-Project Summary'!D52","v":""},null,{"$f":"'0-Project Summary'!F52","v":""}]
[null,4,{"$f":"'0-Project Summary'!D53","v":""},null,{"$f":"'0-Project Summary'!F53","v":""}]
[null,5,{"$f":"'0-Project Summary'!D54","v":""},null,{"$f":"'0-Project Summary'!F54","v":""}]
[null,6,{"$f":"'0-Project Summary'!D55","v":""},null,{"$f":"'0-Project Summary'!F55","v":""}]
[null,7,{"$f":"'0-Project Summary'!D56","v":""},null,{"$f":"'0-Project Summary'!F56","v":""}]
[null,8,{"$f":"'0-Project Summary'!D57","v":""},null,{"$f":"'0-Project Summary'!F57","v":""}]
[null,9,{"$f":"'0-Project Summary'!D58","v":""},null,{"$f":"'0-Project Summary'!F58","v":""}]
[null,10,{"$f":"'0-Project Summary'!D59","v":""},null,{"$f":"'0-Project Summary'!F59","v":""}]
[null,null,{"$f":"\"Total Previous Energy Savings (\"&$C$3& \")\"","v":"Total Previous Energy Savings (GJ)"},null,null,null,{"$f":"SUM($G$10:$G$13)","v":0}]
[]
[]
[null,"Note: please input the Previous Energy Savings in the table above. \n\nPrevious energy savings is the total amount of energy savings calculated using this equation for the previous reporting period (if any), including negative energy savings (if any).\n\nThese savings will need to be accumulated over all previous reporting periods."]
[]
[null,"Energy Savings"]
[]
[null,null,"Reporting Year",null,null,null,{"$f":"'0-Project Summary'!$E$47","v":0}]
[null,null,"Reporting Year From",null,null,null,{"$f":"IFERROR(VLOOKUP(G29,$B$10:$F$19,2,FALSE),0)","v":"00:00:00"}]
[null,null,"Reporting Year To",null,null,null,{"$f":"IFERROR(VLOOKUP(G29,$B$10:$F$19,4,FALSE),0)","v":"00:00:00"}]
[null,null,{"$f":"\"Measured Annual Energy Savings (\"&$C$3& \")\"","v":"Measured Annual Energy Savings (GJ)"},null,null,null,{"$f":"N10MeasuredAnnualEnergySavings","v":0}]
[null,null,"Accuracy Factor (AF)",null,null,null,{"$f":"'N12-Accuracy'!D16","v":1}]
[null,null,{"$f":"C22","v":"Total Previous Energy Savings (GJ)"},null,null,null,{"$f":"N14PreviousEnergySavings","v":0}]
[null,null,"Energy Savings (MAES):",null,null,null,{"$f":"IFERROR(G32*G33+G34,0)","v":0}]

{"sheet":"N15-Energy Savings (NYES)","index":73,"n_rows":23,"n_cols":14,"rows_kept":23,"cut":false,"hidden":true,"merged":[[3,1,3,12],[7,1,7,3],[8,2,8,10],[10,1,11,2],[10,3,11,4],[10,5,11,6],[10,7,11,8],[10,9,11,10],[10,11,11,12],[10,13,11,14],[12,1,12,2],[12,3,12,4],[12,5,12,6],[12,7,12,8],[12,9,12,10],[12,11,12,12],[12,13,12,14],[13,13,13,14],[14,1,14,2],[14,3,14,4],[14,5,14,6],[14,7,14,8],[14,9,14,10],[14,11,14,12],[14,13,14,14],[13,1,13,2],[13,3,13,4],[13,5,13,6],[13,7,13,8],[13,9,13,10],[13,11,13,12],[15,13,15,14],[16,1,16,2],[16,3,16,4],[16,5,16,6],[16,7,16,8],[16,9,16,10],[16,11,16,12],[16,13,16,14],[15,1,15,2],[15,3,15,4],[15,5,15,6],[15,7,15,8],[15,9,15,10],[15,11,15,12],[17,13,17,14],[18,1,18,2],[18,3,18,4],[18,5,18,6],[18,7,18,8],[18,9,18,10],[18,11,18,12],[18,13,18,14],[17,1,17,2],[17,3,17,4],[17,5,17,6],[17,7,17,8],[17,9,17,10],[17,11,17,12],[19,13,19,14],[20,1,20,2],[20,3,20,4],[20,5,20,6],[20,7,20,8],[20,9,20,10],[20,11,20,12],[20,13,20,14],[19,1,19,2],[19,3,19,4],[19,5,19,6],[19,7,19,8],[19,9,19,10],[19,11,19,12],[21,13,21,14],[22,11,22,12],[22,13,22,14],[21,1,21,2],[21,3,21,4],[21,5,21,6],[21,7,21,8],[21,9,21,10],[21,11,21,12]]}
[null,null,"N15 - Energy Savings (Forward creation)"]
[]
[{"$f":"LEFT(C1,1)","v":"N"},{"$f":"VLOOKUP(A3,EnergySourceLookup,2,FALSE)","v":"Renewables"},{"$f":"VLOOKUP(A3,EnergySourceLookup,3,FALSE)","v":"GJ"}]
[null,{"$f":"\"Calculate Energy Savings for \" &VLOOKUP(LEFT($C$1,1),EnergySourceLookup,2,FALSE)","v":"Calculate Energy Savings for Renewables"}]
[]
[]
[]
[null,"Equation 2"]
[null,null,"energy savings = Σi (normal year savings x AF x DFi )"]
[]
[null,"Reporting Period (Year)",null,"Period From",null,"Period To",null,{"$f":"\"Normal Year Energy Savings (\" &$C$3& \")\"","v":"Normal Year Energy Savings (GJ)"},null,"Accuracy Factor (AF)",null,"Decay Factor (DFi)",null,{"$f":"\"Annual Energy Savings (\" &$C$3& \")\"","v":"Annual Energy Savings (GJ)"}]
[]
[null,{"$f":"'0-Project Summary'!B50","v":1},null,{"$f":"'0-Project Summary'!D50","v":""},null,{"$f":"'0-Project Summary'!F50","v":""},null,{"$f":"IFERROR(N11NormalYearSavings,0)","v":0},null,{"$f":"N12AccuracyFactor","v":1},null,{"$f":"'N13-Decay'!E13","v":1},null,{"$f":"IFERROR(H13*IF(H13<0,1,L13)*J13,0)","v":0}]
[null,{"$f":"'0-Project Summary'!B51","v":2},null,{"$f":"'0-Project Summary'!D51","v":""},null,{"$f":"'0-Project Summary'!F51","v":""},null,0,null,1,null,{"$f":"'N13-Decay'!E14","v":0.8},null,{"$f":"IFERROR(H14*IF(H14<0,1,L14)*E12AccuracyFactor,0)","v":0}]
[null,{"$f":"'0-Project Summary'!B52","v":3},null,{"$f":"'0-Project Summary'!D52","v":""},null,{"$f":"'0-Project Summary'!F52","v":""},null,0,null,1,null,{"$f":"'N13-Decay'!E15","v":0.64},null,0]
[null,{"$f":"'0-Project Summary'!B53","v":4},null,{"$f":"'0-Project Summary'!D53","v":""},null,{"$f":"'0-Project Summary'!F53","v":""},null,0,null,1,null,{"$f":"'N13-Decay'!E16","v":0.51},null,0]
[null,{"$f":"'0-Project Summary'!B54","v":5},null,{"$f":"'0-Project Summary'!D54","v":""},null,{"$f":"'0-Project Summary'!F54","v":""},null,0,null,1,null,{"$f":"'N13-Decay'!E17","v":0.41},null,0]
[null,{"$f":"'0-Project Summary'!B55","v":6},null,{"$f":"'0-Project Summary'!D55","v":""},null,{"$f":"'0-Project Summary'!F55","v":""},null,0,null,1,null,{"$f":"'N13-Decay'!E18","v":0.33},null,0]
[null,{"$f":"'0-Project Summary'!B56","v":7},null,{"$f":"'0-Project Summary'!D56","v":""},null,{"$f":"'0-Project Summary'!F56","v":""},null,0,null,1,null,{"$f":"'N13-Decay'!E19","v":0.26},null,0]
[null,{"$f":"'0-Project Summary'!B57","v":8},null,{"$f":"'0-Project Summary'!D57","v":""},null,{"$f":"'0-Project Summary'!F57","v":""},null,0,null,1,null,{"$f":"'N13-Decay'!E20","v":0.21},null,0]
[null,{"$f":"'0-Project Summary'!B58","v":9},null,{"$f":"'0-Project Summary'!D58","v":""},null,{"$f":"'0-Project Summary'!F58","v":""},null,0,null,1,null,{"$f":"'N13-Decay'!E21","v":0.17},null,0]
[null,{"$f":"'0-Project Summary'!B59","v":10},null,{"$f":"'0-Project Summary'!D59","v":""},null,{"$f":"'0-Project Summary'!F59","v":""},null,0,null,1,null,{"$f":"'N13-Decay'!E22","v":0.13},null,0]
[null,null,null,null,null,null,null,null,null,null,null,"Energy Savings:",null,{"$f":"SUM(N13:N22)","v":0}]

{"sheet":"NWorkarea-Normal Year","index":74,"n_rows":7,"n_cols":7,"rows_kept":7,"cut":false,"hidden":true,"merged":[[3,1,3,12]]}
[null,null,"Normal Year Work Area"]
[]
[]
[null,"NB: To reference a cell on this sheet, use the formula and name “='NormalYearWorkArea'!...”"]
[]
[]
[null,"Date","CDD","isSaturday","isSunday","isPublicHoliday","hrsElecConnected"]

{"sheet":"NWorkarea-Baseline","index":75,"n_rows":6,"n_cols":8,"rows_kept":6,"cut":false,"hidden":true,"merged":[[3,1,3,12]]}
[null,null,"Baseline Work Area"]
[]
[]
[null,"NB: To reference a cell on this sheet, use the formula and name “='BaselineWorkArea'!...”"]
[]
[null,"Date","Energy","CDD","isSaturday","isSunday","isPublicHoliday","hrsElecConnected"]

{"sheet":"NWorkarea-Operating","index":76,"n_rows":4,"n_cols":3,"rows_kept":4,"cut":false,"hidden":true,"merged":[[3,1,3,12]]}
[null,null,"Operating Work Area"]
[]
[]
[null,"NB: To reference a cell on this sheet, use the formula and name “='OperatingWorkArea'!...”"]

{"sheet":"NWorkarea-Reporting Year","index":77,"n_rows":4,"n_cols":3,"rows_kept":4,"cut":false,"hidden":true,"merged":[[3,1,3,12]]}
[null,null,"Operating Work Area"]
[]
[]
[null,"NB: To reference a cell on this sheet, use the formula and name “='OperatingWorkArea'!...”"]